{"text_format":"1","workbook":"xlsx","n_sheets":85,"sheets":["KEY","1 Introduction","2 2019 WasteCalc Input","3 2019 WasteCalc Results","4 SMM Input","5 SMM Results","6 LCI Factors","7 Mass Data for SMM","8 LCI Data Compilation","9 Source Reduction Mass Method","10 2019 WasteCalc Program","11 2019 WasteCalc County Factor","12 2019 WasteCalc US PCD","13 2017 US Mass Estimates","14 2017 US PCD Calculations","15 2017 US PCD Dry to Wet Tons","16 County Factor Key","17 Aucilla Landfill  Data","18 Pinellas County Factor","19 Broward County Factor","20 Seminole County Factor","21 Orange County Factor","22 Miami-Dade County Factor","23 Hillsborough County Factor","24 Duval County Factor","25 Lee County Factor","27 Sarasota County Factor","28 Palm Beach County Factor","29 Pasco County Factor","30 Brevard County Factor","31 St. Lucie County Factor","32 Manatee County Factor","33 Volusia County","34 Escambia County Factor","35 Leon County Factor","36 St.Johns County Factor","37 Hernando County Factor","38 Polk County Factor","39 Lake County Factor","40 Clay County Factor","41 Indian River County Factor","42 Alachua County Factor","43 Martin County Factor","44 Charlotte County Factor","45 Osceola County Factor","46 Citrus County Factor","47 Bay County Factor","48 Sumter County Factor","49 Flagler County Factor","50 Marion County Factor","51 Okaloosa County Factor","52 Collier County Factor","53 Santa Rosa County Factor","54 Nassau County Factor","55 Highlands County Factor","56 Putnam County Factor","57 Bradford County Factor","58 Gadsden County Factor","59 Columbia County Factor","60 Monroe County Factor","61 Walton County Factor","62 Suwannee County Factor","63 Union County Factor","64 DeSoto County Factor","65 Okeechobee County Factor","66 Wakulla County Factor","67 Jackson County Factor","68 Gilchrist County Factor","69 Baker County Factor","70 Hardee County Factor","71 Washington County Factor","72 Holmes County Factor","73 Levy County Factor","74 Hendry County Factor","75 Gulf County Factor","76 Hamilton County Factor","77 Madison County Factor","78 Calhoun County Factor","79 Jefferson County Factor","80 Dixie County Factor","81 Franklin County Factor","82 Taylor County Factor","83 Glades County Factor","84 Lafayette County Factor","85 Liberty County Factor"],"not_rendered":{"charts":2,"images":1,"macros":0,"external_links":36,"defined_names":23921,"comments":141,"pivot_tables":0},"unopened":[],"bounds":{"document_bytes":16777216,"sheet_cells":100000,"rows_first":2000,"rows_last":500,"rows_between":2000,"halvings":0,"cell_chars":16384,"cell_head_chars":4096},"cells_cut":0,"cells_raw":0,"read":"whole","date_system":"1900"}

{"sheet":"KEY","index":0,"n_rows":33,"n_cols":6,"rows_kept":33,"cut":false,"hidden":true,"merged":[[23,0,31,0],[23,2,31,2],[23,3,31,3],[6,3,8,3]]}
["Tab No.","2019 WasteCalc Master Workbook","Update (Y/N)","Update Frequency","Source of Information","Notes"]
[null,"KEY"]
[null,"User Workbooks"]
[1,"Introduction ","N"]
[2,"2019 WasteCalc Input","Y"]
[3,"2019 WasteCalc Results","N"]
[4,"SMM Inputs","Y","Can be updated to incorporate more SMM elements."]
[5,"SMM Results","Y"]
[6,"LCI Factors","Y"]
[null,"Programming"]
[7,"Mass Data for SMM","Y","Updated for more accurate mass distribution"]
[8,"LCI Data Compilation","Y","Updated for more LCI impact factors"]
[9,"Source Reduced Mass Method","N"]
[10,"2019 WasteCalc Program","N",null,null,"Green boxes in TOTAL row: This indicates the values are correct according to input values.\nRed boxes NOT in TOTAL row: This indicates negative numbers needing correction.\nOrange Boxes: This indicates the material tonnages used for correction. A percenage of each value (seen in the 2a and 2b table), is subtacted to correct the negative value.\n\nIn the LANDFILLED TONS table, C&D debris and white goods are bold because 100% of the remainder tons for those materials (Column L in pink)are assumed to go to the landfill.  In the NET COMBUSTED WTE and NET COMBUSTED RENEWABLE ENERGY tables, C&D debris and white goods is zero becuase it is assumed these materials would be removed and sent to the landfill before combustion."]
[11,"2019 WasteCalc County Factor","Y","New county factors should be developed when new waste compositon studies are performed."]
[12,"2019 WasteCalc US PCD","Y","New US PCD factors should be calculated when new EPA reports are released.","US EPA Advancing Sustainable materials Management: [Year]"]
[null,"Calculating US Data Factors"]
[13,"2017 US Mass Estimates","N",null,"US EPA Advancing Sustainable materials Management: [Year]"]
[14,"2017 US PCD Calculations","N",null,"US EPA Advancing Sustainable materials Management: [Year]"]
[15,"2017 US PCD Dry to Wet Tons","N",null,"\"WasteCalc: An Advanced Waste Composition Model\"","Table 2.3 Average Waste Compositoin Percent Moisture Analysis"]
[null,"Calculating County Factors"]
[16,"County Factor Key","N"]
[17,"Aucilla Landfill Data","N","Data from the waste compostion study",null,"Highlands County is it's own tab color to represent that data reported from the county was unrepresentative and unconfirmed by FDEP ."]
["18-85","Counties with Waste Composition Studies","Y","Once new waste compositon studies are completed, all county factors should be recalculated.",null,"See notes on page 21"]
[null,"Grouping 1- High Population Density",null,null,null,"See notes on page 21"]
[null,"Grouping 2- Upper Medium Populatin Density",null,null,null,"See notes on page 21"]
[null,"Grouping 3- Medium Population Density with NO Combustion",null,null,null,"See notes on page 21"]
[null,"Grouping 3-  Medium Population Density WITH Combustion",null,null,null,"See notes on page 21"]
[null,"Grouping 4-  Lower Medium Population Density with NO Combustion ",null,null,null,"See notes on page 21"]
[null,"Grouping 4- Lower Medium Population Density WITH Combustion ",null,null,null,"See notes on page 21"]
[null,"Grouping 5- Low Population Density with NO Combustion ",null,null,null,"See notes on page 21"]
[null,"Grouping 5- Low Population Density WITH Combustion ",null,null,null,"See notes on page 21"]
[null,"Password: Chomp"]

{"sheet":"1 Introduction","index":1,"n_rows":37,"n_cols":5,"rows_kept":37,"cut":false,"hidden":false,"merged":[[31,4,31,15],[32,4,32,15],[1,2,2,15],[5,2,5,15],[26,2,26,15],[27,4,27,15]]}
[]
[null,null,"An Integrated Tool for Local Government to Track Materials Management \nand Progress toward Sustainability Goals"]
[]
[]
[null,null,"Welcome to the Hinkley Center for Solid and Hazardous Waste Management Funded SMM and WasteCalc Workbook Tool! "]
[null,null,"This tool is an outcome of the Hinkley Center funded project titled, \"An Integrated Tool for Local Government to Track Materials Management \nand Progress toward Sustainability Goals\". In a previous Hinkley Center project titled, \"Florida Solid Waste Management: State of the State\", researchers from the University of Florida (UF) estimated the material mass flow for the Florida solid waste stream and conducted a comprehensive analysis on the economic costs and environmental footprints associated with the 2016 waste stream. The researchers also conducted an evaluation of alternative waste management strategies upon the recycling rate, economic costs, and environmental footprint.  The alternative waste management strategies were based on the concept of sustainable materials management (SMM). SMM originated in a 2002 EPA publication entitled “Beyond RCRA: Waste and Materials Management in the Year 2020.” In 2009, EPA further developed the idea in “Sustainable Materials Management: The Road Ahead,” which presented a roadmap for moving toward SMM. In these and other documents, SMM is characterized as a varying set of resource-efficient actions to be taken across the entire lifecycle of a material or product — from extraction through refinement, manufacturing, assembly, distribution, use, and end-of-life management. SMM, then, focuses on identifying best material management practices based on environmental, economic, and social impacts. Lifecycle assessment (LCA) models are tools that measure those impacts, and policymakers use LCA results to make SMM-informed decisions. In effort to continue this research, University of Florida researchers evaluated various US-developed LCA models and literature to create lifecycle impact (LCI) factors that can be used to measure the impacts of a community's waste management practices as part of the Hinkley Center project titled \"Looking beyond Florida’s 75% Recycling Goal: Development of a Methodology and Tool for Assessing Sustainable Materials Management Recycling Rates in Florida\". In another project the UF researchers worked with the Florida Department of Environmental Protection (FDEP) to update the Florida’s Waste Composition Calculation Model (WasteCalc) , which is an online tool used to estimate the composition of municipal solid waste (MSW) generated in Florida counties.  It is a useful tool for recycling coordinators when preparing annual reports when actual waste composition data for a particular county is not available. In this tool users will be able to have both functionalities of WasteCalc and LCI factors project. "]
[]
[null,null,"What's New?"]
[null,null,"This tools includes the 2019 WasteCalc Model but it also now includes: "]
[null,null,"- A breakdown of the landfill and combusted composition"]
[null,null,"- The ability to measure source reduction"]
[null,null,"- The ability to measure nine different life cycle impact indicators"]
[]
[null,null,"To read more on the scope of this project and documentation of this tool please visit:"]
[null,null,"https://faculty.eng.ufl.edu/timothy-townsend/research/florida-solid-waste-issues/tool-to-track-progress-toward-smm-goals/"]
[]
[null,null,"To read more about the previous projects please visit:"]
[null,null,"https://faculty.eng.ufl.edu/timothy-townsend/research/florida-solid-waste-issues/florida-solid-waste-management/"]
[null,null,"https://faculty.eng.ufl.edu/timothy-townsend/research/florida-solid-waste-issues/looking-beyond-floridas-75-recycling-goal/"]
[]
[null,null,"To read more about SMM please visit:"]
[null,null,"https://www.epa.gov/smm "]
[]
[null,null,"To read more about what other states are doing please visit:"]
[null,null,"https://www.oregon.gov/deq/mm/Documents/mmFramework2020.pdf"]
[]
[null,null,"This workbook tool provides local government and other users the opportunity to measure the impacts of their solid waste management practices. Below is a description of the components of this workbook tool. "]
[null,null,"Tab No. ","Tab Title ","Tab Description"]
[null,null,1,"Introduction","Background of tool and SMM concept. "]
[null,null,2,"2019 WasteCalc Input","Users input data needed for the 2019 WasteCalc model."]
[null,null,3,"2019 WasteCalc Results","Results produced using the 2019 WasteCalc model. "]
[null,null,4,"SMM Input","Users can select from seven models, which are used to estimate LCI factors. "]
[null,null,5,"SMM Results","The environmental and social footprints associated with waste management. "]
[null,null,6,"LCI Factors","The summary LCI factors used to measure the footprints. "]
[]
[]
[null,null,"For any questions regarding this tool please contact Dr. Tim Townsend at ttown@ufl.edu and Dr. Malak Anshassi at manshassi@ufl.edu or manshassi@floridapoly.edu"]

{"sheet":"2 2019 WasteCalc Input","index":2,"n_rows":78,"n_cols":5,"rows_kept":78,"cut":false,"hidden":false,"merged":[[27,1,27,2],[26,1,26,2],[25,1,25,2],[22,1,22,4],[24,1,24,2],[23,1,23,2],[32,1,32,2],[31,1,31,2],[30,1,30,2],[29,1,29,2],[28,1,28,2],[37,1,37,2],[36,1,36,2],[35,1,35,2],[34,1,34,2],[33,1,33,2],[43,1,43,2],[42,1,42,2],[40,1,40,2],[39,1,39,2],[38,1,38,2],[41,1,41,2],[0,1,11,5],[20,1,20,2],[21,1,21,2],[18,1,18,2],[17,1,17,2],[16,1,16,2],[15,1,15,2],[14,1,14,2],[13,1,13,2],[19,1,19,2],[12,1,12,2],[12,3,12,4],[75,1,75,2],[76,1,76,2],[72,1,72,4],[73,1,73,2],[74,1,74,2],[51,1,51,4],[52,1,52,2],[53,1,53,2],[54,1,54,2],[55,1,55,2],[62,1,62,2],[63,1,63,2],[64,1,64,2],[65,1,65,2],[56,1,56,2],[58,1,58,2],[59,1,59,2],[60,1,60,2],[77,1,77,2],[49,1,49,2],[50,1,50,2],[44,1,44,4],[45,1,45,2],[46,1,46,2],[47,1,47,2],[48,1,48,2],[71,1,71,2],[57,1,57,2],[66,1,66,2],[67,1,67,2],[68,1,68,2],[69,1,69,2],[70,1,70,2],[61,1,61,2]]}
[null,"User Directions: Follow instructions below to estimate MSW composition.  ONLY  INPUT DATA INTO GREEN CELLS. GREY CELLS ARE LOCKED.\n\n1) The model here refers to the 2019 WasteCalc model. \n2) Data year is item 1 and refers to the data year for the most recent EPA published dataset. \n3) Type the current year in item 2 referring to your County's data year.\n4) Select County from the drop-down menu in item 3.\n5) Enter County population for the current year in item 4.\n6) Enter landfilled tons PLUS landfilled combustor ash in tons in item 5.\n7) Collected C&D in tons is entered in item 6. Collected C&D Tons = certified C&D landfilled Tons + uncertified and certified C&D recycled Tons\n8) MSW Net Combusted by Waste-to-Energy (WTE) in tons is entered in item 7.\n9) MSW Net Combusted by Renewable Energy (not WTE) in tons is entered in item 8.\n10) Recycling data (in tons) is entered into items 9-27.  The sum total is added in item 29.\n11) Item 29 is the reported tonnage total (sum of landfilled, combusted (WTE and Renewable Energy), and recycled).\n12) For the number entered in item 23 for recycled C&D debris, please enter the material breakdown based on the categories in items 30-34. \n13) Enter a previous year in item 36 where you are interested in the source reduced mass relative to the year entered in item 2. The year in item 36 must be less than the year in item 2.\n14) Enter the collected data (in tons) in items 37-55 corresponding to the year in item 35.    \n15) Enter donated data (in tons) into items 56-60."]
[]
[]
[]
[]
[]
[]
[]
[]
[]
[]
[]
[null,"Item #",null,"2019 WasteCalc"]
[null,1,null,"Select Method of Calculation for MSW Composition","New WasteCalc"]
[null,1,null,"Data Year (LOCKED):",{"$f":" IF(E14=\"US EPA Waste Composition Model\", 2017, IF(E14=\"New WasteCalc\",2017,2000) )","v":2017}]
[null,2,null,"Current Year:",2019]
[null,3,null,"Select County:","Alachua"]
[null,4,null,"Enter County Population:",267306]
[null,5,null,"MSW Landfilled (in tons)",252755]
[null,6,null,"Collected C&D (in tons)",171838]
[null,7,null,"MSW Net Combusted by WTE (in tons)"]
[null,8,null,"MSW Net Combusted by Renewable Energy (not WTE) (in tons)",94371]
[null,"Recycling Data (in tons)(from \"Recycling Credits\")"]
[null,9,null,{"$f":" IF(E14=\"US EPA Waste Composition Model\", \"Newspaper\", \"Newspaper\")","v":"Newspaper"},3043]
[null,10,null,{"$f":" IF(E14=\"US EPA Waste Composition Model\", \"Glass\", \"Glass\")","v":"Glass"},4072]
[null,11,null,{"$f":" IF(E14=\"US EPA Waste Composition Model\", \"Aluminum Cans\", \"Aluminum Cans\")","v":"Aluminum Cans"},413]
[null,12,null,{"$f":" IF(E14=\"US EPA Waste Composition Model\", \"Plastic Bottles\", \"Plastic Bottles\")","v":"Plastic Bottles"},1063]
[null,13,null,{"$f":" IF(E14=\"US EPA Waste Composition Model\", \"Steel Cans\", \"Steel Cans\")","v":"Steel Cans"},334]
[null,14,null,{"$f":" IF(E14=\"US EPA Waste Composition Model\", \"Corrugated Boxes\", \"Corrugated Boxes\")","v":"Corrugated Boxes"},27363]
[null,15,null,{"$f":" IF(E14=\"US EPA Waste Composition Model\", \"Office Paper\", \"Office Paper\")","v":"Office Paper"},2657]
[null,16,null,{"$f":" IF(E14=\"US EPA Waste Composition Model\", \"Yard Trash\", \"Yard Trash\")","v":"Yard Trash"},47826]
[null,17,null,{"$f":" IF(E14=\"US EPA Waste Composition Model\", \"Other Plastics\", \"Other Plastics\")","v":"Other Plastics"},965]
[null,18,null,{"$f":" IF(E14=\"US EPA Waste Composition Model\", \"Ferrous Metals\", \"Ferrous Metals\")","v":"Ferrous Metals"},13912]
[null,19,null,{"$f":" IF(E14=\"US EPA Waste Composition Model\", \"White Goods\", \"White Goods\")","v":"White Goods"},2712]
[null,20,null,{"$f":" IF(E14=\"US EPA Waste Composition Model\", \"Non Ferrous Metals\", \"Non Ferrous Metals\")","v":"Non Ferrous Metals"},1455]
[null,21,null,{"$f":" IF(E14=\"US EPA Waste Composition Model\", \"Other Paper\", \"Other Paper\")","v":"Other Paper"},989]
[null,22,null,{"$f":" IF(E14=\"US EPA Waste Composition Model\", \"Textiles\", \"Textiles\")","v":"Textiles"},4125]
[null,23,null,{"$f":" IF(E14=\"US EPA Waste Composition Model\", \"C&D Debris\", \"C&D Debris\")","v":"C&D Debris"},104770]
[null,24,null,{"$f":" IF(E14=\"US EPA Waste Composition Model\", \"Food Waste\", \"Food Waste\")","v":"Food Waste"},1323]
[null,25,null,{"$f":" IF(E14=\"US EPA Waste Composition Model\", \"Miscellaneous\", \"Miscellaneous\")","v":"Miscellaneous"},635]
[null,26,null,{"$f":" IF(E14=\"US EPA Waste Composition Model\", \"Tires\", \"Tires\")","v":"Tires"},2042]
[null,27,null,"Process Fuel"]
[null,28,null,"TOTAL RECYCLED TONNAGE",{"$f":"SUM(E24:E42)","v":219699}]
[null,29,null,"Reported Total (in tons)",{"$f":"SUM(E43,E21:E22,Landfilled)","v":566825}]
[null,"Recyled C&D Debris Breakdown Mass Data (in tons)"]
[null,30,null,"Wood Products",3000]
[null,31,null,"Asphalt Shingles",200]
[null,32,null,"Gypsum Drywall",100]
[null,33,null,"Concrete",5000]
[null,34,null,"Reclaimed Asphalt Pavement",6000]
[null,35,null,"Other C&D (LOCKED)",{"$f":"CD_DebrisEntered-SUM(E46:E50)","v":90470}]
[null,"Collected Mass Data (in tons)(from older reports)"]
[null,36,null,"Previous Year:",2013]
[null,37,null,"Newspaper",10017]
[null,38,null,"Glass",7686]
[null,39,null,"Aluminum Cans",1001]
[null,40,null,"Plastic Bottles",2507]
[null,41,null,"Steel Cans",1174]
[null,42,null,"Corrugated Boxes",46260]
[null,43,null,"Office Paper",4487]
[null,44,null,"Yard Trash",60257]
[null,45,null,"Other Plastics",25742]
[null,46,null,"Ferrous Metals",15082]
[null,47,null,"White Goods",321]
[null,48,null,"Non Ferrous Metals",1923]
[null,49,null,"Other Paper",33718]
[null,50,null,"Textiles",5868]
[null,51,null,"C&D Debris",108360]
[null,52,null,"Food Waste",24573]
[null,53,null,"Miscellaneous",41554]
[null,54,null,"Tires"]
[null,55,null,"Process Fuel"]
[null,"Donated (in tons)"]
[null,56,null,"Textiles (e.g., clothing and footwear)",500]
[null,57,null,"Furniture",400]
[null,58,null,"Electronics (e.g., white goods, phones, computers, small appliances)",300]
[null,59,null,"Food ",700]
[null,60,null,"Books (e.g., textbooks, paper-back books, hard-back books)",100]

{"sheet":"3 2019 WasteCalc Results","index":3,"n_rows":25,"n_cols":8,"rows_kept":25,"cut":false,"hidden":false,"merged":[]}
[]
[]
[]
[]
[null,"Material","Recycled \n(Tons)","Landfilled \n(Tons)","Net Combusted\n (Tons)","Total Collected Material (Tons) ","Total Collected Material Composition ","Source Reduced/ Generated (Tons) "]
[null,"Newspaper",{"$f":"IF(Method=\"New WasteCalc\",'10 2019 WasteCalc Program'!B13,0)","v":3043},{"$f":"IF(Method=\"New WasteCalc\",'10 2019 WasteCalc Program'!F13,0)","v":284.85359321515125},{"$f":"IF(Method=\"New WasteCalc\",'10 2019 WasteCalc Program'!J13+'10 2019 WasteCalc Program'!P13,0)","v":0},{"$f":"SUM(C6:E6)","v":3327.8535932151512},{"$f":"IF(Method=\"New WasteCalc\",'10 2019 WasteCalc Program'!U13,IF(Method=\"Old WasteCalc\",#REF!,IF(Method=\"US EPA Waste Composition Model\",#REF!,0)))","v":5.8710423732459775E-3},{"$f":"IF('2 2019 WasteCalc Input'!E53=0,0,'9 Source Reduction Mass Method'!D6)","v":-6689.1464067848483}]
[null,"Glass",{"$f":"IF(Method=\"New WasteCalc\",'10 2019 WasteCalc Program'!B14,0)","v":4072},{"$f":"IF(Method=\"New WasteCalc\",'10 2019 WasteCalc Program'!F14,0)","v":3031.5459845768955},{"$f":"IF(Method=\"New WasteCalc\",'10 2019 WasteCalc Program'!J14+'10 2019 WasteCalc Program'!P14,0)","v":0},{"$f":"SUM(C7:E7)","v":7103.5459845768955},{"$f":"IF(Method=\"New WasteCalc\",'10 2019 WasteCalc Program'!U14,IF(Method=\"Old WasteCalc\",#REF!,IF(Method=\"US EPA Waste Composition Model\",#REF!,0)))","v":1.2532167749441001E-2},{"$f":"IF('2 2019 WasteCalc Input'!E54=0,0,'9 Source Reduction Mass Method'!D7)","v":-582.45401542310447}]
[null,"Aluminum Cans",{"$f":"IF(Method=\"New WasteCalc\",'10 2019 WasteCalc Program'!B15,0)","v":413},{"$f":"IF(Method=\"New WasteCalc\",'10 2019 WasteCalc Program'!F15,0)","v":621.91510384804815},{"$f":"IF(Method=\"New WasteCalc\",'10 2019 WasteCalc Program'!J15+'10 2019 WasteCalc Program'!P15,0)","v":0},1034.9151038480481,{"$f":"IF(Method=\"New WasteCalc\",'10 2019 WasteCalc Program'!U15,IF(Method=\"Old WasteCalc\",#REF!,IF(Method=\"US EPA Waste Composition Model\",#REF!,0)))","v":1.8258106185296134E-3},{"$f":"IF('2 2019 WasteCalc Input'!E55=0,0,'9 Source Reduction Mass Method'!D8)","v":33.915103848048147}]
[null,"Plastic Bottles",{"$f":"IF(Method=\"New WasteCalc\",'10 2019 WasteCalc Program'!B16,0)","v":1063},{"$f":"IF(Method=\"New WasteCalc\",'10 2019 WasteCalc Program'!F16,0)","v":2417.8790576923507},{"$f":"IF(Method=\"New WasteCalc\",'10 2019 WasteCalc Program'!J16+'10 2019 WasteCalc Program'!P16,0)","v":0},3480.8790576923507,{"$f":"IF(Method=\"New WasteCalc\",'10 2019 WasteCalc Program'!U16,IF(Method=\"Old WasteCalc\",#REF!,IF(Method=\"US EPA Waste Composition Model\",#REF!,0)))","v":6.1410118779029691E-3},{"$f":"IF('2 2019 WasteCalc Input'!E56=0,0,'9 Source Reduction Mass Method'!D9)","v":973.87905769235067}]
[null,"Steel Cans",{"$f":"IF(Method=\"New WasteCalc\",'10 2019 WasteCalc Program'!B17,0)","v":334},{"$f":"IF(Method=\"New WasteCalc\",'10 2019 WasteCalc Program'!F17,0)","v":954.14903310312411},{"$f":"IF(Method=\"New WasteCalc\",'10 2019 WasteCalc Program'!J17+'10 2019 WasteCalc Program'!P17,0)","v":0},1288.1490331031241,{"$f":"IF(Method=\"New WasteCalc\",'10 2019 WasteCalc Program'!U17,IF(Method=\"Old WasteCalc\",#REF!,IF(Method=\"US EPA Waste Composition Model\",#REF!,0)))","v":2.2725691934955658E-3},{"$f":"IF('2 2019 WasteCalc Input'!E57=0,0,'9 Source Reduction Mass Method'!D10)","v":114.14903310312411}]
[null,"Corrugated Boxes",{"$f":"IF(Method=\"New WasteCalc\",'10 2019 WasteCalc Program'!B18,0)","v":27363},{"$f":"IF(Method=\"New WasteCalc\",'10 2019 WasteCalc Program'!F18,0)","v":12022.23924849488},{"$f":"IF(Method=\"New WasteCalc\",'10 2019 WasteCalc Program'!J18+'10 2019 WasteCalc Program'!P18,0)","v":0},39385.23924849488,{"$f":"IF(Method=\"New WasteCalc\",'10 2019 WasteCalc Program'!U18,IF(Method=\"Old WasteCalc\",#REF!,IF(Method=\"US EPA Waste Composition Model\",#REF!,0)))","v":6.9483948746958721E-2},{"$f":"IF('2 2019 WasteCalc Input'!E58=0,0,'9 Source Reduction Mass Method'!D11)","v":-6874.7607515051204}]
[null,"Office Paper",{"$f":"IF(Method=\"New WasteCalc\",'10 2019 WasteCalc Program'!B19,0)","v":2657},{"$f":"IF(Method=\"New WasteCalc\",'10 2019 WasteCalc Program'!F19,0)","v":1309.8133063172759},{"$f":"IF(Method=\"New WasteCalc\",'10 2019 WasteCalc Program'!J19+'10 2019 WasteCalc Program'!P19,0)","v":0},3966.8133063172759,{"$f":"IF(Method=\"New WasteCalc\",'10 2019 WasteCalc Program'!U19,IF(Method=\"Old WasteCalc\",#REF!,IF(Method=\"US EPA Waste Composition Model\",#REF!,0)))","v":6.9983033675601394E-3},{"$f":"IF('2 2019 WasteCalc Input'!E59=0,0,'9 Source Reduction Mass Method'!D12)","v":-520.18669368272413}]
[null,"Yard Trash",{"$f":"IF(Method=\"New WasteCalc\",'10 2019 WasteCalc Program'!B20,0)","v":47826},{"$f":"IF(Method=\"New WasteCalc\",'10 2019 WasteCalc Program'!F20,0)","v":1611.8373217883636},{"$f":"IF(Method=\"New WasteCalc\",'10 2019 WasteCalc Program'!J20+'10 2019 WasteCalc Program'!P20,0)","v":94371},{"$f":"SUM(C13:E13)+C24","v":143808.83732178836},{"$f":"IF(Method=\"New WasteCalc\",'10 2019 WasteCalc Program'!U20,IF(Method=\"Old WasteCalc\",#REF!,IF(Method=\"US EPA Waste Composition Model\",#REF!,0)))","v":0.25370941176163431},{"$f":"IF('2 2019 WasteCalc Input'!E60=0,0,'9 Source Reduction Mass Method'!D13)","v":83551.837321788364}]
[null,"Other Plastics",{"$f":"IF(Method=\"New WasteCalc\",'10 2019 WasteCalc Program'!B21,0)","v":965},{"$f":"IF(Method=\"New WasteCalc\",'10 2019 WasteCalc Program'!F21,0)","v":21763.416631886059},{"$f":"IF(Method=\"New WasteCalc\",'10 2019 WasteCalc Program'!J21+'10 2019 WasteCalc Program'!P21,0)","v":0},22728.416631886059,{"$f":"IF(Method=\"New WasteCalc\",'10 2019 WasteCalc Program'!U21,IF(Method=\"Old WasteCalc\",#REF!,IF(Method=\"US EPA Waste Composition Model\",#REF!,0)))","v":4.0097766739092419E-2},{"$f":"IF('2 2019 WasteCalc Input'!E61=0,0,'9 Source Reduction Mass Method'!D14)","v":-3013.5833681139411}]
[null,"Ferrous Metals",{"$f":"IF(Method=\"New WasteCalc\",'10 2019 WasteCalc Program'!B22,0)","v":13912},{"$f":"IF(Method=\"New WasteCalc\",'10 2019 WasteCalc Program'!F22,0)","v":2470.3003728343447},{"$f":"IF(Method=\"New WasteCalc\",'10 2019 WasteCalc Program'!J22+'10 2019 WasteCalc Program'!P22,0)","v":0},16382.300372834345,{"$f":"IF(Method=\"New WasteCalc\",'10 2019 WasteCalc Program'!U22,IF(Method=\"Old WasteCalc\",#REF!,IF(Method=\"US EPA Waste Composition Model\",#REF!,0)))","v":2.8901866312943756E-2},{"$f":"IF('2 2019 WasteCalc Input'!E62=0,0,'9 Source Reduction Mass Method'!D15)","v":1300.3003728343447}]
[null,"White Goods",{"$f":"IF(Method=\"New WasteCalc\",'10 2019 WasteCalc Program'!B23,0)","v":2712},{"$f":"IF(Method=\"New WasteCalc\",'10 2019 WasteCalc Program'!F23,0)","v":881.77410036262245},{"$f":"IF(Method=\"New WasteCalc\",'10 2019 WasteCalc Program'!J23+'10 2019 WasteCalc Program'!P23,0)","v":0},3593.7741003626224,{"$f":"IF(Method=\"New WasteCalc\",'10 2019 WasteCalc Program'!U23,IF(Method=\"Old WasteCalc\",#REF!,IF(Method=\"US EPA Waste Composition Model\",#REF!,0)))","v":6.3401827731003795E-3},{"$f":"IF('2 2019 WasteCalc Input'!E63=0,0,'9 Source Reduction Mass Method'!D16)","v":3272.7741003626224}]
[null,"Non Ferrous Metals",{"$f":"IF(Method=\"New WasteCalc\",'10 2019 WasteCalc Program'!B24,0)","v":1455},{"$f":"IF(Method=\"New WasteCalc\",'10 2019 WasteCalc Program'!F24,0)","v":159.44190635284963},{"$f":"IF(Method=\"New WasteCalc\",'10 2019 WasteCalc Program'!J24+'10 2019 WasteCalc Program'!P24,0)","v":0},1614.4419063528496,{"$f":"IF(Method=\"New WasteCalc\",'10 2019 WasteCalc Program'!U24,IF(Method=\"Old WasteCalc\",#REF!,IF(Method=\"US EPA Waste Composition Model\",#REF!,0)))","v":2.8482193028762839E-3},{"$f":"IF('2 2019 WasteCalc Input'!E64=0,0,'9 Source Reduction Mass Method'!D17)","v":-308.55809364715037}]
[null,"Other Paper",{"$f":"IF(Method=\"New WasteCalc\",'10 2019 WasteCalc Program'!B25,0)","v":989},{"$f":"IF(Method=\"New WasteCalc\",'10 2019 WasteCalc Program'!F25,0)","v":38688.678462283504},{"$f":"IF(Method=\"New WasteCalc\",'10 2019 WasteCalc Program'!J25+'10 2019 WasteCalc Program'!P25,0)","v":0},39677.678462283504,{"$f":"IF(Method=\"New WasteCalc\",'10 2019 WasteCalc Program'!U25,IF(Method=\"Old WasteCalc\",#REF!,IF(Method=\"US EPA Waste Composition Model\",#REF!,0)))","v":6.9999873792234824E-2},{"$f":"IF('2 2019 WasteCalc Input'!E65=0,0,'9 Source Reduction Mass Method'!D18)","v":5959.6784622835039}]
[null,"Textiles",{"$f":"IF(Method=\"New WasteCalc\",'10 2019 WasteCalc Program'!B26,0)","v":4125},{"$f":"IF(Method=\"New WasteCalc\",'10 2019 WasteCalc Program'!F26,0)","v":4912.0378374000265},{"$f":"IF(Method=\"New WasteCalc\",'10 2019 WasteCalc Program'!J26+'10 2019 WasteCalc Program'!P26,0)","v":0},9037.0378374000265,{"$f":"IF(Method=\"New WasteCalc\",'10 2019 WasteCalc Program'!U26,IF(Method=\"Old WasteCalc\",#REF!,IF(Method=\"US EPA Waste Composition Model\",#REF!,0)))","v":1.5943259096546598E-2},{"$f":"IF('2 2019 WasteCalc Input'!E66=0,0,'9 Source Reduction Mass Method'!D19)","v":3169.0378374000265}]
[null,"C&D Debris",{"$f":"IF(Method=\"New WasteCalc\",'10 2019 WasteCalc Program'!B27,0)","v":104770},{"$f":"IF(Method=\"New WasteCalc\",'10 2019 WasteCalc Program'!F27,0)","v":85771.87},{"$f":"IF(Method=\"New WasteCalc\",'10 2019 WasteCalc Program'!J27+'10 2019 WasteCalc Program'!P27,0)","v":0},190541.87,{"$f":"IF(Method=\"New WasteCalc\",'10 2019 WasteCalc Program'!U27,IF(Method=\"Old WasteCalc\",#REF!,IF(Method=\"US EPA Waste Composition Model\",#REF!,0)))","v":0.33615643276143431},{"$f":"IF('2 2019 WasteCalc Input'!E67=0,0,'9 Source Reduction Mass Method'!D20)","v":82181.87}]
[null,"Food Waste",{"$f":"IF(Method=\"New WasteCalc\",'10 2019 WasteCalc Program'!B28,0)","v":1323},{"$f":"IF(Method=\"New WasteCalc\",'10 2019 WasteCalc Program'!F28,0)","v":25554.417838247664},{"$f":"IF(Method=\"New WasteCalc\",'10 2019 WasteCalc Program'!J28+'10 2019 WasteCalc Program'!P28,0)","v":0},26877.417838247664,{"$f":"IF(Method=\"New WasteCalc\",'10 2019 WasteCalc Program'!U28,IF(Method=\"Old WasteCalc\",#REF!,IF(Method=\"US EPA Waste Composition Model\",#REF!,0)))","v":4.7417488357513631E-2},{"$f":"IF('2 2019 WasteCalc Input'!E68=0,0,'9 Source Reduction Mass Method'!D21)","v":2304.4178382476639}]
[null,"Miscellaneous",{"$f":"IF(Method=\"New WasteCalc\",'10 2019 WasteCalc Program'!B29,0)","v":635},{"$f":"IF(Method=\"New WasteCalc\",'10 2019 WasteCalc Program'!F29,0)","v":49611.194803457591},{"$f":"IF(Method=\"New WasteCalc\",'10 2019 WasteCalc Program'!J29+'10 2019 WasteCalc Program'!P29,0)","v":0},50246.194803457591,{"$f":"IF(Method=\"New WasteCalc\",'10 2019 WasteCalc Program'!U29,IF(Method=\"Old WasteCalc\",#REF!,IF(Method=\"US EPA Waste Composition Model\",#REF!,0)))","v":8.8644987083240132E-2},{"$f":"IF('2 2019 WasteCalc Input'!E69=0,0,'9 Source Reduction Mass Method'!D22)","v":8692.1948034575908}]
[null,"Tires",{"$f":"IF(Method=\"New WasteCalc\",'10 2019 WasteCalc Program'!B30,0)","v":2042},{"$f":"IF(Method=\"New WasteCalc\",'10 2019 WasteCalc Program'!F30,0)","v":687.63539813912121},{"$f":"IF(Method=\"New WasteCalc\",'10 2019 WasteCalc Program'!J30+'10 2019 WasteCalc Program'!P30,0)","v":0},2729.6353981391212,{"$f":"IF(Method=\"New WasteCalc\",'10 2019 WasteCalc Program'!U30,IF(Method=\"Old WasteCalc\",#REF!,IF(Method=\"US EPA Waste Composition Model\",#REF!,0)))","v":4.8156580922491445E-3},{"$f":"IF('2 2019 WasteCalc Input'!E70=0,0,'9 Source Reduction Mass Method'!D23)","v":2729.6353981391212}]
[null,"Process Fuel",{"$f":"IF(Method=\"New WasteCalc\",'10 2019 WasteCalc Program'!B31,0)","v":0},null,null,null,null,{"$f":"'9 Source Reduction Mass Method'!D24","v":0}]
[null,"Total",{"$f":"SUM(C6:C24)","v":219699},252754.99999999988,94371,{"$f":"SUM(F6:F24)","v":566824.99999999988},{"$f":"SUM(G6:G24)","v":0.99999999999999967},{"$f":"SUM(H6:H24)","v":176294.99999999988}]

{"sheet":"4 SMM Input","index":4,"n_rows":37,"n_cols":5,"rows_kept":37,"cut":false,"hidden":false,"merged":[[11,3,11,8],[12,3,12,8],[13,3,13,8],[2,1,2,3],[6,1,6,9],[7,3,7,8],[8,3,8,8],[9,3,9,8],[10,3,10,8],[5,1,5,3],[3,1,3,3],[4,1,4,3],[15,1,16,9],[19,3,19,7],[20,3,20,7],[21,3,21,7],[18,3,18,7],[22,3,22,7],[23,3,23,7],[24,3,24,7],[26,3,26,7],[25,3,25,7],[34,3,34,7],[36,3,36,7],[27,3,27,7],[28,3,28,7],[29,3,29,7],[30,3,30,7],[31,3,31,7],[32,3,32,7],[33,3,33,7],[35,3,35,7]]}
[]
[null,"User Directions:"]
[null,"1) From the drop-down window to the right select the model preference.",null,null,"MSWDST (FL)"]
[null,"2) If food waste is recycled in your county, from the drop-down window to the right select the main recycling method. If food is donated then enter data in \"2019 WasteCalc Input\" Tab, Item 53.",null,null,"Composted"]
[null,"3) If yard trash is recycled in your county, from the drop-down window to the right select the main recycling method. ",null,null,"Mulched"]
[]
[null,"Note: See below for a description of each model. All models are US-based LCA models specifcally created for US LCA study use. For some material categories, the selected model does not measure the environmental impacts so that mass associated with that material will not have an associated environmental footprint. For those materials you can find them in the LCI Factors tab and they will have an associated \"NA\". For example, MSWDST does not measure book recycling so the mass associated with recycled books will have no measured environmental footprint in the SMM Results tab."]
[null,null,"Model","Description of LCI Factors That Can be Estimated When Selecting  Model"]
[null,null,"MSWDST (FL)","5 LCI factors: climate change, human toxicity, marine ecotoxicity, acidification potential, eutrophication potential. Factors were created using Florida-specific electricity grid. "]
[null,null,"SWOLF (FL)","7 LCI factors: climate change, energy use, water use, human toxicity, marine ecotoxicity, acidification potential, eutrophication potential. Factors were created using Florida-specific electricity grid. "]
[null,null,"SWOLF (US)","7 LCI factors: climate change, energy use, water use, human toxicity, marine ecotoxicity, acidification potential, eutrophication potential. Factors were created using US national average-specific electricity grid. "]
[null,null,"WARM (FL)","2 LCI factors: climate change and energy use. Factors were created using Florida-specific electricty grid. "]
[null,null,"WARM (US)","2 LCI factors: climate change and energy use. Factors were created using US national average-specific electricity grid. "]
[null,null,"Literature","Uses data from peer-reviewed published studies and LCA study reports. The LCI factors vary depending upon the material. Note: For the two LCI factors, Jobs Produced and Landfill Space Use, the user must select this model to receive the outputs, also to recieve outputs for furniture waste management and any donations."]
[]
[null,"Note: You will notice there are more material categories in Tab 5 SMM Input and Tab 6 LCI Factors than in Tab 3 2019 WasteCalc Results. We applied several assumptions to breakup some of the material categories into subcategories. The new subcategories are below. "]
[]
[]
[null,null,"Original FDEP Category","New Subcategories "]
[null,null,"Newspaper","No change."]
[null,null,"Glass","No change."]
[null,null,"Aluminum Cans","No change."]
[null,null,"Plastic Bottles","HDPE and PET"]
[null,null,"Steel Cans","No change."]
[null,null,"Corrugated Boxes","No change."]
[null,null,"Office Paper","No change."]
[null,null,"Yard Trash","No change."]
[null,null,"Other Plastics","Name change to mixed plastic."]
[null,null,"Ferrous Metals","Combined with nonferrous metals and called mixed metals."]
[null,null,"White Goods","Combined with a percentage of miscellaneous associated with electronics and called electronics. "]
[null,null,"Non Ferrous Metals","See ferrous metals note."]
[null,null,"Other Paper","Magazines/third-class mail, books, and mixed paper. "]
[null,null,"Textiles","Name change to clothing and footwear."]
[null,null,"C&D Debris","Wood products, asphalt shingles, gypsum drywall, concrete, reclaimed asphalt pavement."]
[null,null,"Food Waste","No change."]
[null,null,"Miscellaneous","Furniture, electronics, and mixed MSW."]
[null,null,"Tires","No change."]

{"sheet":"5 SMM Results","index":5,"n_rows":273,"n_cols":15,"rows_kept":273,"cut":false,"hidden":false,"merged":[[258,1,260,1],[261,1,262,1],[263,1,266,1],[267,1,271,1],[231,1,232,1],[233,1,236,1],[237,1,241,1],[245,1,245,12],[248,1,253,1],[254,1,256,1],[228,1,230,1],[177,1,181,1],[185,1,185,12],[188,1,193,1],[194,1,196,1],[198,1,200,1],[201,1,202,1],[203,1,206,1],[207,1,211,1],[215,1,215,12],[218,1,223,1],[224,1,226,1],[173,1,176,1],[128,1,133,1],[134,1,136,1],[138,1,140,1],[141,1,142,1],[143,1,146,1],[147,1,151,1],[155,1,155,12],[158,1,163,1],[164,1,166,1],[168,1,170,1],[171,1,172,1],[125,1,125,12],[78,1,80,1],[81,1,82,1],[83,1,86,1],[87,1,91,1],[95,1,95,12],[98,1,103,1],[104,1,106,1],[108,1,110,1],[111,1,112,1],[113,1,116,1],[117,1,121,1],[74,1,76,1],[23,1,26,1],[27,1,31,1],[35,1,35,12],[38,1,43,1],[44,1,46,1],[48,1,50,1],[51,1,52,1],[53,1,56,1],[57,1,61,1],[65,1,65,12],[68,1,73,1],[21,1,22,1],[2,1,2,12],[5,1,5,12],[8,1,13,1],[14,1,16,1],[18,1,20,1]]}
[]
[null,"Summary Output: All output units are in parenthesis next to the table label and LCI factor category name. A negative value indicates a savings (or avoidance) of emissions/resources use."]
[]
[null,"Output data:"]
[null,"Table 1."]
[null,"Climate Change (tCO2eq.): Greenhouse gases (GHG) absorb energy and slow energy from escaping into space which causes the Earth to get warmer. GHG are expressed as units of tCO2eq.of material to allow for comparison of global warming impacts of different gases relative to CO2. This is a measure of how much energy the emission of 1 ton of gas will absorb over a given period of time, relative to the emissions of 1 ton of CO2."]
[null,"Material Category","Item No.","Material Type","Source Reduced/ Generated","Donated","Produced","Collection","Recycling","Composting","Anaerobic Digestion","Landfill","Combustion","Lifecycle Total","Waste Management Total"]
[null,"MSW ",1,"Mixed MSW",{"$f":"IFERROR('6 LCI Factors'!E5*'7 Mass Data for SMM'!E5,0)","v":0},{"$f":"IFERROR('6 LCI Factors'!F5*'7 Mass Data for SMM'!F5,0)","v":0},{"$f":"IFERROR('6 LCI Factors'!E5*'7 Mass Data for SMM'!G5,0)","v":0},{"$f":"IFERROR('6 LCI Factors'!G5*'7 Mass Data for SMM'!G5,0)","v":268.91246109186312},{"$f":"IFERROR('6 LCI Factors'!H5*'7 Mass Data for SMM'!H5,0)","v":0},{"$f":"IFERROR('6 LCI Factors'!I5*'7 Mass Data for SMM'!I5,0)","v":0},{"$f":"IFERROR('6 LCI Factors'!J5*'7 Mass Data for SMM'!J5,0)","v":0},{"$f":"IFERROR('6 LCI Factors'!K5*'7 Mass Data for SMM'!K5,0)","v":-8698.2502309843603},{"$f":"IFERROR('6 LCI Factors'!L5*'7 Mass Data for SMM'!L5,0)","v":0},{"$f":"SUMIF(E8:M8,\"<>#value!\")","v":-8429.3377698924978},{"$f":"SUMIF(H8:M8,\"<>#value!\")","v":-8429.3377698924978}]
[null,"Paper",2,"Newspaper",{"$f":"IFERROR('6 LCI Factors'!E6*'7 Mass Data for SMM'!E6,0)","v":0},{"$f":"IFERROR('6 LCI Factors'!F6*'7 Mass Data for SMM'!F6,0)","v":0},{"$f":"IFERROR('6 LCI Factors'!E6*'7 Mass Data for SMM'!G6,0)","v":0},{"$f":"IFERROR('6 LCI Factors'!G6*'7 Mass Data for SMM'!G6,0)","v":18.810291313647749},{"$f":"IFERROR('6 LCI Factors'!H6*'7 Mass Data for SMM'!H6,0)","v":-2526.795015691835},{"$f":"IFERROR('6 LCI Factors'!I6*'7 Mass Data for SMM'!I6,0)","v":0},{"$f":"IFERROR('6 LCI Factors'!J6*'7 Mass Data for SMM'!J6,0)","v":0},{"$f":"IFERROR('6 LCI Factors'!K6*'7 Mass Data for SMM'!K6,0)","v":-385.61049948837592},{"$f":"IFERROR('6 LCI Factors'!L6*'7 Mass Data for SMM'!L6,0)","v":0},{"$f":"SUMIF(E9:M9,\"<>#value!\")","v":-2893.5952238665632},{"$f":"SUMIF(H9:M9,\"<>#value!\")","v":-2893.5952238665632}]
[null,null,3,"Corrugated Cardboard (OCC)",{"$f":"IFERROR('6 LCI Factors'!E7*'7 Mass Data for SMM'!E7,0)","v":0},{"$f":"IFERROR('6 LCI Factors'!F7*'7 Mass Data for SMM'!F7,0)","v":0},{"$f":"IFERROR('6 LCI Factors'!E7*'7 Mass Data for SMM'!G7,0)","v":0},{"$f":"IFERROR('6 LCI Factors'!G7*'7 Mass Data for SMM'!G7,0)","v":222.6203175621508},{"$f":"IFERROR('6 LCI Factors'!H7*'7 Mass Data for SMM'!H7,0)","v":5214.323386692543},{"$f":"IFERROR('6 LCI Factors'!I7*'7 Mass Data for SMM'!I7,0)","v":0},{"$f":"IFERROR('6 LCI Factors'!J7*'7 Mass Data for SMM'!J7,0)","v":0},{"$f":"IFERROR('6 LCI Factors'!K7*'7 Mass Data for SMM'!K7,0)","v":-9309.2363690039183},{"$f":"IFERROR('6 LCI Factors'!L7*'7 Mass Data for SMM'!L7,0)","v":0},-3872.292664749225,-3872.292664749225]
[null,null,4,"High Grade Paper (Office Type Paper)",{"$f":"IFERROR('6 LCI Factors'!E8*'7 Mass Data for SMM'!E8,0)","v":0},{"$f":"IFERROR('6 LCI Factors'!F8*'7 Mass Data for SMM'!F8,0)","v":0},{"$f":"IFERROR('6 LCI Factors'!E8*'7 Mass Data for SMM'!G8,0)","v":0},{"$f":"IFERROR('6 LCI Factors'!G8*'7 Mass Data for SMM'!G8,0)","v":22.421934075108229},{"$f":"IFERROR('6 LCI Factors'!H8*'7 Mass Data for SMM'!H8,0)","v":936.69825346920356},{"$f":"IFERROR('6 LCI Factors'!I8*'7 Mass Data for SMM'!I8,0)","v":0},{"$f":"IFERROR('6 LCI Factors'!J8*'7 Mass Data for SMM'!J8,0)","v":0},{"$f":"IFERROR('6 LCI Factors'!K8*'7 Mass Data for SMM'!K8,0)","v":143.79657146132448},{"$f":"IFERROR('6 LCI Factors'!L8*'7 Mass Data for SMM'!L8,0)","v":0},1102.9167590056363,1102.9167590056363]
[null,null,5,"Magazines/third-class mail",{"$f":"IFERROR('6 LCI Factors'!E9*'7 Mass Data for SMM'!E9,0)","v":0},{"$f":"IFERROR('6 LCI Factors'!F9*'7 Mass Data for SMM'!F9,0)","v":0},{"$f":"IFERROR('6 LCI Factors'!E9*'7 Mass Data for SMM'!G9,0)","v":0},{"$f":"IFERROR('6 LCI Factors'!G9*'7 Mass Data for SMM'!G9,0)","v":51.582857842870794},{"$f":"IFERROR('6 LCI Factors'!H9*'7 Mass Data for SMM'!H9,0)","v":12.874174174272401},{"$f":"IFERROR('6 LCI Factors'!I9*'7 Mass Data for SMM'!I9,0)","v":0},{"$f":"IFERROR('6 LCI Factors'!J9*'7 Mass Data for SMM'!J9,0)","v":0},{"$f":"IFERROR('6 LCI Factors'!K9*'7 Mass Data for SMM'!K9,0)","v":-4167.6810166557625},{"$f":"IFERROR('6 LCI Factors'!L9*'7 Mass Data for SMM'!L9,0)","v":0},-4103.2239846386192,-4103.2239846386192]
[null,null,6,"Books",{"$f":"IFERROR('6 LCI Factors'!E10*'7 Mass Data for SMM'!E10,0)","v":0},{"$f":"IFERROR('6 LCI Factors'!F10*'7 Mass Data for SMM'!F10,0)","v":0},{"$f":"IFERROR('6 LCI Factors'!E10*'7 Mass Data for SMM'!G10,0)","v":0},{"$f":"IFERROR('6 LCI Factors'!G10*'7 Mass Data for SMM'!G10,0)","v":5.0507038459050699},{"$f":"IFERROR('6 LCI Factors'!H10*'7 Mass Data for SMM'!H10,0)","v":0},{"$f":"IFERROR('6 LCI Factors'!I10*'7 Mass Data for SMM'!I10,0)","v":0},{"$f":"IFERROR('6 LCI Factors'!J10*'7 Mass Data for SMM'!J10,0)","v":0},{"$f":"IFERROR('6 LCI Factors'!K10*'7 Mass Data for SMM'!K10,0)","v":74.510858084781276},{"$f":"IFERROR('6 LCI Factors'!L10*'7 Mass Data for SMM'!L10,0)","v":0},79.561561930686352,79.561561930686352]
[null,null,7,"Mixed Paper",{"$f":"IFERROR('6 LCI Factors'!E11*'7 Mass Data for SMM'!E11,0)","v":0},{"$f":"IFERROR('6 LCI Factors'!F11*'7 Mass Data for SMM'!F11,0)","v":0},{"$f":"IFERROR('6 LCI Factors'!E11*'7 Mass Data for SMM'!G11,0)","v":0},{"$f":"IFERROR('6 LCI Factors'!G11*'7 Mass Data for SMM'!G11,0)","v":167.6397332802276},{"$f":"IFERROR('6 LCI Factors'!H11*'7 Mass Data for SMM'!H11,0)","v":-37.007314587105228},{"$f":"IFERROR('6 LCI Factors'!I11*'7 Mass Data for SMM'!I11,0)","v":0},{"$f":"IFERROR('6 LCI Factors'!J11*'7 Mass Data for SMM'!J11,0)","v":0},{"$f":"IFERROR('6 LCI Factors'!K11*'7 Mass Data for SMM'!K11,0)","v":-18038.319535373234},{"$f":"IFERROR('6 LCI Factors'!L11*'7 Mass Data for SMM'!L11,0)","v":0},-17907.68711668011,-17907.68711668011]
[null,"Plastic",8,"HDPE",{"$f":"IFERROR('6 LCI Factors'!E12*'7 Mass Data for SMM'!E12,0)","v":0},{"$f":"IFERROR('6 LCI Factors'!F12*'7 Mass Data for SMM'!F12,0)","v":0},{"$f":"IFERROR('6 LCI Factors'!E12*'7 Mass Data for SMM'!G12,0)","v":0},{"$f":"IFERROR('6 LCI Factors'!G12*'7 Mass Data for SMM'!G12,0)","v":7.4378617207996269},{"$f":"IFERROR('6 LCI Factors'!H12*'7 Mass Data for SMM'!H12,0)","v":-457.8568094201176},{"$f":"IFERROR('6 LCI Factors'!I12*'7 Mass Data for SMM'!I12,0)","v":0},{"$f":"IFERROR('6 LCI Factors'!J12*'7 Mass Data for SMM'!J12,0)","v":0},{"$f":"IFERROR('6 LCI Factors'!K12*'7 Mass Data for SMM'!K12,0)","v":3.5642315642808691},{"$f":"IFERROR('6 LCI Factors'!L12*'7 Mass Data for SMM'!L12,0)","v":0},-446.85471613503711,-446.85471613503711]
[null,null,9,"PET",{"$f":"IFERROR('6 LCI Factors'!E13*'7 Mass Data for SMM'!E13,0)","v":0},{"$f":"IFERROR('6 LCI Factors'!F13*'7 Mass Data for SMM'!F13,0)","v":0},{"$f":"IFERROR('6 LCI Factors'!E13*'7 Mass Data for SMM'!G13,0)","v":0},{"$f":"IFERROR('6 LCI Factors'!G13*'7 Mass Data for SMM'!G13,0)","v":12.237387585919384},{"$f":"IFERROR('6 LCI Factors'!H13*'7 Mass Data for SMM'!H13,0)","v":-978.99527432498905},{"$f":"IFERROR('6 LCI Factors'!I13*'7 Mass Data for SMM'!I13,0)","v":0},{"$f":"IFERROR('6 LCI Factors'!J13*'7 Mass Data for SMM'!J13,0)","v":0},{"$f":"IFERROR('6 LCI Factors'!K13*'7 Mass Data for SMM'!K13,0)","v":5.8641696680243722},{"$f":"IFERROR('6 LCI Factors'!L13*'7 Mass Data for SMM'!L13,0)","v":0},-960.89371707104533,-960.89371707104533]
[null,null,10,"Mixed Plastic",{"$f":"IFERROR('6 LCI Factors'!E14*'7 Mass Data for SMM'!E14,0)","v":0},{"$f":"IFERROR('6 LCI Factors'!F14*'7 Mass Data for SMM'!F14,0)","v":0},{"$f":"IFERROR('6 LCI Factors'!E14*'7 Mass Data for SMM'!G14,0)","v":0},{"$f":"IFERROR('6 LCI Factors'!G14*'7 Mass Data for SMM'!G14,0)","v":128.46963544771933},{"$f":"IFERROR('6 LCI Factors'!H14*'7 Mass Data for SMM'!H14,0)","v":-1264.207940293152},{"$f":"IFERROR('6 LCI Factors'!I14*'7 Mass Data for SMM'!I14,0)","v":0},{"$f":"IFERROR('6 LCI Factors'!J14*'7 Mass Data for SMM'!J14,0)","v":0},{"$f":"IFERROR('6 LCI Factors'!K14*'7 Mass Data for SMM'!K14,0)","v":84.865379655129004},{"$f":"IFERROR('6 LCI Factors'!L14*'7 Mass Data for SMM'!L14,0)","v":0},-1050.8729251903037,-1050.8729251903037]
[null,"Glass",11,"Glass",{"$f":"IFERROR('6 LCI Factors'!E15*'7 Mass Data for SMM'!E15,0)","v":0},{"$f":"IFERROR('6 LCI Factors'!F15*'7 Mass Data for SMM'!F15,0)","v":0},{"$f":"IFERROR('6 LCI Factors'!E15*'7 Mass Data for SMM'!G15,0)","v":0},{"$f":"IFERROR('6 LCI Factors'!G15*'7 Mass Data for SMM'!G15,0)","v":40.151937453681533},{"$f":"IFERROR('6 LCI Factors'!H15*'7 Mass Data for SMM'!H15,0)","v":-1220.7291927774618},{"$f":"IFERROR('6 LCI Factors'!I15*'7 Mass Data for SMM'!I15,0)","v":0},{"$f":"IFERROR('6 LCI Factors'!J15*'7 Mass Data for SMM'!J15,0)","v":0},{"$f":"IFERROR('6 LCI Factors'!K15*'7 Mass Data for SMM'!K15,0)","v":11.821365425967326},{"$f":"IFERROR('6 LCI Factors'!L15*'7 Mass Data for SMM'!L15,0)","v":0},-1168.7558898978129,-1168.7558898978129]
[null,"Metals",12,"Aluminum Cans",{"$f":"IFERROR('6 LCI Factors'!E16*'7 Mass Data for SMM'!E16,0)","v":0},{"$f":"IFERROR('6 LCI Factors'!F16*'7 Mass Data for SMM'!F16,0)","v":0},{"$f":"IFERROR('6 LCI Factors'!E16*'7 Mass Data for SMM'!G16,0)","v":0},{"$f":"IFERROR('6 LCI Factors'!G16*'7 Mass Data for SMM'!G16,0)","v":5.8497328812677782},{"$f":"IFERROR('6 LCI Factors'!H16*'7 Mass Data for SMM'!H16,0)","v":-4070.9982742236971},{"$f":"IFERROR('6 LCI Factors'!I16*'7 Mass Data for SMM'!I16,0)","v":0},{"$f":"IFERROR('6 LCI Factors'!J16*'7 Mass Data for SMM'!J16,0)","v":0},{"$f":"IFERROR('6 LCI Factors'!K16*'7 Mass Data for SMM'!K16,0)","v":2.4251275566721371},{"$f":"IFERROR('6 LCI Factors'!L16*'7 Mass Data for SMM'!L16,0)","v":0},-4062.7234137857572,-4062.7234137857572]
[null,null,13,"Steel/Tin Cans",{"$f":"IFERROR('6 LCI Factors'!E17*'7 Mass Data for SMM'!E17,0)","v":0},{"$f":"IFERROR('6 LCI Factors'!F17*'7 Mass Data for SMM'!F17,0)","v":0},{"$f":"IFERROR('6 LCI Factors'!E17*'7 Mass Data for SMM'!G17,0)","v":0},{"$f":"IFERROR('6 LCI Factors'!G17*'7 Mass Data for SMM'!G17,0)","v":7.2811071428937408},{"$f":"IFERROR('6 LCI Factors'!H17*'7 Mass Data for SMM'!H17,0)","v":-284.61251590625568},{"$f":"IFERROR('6 LCI Factors'!I17*'7 Mass Data for SMM'!I17,0)","v":0},{"$f":"IFERROR('6 LCI Factors'!J17*'7 Mass Data for SMM'!J17,0)","v":0},{"$f":"IFERROR('6 LCI Factors'!K17*'7 Mass Data for SMM'!K17,0)","v":3.7206575287096135},{"$f":"IFERROR('6 LCI Factors'!L17*'7 Mass Data for SMM'!L17,0)","v":0},-273.6107512346523,-273.6107512346523]
[null,null,14,"Mixed Metals",{"$f":"IFERROR('6 LCI Factors'!E18*'7 Mass Data for SMM'!E18,0)","v":0},{"$f":"IFERROR('6 LCI Factors'!F18*'7 Mass Data for SMM'!F18,0)","v":0},{"$f":"IFERROR('6 LCI Factors'!E18*'7 Mass Data for SMM'!G18,0)","v":0},{"$f":"IFERROR('6 LCI Factors'!G18*'7 Mass Data for SMM'!G18,0)","v":101.72441650027417},{"$f":"IFERROR('6 LCI Factors'!H18*'7 Mass Data for SMM'!H18,0)","v":-82228.768416094055},{"$f":"IFERROR('6 LCI Factors'!I18*'7 Mass Data for SMM'!I18,0)","v":0},{"$f":"IFERROR('6 LCI Factors'!J18*'7 Mass Data for SMM'!J18,0)","v":0},{"$f":"IFERROR('6 LCI Factors'!K18*'7 Mass Data for SMM'!K18,0)","v":10.254551511520864},{"$f":"IFERROR('6 LCI Factors'!L18*'7 Mass Data for SMM'!L18,0)","v":0},-82116.789448082258,-82116.789448082258]
[null,"Organic",15,"Yard Waste",{"$f":"IFERROR('6 LCI Factors'!E19*'7 Mass Data for SMM'!E19,0)","v":0},{"$f":"IFERROR('6 LCI Factors'!F19*'7 Mass Data for SMM'!F19,0)","v":0},{"$f":"IFERROR('6 LCI Factors'!E19*'7 Mass Data for SMM'!G19,0)","v":0},{"$f":"IFERROR('6 LCI Factors'!G19*'7 Mass Data for SMM'!G19,0)","v":812.86211899915429},{"$f":"IFERROR('6 LCI Factors'!H19*'7 Mass Data for SMM'!H19,0)","v":0},{"$f":"IFERROR('6 LCI Factors'!I19*'7 Mass Data for SMM'!I19,0)","v":910.78224087819171},{"$f":"IFERROR('6 LCI Factors'!J19*'7 Mass Data for SMM'!J19,0)","v":0},{"$f":"IFERROR('6 LCI Factors'!K19*'7 Mass Data for SMM'!K19,0)","v":-404.35812652886631},{"$f":"IFERROR('6 LCI Factors'!L19*'7 Mass Data for SMM'!L19,0)","v":-57214.612110575465},-55895.325877226984,-55895.325877226984]
[null,null,16,"Food Waste",{"$f":"IFERROR('6 LCI Factors'!E20*'7 Mass Data for SMM'!E20,0)","v":0},{"$f":"IFERROR('6 LCI Factors'!F20*'7 Mass Data for SMM'!F20,0)","v":0},{"$f":"IFERROR('6 LCI Factors'!E20*'7 Mass Data for SMM'!G20,0)","v":0},{"$f":"IFERROR('6 LCI Factors'!G20*'7 Mass Data for SMM'!G20,0)","v":151.92136466785513},{"$f":"IFERROR('6 LCI Factors'!H20*'7 Mass Data for SMM'!H20,0)","v":0},{"$f":"IFERROR('6 LCI Factors'!I20*'7 Mass Data for SMM'!I20,0)","v":11.755020489255751},{"$f":"IFERROR('6 LCI Factors'!J20*'7 Mass Data for SMM'!J20,0)","v":0},{"$f":"IFERROR('6 LCI Factors'!K20*'7 Mass Data for SMM'!K20,0)","v":10034.287592197912},{"$f":"IFERROR('6 LCI Factors'!L20*'7 Mass Data for SMM'!L20,0)","v":0},10197.963977355023,10197.963977355023]
[null,"Other ",17,"Tires",{"$f":"IFERROR('6 LCI Factors'!E21*'7 Mass Data for SMM'!E21,0)","v":0},{"$f":"IFERROR('6 LCI Factors'!F21*'7 Mass Data for SMM'!F21,0)","v":0},{"$f":"IFERROR('6 LCI Factors'!E21*'7 Mass Data for SMM'!G21,0)","v":0},{"$f":"IFERROR('6 LCI Factors'!G21*'7 Mass Data for SMM'!G21,0)","v":0},{"$f":"IFERROR('6 LCI Factors'!H21*'7 Mass Data for SMM'!H21,0)","v":0},{"$f":"IFERROR('6 LCI Factors'!I21*'7 Mass Data for SMM'!I21,0)","v":0},{"$f":"IFERROR('6 LCI Factors'!J21*'7 Mass Data for SMM'!J21,0)","v":0},{"$f":"IFERROR('6 LCI Factors'!K21*'7 Mass Data for SMM'!K21,0)","v":0},{"$f":"IFERROR('6 LCI Factors'!L21*'7 Mass Data for SMM'!L21,0)","v":0},0,0]
[null,null,18,"Clothing and Footwear",{"$f":"IFERROR('6 LCI Factors'!E22*'7 Mass Data for SMM'!E22,0)","v":0},{"$f":"IFERROR('6 LCI Factors'!F22*'7 Mass Data for SMM'!F22,0)","v":0},{"$f":"IFERROR('6 LCI Factors'!E22*'7 Mass Data for SMM'!G22,0)","v":0},{"$f":"IFERROR('6 LCI Factors'!G22*'7 Mass Data for SMM'!G22,0)","v":0},{"$f":"IFERROR('6 LCI Factors'!H22*'7 Mass Data for SMM'!H22,0)","v":0},{"$f":"IFERROR('6 LCI Factors'!I22*'7 Mass Data for SMM'!I22,0)","v":0},{"$f":"IFERROR('6 LCI Factors'!J22*'7 Mass Data for SMM'!J22,0)","v":0},{"$f":"IFERROR('6 LCI Factors'!K22*'7 Mass Data for SMM'!K22,0)","v":0},{"$f":"IFERROR('6 LCI Factors'!L22*'7 Mass Data for SMM'!L22,0)","v":0},0,0]
[null,null,19,"Furniture",{"$f":"IFERROR('6 LCI Factors'!E23*'7 Mass Data for SMM'!E23,0)","v":0},{"$f":"IFERROR('6 LCI Factors'!F23*'7 Mass Data for SMM'!F23,0)","v":0},{"$f":"IFERROR('6 LCI Factors'!E23*'7 Mass Data for SMM'!G23,0)","v":0},{"$f":"IFERROR('6 LCI Factors'!G23*'7 Mass Data for SMM'!G23,0)","v":0},{"$f":"IFERROR('6 LCI Factors'!H23*'7 Mass Data for SMM'!H23,0)","v":0},{"$f":"IFERROR('6 LCI Factors'!I23*'7 Mass Data for SMM'!I23,0)","v":0},{"$f":"IFERROR('6 LCI Factors'!J23*'7 Mass Data for SMM'!J23,0)","v":0},{"$f":"IFERROR('6 LCI Factors'!K23*'7 Mass Data for SMM'!K23,0)","v":0},{"$f":"IFERROR('6 LCI Factors'!L23*'7 Mass Data for SMM'!L23,0)","v":0},0,0]
[null,null,20,"Electronics",{"$f":"IFERROR('6 LCI Factors'!E24*'7 Mass Data for SMM'!E24,0)","v":0},{"$f":"IFERROR('6 LCI Factors'!F24*'7 Mass Data for SMM'!F24,0)","v":0},{"$f":"IFERROR('6 LCI Factors'!E24*'7 Mass Data for SMM'!G24,0)","v":0},{"$f":"IFERROR('6 LCI Factors'!G24*'7 Mass Data for SMM'!G24,0)","v":0},{"$f":"IFERROR('6 LCI Factors'!H24*'7 Mass Data for SMM'!H24,0)","v":0},{"$f":"IFERROR('6 LCI Factors'!I24*'7 Mass Data for SMM'!I24,0)","v":0},{"$f":"IFERROR('6 LCI Factors'!J24*'7 Mass Data for SMM'!J24,0)","v":0},{"$f":"IFERROR('6 LCI Factors'!K24*'7 Mass Data for SMM'!K24,0)","v":0},{"$f":"IFERROR('6 LCI Factors'!L24*'7 Mass Data for SMM'!L24,0)","v":0},0,0]
[null,"C&D Debris",21,"Wood Products",{"$f":"IFERROR('6 LCI Factors'!E25*'7 Mass Data for SMM'!E25,0)","v":0},{"$f":"IFERROR('6 LCI Factors'!F25*'7 Mass Data for SMM'!F25,0)","v":0},{"$f":"IFERROR('6 LCI Factors'!E25*'7 Mass Data for SMM'!G25,0)","v":0},{"$f":"IFERROR('6 LCI Factors'!G25*'7 Mass Data for SMM'!G25,0)","v":0},{"$f":"IFERROR('6 LCI Factors'!H25*'7 Mass Data for SMM'!H25,0)","v":0},{"$f":"IFERROR('6 LCI Factors'!I25*'7 Mass Data for SMM'!I25,0)","v":0},{"$f":"IFERROR('6 LCI Factors'!J25*'7 Mass Data for SMM'!J25,0)","v":0},{"$f":"IFERROR('6 LCI Factors'!K25*'7 Mass Data for SMM'!K25,0)","v":0},{"$f":"IFERROR('6 LCI Factors'!L25*'7 Mass Data for SMM'!L25,0)","v":0},0,0]
[null,null,22,"Asphalt Shingles",{"$f":"IFERROR('6 LCI Factors'!E26*'7 Mass Data for SMM'!E26,0)","v":0},{"$f":"IFERROR('6 LCI Factors'!F26*'7 Mass Data for SMM'!F26,0)","v":0},{"$f":"IFERROR('6 LCI Factors'!E26*'7 Mass Data for SMM'!G26,0)","v":0},{"$f":"IFERROR('6 LCI Factors'!G26*'7 Mass Data for SMM'!G26,0)","v":0},{"$f":"IFERROR('6 LCI Factors'!H26*'7 Mass Data for SMM'!H26,0)","v":0},{"$f":"IFERROR('6 LCI Factors'!I26*'7 Mass Data for SMM'!I26,0)","v":0},{"$f":"IFERROR('6 LCI Factors'!J26*'7 Mass Data for SMM'!J26,0)","v":0},{"$f":"IFERROR('6 LCI Factors'!K26*'7 Mass Data for SMM'!K26,0)","v":0},{"$f":"IFERROR('6 LCI Factors'!L26*'7 Mass Data for SMM'!L26,0)","v":0},0,0]
[null,null,23,"Gypsum Drywall",{"$f":"IFERROR('6 LCI Factors'!E27*'7 Mass Data for SMM'!E27,0)","v":0},{"$f":"IFERROR('6 LCI Factors'!F27*'7 Mass Data for SMM'!F27,0)","v":0},{"$f":"IFERROR('6 LCI Factors'!E27*'7 Mass Data for SMM'!G27,0)","v":0},{"$f":"IFERROR('6 LCI Factors'!G27*'7 Mass Data for SMM'!G27,0)","v":0},{"$f":"IFERROR('6 LCI Factors'!H27*'7 Mass Data for SMM'!H27,0)","v":0},{"$f":"IFERROR('6 LCI Factors'!I27*'7 Mass Data for SMM'!I27,0)","v":0},{"$f":"IFERROR('6 LCI Factors'!J27*'7 Mass Data for SMM'!J27,0)","v":0},{"$f":"IFERROR('6 LCI Factors'!K27*'7 Mass Data for SMM'!K27,0)","v":0},{"$f":"IFERROR('6 LCI Factors'!L27*'7 Mass Data for SMM'!L27,0)","v":0},0,0]
[null,null,24,"Concrete",{"$f":"IFERROR('6 LCI Factors'!E28*'7 Mass Data for SMM'!E28,0)","v":0},{"$f":"IFERROR('6 LCI Factors'!F28*'7 Mass Data for SMM'!F28,0)","v":0},{"$f":"IFERROR('6 LCI Factors'!E28*'7 Mass Data for SMM'!G28,0)","v":0},{"$f":"IFERROR('6 LCI Factors'!G28*'7 Mass Data for SMM'!G28,0)","v":0},{"$f":"IFERROR('6 LCI Factors'!H28*'7 Mass Data for SMM'!H28,0)","v":0},{"$f":"IFERROR('6 LCI Factors'!I28*'7 Mass Data for SMM'!I28,0)","v":0},{"$f":"IFERROR('6 LCI Factors'!J28*'7 Mass Data for SMM'!J28,0)","v":0},{"$f":"IFERROR('6 LCI Factors'!K28*'7 Mass Data for SMM'!K28,0)","v":0},{"$f":"IFERROR('6 LCI Factors'!L28*'7 Mass Data for SMM'!L28,0)","v":0},0,0]
[null,null,25,"Reclaimed Asphalt Pavement",{"$f":"IFERROR('6 LCI Factors'!E29*'7 Mass Data for SMM'!E29,0)","v":0},{"$f":"IFERROR('6 LCI Factors'!F29*'7 Mass Data for SMM'!F29,0)","v":0},{"$f":"IFERROR('6 LCI Factors'!E29*'7 Mass Data for SMM'!G29,0)","v":0},{"$f":"IFERROR('6 LCI Factors'!G29*'7 Mass Data for SMM'!G29,0)","v":0},{"$f":"IFERROR('6 LCI Factors'!H29*'7 Mass Data for SMM'!H29,0)","v":0},{"$f":"IFERROR('6 LCI Factors'!I29*'7 Mass Data for SMM'!I29,0)","v":0},{"$f":"IFERROR('6 LCI Factors'!J29*'7 Mass Data for SMM'!J29,0)","v":0},{"$f":"IFERROR('6 LCI Factors'!K29*'7 Mass Data for SMM'!K29,0)","v":0},{"$f":"IFERROR('6 LCI Factors'!L29*'7 Mass Data for SMM'!L29,0)","v":0},0,0]
[null,"Total",null,null,{"$f":"SUMIF(E8:E32,\"<>#value!\")","v":0},{"$f":"SUMIF(F8:F32,\"<>#value!\")","v":0},{"$f":"SUMIF(G8:G32,\"<>#value!\")","v":0},{"$f":"SUMIF(H8:H32,\"<>#value!\")","v":2024.9738614113382},{"$f":"SUMIF(I8:I32,\"<>#value!\")","v":-86906.074938982652},922.53726136744751,0,-30628.345273380182,-57214.612110575465,-171801.52120015954,{"$f":"SUMIF(O8:O32,\"<>#value!\")","v":-171801.52120015954}]
[]
[null,"Table 2."]
[null,"Energy Use (MJ): Energy is consumed by different processes, the units are expressed as MJ. This is a measure of the direct and indirect energy use throughout the life cycle and can include both renewable and non-renewable energy source.\n"]
[null,"Material Category","Item No.","Material Type","Source Reduced/ Generated","Donated","Produced","Collection","Recycling","Composting","Anaerobic Digestion","Landfill","Combustion","Lifecycle Total","Waste Management Total"]
[null,"MSW ",1,"Mixed MSW",{"$f":"IFERROR('6 LCI Factors'!E35*'7 Mass Data for SMM'!E5,0)","v":0},{"$f":"IFERROR('6 LCI Factors'!F35*'7 Mass Data for SMM'!F5,0)","v":0},{"$f":"IFERROR('6 LCI Factors'!E35*'7 Mass Data for SMM'!G5,0)","v":0},{"$f":"IFERROR('6 LCI Factors'!G35*'7 Mass Data for SMM'!G5,0)","v":15286469.36402631},{"$f":"IFERROR('6 LCI Factors'!H35*'7 Mass Data for SMM'!H5,0)","v":0},{"$f":"IFERROR('6 LCI Factors'!I35*'7 Mass Data for SMM'!I5,0)","v":0},{"$f":"IFERROR('6 LCI Factors'!J35*'7 Mass Data for SMM'!J5,0)","v":0},{"$f":"IFERROR('6 LCI Factors'!K35*'7 Mass Data for SMM'!K5,0)","v":-55769477.070270523},{"$f":"IFERROR('6 LCI Factors'!L35*'7 Mass Data for SMM'!L5,0)","v":0},{"$f":"SUMIF(E38:M38,\"<>#value!\")","v":-40483007.706244215},{"$f":"SUMIF(H38:M38,\"<>#value!\")","v":-40483007.706244215}]
[null,"Paper",2,"Newspaper",{"$f":"IFERROR('6 LCI Factors'!E36*'7 Mass Data for SMM'!E6,0)","v":0},{"$f":"IFERROR('6 LCI Factors'!F36*'7 Mass Data for SMM'!F6,0)","v":0},{"$f":"IFERROR('6 LCI Factors'!E36*'7 Mass Data for SMM'!G6,0)","v":0},{"$f":"IFERROR('6 LCI Factors'!G36*'7 Mass Data for SMM'!G6,0)","v":1069280.8385560797},{"$f":"IFERROR('6 LCI Factors'!H36*'7 Mass Data for SMM'!H6,0)","v":-54226323.837502196},{"$f":"IFERROR('6 LCI Factors'!I36*'7 Mass Data for SMM'!I6,0)","v":0},{"$f":"IFERROR('6 LCI Factors'!J36*'7 Mass Data for SMM'!J6,0)","v":0},{"$f":"IFERROR('6 LCI Factors'!K36*'7 Mass Data for SMM'!K6,0)","v":-7240.1963113902502},{"$f":"IFERROR('6 LCI Factors'!L36*'7 Mass Data for SMM'!L6,0)","v":0},{"$f":"SUMIF(E39:M39,\"<>#value!\")","v":-53164283.195257507},{"$f":"SUMIF(H39:M39,\"<>#value!\")","v":-53164283.195257507}]
[null,null,3,"Corrugated Cardboard (OCC)",{"$f":"IFERROR('6 LCI Factors'!E37*'7 Mass Data for SMM'!E7,0)","v":0},{"$f":"IFERROR('6 LCI Factors'!F37*'7 Mass Data for SMM'!F7,0)","v":0},{"$f":"IFERROR('6 LCI Factors'!E37*'7 Mass Data for SMM'!G7,0)","v":0},{"$f":"IFERROR('6 LCI Factors'!G37*'7 Mass Data for SMM'!G7,0)","v":12654968.276316144},{"$f":"IFERROR('6 LCI Factors'!H37*'7 Mass Data for SMM'!H7,0)","v":-360399536.92446554},{"$f":"IFERROR('6 LCI Factors'!I37*'7 Mass Data for SMM'!I7,0)","v":0},{"$f":"IFERROR('6 LCI Factors'!J37*'7 Mass Data for SMM'!J7,0)","v":0},{"$f":"IFERROR('6 LCI Factors'!K37*'7 Mass Data for SMM'!K7,0)","v":-12799444.18872896},{"$f":"IFERROR('6 LCI Factors'!L37*'7 Mass Data for SMM'!L7,0)","v":0},-360544012.83687836,-360544012.83687836]
[null,null,4,"High Grade Paper (Office Type Paper)",{"$f":"IFERROR('6 LCI Factors'!E38*'7 Mass Data for SMM'!E8,0)","v":0},{"$f":"IFERROR('6 LCI Factors'!F38*'7 Mass Data for SMM'!F8,0)","v":0},{"$f":"IFERROR('6 LCI Factors'!E38*'7 Mass Data for SMM'!G8,0)","v":0},{"$f":"IFERROR('6 LCI Factors'!G38*'7 Mass Data for SMM'!G8,0)","v":1274586.5585019211},{"$f":"IFERROR('6 LCI Factors'!H38*'7 Mass Data for SMM'!H8,0)","v":-29911033.882388994},{"$f":"IFERROR('6 LCI Factors'!I38*'7 Mass Data for SMM'!I8,0)","v":0},{"$f":"IFERROR('6 LCI Factors'!J38*'7 Mass Data for SMM'!J8,0)","v":0},{"$f":"IFERROR('6 LCI Factors'!K38*'7 Mass Data for SMM'!K8,0)","v":-2148267.0844409154},{"$f":"IFERROR('6 LCI Factors'!L38*'7 Mass Data for SMM'!L8,0)","v":0},-30784714.408327989,-30784714.408327989]
[null,null,5,"Magazines/third-class mail",{"$f":"IFERROR('6 LCI Factors'!E39*'7 Mass Data for SMM'!E9,0)","v":0},{"$f":"IFERROR('6 LCI Factors'!F39*'7 Mass Data for SMM'!F9,0)","v":0},{"$f":"IFERROR('6 LCI Factors'!E39*'7 Mass Data for SMM'!G9,0)","v":0},{"$f":"IFERROR('6 LCI Factors'!G39*'7 Mass Data for SMM'!G9,0)","v":2932254.5073677441},{"$f":"IFERROR('6 LCI Factors'!H39*'7 Mass Data for SMM'!H9,0)","v":-64371.604586252004},{"$f":"IFERROR('6 LCI Factors'!I39*'7 Mass Data for SMM'!I9,0)","v":0},{"$f":"IFERROR('6 LCI Factors'!J39*'7 Mass Data for SMM'!J9,0)","v":0},{"$f":"IFERROR('6 LCI Factors'!K39*'7 Mass Data for SMM'!K9,0)","v":-2442239.4785631625},{"$f":"IFERROR('6 LCI Factors'!L39*'7 Mass Data for SMM'!L9,0)","v":0},425643.4242183296,425643.4242183296]
[null,null,6,"Books",{"$f":"IFERROR('6 LCI Factors'!E40*'7 Mass Data for SMM'!E10,0)","v":0},{"$f":"IFERROR('6 LCI Factors'!F40*'7 Mass Data for SMM'!F10,0)","v":0},{"$f":"IFERROR('6 LCI Factors'!E40*'7 Mass Data for SMM'!G10,0)","v":0},{"$f":"IFERROR('6 LCI Factors'!G40*'7 Mass Data for SMM'!G10,0)","v":287109.89923528646},{"$f":"IFERROR('6 LCI Factors'!H40*'7 Mass Data for SMM'!H10,0)","v":0},{"$f":"IFERROR('6 LCI Factors'!I40*'7 Mass Data for SMM'!I10,0)","v":0},{"$f":"IFERROR('6 LCI Factors'!J40*'7 Mass Data for SMM'!J10,0)","v":0},{"$f":"IFERROR('6 LCI Factors'!K40*'7 Mass Data for SMM'!K10,0)","v":-19584.061864191342},{"$f":"IFERROR('6 LCI Factors'!L40*'7 Mass Data for SMM'!L10,0)","v":0},267525.83737109514,267525.83737109514]
[null,null,7,"Mixed Paper",{"$f":"IFERROR('6 LCI Factors'!E41*'7 Mass Data for SMM'!E11,0)","v":0},{"$f":"IFERROR('6 LCI Factors'!F41*'7 Mass Data for SMM'!F11,0)","v":0},{"$f":"IFERROR('6 LCI Factors'!E41*'7 Mass Data for SMM'!G11,0)","v":0},{"$f":"IFERROR('6 LCI Factors'!G41*'7 Mass Data for SMM'!G11,0)","v":9529568.2341262922},{"$f":"IFERROR('6 LCI Factors'!H41*'7 Mass Data for SMM'!H11,0)","v":-6823649.1117895273},{"$f":"IFERROR('6 LCI Factors'!I41*'7 Mass Data for SMM'!I11,0)","v":0},{"$f":"IFERROR('6 LCI Factors'!J41*'7 Mass Data for SMM'!J11,0)","v":0},{"$f":"IFERROR('6 LCI Factors'!K41*'7 Mass Data for SMM'!K11,0)","v":-21796151.026334122},{"$f":"IFERROR('6 LCI Factors'!L41*'7 Mass Data for SMM'!L11,0)","v":0},-19090231.903997358,-19090231.903997358]
[null,"Plastic",8,"HDPE",{"$f":"IFERROR('6 LCI Factors'!E42*'7 Mass Data for SMM'!E12,0)","v":0},{"$f":"IFERROR('6 LCI Factors'!F42*'7 Mass Data for SMM'!F12,0)","v":0},{"$f":"IFERROR('6 LCI Factors'!E42*'7 Mass Data for SMM'!G12,0)","v":0},{"$f":"IFERROR('6 LCI Factors'!G42*'7 Mass Data for SMM'!G12,0)","v":422809.13598134439},{"$f":"IFERROR('6 LCI Factors'!H42*'7 Mass Data for SMM'!H12,0)","v":-8196281.9708721135},{"$f":"IFERROR('6 LCI Factors'!I42*'7 Mass Data for SMM'!I12,0)","v":0},{"$f":"IFERROR('6 LCI Factors'!J42*'7 Mass Data for SMM'!J12,0)","v":0},{"$f":"IFERROR('6 LCI Factors'!K42*'7 Mass Data for SMM'!K12,0)","v":504095.75484031608},{"$f":"IFERROR('6 LCI Factors'!L42*'7 Mass Data for SMM'!L12,0)","v":0},-7269377.0800504526,-7269377.0800504526]
[null,null,9,"PET",{"$f":"IFERROR('6 LCI Factors'!E43*'7 Mass Data for SMM'!E13,0)","v":0},{"$f":"IFERROR('6 LCI Factors'!F43*'7 Mass Data for SMM'!F13,0)","v":0},{"$f":"IFERROR('6 LCI Factors'!E43*'7 Mass Data for SMM'!G13,0)","v":0},{"$f":"IFERROR('6 LCI Factors'!G43*'7 Mass Data for SMM'!G13,0)","v":695640.69165232487},{"$f":"IFERROR('6 LCI Factors'!H43*'7 Mass Data for SMM'!H13,0)","v":-15932615.925534762},{"$f":"IFERROR('6 LCI Factors'!I43*'7 Mass Data for SMM'!I13,0)","v":0},{"$f":"IFERROR('6 LCI Factors'!J43*'7 Mass Data for SMM'!J13,0)","v":0},{"$f":"IFERROR('6 LCI Factors'!K43*'7 Mass Data for SMM'!K13,0)","v":829380.18532218027},{"$f":"IFERROR('6 LCI Factors'!L43*'7 Mass Data for SMM'!L13,0)","v":0},-14407595.048560258,-14407595.048560258]
[null,null,10,"Mixed Plastic",{"$f":"IFERROR('6 LCI Factors'!E44*'7 Mass Data for SMM'!E14,0)","v":0},{"$f":"IFERROR('6 LCI Factors'!F44*'7 Mass Data for SMM'!F14,0)","v":0},{"$f":"IFERROR('6 LCI Factors'!E44*'7 Mass Data for SMM'!G14,0)","v":0},{"$f":"IFERROR('6 LCI Factors'!G44*'7 Mass Data for SMM'!G14,0)","v":7302923.5555146728},{"$f":"IFERROR('6 LCI Factors'!H44*'7 Mass Data for SMM'!H14,0)","v":-21468715.475304473},{"$f":"IFERROR('6 LCI Factors'!I44*'7 Mass Data for SMM'!I14,0)","v":0},{"$f":"IFERROR('6 LCI Factors'!J44*'7 Mass Data for SMM'!J14,0)","v":0},{"$f":"IFERROR('6 LCI Factors'!K44*'7 Mass Data for SMM'!K14,0)","v":12002665.047295753},{"$f":"IFERROR('6 LCI Factors'!L44*'7 Mass Data for SMM'!L14,0)","v":0},-2163126.8724940475,-2163126.8724940475]
[null,"Glass",11,"Glass",{"$f":"IFERROR('6 LCI Factors'!E45*'7 Mass Data for SMM'!E15,0)","v":0},{"$f":"IFERROR('6 LCI Factors'!F45*'7 Mass Data for SMM'!F15,0)","v":0},{"$f":"IFERROR('6 LCI Factors'!E45*'7 Mass Data for SMM'!G15,0)","v":0},{"$f":"IFERROR('6 LCI Factors'!G45*'7 Mass Data for SMM'!G15,0)","v":2282457.8649121425},{"$f":"IFERROR('6 LCI Factors'!H45*'7 Mass Data for SMM'!H15,0)","v":-8219923.13073254},{"$f":"IFERROR('6 LCI Factors'!I45*'7 Mass Data for SMM'!I15,0)","v":0},{"$f":"IFERROR('6 LCI Factors'!J45*'7 Mass Data for SMM'!J15,0)","v":0},{"$f":"IFERROR('6 LCI Factors'!K45*'7 Mass Data for SMM'!K15,0)","v":1671917.2197916775},{"$f":"IFERROR('6 LCI Factors'!L45*'7 Mass Data for SMM'!L15,0)","v":0},-4265548.0460287193,-4265548.0460287193]
[null,"Metals",12,"Aluminum Cans",{"$f":"IFERROR('6 LCI Factors'!E46*'7 Mass Data for SMM'!E16,0)","v":0},{"$f":"IFERROR('6 LCI Factors'!F46*'7 Mass Data for SMM'!F16,0)","v":0},{"$f":"IFERROR('6 LCI Factors'!E46*'7 Mass Data for SMM'!G16,0)","v":0},{"$f":"IFERROR('6 LCI Factors'!G46*'7 Mass Data for SMM'!G16,0)","v":332531.12226245966},{"$f":"IFERROR('6 LCI Factors'!H46*'7 Mass Data for SMM'!H16,0)","v":-87953641.000189543},{"$f":"IFERROR('6 LCI Factors'!I46*'7 Mass Data for SMM'!I16,0)","v":0},{"$f":"IFERROR('6 LCI Factors'!J46*'7 Mass Data for SMM'!J16,0)","v":0},{"$f":"IFERROR('6 LCI Factors'!K46*'7 Mass Data for SMM'!K16,0)","v":342990.202577185},{"$f":"IFERROR('6 LCI Factors'!L46*'7 Mass Data for SMM'!L16,0)","v":0},-87278119.675349891,-87278119.675349891]
[null,null,13,"Steel/Tin Cans",{"$f":"IFERROR('6 LCI Factors'!E47*'7 Mass Data for SMM'!E17,0)","v":0},{"$f":"IFERROR('6 LCI Factors'!F47*'7 Mass Data for SMM'!F17,0)","v":0},{"$f":"IFERROR('6 LCI Factors'!E47*'7 Mass Data for SMM'!G17,0)","v":0},{"$f":"IFERROR('6 LCI Factors'!G47*'7 Mass Data for SMM'!G17,0)","v":413898.34009222925},{"$f":"IFERROR('6 LCI Factors'!H47*'7 Mass Data for SMM'!H17,0)","v":-3612694.1724421005},{"$f":"IFERROR('6 LCI Factors'!I47*'7 Mass Data for SMM'!I17,0)","v":0},{"$f":"IFERROR('6 LCI Factors'!J47*'7 Mass Data for SMM'!J17,0)","v":0},{"$f":"IFERROR('6 LCI Factors'!K47*'7 Mass Data for SMM'!K17,0)","v":526219.36358829087},{"$f":"IFERROR('6 LCI Factors'!L47*'7 Mass Data for SMM'!L17,0)","v":0},-2672576.4687615805,-2672576.4687615805]
[null,null,14,"Mixed Metals",{"$f":"IFERROR('6 LCI Factors'!E48*'7 Mass Data for SMM'!E18,0)","v":0},{"$f":"IFERROR('6 LCI Factors'!F48*'7 Mass Data for SMM'!F18,0)","v":0},{"$f":"IFERROR('6 LCI Factors'!E48*'7 Mass Data for SMM'!G18,0)","v":0},{"$f":"IFERROR('6 LCI Factors'!G48*'7 Mass Data for SMM'!G18,0)","v":5782577.6094239391},{"$f":"IFERROR('6 LCI Factors'!H48*'7 Mass Data for SMM'!H18,0)","v":-1718754198.2776041},{"$f":"IFERROR('6 LCI Factors'!I48*'7 Mass Data for SMM'!I18,0)","v":0},{"$f":"IFERROR('6 LCI Factors'!J48*'7 Mass Data for SMM'!J18,0)","v":0},{"$f":"IFERROR('6 LCI Factors'!K48*'7 Mass Data for SMM'!K18,0)","v":1450319.8772361423},{"$f":"IFERROR('6 LCI Factors'!L48*'7 Mass Data for SMM'!L18,0)","v":0},-1711521300.7909441,-1711521300.7909441]
[null,"Organic",15,"Yard Waste",{"$f":"IFERROR('6 LCI Factors'!E49*'7 Mass Data for SMM'!E19,0)","v":0},{"$f":"IFERROR('6 LCI Factors'!F49*'7 Mass Data for SMM'!F19,0)","v":0},{"$f":"IFERROR('6 LCI Factors'!E49*'7 Mass Data for SMM'!G19,0)","v":0},{"$f":"IFERROR('6 LCI Factors'!G49*'7 Mass Data for SMM'!G19,0)","v":46207571.89460741},{"$f":"IFERROR('6 LCI Factors'!H49*'7 Mass Data for SMM'!H19,0)","v":0},{"$f":"IFERROR('6 LCI Factors'!I49*'7 Mass Data for SMM'!I19,0)","v":14679011.260335745},{"$f":"IFERROR('6 LCI Factors'!J49*'7 Mass Data for SMM'!J19,0)","v":0},{"$f":"IFERROR('6 LCI Factors'!K49*'7 Mass Data for SMM'!K19,0)","v":393709.66589868418},{"$f":"IFERROR('6 LCI Factors'!L49*'7 Mass Data for SMM'!L19,0)","v":-439668164.49772859},-378387871.67688674,-378387871.67688674]
[null,null,16,"Food Waste",{"$f":"IFERROR('6 LCI Factors'!E50*'7 Mass Data for SMM'!E20,0)","v":0},{"$f":"IFERROR('6 LCI Factors'!F50*'7 Mass Data for SMM'!F20,0)","v":0},{"$f":"IFERROR('6 LCI Factors'!E50*'7 Mass Data for SMM'!G20,0)","v":0},{"$f":"IFERROR('6 LCI Factors'!G50*'7 Mass Data for SMM'!G20,0)","v":8636049.3571285363},{"$f":"IFERROR('6 LCI Factors'!H50*'7 Mass Data for SMM'!H20,0)","v":0},{"$f":"IFERROR('6 LCI Factors'!I50*'7 Mass Data for SMM'!I20,0)","v":191214.48616211201},{"$f":"IFERROR('6 LCI Factors'!J50*'7 Mass Data for SMM'!J20,0)","v":0},{"$f":"IFERROR('6 LCI Factors'!K50*'7 Mass Data for SMM'!K20,0)","v":-5857963.4600264467},{"$f":"IFERROR('6 LCI Factors'!L50*'7 Mass Data for SMM'!L20,0)","v":0},2969300.3832642008,2969300.3832642008]
[null,"Other ",17,"Tires",{"$f":"IFERROR('6 LCI Factors'!E51*'7 Mass Data for SMM'!E21,0)","v":0},{"$f":"IFERROR('6 LCI Factors'!F51*'7 Mass Data for SMM'!F21,0)","v":0},{"$f":"IFERROR('6 LCI Factors'!E51*'7 Mass Data for SMM'!G21,0)","v":0},{"$f":"IFERROR('6 LCI Factors'!G51*'7 Mass Data for SMM'!G21,0)","v":0},{"$f":"IFERROR('6 LCI Factors'!H51*'7 Mass Data for SMM'!H21,0)","v":0},{"$f":"IFERROR('6 LCI Factors'!I51*'7 Mass Data for SMM'!I21,0)","v":0},{"$f":"IFERROR('6 LCI Factors'!J51*'7 Mass Data for SMM'!J21,0)","v":0},{"$f":"IFERROR('6 LCI Factors'!K51*'7 Mass Data for SMM'!K21,0)","v":0},{"$f":"IFERROR('6 LCI Factors'!L51*'7 Mass Data for SMM'!L21,0)","v":0},0,0]
[null,null,18,"Clothing and Footwear",{"$f":"IFERROR('6 LCI Factors'!E52*'7 Mass Data for SMM'!E22,0)","v":0},{"$f":"IFERROR('6 LCI Factors'!F52*'7 Mass Data for SMM'!F22,0)","v":0},{"$f":"IFERROR('6 LCI Factors'!E52*'7 Mass Data for SMM'!G22,0)","v":0},{"$f":"IFERROR('6 LCI Factors'!G52*'7 Mass Data for SMM'!G22,0)","v":0},{"$f":"IFERROR('6 LCI Factors'!H52*'7 Mass Data for SMM'!H22,0)","v":0},{"$f":"IFERROR('6 LCI Factors'!I52*'7 Mass Data for SMM'!I22,0)","v":0},{"$f":"IFERROR('6 LCI Factors'!J52*'7 Mass Data for SMM'!J22,0)","v":0},{"$f":"IFERROR('6 LCI Factors'!K52*'7 Mass Data for SMM'!K22,0)","v":0},{"$f":"IFERROR('6 LCI Factors'!L52*'7 Mass Data for SMM'!L22,0)","v":0},0,0]
[null,null,19,"Furniture",{"$f":"IFERROR('6 LCI Factors'!E53*'7 Mass Data for SMM'!E23,0)","v":0},{"$f":"IFERROR('6 LCI Factors'!F53*'7 Mass Data for SMM'!F23,0)","v":0},{"$f":"IFERROR('6 LCI Factors'!E53*'7 Mass Data for SMM'!G23,0)","v":0},{"$f":"IFERROR('6 LCI Factors'!G53*'7 Mass Data for SMM'!G23,0)","v":0},{"$f":"IFERROR('6 LCI Factors'!H53*'7 Mass Data for SMM'!H23,0)","v":0},{"$f":"IFERROR('6 LCI Factors'!I53*'7 Mass Data for SMM'!I23,0)","v":0},{"$f":"IFERROR('6 LCI Factors'!J53*'7 Mass Data for SMM'!J23,0)","v":0},{"$f":"IFERROR('6 LCI Factors'!K53*'7 Mass Data for SMM'!K23,0)","v":0},{"$f":"IFERROR('6 LCI Factors'!L53*'7 Mass Data for SMM'!L23,0)","v":0},0,0]
[null,null,20,"Electronics",{"$f":"IFERROR('6 LCI Factors'!E54*'7 Mass Data for SMM'!E24,0)","v":0},{"$f":"IFERROR('6 LCI Factors'!F54*'7 Mass Data for SMM'!F24,0)","v":0},{"$f":"IFERROR('6 LCI Factors'!E54*'7 Mass Data for SMM'!G24,0)","v":0},{"$f":"IFERROR('6 LCI Factors'!G54*'7 Mass Data for SMM'!G24,0)","v":0},{"$f":"IFERROR('6 LCI Factors'!H54*'7 Mass Data for SMM'!H24,0)","v":0},{"$f":"IFERROR('6 LCI Factors'!I54*'7 Mass Data for SMM'!I24,0)","v":0},{"$f":"IFERROR('6 LCI Factors'!J54*'7 Mass Data for SMM'!J24,0)","v":0},{"$f":"IFERROR('6 LCI Factors'!K54*'7 Mass Data for SMM'!K24,0)","v":0},{"$f":"IFERROR('6 LCI Factors'!L54*'7 Mass Data for SMM'!L24,0)","v":0},0,0]
[null,"C&D Debris",21,"Wood Products",{"$f":"IFERROR('6 LCI Factors'!E55*'7 Mass Data for SMM'!E25,0)","v":0},{"$f":"IFERROR('6 LCI Factors'!F55*'7 Mass Data for SMM'!F25,0)","v":0},{"$f":"IFERROR('6 LCI Factors'!E55*'7 Mass Data for SMM'!G25,0)","v":0},{"$f":"IFERROR('6 LCI Factors'!G55*'7 Mass Data for SMM'!G25,0)","v":0},{"$f":"IFERROR('6 LCI Factors'!H55*'7 Mass Data for SMM'!H25,0)","v":0},{"$f":"IFERROR('6 LCI Factors'!I55*'7 Mass Data for SMM'!I25,0)","v":0},{"$f":"IFERROR('6 LCI Factors'!J55*'7 Mass Data for SMM'!J25,0)","v":0},{"$f":"IFERROR('6 LCI Factors'!K55*'7 Mass Data for SMM'!K25,0)","v":0},{"$f":"IFERROR('6 LCI Factors'!L55*'7 Mass Data for SMM'!L25,0)","v":0},0,0]
[null,null,22,"Asphalt Shingles",{"$f":"IFERROR('6 LCI Factors'!E56*'7 Mass Data for SMM'!E26,0)","v":0},{"$f":"IFERROR('6 LCI Factors'!F56*'7 Mass Data for SMM'!F26,0)","v":0},{"$f":"IFERROR('6 LCI Factors'!E56*'7 Mass Data for SMM'!G26,0)","v":0},{"$f":"IFERROR('6 LCI Factors'!G56*'7 Mass Data for SMM'!G26,0)","v":0},{"$f":"IFERROR('6 LCI Factors'!H56*'7 Mass Data for SMM'!H26,0)","v":0},{"$f":"IFERROR('6 LCI Factors'!I56*'7 Mass Data for SMM'!I26,0)","v":0},{"$f":"IFERROR('6 LCI Factors'!J56*'7 Mass Data for SMM'!J26,0)","v":0},{"$f":"IFERROR('6 LCI Factors'!K56*'7 Mass Data for SMM'!K26,0)","v":0},{"$f":"IFERROR('6 LCI Factors'!L56*'7 Mass Data for SMM'!L26,0)","v":0},0,0]
[null,null,23,"Gypsum Drywall",{"$f":"IFERROR('6 LCI Factors'!E57*'7 Mass Data for SMM'!E27,0)","v":0},{"$f":"IFERROR('6 LCI Factors'!F57*'7 Mass Data for SMM'!F27,0)","v":0},{"$f":"IFERROR('6 LCI Factors'!E57*'7 Mass Data for SMM'!G27,0)","v":0},{"$f":"IFERROR('6 LCI Factors'!G57*'7 Mass Data for SMM'!G27,0)","v":0},{"$f":"IFERROR('6 LCI Factors'!H57*'7 Mass Data for SMM'!H27,0)","v":0},{"$f":"IFERROR('6 LCI Factors'!I57*'7 Mass Data for SMM'!I27,0)","v":0},{"$f":"IFERROR('6 LCI Factors'!J57*'7 Mass Data for SMM'!J27,0)","v":0},{"$f":"IFERROR('6 LCI Factors'!K57*'7 Mass Data for SMM'!K27,0)","v":0},{"$f":"IFERROR('6 LCI Factors'!L57*'7 Mass Data for SMM'!L27,0)","v":0},0,0]
[null,null,24,"Concrete",{"$f":"IFERROR('6 LCI Factors'!E58*'7 Mass Data for SMM'!E28,0)","v":0},{"$f":"IFERROR('6 LCI Factors'!F58*'7 Mass Data for SMM'!F28,0)","v":0},{"$f":"IFERROR('6 LCI Factors'!E58*'7 Mass Data for SMM'!G28,0)","v":0},{"$f":"IFERROR('6 LCI Factors'!G58*'7 Mass Data for SMM'!G28,0)","v":0},{"$f":"IFERROR('6 LCI Factors'!H58*'7 Mass Data for SMM'!H28,0)","v":0},{"$f":"IFERROR('6 LCI Factors'!I58*'7 Mass Data for SMM'!I28,0)","v":0},{"$f":"IFERROR('6 LCI Factors'!J58*'7 Mass Data for SMM'!J28,0)","v":0},{"$f":"IFERROR('6 LCI Factors'!K58*'7 Mass Data for SMM'!K28,0)","v":0},{"$f":"IFERROR('6 LCI Factors'!L58*'7 Mass Data for SMM'!L28,0)","v":0},0,0]
[null,null,25,"Reclaimed Asphalt Pavement",{"$f":"IFERROR('6 LCI Factors'!E59*'7 Mass Data for SMM'!E29,0)","v":0},{"$f":"IFERROR('6 LCI Factors'!F59*'7 Mass Data for SMM'!F29,0)","v":0},{"$f":"IFERROR('6 LCI Factors'!E59*'7 Mass Data for SMM'!G29,0)","v":0},{"$f":"IFERROR('6 LCI Factors'!G59*'7 Mass Data for SMM'!G29,0)","v":0},{"$f":"IFERROR('6 LCI Factors'!H59*'7 Mass Data for SMM'!H29,0)","v":0},{"$f":"IFERROR('6 LCI Factors'!I59*'7 Mass Data for SMM'!I29,0)","v":0},{"$f":"IFERROR('6 LCI Factors'!J59*'7 Mass Data for SMM'!J29,0)","v":0},{"$f":"IFERROR('6 LCI Factors'!K59*'7 Mass Data for SMM'!K29,0)","v":0},{"$f":"IFERROR('6 LCI Factors'!L59*'7 Mass Data for SMM'!L29,0)","v":0},0,0]
[null,"Total",null,null,{"$f":"SUMIF(E38:E62,\"<>#value!\")","v":0},0,{"$f":"SUMIF(G38:G62,\"<>#value!\")","v":0},{"$f":"SUMIF(H38:H62,\"<>#value!\")","v":115110697.24970484},{"$f":"SUMIF(I38:I62,\"<>#value!\")","v":-2315562985.3134122},14870225.746497856,0,-83119069.249989495,-439668164.49772859,-2708369296.0649276,-2708369296.0649276]
[]
[null,"Table 3."]
[null,"Water Use (Gallons): Freshwater from lakes, rivers, and wells are consumed by different processes. The units are expressed as units of gallons. This a measure of the water used in such way that the water is evaporated, incorporated into products, transferred to other watersheds, or disposed into the sea.\n"]
[null,"Material Category","Item No.","Material Type","Source Reduced/ Generated","Donated","Produced","Collection","Recycling","Composting","Anaerobic Digestion","Landfill","Combustion","Lifecycle Total","Waste Management Total"]
[null,"MSW ",1,"Mixed MSW",{"$f":"IFERROR('6 LCI Factors'!E65*'7 Mass Data for SMM'!E5,0)","v":0},{"$f":"IFERROR('6 LCI Factors'!F65*'7 Mass Data for SMM'!F5,0)","v":0},{"$f":"IFERROR('6 LCI Factors'!E65*'7 Mass Data for SMM'!G5,0)","v":0},{"$f":"IFERROR('6 LCI Factors'!G65*'7 Mass Data for SMM'!G5,0)","v":0},{"$f":"IFERROR('6 LCI Factors'!H65*'7 Mass Data for SMM'!H5,0)","v":0},{"$f":"IFERROR('6 LCI Factors'!I65*'7 Mass Data for SMM'!I5,0)","v":0},{"$f":"IFERROR('6 LCI Factors'!J65*'7 Mass Data for SMM'!J5,0)","v":0},{"$f":"IFERROR('6 LCI Factors'!K65*'7 Mass Data for SMM'!K5,0)","v":0},{"$f":"IFERROR('6 LCI Factors'!L65*'7 Mass Data for SMM'!L5,0)","v":0},{"$f":"SUMIF(E68:M68,\"<>#value!\")","v":0},{"$f":"SUMIF(H68:M68,\"<>#value!\")","v":0}]
[null,"Paper",2,"Newspaper",{"$f":"IFERROR('6 LCI Factors'!E66*'7 Mass Data for SMM'!E6,0)","v":0},{"$f":"IFERROR('6 LCI Factors'!F66*'7 Mass Data for SMM'!F6,0)","v":0},{"$f":"IFERROR('6 LCI Factors'!E66*'7 Mass Data for SMM'!G6,0)","v":0},{"$f":"IFERROR('6 LCI Factors'!G66*'7 Mass Data for SMM'!G6,0)","v":0},{"$f":"IFERROR('6 LCI Factors'!H66*'7 Mass Data for SMM'!H6,0)","v":0},{"$f":"IFERROR('6 LCI Factors'!I66*'7 Mass Data for SMM'!I6,0)","v":0},{"$f":"IFERROR('6 LCI Factors'!J66*'7 Mass Data for SMM'!J6,0)","v":0},{"$f":"IFERROR('6 LCI Factors'!K66*'7 Mass Data for SMM'!K6,0)","v":0},{"$f":"IFERROR('6 LCI Factors'!L66*'7 Mass Data for SMM'!L6,0)","v":0},{"$f":"SUMIF(E69:M69,\"<>#value!\")","v":0},{"$f":"SUMIF(H69:M69,\"<>#value!\")","v":0}]
[null,null,3,"Corrugated Cardboard (OCC)",{"$f":"IFERROR('6 LCI Factors'!E67*'7 Mass Data for SMM'!E7,0)","v":0},{"$f":"IFERROR('6 LCI Factors'!F67*'7 Mass Data for SMM'!F7,0)","v":0},{"$f":"IFERROR('6 LCI Factors'!E67*'7 Mass Data for SMM'!G7,0)","v":0},{"$f":"IFERROR('6 LCI Factors'!G67*'7 Mass Data for SMM'!G7,0)","v":0},{"$f":"IFERROR('6 LCI Factors'!H67*'7 Mass Data for SMM'!H7,0)","v":0},{"$f":"IFERROR('6 LCI Factors'!I67*'7 Mass Data for SMM'!I7,0)","v":0},{"$f":"IFERROR('6 LCI Factors'!J67*'7 Mass Data for SMM'!J7,0)","v":0},{"$f":"IFERROR('6 LCI Factors'!K67*'7 Mass Data for SMM'!K7,0)","v":0},{"$f":"IFERROR('6 LCI Factors'!L67*'7 Mass Data for SMM'!L7,0)","v":0},0,0]
[null,null,4,"High Grade Paper (Office Type Paper)",{"$f":"IFERROR('6 LCI Factors'!E68*'7 Mass Data for SMM'!E8,0)","v":0},{"$f":"IFERROR('6 LCI Factors'!F68*'7 Mass Data for SMM'!F8,0)","v":0},{"$f":"IFERROR('6 LCI Factors'!E68*'7 Mass Data for SMM'!G8,0)","v":0},{"$f":"IFERROR('6 LCI Factors'!G68*'7 Mass Data for SMM'!G8,0)","v":0},{"$f":"IFERROR('6 LCI Factors'!H68*'7 Mass Data for SMM'!H8,0)","v":0},{"$f":"IFERROR('6 LCI Factors'!I68*'7 Mass Data for SMM'!I8,0)","v":0},{"$f":"IFERROR('6 LCI Factors'!J68*'7 Mass Data for SMM'!J8,0)","v":0},{"$f":"IFERROR('6 LCI Factors'!K68*'7 Mass Data for SMM'!K8,0)","v":0},{"$f":"IFERROR('6 LCI Factors'!L68*'7 Mass Data for SMM'!L8,0)","v":0},0,0]
[null,null,5,"Magazines/third-class mail",{"$f":"IFERROR('6 LCI Factors'!E69*'7 Mass Data for SMM'!E9,0)","v":0},{"$f":"IFERROR('6 LCI Factors'!F69*'7 Mass Data for SMM'!F9,0)","v":0},{"$f":"IFERROR('6 LCI Factors'!E69*'7 Mass Data for SMM'!G9,0)","v":0},{"$f":"IFERROR('6 LCI Factors'!G69*'7 Mass Data for SMM'!G9,0)","v":0},{"$f":"IFERROR('6 LCI Factors'!H69*'7 Mass Data for SMM'!H9,0)","v":0},{"$f":"IFERROR('6 LCI Factors'!I69*'7 Mass Data for SMM'!I9,0)","v":0},{"$f":"IFERROR('6 LCI Factors'!J69*'7 Mass Data for SMM'!J9,0)","v":0},{"$f":"IFERROR('6 LCI Factors'!K69*'7 Mass Data for SMM'!K9,0)","v":0},{"$f":"IFERROR('6 LCI Factors'!L69*'7 Mass Data for SMM'!L9,0)","v":0},0,0]
[null,null,6,"Books",{"$f":"IFERROR('6 LCI Factors'!E70*'7 Mass Data for SMM'!E10,0)","v":0},{"$f":"IFERROR('6 LCI Factors'!F70*'7 Mass Data for SMM'!F10,0)","v":0},{"$f":"IFERROR('6 LCI Factors'!E70*'7 Mass Data for SMM'!G10,0)","v":0},{"$f":"IFERROR('6 LCI Factors'!G70*'7 Mass Data for SMM'!G10,0)","v":0},{"$f":"IFERROR('6 LCI Factors'!H70*'7 Mass Data for SMM'!H10,0)","v":0},{"$f":"IFERROR('6 LCI Factors'!I70*'7 Mass Data for SMM'!I10,0)","v":0},{"$f":"IFERROR('6 LCI Factors'!J70*'7 Mass Data for SMM'!J10,0)","v":0},{"$f":"IFERROR('6 LCI Factors'!K70*'7 Mass Data for SMM'!K10,0)","v":0},{"$f":"IFERROR('6 LCI Factors'!L70*'7 Mass Data for SMM'!L10,0)","v":0},0,0]
[null,null,7,"Mixed Paper",{"$f":"IFERROR('6 LCI Factors'!E71*'7 Mass Data for SMM'!E11,0)","v":0},{"$f":"IFERROR('6 LCI Factors'!F71*'7 Mass Data for SMM'!F11,0)","v":0},{"$f":"IFERROR('6 LCI Factors'!E71*'7 Mass Data for SMM'!G11,0)","v":0},{"$f":"IFERROR('6 LCI Factors'!G71*'7 Mass Data for SMM'!G11,0)","v":0},{"$f":"IFERROR('6 LCI Factors'!H71*'7 Mass Data for SMM'!H11,0)","v":0},{"$f":"IFERROR('6 LCI Factors'!I71*'7 Mass Data for SMM'!I11,0)","v":0},{"$f":"IFERROR('6 LCI Factors'!J71*'7 Mass Data for SMM'!J11,0)","v":0},{"$f":"IFERROR('6 LCI Factors'!K71*'7 Mass Data for SMM'!K11,0)","v":0},{"$f":"IFERROR('6 LCI Factors'!L71*'7 Mass Data for SMM'!L11,0)","v":0},0,0]
[null,"Plastic",8,"HDPE",{"$f":"IFERROR('6 LCI Factors'!E72*'7 Mass Data for SMM'!E12,0)","v":0},{"$f":"IFERROR('6 LCI Factors'!F72*'7 Mass Data for SMM'!F12,0)","v":0},{"$f":"IFERROR('6 LCI Factors'!E72*'7 Mass Data for SMM'!G12,0)","v":0},{"$f":"IFERROR('6 LCI Factors'!G72*'7 Mass Data for SMM'!G12,0)","v":0},{"$f":"IFERROR('6 LCI Factors'!H72*'7 Mass Data for SMM'!H12,0)","v":0},{"$f":"IFERROR('6 LCI Factors'!I72*'7 Mass Data for SMM'!I12,0)","v":0},{"$f":"IFERROR('6 LCI Factors'!J72*'7 Mass Data for SMM'!J12,0)","v":0},{"$f":"IFERROR('6 LCI Factors'!K72*'7 Mass Data for SMM'!K12,0)","v":0},{"$f":"IFERROR('6 LCI Factors'!L72*'7 Mass Data for SMM'!L12,0)","v":0},0,0]
[null,null,9,"PET",{"$f":"IFERROR('6 LCI Factors'!E73*'7 Mass Data for SMM'!E13,0)","v":0},{"$f":"IFERROR('6 LCI Factors'!F73*'7 Mass Data for SMM'!F13,0)","v":0},{"$f":"IFERROR('6 LCI Factors'!E73*'7 Mass Data for SMM'!G13,0)","v":0},{"$f":"IFERROR('6 LCI Factors'!G73*'7 Mass Data for SMM'!G13,0)","v":0},{"$f":"IFERROR('6 LCI Factors'!H73*'7 Mass Data for SMM'!H13,0)","v":0},{"$f":"IFERROR('6 LCI Factors'!I73*'7 Mass Data for SMM'!I13,0)","v":0},{"$f":"IFERROR('6 LCI Factors'!J73*'7 Mass Data for SMM'!J13,0)","v":0},{"$f":"IFERROR('6 LCI Factors'!K73*'7 Mass Data for SMM'!K13,0)","v":0},{"$f":"IFERROR('6 LCI Factors'!L73*'7 Mass Data for SMM'!L13,0)","v":0},0,0]
[null,null,10,"Mixed Plastic",{"$f":"IFERROR('6 LCI Factors'!E74*'7 Mass Data for SMM'!E14,0)","v":0},{"$f":"IFERROR('6 LCI Factors'!F74*'7 Mass Data for SMM'!F14,0)","v":0},{"$f":"IFERROR('6 LCI Factors'!E74*'7 Mass Data for SMM'!G14,0)","v":0},{"$f":"IFERROR('6 LCI Factors'!G74*'7 Mass Data for SMM'!G14,0)","v":0},{"$f":"IFERROR('6 LCI Factors'!H74*'7 Mass Data for SMM'!H14,0)","v":0},{"$f":"IFERROR('6 LCI Factors'!I74*'7 Mass Data for SMM'!I14,0)","v":0},{"$f":"IFERROR('6 LCI Factors'!J74*'7 Mass Data for SMM'!J14,0)","v":0},{"$f":"IFERROR('6 LCI Factors'!K74*'7 Mass Data for SMM'!K14,0)","v":0},{"$f":"IFERROR('6 LCI Factors'!L74*'7 Mass Data for SMM'!L14,0)","v":0},0,0]
[null,"Glass",11,"Glass",{"$f":"IFERROR('6 LCI Factors'!E75*'7 Mass Data for SMM'!E15,0)","v":0},{"$f":"IFERROR('6 LCI Factors'!F75*'7 Mass Data for SMM'!F15,0)","v":0},{"$f":"IFERROR('6 LCI Factors'!E75*'7 Mass Data for SMM'!G15,0)","v":0},{"$f":"IFERROR('6 LCI Factors'!G75*'7 Mass Data for SMM'!G15,0)","v":0},{"$f":"IFERROR('6 LCI Factors'!H75*'7 Mass Data for SMM'!H15,0)","v":0},{"$f":"IFERROR('6 LCI Factors'!I75*'7 Mass Data for SMM'!I15,0)","v":0},{"$f":"IFERROR('6 LCI Factors'!J75*'7 Mass Data for SMM'!J15,0)","v":0},{"$f":"IFERROR('6 LCI Factors'!K75*'7 Mass Data for SMM'!K15,0)","v":0},{"$f":"IFERROR('6 LCI Factors'!L75*'7 Mass Data for SMM'!L15,0)","v":0},0,0]
[null,"Metals",12,"Aluminum Cans",{"$f":"IFERROR('6 LCI Factors'!E76*'7 Mass Data for SMM'!E16,0)","v":0},{"$f":"IFERROR('6 LCI Factors'!F76*'7 Mass Data for SMM'!F16,0)","v":0},{"$f":"IFERROR('6 LCI Factors'!E76*'7 Mass Data for SMM'!G16,0)","v":0},{"$f":"IFERROR('6 LCI Factors'!G76*'7 Mass Data for SMM'!G16,0)","v":0},{"$f":"IFERROR('6 LCI Factors'!H76*'7 Mass Data for SMM'!H16,0)","v":0},{"$f":"IFERROR('6 LCI Factors'!I76*'7 Mass Data for SMM'!I16,0)","v":0},{"$f":"IFERROR('6 LCI Factors'!J76*'7 Mass Data for SMM'!J16,0)","v":0},{"$f":"IFERROR('6 LCI Factors'!K76*'7 Mass Data for SMM'!K16,0)","v":0},{"$f":"IFERROR('6 LCI Factors'!L76*'7 Mass Data for SMM'!L16,0)","v":0},0,0]
[null,null,13,"Steel/Tin Cans",{"$f":"IFERROR('6 LCI Factors'!E77*'7 Mass Data for SMM'!E17,0)","v":0},{"$f":"IFERROR('6 LCI Factors'!F77*'7 Mass Data for SMM'!F17,0)","v":0},{"$f":"IFERROR('6 LCI Factors'!E77*'7 Mass Data for SMM'!G17,0)","v":0},{"$f":"IFERROR('6 LCI Factors'!G77*'7 Mass Data for SMM'!G17,0)","v":0},{"$f":"IFERROR('6 LCI Factors'!H77*'7 Mass Data for SMM'!H17,0)","v":0},{"$f":"IFERROR('6 LCI Factors'!I77*'7 Mass Data for SMM'!I17,0)","v":0},{"$f":"IFERROR('6 LCI Factors'!J77*'7 Mass Data for SMM'!J17,0)","v":0},{"$f":"IFERROR('6 LCI Factors'!K77*'7 Mass Data for SMM'!K17,0)","v":0},{"$f":"IFERROR('6 LCI Factors'!L77*'7 Mass Data for SMM'!L17,0)","v":0},0,0]
[null,null,14,"Mixed Metals",{"$f":"IFERROR('6 LCI Factors'!E78*'7 Mass Data for SMM'!E18,0)","v":0},{"$f":"IFERROR('6 LCI Factors'!F78*'7 Mass Data for SMM'!F18,0)","v":0},{"$f":"IFERROR('6 LCI Factors'!E78*'7 Mass Data for SMM'!G18,0)","v":0},{"$f":"IFERROR('6 LCI Factors'!G78*'7 Mass Data for SMM'!G18,0)","v":0},{"$f":"IFERROR('6 LCI Factors'!H78*'7 Mass Data for SMM'!H18,0)","v":0},{"$f":"IFERROR('6 LCI Factors'!I78*'7 Mass Data for SMM'!I18,0)","v":0},{"$f":"IFERROR('6 LCI Factors'!J78*'7 Mass Data for SMM'!J18,0)","v":0},{"$f":"IFERROR('6 LCI Factors'!K78*'7 Mass Data for SMM'!K18,0)","v":0},{"$f":"IFERROR('6 LCI Factors'!L78*'7 Mass Data for SMM'!L18,0)","v":0},0,0]
[null,"Organic",15,"Yard Waste",{"$f":"IFERROR('6 LCI Factors'!E79*'7 Mass Data for SMM'!E19,0)","v":0},{"$f":"IFERROR('6 LCI Factors'!F79*'7 Mass Data for SMM'!F19,0)","v":0},{"$f":"IFERROR('6 LCI Factors'!E79*'7 Mass Data for SMM'!G19,0)","v":0},{"$f":"IFERROR('6 LCI Factors'!G79*'7 Mass Data for SMM'!G19,0)","v":0},{"$f":"IFERROR('6 LCI Factors'!H79*'7 Mass Data for SMM'!H19,0)","v":0},{"$f":"IFERROR('6 LCI Factors'!I79*'7 Mass Data for SMM'!I19,0)","v":0},{"$f":"IFERROR('6 LCI Factors'!J79*'7 Mass Data for SMM'!J19,0)","v":0},{"$f":"IFERROR('6 LCI Factors'!K79*'7 Mass Data for SMM'!K19,0)","v":0},{"$f":"IFERROR('6 LCI Factors'!L79*'7 Mass Data for SMM'!L19,0)","v":0},0,0]
[null,null,16,"Food Waste",{"$f":"IFERROR('6 LCI Factors'!E80*'7 Mass Data for SMM'!E20,0)","v":0},{"$f":"IFERROR('6 LCI Factors'!F80*'7 Mass Data for SMM'!F20,0)","v":0},{"$f":"IFERROR('6 LCI Factors'!E80*'7 Mass Data for SMM'!G20,0)","v":0},{"$f":"IFERROR('6 LCI Factors'!G80*'7 Mass Data for SMM'!G20,0)","v":0},{"$f":"IFERROR('6 LCI Factors'!H80*'7 Mass Data for SMM'!H20,0)","v":0},{"$f":"IFERROR('6 LCI Factors'!I80*'7 Mass Data for SMM'!I20,0)","v":0},{"$f":"IFERROR('6 LCI Factors'!J80*'7 Mass Data for SMM'!J20,0)","v":0},{"$f":"IFERROR('6 LCI Factors'!K80*'7 Mass Data for SMM'!K20,0)","v":0},{"$f":"IFERROR('6 LCI Factors'!L80*'7 Mass Data for SMM'!L20,0)","v":0},0,0]
[null,"Other ",17,"Tires",{"$f":"IFERROR('6 LCI Factors'!E81*'7 Mass Data for SMM'!E21,0)","v":0},{"$f":"IFERROR('6 LCI Factors'!F81*'7 Mass Data for SMM'!F21,0)","v":0},{"$f":"IFERROR('6 LCI Factors'!E81*'7 Mass Data for SMM'!G21,0)","v":0},{"$f":"IFERROR('6 LCI Factors'!G81*'7 Mass Data for SMM'!G21,0)","v":0},{"$f":"IFERROR('6 LCI Factors'!H81*'7 Mass Data for SMM'!H21,0)","v":0},{"$f":"IFERROR('6 LCI Factors'!I81*'7 Mass Data for SMM'!I21,0)","v":0},{"$f":"IFERROR('6 LCI Factors'!J81*'7 Mass Data for SMM'!J21,0)","v":0},{"$f":"IFERROR('6 LCI Factors'!K81*'7 Mass Data for SMM'!K21,0)","v":0},{"$f":"IFERROR('6 LCI Factors'!L81*'7 Mass Data for SMM'!L21,0)","v":0},0,0]
[null,null,18,"Clothing and Footwear",{"$f":"IFERROR('6 LCI Factors'!E82*'7 Mass Data for SMM'!E22,0)","v":0},{"$f":"IFERROR('6 LCI Factors'!F82*'7 Mass Data for SMM'!F22,0)","v":0},{"$f":"IFERROR('6 LCI Factors'!E82*'7 Mass Data for SMM'!G22,0)","v":0},{"$f":"IFERROR('6 LCI Factors'!G82*'7 Mass Data for SMM'!G22,0)","v":0},{"$f":"IFERROR('6 LCI Factors'!H82*'7 Mass Data for SMM'!H22,0)","v":0},{"$f":"IFERROR('6 LCI Factors'!I82*'7 Mass Data for SMM'!I22,0)","v":0},{"$f":"IFERROR('6 LCI Factors'!J82*'7 Mass Data for SMM'!J22,0)","v":0},{"$f":"IFERROR('6 LCI Factors'!K82*'7 Mass Data for SMM'!K22,0)","v":0},{"$f":"IFERROR('6 LCI Factors'!L82*'7 Mass Data for SMM'!L22,0)","v":0},0,0]
[null,null,19,"Furniture",{"$f":"IFERROR('6 LCI Factors'!E83*'7 Mass Data for SMM'!E23,0)","v":0},{"$f":"IFERROR('6 LCI Factors'!F83*'7 Mass Data for SMM'!F23,0)","v":0},{"$f":"IFERROR('6 LCI Factors'!E83*'7 Mass Data for SMM'!G23,0)","v":0},{"$f":"IFERROR('6 LCI Factors'!G83*'7 Mass Data for SMM'!G23,0)","v":0},{"$f":"IFERROR('6 LCI Factors'!H83*'7 Mass Data for SMM'!H23,0)","v":0},{"$f":"IFERROR('6 LCI Factors'!I83*'7 Mass Data for SMM'!I23,0)","v":0},{"$f":"IFERROR('6 LCI Factors'!J83*'7 Mass Data for SMM'!J23,0)","v":0},{"$f":"IFERROR('6 LCI Factors'!K83*'7 Mass Data for SMM'!K23,0)","v":0},{"$f":"IFERROR('6 LCI Factors'!L83*'7 Mass Data for SMM'!L23,0)","v":0},0,0]
[null,null,20,"Electronics",{"$f":"IFERROR('6 LCI Factors'!E84*'7 Mass Data for SMM'!E24,0)","v":0},{"$f":"IFERROR('6 LCI Factors'!F84*'7 Mass Data for SMM'!F24,0)","v":0},{"$f":"IFERROR('6 LCI Factors'!E84*'7 Mass Data for SMM'!G24,0)","v":0},{"$f":"IFERROR('6 LCI Factors'!G84*'7 Mass Data for SMM'!G24,0)","v":0},{"$f":"IFERROR('6 LCI Factors'!H84*'7 Mass Data for SMM'!H24,0)","v":0},{"$f":"IFERROR('6 LCI Factors'!I84*'7 Mass Data for SMM'!I24,0)","v":0},{"$f":"IFERROR('6 LCI Factors'!J84*'7 Mass Data for SMM'!J24,0)","v":0},{"$f":"IFERROR('6 LCI Factors'!K84*'7 Mass Data for SMM'!K24,0)","v":0},{"$f":"IFERROR('6 LCI Factors'!L84*'7 Mass Data for SMM'!L24,0)","v":0},0,0]
[null,"C&D Debris",21,"Wood Products",{"$f":"IFERROR('6 LCI Factors'!E85*'7 Mass Data for SMM'!E25,0)","v":0},{"$f":"IFERROR('6 LCI Factors'!F85*'7 Mass Data for SMM'!F25,0)","v":0},{"$f":"IFERROR('6 LCI Factors'!E85*'7 Mass Data for SMM'!G25,0)","v":0},{"$f":"IFERROR('6 LCI Factors'!G85*'7 Mass Data for SMM'!G25,0)","v":0},{"$f":"IFERROR('6 LCI Factors'!H85*'7 Mass Data for SMM'!H25,0)","v":0},{"$f":"IFERROR('6 LCI Factors'!I85*'7 Mass Data for SMM'!I25,0)","v":0},{"$f":"IFERROR('6 LCI Factors'!J85*'7 Mass Data for SMM'!J25,0)","v":0},{"$f":"IFERROR('6 LCI Factors'!K85*'7 Mass Data for SMM'!K25,0)","v":0},{"$f":"IFERROR('6 LCI Factors'!L85*'7 Mass Data for SMM'!L25,0)","v":0},0,0]
[null,null,22,"Asphalt Shingles",{"$f":"IFERROR('6 LCI Factors'!E86*'7 Mass Data for SMM'!E26,0)","v":0},{"$f":"IFERROR('6 LCI Factors'!F86*'7 Mass Data for SMM'!F26,0)","v":0},{"$f":"IFERROR('6 LCI Factors'!E86*'7 Mass Data for SMM'!G26,0)","v":0},{"$f":"IFERROR('6 LCI Factors'!G86*'7 Mass Data for SMM'!G26,0)","v":0},{"$f":"IFERROR('6 LCI Factors'!H86*'7 Mass Data for SMM'!H26,0)","v":0},{"$f":"IFERROR('6 LCI Factors'!I86*'7 Mass Data for SMM'!I26,0)","v":0},{"$f":"IFERROR('6 LCI Factors'!J86*'7 Mass Data for SMM'!J26,0)","v":0},{"$f":"IFERROR('6 LCI Factors'!K86*'7 Mass Data for SMM'!K26,0)","v":0},{"$f":"IFERROR('6 LCI Factors'!L86*'7 Mass Data for SMM'!L26,0)","v":0},0,0]
[null,null,23,"Gypsum Drywall",{"$f":"IFERROR('6 LCI Factors'!E87*'7 Mass Data for SMM'!E27,0)","v":0},{"$f":"IFERROR('6 LCI Factors'!F87*'7 Mass Data for SMM'!F27,0)","v":0},{"$f":"IFERROR('6 LCI Factors'!E87*'7 Mass Data for SMM'!G27,0)","v":0},{"$f":"IFERROR('6 LCI Factors'!G87*'7 Mass Data for SMM'!G27,0)","v":0},{"$f":"IFERROR('6 LCI Factors'!H87*'7 Mass Data for SMM'!H27,0)","v":0},{"$f":"IFERROR('6 LCI Factors'!I87*'7 Mass Data for SMM'!I27,0)","v":0},{"$f":"IFERROR('6 LCI Factors'!J87*'7 Mass Data for SMM'!J27,0)","v":0},{"$f":"IFERROR('6 LCI Factors'!K87*'7 Mass Data for SMM'!K27,0)","v":0},{"$f":"IFERROR('6 LCI Factors'!L87*'7 Mass Data for SMM'!L27,0)","v":0},0,0]
[null,null,24,"Concrete",{"$f":"IFERROR('6 LCI Factors'!E88*'7 Mass Data for SMM'!E28,0)","v":0},{"$f":"IFERROR('6 LCI Factors'!F88*'7 Mass Data for SMM'!F28,0)","v":0},{"$f":"IFERROR('6 LCI Factors'!E88*'7 Mass Data for SMM'!G28,0)","v":0},{"$f":"IFERROR('6 LCI Factors'!G88*'7 Mass Data for SMM'!G28,0)","v":0},{"$f":"IFERROR('6 LCI Factors'!H88*'7 Mass Data for SMM'!H28,0)","v":0},{"$f":"IFERROR('6 LCI Factors'!I88*'7 Mass Data for SMM'!I28,0)","v":0},{"$f":"IFERROR('6 LCI Factors'!J88*'7 Mass Data for SMM'!J28,0)","v":0},{"$f":"IFERROR('6 LCI Factors'!K88*'7 Mass Data for SMM'!K28,0)","v":0},{"$f":"IFERROR('6 LCI Factors'!L88*'7 Mass Data for SMM'!L28,0)","v":0},0,0]
[null,null,25,"Reclaimed Asphalt Pavement",{"$f":"IFERROR('6 LCI Factors'!E89*'7 Mass Data for SMM'!E29,0)","v":0},{"$f":"IFERROR('6 LCI Factors'!F89*'7 Mass Data for SMM'!F29,0)","v":0},{"$f":"IFERROR('6 LCI Factors'!E89*'7 Mass Data for SMM'!G29,0)","v":0},{"$f":"IFERROR('6 LCI Factors'!G89*'7 Mass Data for SMM'!G29,0)","v":0},{"$f":"IFERROR('6 LCI Factors'!H89*'7 Mass Data for SMM'!H29,0)","v":0},{"$f":"IFERROR('6 LCI Factors'!I89*'7 Mass Data for SMM'!I29,0)","v":0},{"$f":"IFERROR('6 LCI Factors'!J89*'7 Mass Data for SMM'!J29,0)","v":0},{"$f":"IFERROR('6 LCI Factors'!K89*'7 Mass Data for SMM'!K29,0)","v":0},{"$f":"IFERROR('6 LCI Factors'!L89*'7 Mass Data for SMM'!L29,0)","v":0},0,0]
[null,"Total",null,null,{"$f":"SUMIF(E68:E92,\"<>#value!\")","v":0},0,{"$f":"SUMIF(G68:G92,\"<>#value!\")","v":0},{"$f":"SUMIF(H68:H92,\"<>#value!\")","v":0},{"$f":"SUMIF(I68:I92,\"<>#value!\")","v":0},0,0,0,0,0,0]
[]
[null,"Table 4."]
[null,"Human Toxicity (CTUh): Release of toxic materials to humans due to inhalation or ingestion by humans. The units are expressed as comparative toxic units (CTUh) which is interpreted as disease cases per kg of substance emitted. This is a measure of adverse impacts include causing cancer and other non-cancer diseases.\n\n"]
[null,"Material Category","Item No.","Material Type","Source Reduced/ Generated","Donated","Produced","Collection","Recycling","Composting","Anaerobic Digestion","Landfill","Combustion","Lifecycle Total","Waste Management Total"]
[null,"MSW ",1,"Mixed MSW",{"$f":"IFERROR('6 LCI Factors'!E95*'7 Mass Data for SMM'!E5,0)","v":0},{"$f":"IFERROR('6 LCI Factors'!F95*'7 Mass Data for SMM'!F5,0)","v":0},{"$f":"IFERROR('6 LCI Factors'!E95*'7 Mass Data for SMM'!G5,0)","v":0},{"$f":"IFERROR('6 LCI Factors'!G95*'7 Mass Data for SMM'!G5,0)","v":6.1254774531561344E-5},{"$f":"IFERROR('6 LCI Factors'!H95*'7 Mass Data for SMM'!H5,0)","v":0},{"$f":"IFERROR('6 LCI Factors'!I95*'7 Mass Data for SMM'!I5,0)","v":0},{"$f":"IFERROR('6 LCI Factors'!J95*'7 Mass Data for SMM'!J5,0)","v":0},{"$f":"IFERROR('6 LCI Factors'!K95*'7 Mass Data for SMM'!K5,0)","v":-3.7552251504400641E-2},{"$f":"IFERROR('6 LCI Factors'!L95*'7 Mass Data for SMM'!L5,0)","v":0},{"$f":"SUMIF(E98:M98,\"<>#value!\")","v":-3.749099672986908E-2},{"$f":"SUMIF(H98:M98,\"<>#value!\")","v":-3.749099672986908E-2}]
[null,"Paper",2,"Newspaper",{"$f":"IFERROR('6 LCI Factors'!E96*'7 Mass Data for SMM'!E6,0)","v":0},{"$f":"IFERROR('6 LCI Factors'!F96*'7 Mass Data for SMM'!F6,0)","v":0},{"$f":"IFERROR('6 LCI Factors'!E96*'7 Mass Data for SMM'!G6,0)","v":0},{"$f":"IFERROR('6 LCI Factors'!G96*'7 Mass Data for SMM'!G6,0)","v":4.2847406498461599E-6},{"$f":"IFERROR('6 LCI Factors'!H96*'7 Mass Data for SMM'!H6,0)","v":-7.6088831087762609E-3},{"$f":"IFERROR('6 LCI Factors'!I96*'7 Mass Data for SMM'!I6,0)","v":0},{"$f":"IFERROR('6 LCI Factors'!J96*'7 Mass Data for SMM'!J6,0)","v":0},{"$f":"IFERROR('6 LCI Factors'!K96*'7 Mass Data for SMM'!K6,0)","v":-8.0156960978661402E-5},{"$f":"IFERROR('6 LCI Factors'!L96*'7 Mass Data for SMM'!L6,0)","v":0},{"$f":"SUMIF(E99:M99,\"<>#value!\")","v":-7.6847553291050762E-3},{"$f":"SUMIF(H99:M99,\"<>#value!\")","v":-7.6847553291050762E-3}]
[null,null,3,"Corrugated Cardboard (OCC)",{"$f":"IFERROR('6 LCI Factors'!E97*'7 Mass Data for SMM'!E7,0)","v":0},{"$f":"IFERROR('6 LCI Factors'!F97*'7 Mass Data for SMM'!F7,0)","v":0},{"$f":"IFERROR('6 LCI Factors'!E97*'7 Mass Data for SMM'!G7,0)","v":0},{"$f":"IFERROR('6 LCI Factors'!G97*'7 Mass Data for SMM'!G7,0)","v":5.0710024009470329E-5},{"$f":"IFERROR('6 LCI Factors'!H97*'7 Mass Data for SMM'!H7,0)","v":-0.13762217419263104},{"$f":"IFERROR('6 LCI Factors'!I97*'7 Mass Data for SMM'!I7,0)","v":0},{"$f":"IFERROR('6 LCI Factors'!J97*'7 Mass Data for SMM'!J7,0)","v":0},{"$f":"IFERROR('6 LCI Factors'!K97*'7 Mass Data for SMM'!K7,0)","v":-9.1066791672966413E-3},{"$f":"IFERROR('6 LCI Factors'!L97*'7 Mass Data for SMM'!L7,0)","v":0},-0.14667814333591822,-0.14667814333591822]
[null,null,4,"High Grade Paper (Office Type Paper)",{"$f":"IFERROR('6 LCI Factors'!E98*'7 Mass Data for SMM'!E8,0)","v":0},{"$f":"IFERROR('6 LCI Factors'!F98*'7 Mass Data for SMM'!F8,0)","v":0},{"$f":"IFERROR('6 LCI Factors'!E98*'7 Mass Data for SMM'!G8,0)","v":0},{"$f":"IFERROR('6 LCI Factors'!G98*'7 Mass Data for SMM'!G8,0)","v":5.1074260774516617E-6},{"$f":"IFERROR('6 LCI Factors'!H98*'7 Mass Data for SMM'!H8,0)","v":5.7415927852968519E-4},{"$f":"IFERROR('6 LCI Factors'!I98*'7 Mass Data for SMM'!I8,0)","v":0},{"$f":"IFERROR('6 LCI Factors'!J98*'7 Mass Data for SMM'!J8,0)","v":0},{"$f":"IFERROR('6 LCI Factors'!K98*'7 Mass Data for SMM'!K8,0)","v":-1.3386015858315719E-3},{"$f":"IFERROR('6 LCI Factors'!L98*'7 Mass Data for SMM'!L8,0)","v":0},-7.5933488122443497E-4,-7.5933488122443497E-4]
[null,null,5,"Magazines/third-class mail",{"$f":"IFERROR('6 LCI Factors'!E99*'7 Mass Data for SMM'!E9,0)","v":0},{"$f":"IFERROR('6 LCI Factors'!F99*'7 Mass Data for SMM'!F9,0)","v":0},{"$f":"IFERROR('6 LCI Factors'!E99*'7 Mass Data for SMM'!G9,0)","v":0},{"$f":"IFERROR('6 LCI Factors'!G99*'7 Mass Data for SMM'!G9,0)","v":1.1749906694652014E-5},{"$f":"IFERROR('6 LCI Factors'!H99*'7 Mass Data for SMM'!H9,0)","v":3.6100752687204038E-5},{"$f":"IFERROR('6 LCI Factors'!I99*'7 Mass Data for SMM'!I9,0)","v":0},{"$f":"IFERROR('6 LCI Factors'!J99*'7 Mass Data for SMM'!J9,0)","v":0},{"$f":"IFERROR('6 LCI Factors'!K99*'7 Mass Data for SMM'!K9,0)","v":-3.5264913866439565E-3},{"$f":"IFERROR('6 LCI Factors'!L99*'7 Mass Data for SMM'!L9,0)","v":0},-3.4786407272621007E-3,-3.4786407272621007E-3]
[null,null,6,"Books",{"$f":"IFERROR('6 LCI Factors'!E100*'7 Mass Data for SMM'!E10,0)","v":0},{"$f":"IFERROR('6 LCI Factors'!F100*'7 Mass Data for SMM'!F10,0)","v":0},{"$f":"IFERROR('6 LCI Factors'!E100*'7 Mass Data for SMM'!G10,0)","v":0},{"$f":"IFERROR('6 LCI Factors'!G100*'7 Mass Data for SMM'!G10,0)","v":1.1504848977635057E-6},{"$f":"IFERROR('6 LCI Factors'!H100*'7 Mass Data for SMM'!H10,0)","v":0},{"$f":"IFERROR('6 LCI Factors'!I100*'7 Mass Data for SMM'!I10,0)","v":0},{"$f":"IFERROR('6 LCI Factors'!J100*'7 Mass Data for SMM'!J10,0)","v":0},{"$f":"IFERROR('6 LCI Factors'!K100*'7 Mass Data for SMM'!K10,0)","v":-2.1698830470887124E-4},{"$f":"IFERROR('6 LCI Factors'!L100*'7 Mass Data for SMM'!L10,0)","v":0},-2.1583781981110773E-4,-2.1583781981110773E-4]
[null,null,7,"Mixed Paper",{"$f":"IFERROR('6 LCI Factors'!E101*'7 Mass Data for SMM'!E11,0)","v":0},{"$f":"IFERROR('6 LCI Factors'!F101*'7 Mass Data for SMM'!F11,0)","v":0},{"$f":"IFERROR('6 LCI Factors'!E101*'7 Mass Data for SMM'!G11,0)","v":0},{"$f":"IFERROR('6 LCI Factors'!G101*'7 Mass Data for SMM'!G11,0)","v":3.8186159253897589E-5},{"$f":"IFERROR('6 LCI Factors'!H101*'7 Mass Data for SMM'!H11,0)","v":-1.1479551234289044E-3},{"$f":"IFERROR('6 LCI Factors'!I101*'7 Mass Data for SMM'!I11,0)","v":0},{"$f":"IFERROR('6 LCI Factors'!J101*'7 Mass Data for SMM'!J11,0)","v":0},{"$f":"IFERROR('6 LCI Factors'!K101*'7 Mass Data for SMM'!K11,0)","v":-1.7824612748903328E-2},{"$f":"IFERROR('6 LCI Factors'!L101*'7 Mass Data for SMM'!L11,0)","v":0},-1.8934381713078336E-2,-1.8934381713078336E-2]
[null,"Plastic",8,"HDPE",{"$f":"IFERROR('6 LCI Factors'!E102*'7 Mass Data for SMM'!E12,0)","v":0},{"$f":"IFERROR('6 LCI Factors'!F102*'7 Mass Data for SMM'!F12,0)","v":0},{"$f":"IFERROR('6 LCI Factors'!E102*'7 Mass Data for SMM'!G12,0)","v":0},{"$f":"IFERROR('6 LCI Factors'!G102*'7 Mass Data for SMM'!G12,0)","v":1.6942485329784445E-6},{"$f":"IFERROR('6 LCI Factors'!H102*'7 Mass Data for SMM'!H12,0)","v":1.2786706327982868E-4},{"$f":"IFERROR('6 LCI Factors'!I102*'7 Mass Data for SMM'!I12,0)","v":0},{"$f":"IFERROR('6 LCI Factors'!J102*'7 Mass Data for SMM'!J12,0)","v":0},{"$f":"IFERROR('6 LCI Factors'!K102*'7 Mass Data for SMM'!K12,0)","v":3.912286723306365E-7},{"$f":"IFERROR('6 LCI Factors'!L102*'7 Mass Data for SMM'!L12,0)","v":0},1.2995254048513776E-4,1.2995254048513776E-4]
[null,null,9,"PET",{"$f":"IFERROR('6 LCI Factors'!E103*'7 Mass Data for SMM'!E13,0)","v":0},{"$f":"IFERROR('6 LCI Factors'!F103*'7 Mass Data for SMM'!F13,0)","v":0},{"$f":"IFERROR('6 LCI Factors'!E103*'7 Mass Data for SMM'!G13,0)","v":0},{"$f":"IFERROR('6 LCI Factors'!G103*'7 Mass Data for SMM'!G13,0)","v":2.7875183410513267E-6},{"$f":"IFERROR('6 LCI Factors'!H103*'7 Mass Data for SMM'!H13,0)","v":1.972434528224842E-4},{"$f":"IFERROR('6 LCI Factors'!I103*'7 Mass Data for SMM'!I13,0)","v":0},{"$f":"IFERROR('6 LCI Factors'!J103*'7 Mass Data for SMM'!J13,0)","v":0},{"$f":"IFERROR('6 LCI Factors'!K103*'7 Mass Data for SMM'!K13,0)","v":6.4368189107983956E-7},{"$f":"IFERROR('6 LCI Factors'!L103*'7 Mass Data for SMM'!L13,0)","v":0},2.0067465305461535E-4,2.0067465305461535E-4]
[null,null,10,"Mixed Plastic",{"$f":"IFERROR('6 LCI Factors'!E104*'7 Mass Data for SMM'!E14,0)","v":0},{"$f":"IFERROR('6 LCI Factors'!F104*'7 Mass Data for SMM'!F14,0)","v":0},{"$f":"IFERROR('6 LCI Factors'!E104*'7 Mass Data for SMM'!G14,0)","v":0},{"$f":"IFERROR('6 LCI Factors'!G104*'7 Mass Data for SMM'!G14,0)","v":2.9263718466410796E-5},{"$f":"IFERROR('6 LCI Factors'!H104*'7 Mass Data for SMM'!H14,0)","v":2.9747610750495646E-4},{"$f":"IFERROR('6 LCI Factors'!I104*'7 Mass Data for SMM'!I14,0)","v":0},{"$f":"IFERROR('6 LCI Factors'!J104*'7 Mass Data for SMM'!J14,0)","v":0},{"$f":"IFERROR('6 LCI Factors'!K104*'7 Mass Data for SMM'!K14,0)","v":9.3152673193416449E-6},{"$f":"IFERROR('6 LCI Factors'!L104*'7 Mass Data for SMM'!L14,0)","v":0},3.3605509329070891E-4,3.3605509329070891E-4]
[null,"Glass",11,"Glass",{"$f":"IFERROR('6 LCI Factors'!E105*'7 Mass Data for SMM'!E15,0)","v":0},{"$f":"IFERROR('6 LCI Factors'!F105*'7 Mass Data for SMM'!F15,0)","v":0},{"$f":"IFERROR('6 LCI Factors'!E105*'7 Mass Data for SMM'!G15,0)","v":0},{"$f":"IFERROR('6 LCI Factors'!G105*'7 Mass Data for SMM'!G15,0)","v":9.1460911322009272E-6},{"$f":"IFERROR('6 LCI Factors'!H105*'7 Mass Data for SMM'!H15,0)","v":-2.3204457999507643E-5},{"$f":"IFERROR('6 LCI Factors'!I105*'7 Mass Data for SMM'!I15,0)","v":0},{"$f":"IFERROR('6 LCI Factors'!J105*'7 Mass Data for SMM'!J15,0)","v":0},{"$f":"IFERROR('6 LCI Factors'!K105*'7 Mass Data for SMM'!K15,0)","v":1.297574811660592E-6},{"$f":"IFERROR('6 LCI Factors'!L105*'7 Mass Data for SMM'!L15,0)","v":0},-1.2760792055646124E-5,-1.2760792055646124E-5]
[null,"Metals",12,"Aluminum Cans",{"$f":"IFERROR('6 LCI Factors'!E106*'7 Mass Data for SMM'!E16,0)","v":0},{"$f":"IFERROR('6 LCI Factors'!F106*'7 Mass Data for SMM'!F16,0)","v":0},{"$f":"IFERROR('6 LCI Factors'!E106*'7 Mass Data for SMM'!G16,0)","v":0},{"$f":"IFERROR('6 LCI Factors'!G106*'7 Mass Data for SMM'!G16,0)","v":1.3324933595751501E-6},{"$f":"IFERROR('6 LCI Factors'!H106*'7 Mass Data for SMM'!H16,0)","v":-1.5219077030204542E-3},{"$f":"IFERROR('6 LCI Factors'!I106*'7 Mass Data for SMM'!I16,0)","v":0},{"$f":"IFERROR('6 LCI Factors'!J106*'7 Mass Data for SMM'!J16,0)","v":0},{"$f":"IFERROR('6 LCI Factors'!K106*'7 Mass Data for SMM'!K16,0)","v":2.6619466696202425E-7},{"$f":"IFERROR('6 LCI Factors'!L106*'7 Mass Data for SMM'!L16,0)","v":0},-1.520309014993917E-3,-1.520309014993917E-3]
[null,null,13,"Steel/Tin Cans",{"$f":"IFERROR('6 LCI Factors'!E107*'7 Mass Data for SMM'!E17,0)","v":0},{"$f":"IFERROR('6 LCI Factors'!F107*'7 Mass Data for SMM'!F17,0)","v":0},{"$f":"IFERROR('6 LCI Factors'!E107*'7 Mass Data for SMM'!G17,0)","v":0},{"$f":"IFERROR('6 LCI Factors'!G107*'7 Mass Data for SMM'!G17,0)","v":1.6585418710876999E-6},{"$f":"IFERROR('6 LCI Factors'!H107*'7 Mass Data for SMM'!H17,0)","v":2.0684621888724958E-3},{"$f":"IFERROR('6 LCI Factors'!I107*'7 Mass Data for SMM'!I17,0)","v":0},{"$f":"IFERROR('6 LCI Factors'!J107*'7 Mass Data for SMM'!J17,0)","v":0},{"$f":"IFERROR('6 LCI Factors'!K107*'7 Mass Data for SMM'!K17,0)","v":4.0839880319272729E-7},{"$f":"IFERROR('6 LCI Factors'!L107*'7 Mass Data for SMM'!L17,0)","v":0},2.0705291295467763E-3,2.0705291295467763E-3]
[null,null,14,"Mixed Metals",{"$f":"IFERROR('6 LCI Factors'!E108*'7 Mass Data for SMM'!E18,0)","v":0},{"$f":"IFERROR('6 LCI Factors'!F108*'7 Mass Data for SMM'!F18,0)","v":0},{"$f":"IFERROR('6 LCI Factors'!E108*'7 Mass Data for SMM'!G18,0)","v":0},{"$f":"IFERROR('6 LCI Factors'!G108*'7 Mass Data for SMM'!G18,0)","v":2.317150410873049E-5},{"$f":"IFERROR('6 LCI Factors'!H108*'7 Mass Data for SMM'!H18,0)","v":1.9321894268433056E-2},{"$f":"IFERROR('6 LCI Factors'!I108*'7 Mass Data for SMM'!I18,0)","v":0},{"$f":"IFERROR('6 LCI Factors'!J108*'7 Mass Data for SMM'!J18,0)","v":0},{"$f":"IFERROR('6 LCI Factors'!K108*'7 Mass Data for SMM'!K18,0)","v":1.1255931330061821E-6},{"$f":"IFERROR('6 LCI Factors'!L108*'7 Mass Data for SMM'!L18,0)","v":0},1.9346191365674791E-2,1.9346191365674791E-2]
[null,"Organic",15,"Yard Waste",{"$f":"IFERROR('6 LCI Factors'!E109*'7 Mass Data for SMM'!E19,0)","v":0},{"$f":"IFERROR('6 LCI Factors'!F109*'7 Mass Data for SMM'!F19,0)","v":0},{"$f":"IFERROR('6 LCI Factors'!E109*'7 Mass Data for SMM'!G19,0)","v":0},{"$f":"IFERROR('6 LCI Factors'!G109*'7 Mass Data for SMM'!G19,0)","v":1.8515945903872067E-4},{"$f":"IFERROR('6 LCI Factors'!H109*'7 Mass Data for SMM'!H19,0)","v":0},{"$f":"IFERROR('6 LCI Factors'!I109*'7 Mass Data for SMM'!I19,0)","v":6.9481625050168807E-3},{"$f":"IFERROR('6 LCI Factors'!J109*'7 Mass Data for SMM'!J19,0)","v":0},{"$f":"IFERROR('6 LCI Factors'!K109*'7 Mass Data for SMM'!K19,0)","v":-2.5325151345472049E-4},{"$f":"IFERROR('6 LCI Factors'!L109*'7 Mass Data for SMM'!L19,0)","v":-63.440293465175252},-63.433413394724653,-63.433413394724653]
[null,null,16,"Food Waste",{"$f":"IFERROR('6 LCI Factors'!E110*'7 Mass Data for SMM'!E20,0)","v":0},{"$f":"IFERROR('6 LCI Factors'!F110*'7 Mass Data for SMM'!F20,0)","v":0},{"$f":"IFERROR('6 LCI Factors'!E110*'7 Mass Data for SMM'!G20,0)","v":0},{"$f":"IFERROR('6 LCI Factors'!G110*'7 Mass Data for SMM'!G20,0)","v":3.4605718535585406E-5},{"$f":"IFERROR('6 LCI Factors'!H110*'7 Mass Data for SMM'!H20,0)","v":0},{"$f":"IFERROR('6 LCI Factors'!I110*'7 Mass Data for SMM'!I20,0)","v":3.5622416279779912E-5},{"$f":"IFERROR('6 LCI Factors'!J110*'7 Mass Data for SMM'!J20,0)","v":0},{"$f":"IFERROR('6 LCI Factors'!K110*'7 Mass Data for SMM'!K20,0)","v":-9.1663597033757316E-3},{"$f":"IFERROR('6 LCI Factors'!L110*'7 Mass Data for SMM'!L20,0)","v":0},-9.0961315685603658E-3,-9.0961315685603658E-3]
[null,"Other ",17,"Tires",{"$f":"IFERROR('6 LCI Factors'!E111*'7 Mass Data for SMM'!E21,0)","v":0},{"$f":"IFERROR('6 LCI Factors'!F111*'7 Mass Data for SMM'!F21,0)","v":0},{"$f":"IFERROR('6 LCI Factors'!E111*'7 Mass Data for SMM'!G21,0)","v":0},{"$f":"IFERROR('6 LCI Factors'!G111*'7 Mass Data for SMM'!G21,0)","v":0},{"$f":"IFERROR('6 LCI Factors'!H111*'7 Mass Data for SMM'!H21,0)","v":0},{"$f":"IFERROR('6 LCI Factors'!I111*'7 Mass Data for SMM'!I21,0)","v":0},{"$f":"IFERROR('6 LCI Factors'!J111*'7 Mass Data for SMM'!J21,0)","v":0},{"$f":"IFERROR('6 LCI Factors'!K111*'7 Mass Data for SMM'!K21,0)","v":0},{"$f":"IFERROR('6 LCI Factors'!L111*'7 Mass Data for SMM'!L21,0)","v":0},0,0]
[null,null,18,"Clothing and Footwear",{"$f":"IFERROR('6 LCI Factors'!E112*'7 Mass Data for SMM'!E22,0)","v":0},{"$f":"IFERROR('6 LCI Factors'!F112*'7 Mass Data for SMM'!F22,0)","v":0},{"$f":"IFERROR('6 LCI Factors'!E112*'7 Mass Data for SMM'!G22,0)","v":0},{"$f":"IFERROR('6 LCI Factors'!G112*'7 Mass Data for SMM'!G22,0)","v":0},{"$f":"IFERROR('6 LCI Factors'!H112*'7 Mass Data for SMM'!H22,0)","v":0},{"$f":"IFERROR('6 LCI Factors'!I112*'7 Mass Data for SMM'!I22,0)","v":0},{"$f":"IFERROR('6 LCI Factors'!J112*'7 Mass Data for SMM'!J22,0)","v":0},{"$f":"IFERROR('6 LCI Factors'!K112*'7 Mass Data for SMM'!K22,0)","v":0},{"$f":"IFERROR('6 LCI Factors'!L112*'7 Mass Data for SMM'!L22,0)","v":0},0,0]
[null,null,19,"Furniture",{"$f":"IFERROR('6 LCI Factors'!E113*'7 Mass Data for SMM'!E23,0)","v":0},{"$f":"IFERROR('6 LCI Factors'!F113*'7 Mass Data for SMM'!F23,0)","v":0},{"$f":"IFERROR('6 LCI Factors'!E113*'7 Mass Data for SMM'!G23,0)","v":0},{"$f":"IFERROR('6 LCI Factors'!G113*'7 Mass Data for SMM'!G23,0)","v":0},{"$f":"IFERROR('6 LCI Factors'!H113*'7 Mass Data for SMM'!H23,0)","v":0},{"$f":"IFERROR('6 LCI Factors'!I113*'7 Mass Data for SMM'!I23,0)","v":0},{"$f":"IFERROR('6 LCI Factors'!J113*'7 Mass Data for SMM'!J23,0)","v":0},{"$f":"IFERROR('6 LCI Factors'!K113*'7 Mass Data for SMM'!K23,0)","v":0},{"$f":"IFERROR('6 LCI Factors'!L113*'7 Mass Data for SMM'!L23,0)","v":0},0,0]
[null,null,20,"Electronics",{"$f":"IFERROR('6 LCI Factors'!E114*'7 Mass Data for SMM'!E24,0)","v":0},{"$f":"IFERROR('6 LCI Factors'!F114*'7 Mass Data for SMM'!F24,0)","v":0},{"$f":"IFERROR('6 LCI Factors'!E114*'7 Mass Data for SMM'!G24,0)","v":0},{"$f":"IFERROR('6 LCI Factors'!G114*'7 Mass Data for SMM'!G24,0)","v":0},{"$f":"IFERROR('6 LCI Factors'!H114*'7 Mass Data for SMM'!H24,0)","v":0},{"$f":"IFERROR('6 LCI Factors'!I114*'7 Mass Data for SMM'!I24,0)","v":0},{"$f":"IFERROR('6 LCI Factors'!J114*'7 Mass Data for SMM'!J24,0)","v":0},{"$f":"IFERROR('6 LCI Factors'!K114*'7 Mass Data for SMM'!K24,0)","v":0},{"$f":"IFERROR('6 LCI Factors'!L114*'7 Mass Data for SMM'!L24,0)","v":0},0,0]
[null,"C&D Debris",21,"Wood Products",{"$f":"IFERROR('6 LCI Factors'!E115*'7 Mass Data for SMM'!E25,0)","v":0},{"$f":"IFERROR('6 LCI Factors'!F115*'7 Mass Data for SMM'!F25,0)","v":0},{"$f":"IFERROR('6 LCI Factors'!E115*'7 Mass Data for SMM'!G25,0)","v":0},{"$f":"IFERROR('6 LCI Factors'!G115*'7 Mass Data for SMM'!G25,0)","v":0},{"$f":"IFERROR('6 LCI Factors'!H115*'7 Mass Data for SMM'!H25,0)","v":0},{"$f":"IFERROR('6 LCI Factors'!I115*'7 Mass Data for SMM'!I25,0)","v":0},{"$f":"IFERROR('6 LCI Factors'!J115*'7 Mass Data for SMM'!J25,0)","v":0},{"$f":"IFERROR('6 LCI Factors'!K115*'7 Mass Data for SMM'!K25,0)","v":0},{"$f":"IFERROR('6 LCI Factors'!L115*'7 Mass Data for SMM'!L25,0)","v":0},0,0]
[null,null,22,"Asphalt Shingles",{"$f":"IFERROR('6 LCI Factors'!E116*'7 Mass Data for SMM'!E26,0)","v":0},{"$f":"IFERROR('6 LCI Factors'!F116*'7 Mass Data for SMM'!F26,0)","v":0},{"$f":"IFERROR('6 LCI Factors'!E116*'7 Mass Data for SMM'!G26,0)","v":0},{"$f":"IFERROR('6 LCI Factors'!G116*'7 Mass Data for SMM'!G26,0)","v":0},{"$f":"IFERROR('6 LCI Factors'!H116*'7 Mass Data for SMM'!H26,0)","v":0},{"$f":"IFERROR('6 LCI Factors'!I116*'7 Mass Data for SMM'!I26,0)","v":0},{"$f":"IFERROR('6 LCI Factors'!J116*'7 Mass Data for SMM'!J26,0)","v":0},{"$f":"IFERROR('6 LCI Factors'!K116*'7 Mass Data for SMM'!K26,0)","v":0},{"$f":"IFERROR('6 LCI Factors'!L116*'7 Mass Data for SMM'!L26,0)","v":0},0,0]
[null,null,23,"Gypsum Drywall",{"$f":"IFERROR('6 LCI Factors'!E117*'7 Mass Data for SMM'!E27,0)","v":0},{"$f":"IFERROR('6 LCI Factors'!F117*'7 Mass Data for SMM'!F27,0)","v":0},{"$f":"IFERROR('6 LCI Factors'!E117*'7 Mass Data for SMM'!G27,0)","v":0},{"$f":"IFERROR('6 LCI Factors'!G117*'7 Mass Data for SMM'!G27,0)","v":0},{"$f":"IFERROR('6 LCI Factors'!H117*'7 Mass Data for SMM'!H27,0)","v":0},{"$f":"IFERROR('6 LCI Factors'!I117*'7 Mass Data for SMM'!I27,0)","v":0},{"$f":"IFERROR('6 LCI Factors'!J117*'7 Mass Data for SMM'!J27,0)","v":0},{"$f":"IFERROR('6 LCI Factors'!K117*'7 Mass Data for SMM'!K27,0)","v":0},{"$f":"IFERROR('6 LCI Factors'!L117*'7 Mass Data for SMM'!L27,0)","v":0},0,0]
[null,null,24,"Concrete",{"$f":"IFERROR('6 LCI Factors'!E118*'7 Mass Data for SMM'!E28,0)","v":0},{"$f":"IFERROR('6 LCI Factors'!F118*'7 Mass Data for SMM'!F28,0)","v":0},{"$f":"IFERROR('6 LCI Factors'!E118*'7 Mass Data for SMM'!G28,0)","v":0},{"$f":"IFERROR('6 LCI Factors'!G118*'7 Mass Data for SMM'!G28,0)","v":0},{"$f":"IFERROR('6 LCI Factors'!H118*'7 Mass Data for SMM'!H28,0)","v":0},{"$f":"IFERROR('6 LCI Factors'!I118*'7 Mass Data for SMM'!I28,0)","v":0},{"$f":"IFERROR('6 LCI Factors'!J118*'7 Mass Data for SMM'!J28,0)","v":0},{"$f":"IFERROR('6 LCI Factors'!K118*'7 Mass Data for SMM'!K28,0)","v":0},{"$f":"IFERROR('6 LCI Factors'!L118*'7 Mass Data for SMM'!L28,0)","v":0},0,0]
[null,null,25,"Reclaimed Asphalt Pavement",{"$f":"IFERROR('6 LCI Factors'!E119*'7 Mass Data for SMM'!E29,0)","v":0},{"$f":"IFERROR('6 LCI Factors'!F119*'7 Mass Data for SMM'!F29,0)","v":0},{"$f":"IFERROR('6 LCI Factors'!E119*'7 Mass Data for SMM'!G29,0)","v":0},{"$f":"IFERROR('6 LCI Factors'!G119*'7 Mass Data for SMM'!G29,0)","v":0},{"$f":"IFERROR('6 LCI Factors'!H119*'7 Mass Data for SMM'!H29,0)","v":0},{"$f":"IFERROR('6 LCI Factors'!I119*'7 Mass Data for SMM'!I29,0)","v":0},{"$f":"IFERROR('6 LCI Factors'!J119*'7 Mass Data for SMM'!J29,0)","v":0},{"$f":"IFERROR('6 LCI Factors'!K119*'7 Mass Data for SMM'!K29,0)","v":0},{"$f":"IFERROR('6 LCI Factors'!L119*'7 Mass Data for SMM'!L29,0)","v":0},0,0]
[null,"Total",null,null,{"$f":"SUMIF(E98:E122,\"<>#value!\")","v":0},0,{"$f":"SUMIF(G98:G122,\"<>#value!\")","v":0},{"$f":"SUMIF(H98:H122,\"<>#value!\")","v":4.6126280950098349E-4},{"$f":"SUMIF(I98:I122,\"<>#value!\")","v":-0.12530092147372643},6.9837849212966603E-3,0,-7.9051944936296553E-2,-63.440293465175252,-63.63720128385448,-63.63720128385448]
[]
[null,"Table 5."]
[null,"Marine Ecotoxicity (CTUe): Release of toxic materials to aquatic ecosystem. The units are expressed as comparative toxic units (CTUe) which is interpreted as the potentially affected fraction of species over time and volume per kg of substance emitted.\n\n"]
[null,"Material Category","Item No.","Material Type","Source Reduced/ Generated","Donated","Produced","Collection","Recycling","Composting","Anaerobic Digestion","Landfill","Combustion","Lifecycle Total","Waste Management Total"]
[null,"MSW ",1,"Mixed MSW",{"$f":"IFERROR('6 LCI Factors'!E125*'7 Mass Data for SMM'!E5,0)","v":0},{"$f":"IFERROR('6 LCI Factors'!F125*'7 Mass Data for SMM'!F5,0)","v":0},{"$f":"IFERROR('6 LCI Factors'!E125*'7 Mass Data for SMM'!G5,0)","v":0},{"$f":"IFERROR('6 LCI Factors'!G125*'7 Mass Data for SMM'!G5,0)","v":2060.1263274671496},{"$f":"IFERROR('6 LCI Factors'!H125*'7 Mass Data for SMM'!H5,0)","v":0},{"$f":"IFERROR('6 LCI Factors'!I125*'7 Mass Data for SMM'!I5,0)","v":0},{"$f":"IFERROR('6 LCI Factors'!J125*'7 Mass Data for SMM'!J5,0)","v":0},{"$f":"IFERROR('6 LCI Factors'!K125*'7 Mass Data for SMM'!K5,0)","v":-1877244.6121855429},{"$f":"IFERROR('6 LCI Factors'!L125*'7 Mass Data for SMM'!L5,0)","v":0},{"$f":"SUMIF(E128:M128,\"<>#value!\")","v":-1875184.4858580758},{"$f":"SUMIF(H128:M128,\"<>#value!\")","v":-1875184.4858580758}]
[null,"Paper",2,"Newspaper",{"$f":"IFERROR('6 LCI Factors'!E126*'7 Mass Data for SMM'!E6,0)","v":0},{"$f":"IFERROR('6 LCI Factors'!F126*'7 Mass Data for SMM'!F6,0)","v":0},{"$f":"IFERROR('6 LCI Factors'!E126*'7 Mass Data for SMM'!G6,0)","v":0},{"$f":"IFERROR('6 LCI Factors'!G126*'7 Mass Data for SMM'!G6,0)","v":144.10479977472832},{"$f":"IFERROR('6 LCI Factors'!H126*'7 Mass Data for SMM'!H6,0)","v":-300119.06529294292},{"$f":"IFERROR('6 LCI Factors'!I126*'7 Mass Data for SMM'!I6,0)","v":0},{"$f":"IFERROR('6 LCI Factors'!J126*'7 Mass Data for SMM'!J6,0)","v":0},{"$f":"IFERROR('6 LCI Factors'!K126*'7 Mass Data for SMM'!K6,0)","v":-4014.1771384320887},{"$f":"IFERROR('6 LCI Factors'!L126*'7 Mass Data for SMM'!L6,0)","v":0},{"$f":"SUMIF(E129:M129,\"<>#value!\")","v":-303989.13763160032},{"$f":"SUMIF(H129:M129,\"<>#value!\")","v":-303989.13763160032}]
[null,null,3,"Corrugated Cardboard (OCC)",{"$f":"IFERROR('6 LCI Factors'!E127*'7 Mass Data for SMM'!E7,0)","v":0},{"$f":"IFERROR('6 LCI Factors'!F127*'7 Mass Data for SMM'!F7,0)","v":0},{"$f":"IFERROR('6 LCI Factors'!E127*'7 Mass Data for SMM'!G7,0)","v":0},{"$f":"IFERROR('6 LCI Factors'!G127*'7 Mass Data for SMM'!G7,0)","v":1705.4842879973985},{"$f":"IFERROR('6 LCI Factors'!H127*'7 Mass Data for SMM'!H7,0)","v":17080208.103067357},{"$f":"IFERROR('6 LCI Factors'!I127*'7 Mass Data for SMM'!I7,0)","v":0},{"$f":"IFERROR('6 LCI Factors'!J127*'7 Mass Data for SMM'!J7,0)","v":0},{"$f":"IFERROR('6 LCI Factors'!K127*'7 Mass Data for SMM'!K7,0)","v":-455108.77420143352},{"$f":"IFERROR('6 LCI Factors'!L127*'7 Mass Data for SMM'!L7,0)","v":0},16626804.813153919,16626804.813153919]
[null,null,4,"High Grade Paper (Office Type Paper)",{"$f":"IFERROR('6 LCI Factors'!E128*'7 Mass Data for SMM'!E8,0)","v":0},{"$f":"IFERROR('6 LCI Factors'!F128*'7 Mass Data for SMM'!F8,0)","v":0},{"$f":"IFERROR('6 LCI Factors'!E128*'7 Mass Data for SMM'!G8,0)","v":0},{"$f":"IFERROR('6 LCI Factors'!G128*'7 Mass Data for SMM'!G8,0)","v":171.77343330729329},{"$f":"IFERROR('6 LCI Factors'!H128*'7 Mass Data for SMM'!H8,0)","v":55839.341632526128},{"$f":"IFERROR('6 LCI Factors'!I128*'7 Mass Data for SMM'!I8,0)","v":0},{"$f":"IFERROR('6 LCI Factors'!J128*'7 Mass Data for SMM'!J8,0)","v":0},{"$f":"IFERROR('6 LCI Factors'!K128*'7 Mass Data for SMM'!K8,0)","v":-66953.020017522038},{"$f":"IFERROR('6 LCI Factors'!L128*'7 Mass Data for SMM'!L8,0)","v":0},-10941.904951688615,-10941.904951688615]
[null,null,5,"Magazines/third-class mail",{"$f":"IFERROR('6 LCI Factors'!E129*'7 Mass Data for SMM'!E9,0)","v":0},{"$f":"IFERROR('6 LCI Factors'!F129*'7 Mass Data for SMM'!F9,0)","v":0},{"$f":"IFERROR('6 LCI Factors'!E129*'7 Mass Data for SMM'!G9,0)","v":0},{"$f":"IFERROR('6 LCI Factors'!G129*'7 Mass Data for SMM'!G9,0)","v":395.17396500191023},{"$f":"IFERROR('6 LCI Factors'!H129*'7 Mass Data for SMM'!H9,0)","v":1665.4919471609958},{"$f":"IFERROR('6 LCI Factors'!I129*'7 Mass Data for SMM'!I9,0)","v":0},{"$f":"IFERROR('6 LCI Factors'!J129*'7 Mass Data for SMM'!J9,0)","v":0},{"$f":"IFERROR('6 LCI Factors'!K129*'7 Mass Data for SMM'!K9,0)","v":-176534.22970654583},{"$f":"IFERROR('6 LCI Factors'!L129*'7 Mass Data for SMM'!L9,0)","v":0},-174473.56379438291,-174473.56379438291]
[null,null,6,"Books",{"$f":"IFERROR('6 LCI Factors'!E130*'7 Mass Data for SMM'!E10,0)","v":0},{"$f":"IFERROR('6 LCI Factors'!F130*'7 Mass Data for SMM'!F10,0)","v":0},{"$f":"IFERROR('6 LCI Factors'!E130*'7 Mass Data for SMM'!G10,0)","v":0},{"$f":"IFERROR('6 LCI Factors'!G130*'7 Mass Data for SMM'!G10,0)","v":38.693216085788379},{"$f":"IFERROR('6 LCI Factors'!H130*'7 Mass Data for SMM'!H10,0)","v":0},{"$f":"IFERROR('6 LCI Factors'!I130*'7 Mass Data for SMM'!I10,0)","v":0},{"$f":"IFERROR('6 LCI Factors'!J130*'7 Mass Data for SMM'!J10,0)","v":0},{"$f":"IFERROR('6 LCI Factors'!K130*'7 Mass Data for SMM'!K10,0)","v":-10829.8691066066},{"$f":"IFERROR('6 LCI Factors'!L130*'7 Mass Data for SMM'!L10,0)","v":0},-10791.175890520812,-10791.175890520812]
[null,null,7,"Mixed Paper",{"$f":"IFERROR('6 LCI Factors'!E131*'7 Mass Data for SMM'!E11,0)","v":0},{"$f":"IFERROR('6 LCI Factors'!F131*'7 Mass Data for SMM'!F11,0)","v":0},{"$f":"IFERROR('6 LCI Factors'!E131*'7 Mass Data for SMM'!G11,0)","v":0},{"$f":"IFERROR('6 LCI Factors'!G131*'7 Mass Data for SMM'!G11,0)","v":1284.2804928336504},{"$f":"IFERROR('6 LCI Factors'!H131*'7 Mass Data for SMM'!H11,0)","v":88869.518307106162},{"$f":"IFERROR('6 LCI Factors'!I131*'7 Mass Data for SMM'!I11,0)","v":0},{"$f":"IFERROR('6 LCI Factors'!J131*'7 Mass Data for SMM'!J11,0)","v":0},{"$f":"IFERROR('6 LCI Factors'!K131*'7 Mass Data for SMM'!K11,0)","v":-891553.91184863879},{"$f":"IFERROR('6 LCI Factors'!L131*'7 Mass Data for SMM'!L11,0)","v":0},-801400.11304869899,-801400.11304869899]
[null,"Plastic",8,"HDPE",{"$f":"IFERROR('6 LCI Factors'!E132*'7 Mass Data for SMM'!E12,0)","v":0},{"$f":"IFERROR('6 LCI Factors'!F132*'7 Mass Data for SMM'!F12,0)","v":0},{"$f":"IFERROR('6 LCI Factors'!E132*'7 Mass Data for SMM'!G12,0)","v":0},{"$f":"IFERROR('6 LCI Factors'!G132*'7 Mass Data for SMM'!G12,0)","v":56.981125712299978},{"$f":"IFERROR('6 LCI Factors'!H132*'7 Mass Data for SMM'!H12,0)","v":5106.1434549771166},{"$f":"IFERROR('6 LCI Factors'!I132*'7 Mass Data for SMM'!I12,0)","v":0},{"$f":"IFERROR('6 LCI Factors'!J132*'7 Mass Data for SMM'!J12,0)","v":0},{"$f":"IFERROR('6 LCI Factors'!K132*'7 Mass Data for SMM'!K12,0)","v":13.911632896775155},{"$f":"IFERROR('6 LCI Factors'!L132*'7 Mass Data for SMM'!L12,0)","v":0},5177.0362135861915,5177.0362135861915]
[null,null,9,"PET",{"$f":"IFERROR('6 LCI Factors'!E133*'7 Mass Data for SMM'!E13,0)","v":0},{"$f":"IFERROR('6 LCI Factors'!F133*'7 Mass Data for SMM'!F13,0)","v":0},{"$f":"IFERROR('6 LCI Factors'!E133*'7 Mass Data for SMM'!G13,0)","v":0},{"$f":"IFERROR('6 LCI Factors'!G133*'7 Mass Data for SMM'!G13,0)","v":93.750078530425611},{"$f":"IFERROR('6 LCI Factors'!H133*'7 Mass Data for SMM'!H13,0)","v":-37634.523128387773},{"$f":"IFERROR('6 LCI Factors'!I133*'7 Mass Data for SMM'!I13,0)","v":0},{"$f":"IFERROR('6 LCI Factors'!J133*'7 Mass Data for SMM'!J13,0)","v":0},{"$f":"IFERROR('6 LCI Factors'!K133*'7 Mass Data for SMM'!K13,0)","v":22.888573369788553},{"$f":"IFERROR('6 LCI Factors'!L133*'7 Mass Data for SMM'!L13,0)","v":0},-37517.884476487554,-37517.884476487554]
[null,null,10,"Mixed Plastic",{"$f":"IFERROR('6 LCI Factors'!E134*'7 Mass Data for SMM'!E14,0)","v":0},{"$f":"IFERROR('6 LCI Factors'!F134*'7 Mass Data for SMM'!F14,0)","v":0},{"$f":"IFERROR('6 LCI Factors'!E134*'7 Mass Data for SMM'!G14,0)","v":0},{"$f":"IFERROR('6 LCI Factors'!G134*'7 Mass Data for SMM'!G14,0)","v":984.20012665587058},{"$f":"IFERROR('6 LCI Factors'!H134*'7 Mass Data for SMM'!H14,0)","v":-21334.181263055525},{"$f":"IFERROR('6 LCI Factors'!I134*'7 Mass Data for SMM'!I14,0)","v":0},{"$f":"IFERROR('6 LCI Factors'!J134*'7 Mass Data for SMM'!J14,0)","v":0},{"$f":"IFERROR('6 LCI Factors'!K134*'7 Mass Data for SMM'!K14,0)","v":331.23998430382863},{"$f":"IFERROR('6 LCI Factors'!L134*'7 Mass Data for SMM'!L14,0)","v":0},-20018.741152095827,-20018.741152095827]
[null,"Glass",11,"Glass",{"$f":"IFERROR('6 LCI Factors'!E135*'7 Mass Data for SMM'!E15,0)","v":0},{"$f":"IFERROR('6 LCI Factors'!F135*'7 Mass Data for SMM'!F15,0)","v":0},{"$f":"IFERROR('6 LCI Factors'!E135*'7 Mass Data for SMM'!G15,0)","v":0},{"$f":"IFERROR('6 LCI Factors'!G135*'7 Mass Data for SMM'!G15,0)","v":307.60219556685524},{"$f":"IFERROR('6 LCI Factors'!H135*'7 Mass Data for SMM'!H15,0)","v":-35593.443955085888},{"$f":"IFERROR('6 LCI Factors'!I135*'7 Mass Data for SMM'!I15,0)","v":0},{"$f":"IFERROR('6 LCI Factors'!J135*'7 Mass Data for SMM'!J15,0)","v":0},{"$f":"IFERROR('6 LCI Factors'!K135*'7 Mass Data for SMM'!K15,0)","v":46.140238976832123},{"$f":"IFERROR('6 LCI Factors'!L135*'7 Mass Data for SMM'!L15,0)","v":0},-35239.701520542199,-35239.701520542199]
[null,"Metals",12,"Aluminum Cans",{"$f":"IFERROR('6 LCI Factors'!E136*'7 Mass Data for SMM'!E16,0)","v":0},{"$f":"IFERROR('6 LCI Factors'!F136*'7 Mass Data for SMM'!F16,0)","v":0},{"$f":"IFERROR('6 LCI Factors'!E136*'7 Mass Data for SMM'!G16,0)","v":0},{"$f":"IFERROR('6 LCI Factors'!G136*'7 Mass Data for SMM'!G16,0)","v":44.814541759867396},{"$f":"IFERROR('6 LCI Factors'!H136*'7 Mass Data for SMM'!H16,0)","v":-342336.98207595327},{"$f":"IFERROR('6 LCI Factors'!I136*'7 Mass Data for SMM'!I16,0)","v":0},{"$f":"IFERROR('6 LCI Factors'!J136*'7 Mass Data for SMM'!J16,0)","v":0},{"$f":"IFERROR('6 LCI Factors'!K136*'7 Mass Data for SMM'!K16,0)","v":9.4655702604673611},{"$f":"IFERROR('6 LCI Factors'!L136*'7 Mass Data for SMM'!L16,0)","v":0},-342282.70196393295,-342282.70196393295]
[null,null,13,"Steel/Tin Cans",{"$f":"IFERROR('6 LCI Factors'!E137*'7 Mass Data for SMM'!E17,0)","v":0},{"$f":"IFERROR('6 LCI Factors'!F137*'7 Mass Data for SMM'!F17,0)","v":0},{"$f":"IFERROR('6 LCI Factors'!E137*'7 Mass Data for SMM'!G17,0)","v":0},{"$f":"IFERROR('6 LCI Factors'!G137*'7 Mass Data for SMM'!G17,0)","v":55.780235907551962},{"$f":"IFERROR('6 LCI Factors'!H137*'7 Mass Data for SMM'!H17,0)","v":3068.5119008021043},{"$f":"IFERROR('6 LCI Factors'!I137*'7 Mass Data for SMM'!I17,0)","v":0},{"$f":"IFERROR('6 LCI Factors'!J137*'7 Mass Data for SMM'!J17,0)","v":0},{"$f":"IFERROR('6 LCI Factors'!K137*'7 Mass Data for SMM'!K17,0)","v":14.522182619319841},{"$f":"IFERROR('6 LCI Factors'!L137*'7 Mass Data for SMM'!L17,0)","v":0},3138.8143193289757,3138.8143193289757]
[null,null,14,"Mixed Metals",{"$f":"IFERROR('6 LCI Factors'!E138*'7 Mass Data for SMM'!E18,0)","v":0},{"$f":"IFERROR('6 LCI Factors'!F138*'7 Mass Data for SMM'!F18,0)","v":0},{"$f":"IFERROR('6 LCI Factors'!E138*'7 Mass Data for SMM'!G18,0)","v":0},{"$f":"IFERROR('6 LCI Factors'!G138*'7 Mass Data for SMM'!G18,0)","v":779.30620145884222},{"$f":"IFERROR('6 LCI Factors'!H138*'7 Mass Data for SMM'!H18,0)","v":-6295763.4767152052},{"$f":"IFERROR('6 LCI Factors'!I138*'7 Mass Data for SMM'!I18,0)","v":0},{"$f":"IFERROR('6 LCI Factors'!J138*'7 Mass Data for SMM'!J18,0)","v":0},{"$f":"IFERROR('6 LCI Factors'!K138*'7 Mass Data for SMM'!K18,0)","v":40.024772121710356},{"$f":"IFERROR('6 LCI Factors'!L138*'7 Mass Data for SMM'!L18,0)","v":0},-6294944.1457416248,-6294944.1457416248]
[null,"Organic",15,"Yard Waste",{"$f":"IFERROR('6 LCI Factors'!E139*'7 Mass Data for SMM'!E19,0)","v":0},{"$f":"IFERROR('6 LCI Factors'!F139*'7 Mass Data for SMM'!F19,0)","v":0},{"$f":"IFERROR('6 LCI Factors'!E139*'7 Mass Data for SMM'!G19,0)","v":0},{"$f":"IFERROR('6 LCI Factors'!G139*'7 Mass Data for SMM'!G19,0)","v":6227.3003086265817},{"$f":"IFERROR('6 LCI Factors'!H139*'7 Mass Data for SMM'!H19,0)","v":0},{"$f":"IFERROR('6 LCI Factors'!I139*'7 Mass Data for SMM'!I19,0)","v":703159.47563095542},{"$f":"IFERROR('6 LCI Factors'!J139*'7 Mass Data for SMM'!J19,0)","v":0},{"$f":"IFERROR('6 LCI Factors'!K139*'7 Mass Data for SMM'!K19,0)","v":-12735.08262172198},{"$f":"IFERROR('6 LCI Factors'!L139*'7 Mass Data for SMM'!L19,0)","v":-2139.6291259772638},694512.06419188273,694512.06419188273]
[null,null,16,"Food Waste",{"$f":"IFERROR('6 LCI Factors'!E140*'7 Mass Data for SMM'!E20,0)","v":0},{"$f":"IFERROR('6 LCI Factors'!F140*'7 Mass Data for SMM'!F20,0)","v":0},{"$f":"IFERROR('6 LCI Factors'!E140*'7 Mass Data for SMM'!G20,0)","v":0},{"$f":"IFERROR('6 LCI Factors'!G140*'7 Mass Data for SMM'!G20,0)","v":1163.8627744739204},{"$f":"IFERROR('6 LCI Factors'!H140*'7 Mass Data for SMM'!H20,0)","v":0},{"$f":"IFERROR('6 LCI Factors'!I140*'7 Mass Data for SMM'!I20,0)","v":2572.6096870898036},{"$f":"IFERROR('6 LCI Factors'!J140*'7 Mass Data for SMM'!J20,0)","v":0},{"$f":"IFERROR('6 LCI Factors'!K140*'7 Mass Data for SMM'!K20,0)","v":-459104.78823029931},{"$f":"IFERROR('6 LCI Factors'!L140*'7 Mass Data for SMM'!L20,0)","v":0},-455368.3157687356,-455368.3157687356]
[null,"Other ",17,"Tires",{"$f":"IFERROR('6 LCI Factors'!E141*'7 Mass Data for SMM'!E21,0)","v":0},{"$f":"IFERROR('6 LCI Factors'!F141*'7 Mass Data for SMM'!F21,0)","v":0},{"$f":"IFERROR('6 LCI Factors'!E141*'7 Mass Data for SMM'!G21,0)","v":0},{"$f":"IFERROR('6 LCI Factors'!G141*'7 Mass Data for SMM'!G21,0)","v":0},{"$f":"IFERROR('6 LCI Factors'!H141*'7 Mass Data for SMM'!H21,0)","v":0},{"$f":"IFERROR('6 LCI Factors'!I141*'7 Mass Data for SMM'!I21,0)","v":0},{"$f":"IFERROR('6 LCI Factors'!J141*'7 Mass Data for SMM'!J21,0)","v":0},{"$f":"IFERROR('6 LCI Factors'!K141*'7 Mass Data for SMM'!K21,0)","v":0},{"$f":"IFERROR('6 LCI Factors'!L141*'7 Mass Data for SMM'!L21,0)","v":0},0,0]
[null,null,18,"Clothing and Footwear",{"$f":"IFERROR('6 LCI Factors'!E142*'7 Mass Data for SMM'!E22,0)","v":0},{"$f":"IFERROR('6 LCI Factors'!F142*'7 Mass Data for SMM'!F22,0)","v":0},{"$f":"IFERROR('6 LCI Factors'!E142*'7 Mass Data for SMM'!G22,0)","v":0},{"$f":"IFERROR('6 LCI Factors'!G142*'7 Mass Data for SMM'!G22,0)","v":0},{"$f":"IFERROR('6 LCI Factors'!H142*'7 Mass Data for SMM'!H22,0)","v":0},{"$f":"IFERROR('6 LCI Factors'!I142*'7 Mass Data for SMM'!I22,0)","v":0},{"$f":"IFERROR('6 LCI Factors'!J142*'7 Mass Data for SMM'!J22,0)","v":0},{"$f":"IFERROR('6 LCI Factors'!K142*'7 Mass Data for SMM'!K22,0)","v":0},{"$f":"IFERROR('6 LCI Factors'!L142*'7 Mass Data for SMM'!L22,0)","v":0},0,0]
[null,null,19,"Furniture",{"$f":"IFERROR('6 LCI Factors'!E143*'7 Mass Data for SMM'!E23,0)","v":0},{"$f":"IFERROR('6 LCI Factors'!F143*'7 Mass Data for SMM'!F23,0)","v":0},{"$f":"IFERROR('6 LCI Factors'!E143*'7 Mass Data for SMM'!G23,0)","v":0},{"$f":"IFERROR('6 LCI Factors'!G143*'7 Mass Data for SMM'!G23,0)","v":0},{"$f":"IFERROR('6 LCI Factors'!H143*'7 Mass Data for SMM'!H23,0)","v":0},{"$f":"IFERROR('6 LCI Factors'!I143*'7 Mass Data for SMM'!I23,0)","v":0},{"$f":"IFERROR('6 LCI Factors'!J143*'7 Mass Data for SMM'!J23,0)","v":0},{"$f":"IFERROR('6 LCI Factors'!K143*'7 Mass Data for SMM'!K23,0)","v":0},{"$f":"IFERROR('6 LCI Factors'!L143*'7 Mass Data for SMM'!L23,0)","v":0},0,0]
[null,null,20,"Electronics",{"$f":"IFERROR('6 LCI Factors'!E144*'7 Mass Data for SMM'!E24,0)","v":0},{"$f":"IFERROR('6 LCI Factors'!F144*'7 Mass Data for SMM'!F24,0)","v":0},{"$f":"IFERROR('6 LCI Factors'!E144*'7 Mass Data for SMM'!G24,0)","v":0},{"$f":"IFERROR('6 LCI Factors'!G144*'7 Mass Data for SMM'!G24,0)","v":0},{"$f":"IFERROR('6 LCI Factors'!H144*'7 Mass Data for SMM'!H24,0)","v":0},{"$f":"IFERROR('6 LCI Factors'!I144*'7 Mass Data for SMM'!I24,0)","v":0},{"$f":"IFERROR('6 LCI Factors'!J144*'7 Mass Data for SMM'!J24,0)","v":0},{"$f":"IFERROR('6 LCI Factors'!K144*'7 Mass Data for SMM'!K24,0)","v":0},{"$f":"IFERROR('6 LCI Factors'!L144*'7 Mass Data for SMM'!L24,0)","v":0},0,0]
[null,"C&D Debris",21,"Wood Products",{"$f":"IFERROR('6 LCI Factors'!E145*'7 Mass Data for SMM'!E25,0)","v":0},{"$f":"IFERROR('6 LCI Factors'!F145*'7 Mass Data for SMM'!F25,0)","v":0},{"$f":"IFERROR('6 LCI Factors'!E145*'7 Mass Data for SMM'!G25,0)","v":0},{"$f":"IFERROR('6 LCI Factors'!G145*'7 Mass Data for SMM'!G25,0)","v":0},{"$f":"IFERROR('6 LCI Factors'!H145*'7 Mass Data for SMM'!H25,0)","v":0},{"$f":"IFERROR('6 LCI Factors'!I145*'7 Mass Data for SMM'!I25,0)","v":0},{"$f":"IFERROR('6 LCI Factors'!J145*'7 Mass Data for SMM'!J25,0)","v":0},{"$f":"IFERROR('6 LCI Factors'!K145*'7 Mass Data for SMM'!K25,0)","v":0},{"$f":"IFERROR('6 LCI Factors'!L145*'7 Mass Data for SMM'!L25,0)","v":0},0,0]
[null,null,22,"Asphalt Shingles",{"$f":"IFERROR('6 LCI Factors'!E146*'7 Mass Data for SMM'!E26,0)","v":0},{"$f":"IFERROR('6 LCI Factors'!F146*'7 Mass Data for SMM'!F26,0)","v":0},{"$f":"IFERROR('6 LCI Factors'!E146*'7 Mass Data for SMM'!G26,0)","v":0},{"$f":"IFERROR('6 LCI Factors'!G146*'7 Mass Data for SMM'!G26,0)","v":0},{"$f":"IFERROR('6 LCI Factors'!H146*'7 Mass Data for SMM'!H26,0)","v":0},{"$f":"IFERROR('6 LCI Factors'!I146*'7 Mass Data for SMM'!I26,0)","v":0},{"$f":"IFERROR('6 LCI Factors'!J146*'7 Mass Data for SMM'!J26,0)","v":0},{"$f":"IFERROR('6 LCI Factors'!K146*'7 Mass Data for SMM'!K26,0)","v":0},{"$f":"IFERROR('6 LCI Factors'!L146*'7 Mass Data for SMM'!L26,0)","v":0},0,0]
[null,null,23,"Gypsum Drywall",{"$f":"IFERROR('6 LCI Factors'!E147*'7 Mass Data for SMM'!E27,0)","v":0},{"$f":"IFERROR('6 LCI Factors'!F147*'7 Mass Data for SMM'!F27,0)","v":0},{"$f":"IFERROR('6 LCI Factors'!E147*'7 Mass Data for SMM'!G27,0)","v":0},{"$f":"IFERROR('6 LCI Factors'!G147*'7 Mass Data for SMM'!G27,0)","v":0},{"$f":"IFERROR('6 LCI Factors'!H147*'7 Mass Data for SMM'!H27,0)","v":0},{"$f":"IFERROR('6 LCI Factors'!I147*'7 Mass Data for SMM'!I27,0)","v":0},{"$f":"IFERROR('6 LCI Factors'!J147*'7 Mass Data for SMM'!J27,0)","v":0},{"$f":"IFERROR('6 LCI Factors'!K147*'7 Mass Data for SMM'!K27,0)","v":0},{"$f":"IFERROR('6 LCI Factors'!L147*'7 Mass Data for SMM'!L27,0)","v":0},0,0]
[null,null,24,"Concrete",{"$f":"IFERROR('6 LCI Factors'!E148*'7 Mass Data for SMM'!E28,0)","v":0},{"$f":"IFERROR('6 LCI Factors'!F148*'7 Mass Data for SMM'!F28,0)","v":0},{"$f":"IFERROR('6 LCI Factors'!E148*'7 Mass Data for SMM'!G28,0)","v":0},{"$f":"IFERROR('6 LCI Factors'!G148*'7 Mass Data for SMM'!G28,0)","v":0},{"$f":"IFERROR('6 LCI Factors'!H148*'7 Mass Data for SMM'!H28,0)","v":0},{"$f":"IFERROR('6 LCI Factors'!I148*'7 Mass Data for SMM'!I28,0)","v":0},{"$f":"IFERROR('6 LCI Factors'!J148*'7 Mass Data for SMM'!J28,0)","v":0},{"$f":"IFERROR('6 LCI Factors'!K148*'7 Mass Data for SMM'!K28,0)","v":0},{"$f":"IFERROR('6 LCI Factors'!L148*'7 Mass Data for SMM'!L28,0)","v":0},0,0]
[null,null,25,"Reclaimed Asphalt Pavement",{"$f":"IFERROR('6 LCI Factors'!E149*'7 Mass Data for SMM'!E29,0)","v":0},{"$f":"IFERROR('6 LCI Factors'!F149*'7 Mass Data for SMM'!F29,0)","v":0},{"$f":"IFERROR('6 LCI Factors'!E149*'7 Mass Data for SMM'!G29,0)","v":0},{"$f":"IFERROR('6 LCI Factors'!G149*'7 Mass Data for SMM'!G29,0)","v":0},{"$f":"IFERROR('6 LCI Factors'!H149*'7 Mass Data for SMM'!H29,0)","v":0},{"$f":"IFERROR('6 LCI Factors'!I149*'7 Mass Data for SMM'!I29,0)","v":0},{"$f":"IFERROR('6 LCI Factors'!J149*'7 Mass Data for SMM'!J29,0)","v":0},{"$f":"IFERROR('6 LCI Factors'!K149*'7 Mass Data for SMM'!K29,0)","v":0},{"$f":"IFERROR('6 LCI Factors'!L149*'7 Mass Data for SMM'!L29,0)","v":0},0,0]
[null,"Total",null,null,{"$f":"SUMIF(E128:E152,\"<>#value!\")","v":0},0,{"$f":"SUMIF(G128:G152,\"<>#value!\")","v":0},{"$f":"SUMIF(H128:H152,\"<>#value!\")","v":15513.234111160134},{"$f":"SUMIF(I128:I152,\"<>#value!\")","v":10201975.437879294},705732.08531804522,0,-3953600.2721021944,-2139.6291259772638,6967480.85608033,6967480.85608033]
[]
[null,"Table 6."]
[null,"Eutrophication Potential (kgNeq.): Enrichment of aquatic ecosystems with nutrients (nitrates and phosphates) that causes undesirable algal growth.The units are expressed as kgNeq. to allow for comparison of nutrients in the water relative to N. "]
[null,"Material Category","Item No.","Material Type","Source Reduced/ Generated","Donated","Produced","Collection","Recycling","Composting","Anaerobic Digestion","Landfill","Combustion","Lifecycle Total","Waste Management Total"]
[null,"MSW ",1,"Mixed MSW",{"$f":"IFERROR('6 LCI Factors'!E155*'7 Mass Data for SMM'!E5,0)","v":0},{"$f":"IFERROR('6 LCI Factors'!F155*'7 Mass Data for SMM'!F5,0)","v":0},{"$f":"IFERROR('6 LCI Factors'!E155*'7 Mass Data for SMM'!G5,0)","v":0},{"$f":"IFERROR('6 LCI Factors'!G155*'7 Mass Data for SMM'!G5,0)","v":183.89551098416587},{"$f":"IFERROR('6 LCI Factors'!H155*'7 Mass Data for SMM'!H5,0)","v":0},{"$f":"IFERROR('6 LCI Factors'!I155*'7 Mass Data for SMM'!I5,0)","v":0},{"$f":"IFERROR('6 LCI Factors'!J155*'7 Mass Data for SMM'!J5,0)","v":0},{"$f":"IFERROR('6 LCI Factors'!K155*'7 Mass Data for SMM'!K5,0)","v":1482.6956008763984},{"$f":"IFERROR('6 LCI Factors'!L155*'7 Mass Data for SMM'!L5,0)","v":0},{"$f":"SUMIF(E158:M158,\"<>#value!\")","v":1666.5911118605643},{"$f":"SUMIF(H158:M158,\"<>#value!\")","v":1666.5911118605643}]
[null,"Paper",2,"Newspaper",{"$f":"IFERROR('6 LCI Factors'!E156*'7 Mass Data for SMM'!E6,0)","v":0},{"$f":"IFERROR('6 LCI Factors'!F156*'7 Mass Data for SMM'!F6,0)","v":0},{"$f":"IFERROR('6 LCI Factors'!E156*'7 Mass Data for SMM'!G6,0)","v":0},{"$f":"IFERROR('6 LCI Factors'!G156*'7 Mass Data for SMM'!G6,0)","v":12.86339844140803},{"$f":"IFERROR('6 LCI Factors'!H156*'7 Mass Data for SMM'!H6,0)","v":451.40204065326685},{"$f":"IFERROR('6 LCI Factors'!I156*'7 Mass Data for SMM'!I6,0)","v":0},{"$f":"IFERROR('6 LCI Factors'!J156*'7 Mass Data for SMM'!J6,0)","v":0},{"$f":"IFERROR('6 LCI Factors'!K156*'7 Mass Data for SMM'!K6,0)","v":25.29295547401917},{"$f":"IFERROR('6 LCI Factors'!L156*'7 Mass Data for SMM'!L6,0)","v":0},{"$f":"SUMIF(E159:M159,\"<>#value!\")","v":489.55839456869404},{"$f":"SUMIF(H159:M159,\"<>#value!\")","v":489.55839456869404}]
[null,null,3,"Corrugated Cardboard (OCC)",{"$f":"IFERROR('6 LCI Factors'!E157*'7 Mass Data for SMM'!E7,0)","v":0},{"$f":"IFERROR('6 LCI Factors'!F157*'7 Mass Data for SMM'!F7,0)","v":0},{"$f":"IFERROR('6 LCI Factors'!E157*'7 Mass Data for SMM'!G7,0)","v":0},{"$f":"IFERROR('6 LCI Factors'!G157*'7 Mass Data for SMM'!G7,0)","v":152.23867606330032},{"$f":"IFERROR('6 LCI Factors'!H157*'7 Mass Data for SMM'!H7,0)","v":-12109.3242984591},{"$f":"IFERROR('6 LCI Factors'!I157*'7 Mass Data for SMM'!I7,0)","v":0},{"$f":"IFERROR('6 LCI Factors'!J157*'7 Mass Data for SMM'!J7,0)","v":0},{"$f":"IFERROR('6 LCI Factors'!K157*'7 Mass Data for SMM'!K7,0)","v":1272.9186193124865},{"$f":"IFERROR('6 LCI Factors'!L157*'7 Mass Data for SMM'!L7,0)","v":0},-10684.167003083314,-10684.167003083314]
[null,null,4,"High Grade Paper (Office Type Paper)",{"$f":"IFERROR('6 LCI Factors'!E158*'7 Mass Data for SMM'!E8,0)","v":0},{"$f":"IFERROR('6 LCI Factors'!F158*'7 Mass Data for SMM'!F8,0)","v":0},{"$f":"IFERROR('6 LCI Factors'!E158*'7 Mass Data for SMM'!G8,0)","v":0},{"$f":"IFERROR('6 LCI Factors'!G158*'7 Mass Data for SMM'!G8,0)","v":15.333216643265748},{"$f":"IFERROR('6 LCI Factors'!H158*'7 Mass Data for SMM'!H8,0)","v":-120.17024825647634},{"$f":"IFERROR('6 LCI Factors'!I158*'7 Mass Data for SMM'!I8,0)","v":0},{"$f":"IFERROR('6 LCI Factors'!J158*'7 Mass Data for SMM'!J8,0)","v":0},{"$f":"IFERROR('6 LCI Factors'!K158*'7 Mass Data for SMM'!K8,0)","v":151.42518563611031},{"$f":"IFERROR('6 LCI Factors'!L158*'7 Mass Data for SMM'!L8,0)","v":0},46.588154022899715,46.588154022899715]
[null,null,5,"Magazines/third-class mail",{"$f":"IFERROR('6 LCI Factors'!E159*'7 Mass Data for SMM'!E9,0)","v":0},{"$f":"IFERROR('6 LCI Factors'!F159*'7 Mass Data for SMM'!F9,0)","v":0},{"$f":"IFERROR('6 LCI Factors'!E159*'7 Mass Data for SMM'!G9,0)","v":0},{"$f":"IFERROR('6 LCI Factors'!G159*'7 Mass Data for SMM'!G9,0)","v":35.274884482939051},{"$f":"IFERROR('6 LCI Factors'!H159*'7 Mass Data for SMM'!H9,0)","v":19.494492418846182},{"$f":"IFERROR('6 LCI Factors'!I159*'7 Mass Data for SMM'!I9,0)","v":0},{"$f":"IFERROR('6 LCI Factors'!J159*'7 Mass Data for SMM'!J9,0)","v":0},{"$f":"IFERROR('6 LCI Factors'!K159*'7 Mass Data for SMM'!K9,0)","v":824.94312362638027},{"$f":"IFERROR('6 LCI Factors'!L159*'7 Mass Data for SMM'!L9,0)","v":0},879.71250052816549,879.71250052816549]
[null,null,6,"Books",{"$f":"IFERROR('6 LCI Factors'!E160*'7 Mass Data for SMM'!E10,0)","v":0},{"$f":"IFERROR('6 LCI Factors'!F160*'7 Mass Data for SMM'!F10,0)","v":0},{"$f":"IFERROR('6 LCI Factors'!E160*'7 Mass Data for SMM'!G10,0)","v":0},{"$f":"IFERROR('6 LCI Factors'!G160*'7 Mass Data for SMM'!G10,0)","v":3.4539186499621413},{"$f":"IFERROR('6 LCI Factors'!H160*'7 Mass Data for SMM'!H10,0)","v":0},{"$f":"IFERROR('6 LCI Factors'!I160*'7 Mass Data for SMM'!I10,0)","v":0},{"$f":"IFERROR('6 LCI Factors'!J160*'7 Mass Data for SMM'!J10,0)","v":0},{"$f":"IFERROR('6 LCI Factors'!K160*'7 Mass Data for SMM'!K10,0)","v":68.212431967430277},{"$f":"IFERROR('6 LCI Factors'!L160*'7 Mass Data for SMM'!L10,0)","v":0},71.666350617392425,71.666350617392425]
[null,null,7,"Mixed Paper",{"$f":"IFERROR('6 LCI Factors'!E161*'7 Mass Data for SMM'!E11,0)","v":0},{"$f":"IFERROR('6 LCI Factors'!F161*'7 Mass Data for SMM'!F11,0)","v":0},{"$f":"IFERROR('6 LCI Factors'!E161*'7 Mass Data for SMM'!G11,0)","v":0},{"$f":"IFERROR('6 LCI Factors'!G161*'7 Mass Data for SMM'!G11,0)","v":114.64025983639905},{"$f":"IFERROR('6 LCI Factors'!H161*'7 Mass Data for SMM'!H11,0)","v":-40.707651207992988},{"$f":"IFERROR('6 LCI Factors'!I161*'7 Mass Data for SMM'!I11,0)","v":0},{"$f":"IFERROR('6 LCI Factors'!J161*'7 Mass Data for SMM'!J11,0)","v":0},{"$f":"IFERROR('6 LCI Factors'!K161*'7 Mass Data for SMM'!K11,0)","v":2923.328532793571},{"$f":"IFERROR('6 LCI Factors'!L161*'7 Mass Data for SMM'!L11,0)","v":0},2997.2611414219768,2997.2611414219768]
[null,"Plastic",8,"HDPE",{"$f":"IFERROR('6 LCI Factors'!E162*'7 Mass Data for SMM'!E12,0)","v":0},{"$f":"IFERROR('6 LCI Factors'!F162*'7 Mass Data for SMM'!F12,0)","v":0},{"$f":"IFERROR('6 LCI Factors'!E162*'7 Mass Data for SMM'!G12,0)","v":0},{"$f":"IFERROR('6 LCI Factors'!G162*'7 Mass Data for SMM'!G12,0)","v":5.0863741167753647},{"$f":"IFERROR('6 LCI Factors'!H162*'7 Mass Data for SMM'!H12,0)","v":-102.00257591828664},{"$f":"IFERROR('6 LCI Factors'!I162*'7 Mass Data for SMM'!I12,0)","v":0},{"$f":"IFERROR('6 LCI Factors'!J162*'7 Mass Data for SMM'!J12,0)","v":0},{"$f":"IFERROR('6 LCI Factors'!K162*'7 Mass Data for SMM'!K12,0)","v":2.2324656236534794},{"$f":"IFERROR('6 LCI Factors'!L162*'7 Mass Data for SMM'!L12,0)","v":0},-94.683736177857796,-94.683736177857796]
[null,null,9,"PET",{"$f":"IFERROR('6 LCI Factors'!E163*'7 Mass Data for SMM'!E13,0)","v":0},{"$f":"IFERROR('6 LCI Factors'!F163*'7 Mass Data for SMM'!F13,0)","v":0},{"$f":"IFERROR('6 LCI Factors'!E163*'7 Mass Data for SMM'!G13,0)","v":0},{"$f":"IFERROR('6 LCI Factors'!G163*'7 Mass Data for SMM'!G13,0)","v":8.3685249619398441},{"$f":"IFERROR('6 LCI Factors'!H163*'7 Mass Data for SMM'!H13,0)","v":-512.69299117397486},{"$f":"IFERROR('6 LCI Factors'!I163*'7 Mass Data for SMM'!I13,0)","v":0},{"$f":"IFERROR('6 LCI Factors'!J163*'7 Mass Data for SMM'!J13,0)","v":0},{"$f":"IFERROR('6 LCI Factors'!K163*'7 Mass Data for SMM'!K13,0)","v":3.67303778080346},{"$f":"IFERROR('6 LCI Factors'!L163*'7 Mass Data for SMM'!L13,0)","v":0},-500.65142843123158,-500.65142843123158]
[null,null,10,"Mixed Plastic",{"$f":"IFERROR('6 LCI Factors'!E164*'7 Mass Data for SMM'!E14,0)","v":0},{"$f":"IFERROR('6 LCI Factors'!F164*'7 Mass Data for SMM'!F14,0)","v":0},{"$f":"IFERROR('6 LCI Factors'!E164*'7 Mass Data for SMM'!G14,0)","v":0},{"$f":"IFERROR('6 LCI Factors'!G164*'7 Mass Data for SMM'!G14,0)","v":87.8538285681649},{"$f":"IFERROR('6 LCI Factors'!H164*'7 Mass Data for SMM'!H14,0)","v":-496.63118241310292},{"$f":"IFERROR('6 LCI Factors'!I164*'7 Mass Data for SMM'!I14,0)","v":0},{"$f":"IFERROR('6 LCI Factors'!J164*'7 Mass Data for SMM'!J14,0)","v":0},{"$f":"IFERROR('6 LCI Factors'!K164*'7 Mass Data for SMM'!K14,0)","v":53.155649205582058},{"$f":"IFERROR('6 LCI Factors'!L164*'7 Mass Data for SMM'!L14,0)","v":0},-355.62170463935598,-355.62170463935598]
[null,"Glass",11,"Glass",{"$f":"IFERROR('6 LCI Factors'!E165*'7 Mass Data for SMM'!E15,0)","v":0},{"$f":"IFERROR('6 LCI Factors'!F165*'7 Mass Data for SMM'!F15,0)","v":0},{"$f":"IFERROR('6 LCI Factors'!E165*'7 Mass Data for SMM'!G15,0)","v":0},{"$f":"IFERROR('6 LCI Factors'!G165*'7 Mass Data for SMM'!G15,0)","v":27.457861287159432},{"$f":"IFERROR('6 LCI Factors'!H165*'7 Mass Data for SMM'!H15,0)","v":-75.006206154142689},{"$f":"IFERROR('6 LCI Factors'!I165*'7 Mass Data for SMM'!I15,0)","v":0},{"$f":"IFERROR('6 LCI Factors'!J165*'7 Mass Data for SMM'!J15,0)","v":0},{"$f":"IFERROR('6 LCI Factors'!K165*'7 Mass Data for SMM'!K15,0)","v":7.4043426927123672},{"$f":"IFERROR('6 LCI Factors'!L165*'7 Mass Data for SMM'!L15,0)","v":0},-40.144002174270888,-40.144002174270888]
[null,"Metals",12,"Aluminum Cans",{"$f":"IFERROR('6 LCI Factors'!E166*'7 Mass Data for SMM'!E16,0)","v":0},{"$f":"IFERROR('6 LCI Factors'!F166*'7 Mass Data for SMM'!F16,0)","v":0},{"$f":"IFERROR('6 LCI Factors'!E166*'7 Mass Data for SMM'!G16,0)","v":0},{"$f":"IFERROR('6 LCI Factors'!G166*'7 Mass Data for SMM'!G16,0)","v":4.0003338370925547},{"$f":"IFERROR('6 LCI Factors'!H166*'7 Mass Data for SMM'!H16,0)","v":-528.38934611459331},{"$f":"IFERROR('6 LCI Factors'!I166*'7 Mass Data for SMM'!I16,0)","v":0},{"$f":"IFERROR('6 LCI Factors'!J166*'7 Mass Data for SMM'!J16,0)","v":0},{"$f":"IFERROR('6 LCI Factors'!K166*'7 Mass Data for SMM'!K16,0)","v":1.5189848935467947},{"$f":"IFERROR('6 LCI Factors'!L166*'7 Mass Data for SMM'!L16,0)","v":0},-522.87002738395404,-522.87002738395404]
[null,null,13,"Steel/Tin Cans",{"$f":"IFERROR('6 LCI Factors'!E167*'7 Mass Data for SMM'!E17,0)","v":0},{"$f":"IFERROR('6 LCI Factors'!F167*'7 Mass Data for SMM'!F17,0)","v":0},{"$f":"IFERROR('6 LCI Factors'!E167*'7 Mass Data for SMM'!G17,0)","v":0},{"$f":"IFERROR('6 LCI Factors'!G167*'7 Mass Data for SMM'!G17,0)","v":4.9791776592885437},{"$f":"IFERROR('6 LCI Factors'!H167*'7 Mass Data for SMM'!H17,0)","v":-15.091623752962796},{"$f":"IFERROR('6 LCI Factors'!I167*'7 Mass Data for SMM'!I17,0)","v":0},{"$f":"IFERROR('6 LCI Factors'!J167*'7 Mass Data for SMM'!J17,0)","v":0},{"$f":"IFERROR('6 LCI Factors'!K167*'7 Mass Data for SMM'!K17,0)","v":2.3304434295103422},{"$f":"IFERROR('6 LCI Factors'!L167*'7 Mass Data for SMM'!L17,0)","v":0},-7.78200266416391,-7.78200266416391]
[null,null,14,"Mixed Metals",{"$f":"IFERROR('6 LCI Factors'!E168*'7 Mass Data for SMM'!E18,0)","v":0},{"$f":"IFERROR('6 LCI Factors'!F168*'7 Mass Data for SMM'!F18,0)","v":0},{"$f":"IFERROR('6 LCI Factors'!E168*'7 Mass Data for SMM'!G18,0)","v":0},{"$f":"IFERROR('6 LCI Factors'!G168*'7 Mass Data for SMM'!G18,0)","v":69.564137994682426},{"$f":"IFERROR('6 LCI Factors'!H168*'7 Mass Data for SMM'!H18,0)","v":-10160.718431532097},{"$f":"IFERROR('6 LCI Factors'!I168*'7 Mass Data for SMM'!I18,0)","v":0},{"$f":"IFERROR('6 LCI Factors'!J168*'7 Mass Data for SMM'!J18,0)","v":0},{"$f":"IFERROR('6 LCI Factors'!K168*'7 Mass Data for SMM'!K18,0)","v":6.4229647604484716},{"$f":"IFERROR('6 LCI Factors'!L168*'7 Mass Data for SMM'!L18,0)","v":0},-10084.731328776967,-10084.731328776967]
[null,"Organic",15,"Yard Waste",{"$f":"IFERROR('6 LCI Factors'!E169*'7 Mass Data for SMM'!E19,0)","v":0},{"$f":"IFERROR('6 LCI Factors'!F169*'7 Mass Data for SMM'!F19,0)","v":0},{"$f":"IFERROR('6 LCI Factors'!E169*'7 Mass Data for SMM'!G19,0)","v":0},{"$f":"IFERROR('6 LCI Factors'!G169*'7 Mass Data for SMM'!G19,0)","v":555.87492720152136},{"$f":"IFERROR('6 LCI Factors'!H169*'7 Mass Data for SMM'!H19,0)","v":0},{"$f":"IFERROR('6 LCI Factors'!I169*'7 Mass Data for SMM'!I19,0)","v":3783.9760670994538},{"$f":"IFERROR('6 LCI Factors'!J169*'7 Mass Data for SMM'!J19,0)","v":0},{"$f":"IFERROR('6 LCI Factors'!K169*'7 Mass Data for SMM'!K19,0)","v":401.50829678772482},{"$f":"IFERROR('6 LCI Factors'!L169*'7 Mass Data for SMM'!L19,0)","v":-25539.892392078018},-20798.53310098932,-20798.53310098932]
[null,null,16,"Food Waste",{"$f":"IFERROR('6 LCI Factors'!E170*'7 Mass Data for SMM'!E20,0)","v":0},{"$f":"IFERROR('6 LCI Factors'!F170*'7 Mass Data for SMM'!F20,0)","v":0},{"$f":"IFERROR('6 LCI Factors'!E170*'7 Mass Data for SMM'!G20,0)","v":0},{"$f":"IFERROR('6 LCI Factors'!G170*'7 Mass Data for SMM'!G20,0)","v":103.89126956620746},{"$f":"IFERROR('6 LCI Factors'!H170*'7 Mass Data for SMM'!H20,0)","v":0},{"$f":"IFERROR('6 LCI Factors'!I170*'7 Mass Data for SMM'!I20,0)","v":12.412515014291877},{"$f":"IFERROR('6 LCI Factors'!J170*'7 Mass Data for SMM'!J20,0)","v":0},{"$f":"IFERROR('6 LCI Factors'!K170*'7 Mass Data for SMM'!K20,0)","v":395.70087845573568},{"$f":"IFERROR('6 LCI Factors'!L170*'7 Mass Data for SMM'!L20,0)","v":0},512.004663036235,512.004663036235]
[null,"Other ",17,"Tires",{"$f":"IFERROR('6 LCI Factors'!E171*'7 Mass Data for SMM'!E21,0)","v":0},{"$f":"IFERROR('6 LCI Factors'!F171*'7 Mass Data for SMM'!F21,0)","v":0},{"$f":"IFERROR('6 LCI Factors'!E171*'7 Mass Data for SMM'!G21,0)","v":0},{"$f":"IFERROR('6 LCI Factors'!G171*'7 Mass Data for SMM'!G21,0)","v":0},{"$f":"IFERROR('6 LCI Factors'!H171*'7 Mass Data for SMM'!H21,0)","v":0},{"$f":"IFERROR('6 LCI Factors'!I171*'7 Mass Data for SMM'!I21,0)","v":0},{"$f":"IFERROR('6 LCI Factors'!J171*'7 Mass Data for SMM'!J21,0)","v":0},{"$f":"IFERROR('6 LCI Factors'!K171*'7 Mass Data for SMM'!K21,0)","v":0},{"$f":"IFERROR('6 LCI Factors'!L171*'7 Mass Data for SMM'!L21,0)","v":0},0,0]
[null,null,18,"Clothing and Footwear",{"$f":"IFERROR('6 LCI Factors'!E172*'7 Mass Data for SMM'!E22,0)","v":0},{"$f":"IFERROR('6 LCI Factors'!F172*'7 Mass Data for SMM'!F22,0)","v":0},{"$f":"IFERROR('6 LCI Factors'!E172*'7 Mass Data for SMM'!G22,0)","v":0},{"$f":"IFERROR('6 LCI Factors'!G172*'7 Mass Data for SMM'!G22,0)","v":0},{"$f":"IFERROR('6 LCI Factors'!H172*'7 Mass Data for SMM'!H22,0)","v":0},{"$f":"IFERROR('6 LCI Factors'!I172*'7 Mass Data for SMM'!I22,0)","v":0},{"$f":"IFERROR('6 LCI Factors'!J172*'7 Mass Data for SMM'!J22,0)","v":0},{"$f":"IFERROR('6 LCI Factors'!K172*'7 Mass Data for SMM'!K22,0)","v":0},{"$f":"IFERROR('6 LCI Factors'!L172*'7 Mass Data for SMM'!L22,0)","v":0},0,0]
[null,null,19,"Furniture",{"$f":"IFERROR('6 LCI Factors'!E173*'7 Mass Data for SMM'!E23,0)","v":0},{"$f":"IFERROR('6 LCI Factors'!F173*'7 Mass Data for SMM'!F23,0)","v":0},{"$f":"IFERROR('6 LCI Factors'!E173*'7 Mass Data for SMM'!G23,0)","v":0},{"$f":"IFERROR('6 LCI Factors'!G173*'7 Mass Data for SMM'!G23,0)","v":0},{"$f":"IFERROR('6 LCI Factors'!H173*'7 Mass Data for SMM'!H23,0)","v":0},{"$f":"IFERROR('6 LCI Factors'!I173*'7 Mass Data for SMM'!I23,0)","v":0},{"$f":"IFERROR('6 LCI Factors'!J173*'7 Mass Data for SMM'!J23,0)","v":0},{"$f":"IFERROR('6 LCI Factors'!K173*'7 Mass Data for SMM'!K23,0)","v":0},{"$f":"IFERROR('6 LCI Factors'!L173*'7 Mass Data for SMM'!L23,0)","v":0},0,0]
[null,null,20,"Electronics",{"$f":"IFERROR('6 LCI Factors'!E174*'7 Mass Data for SMM'!E24,0)","v":0},{"$f":"IFERROR('6 LCI Factors'!F174*'7 Mass Data for SMM'!F24,0)","v":0},{"$f":"IFERROR('6 LCI Factors'!E174*'7 Mass Data for SMM'!G24,0)","v":0},{"$f":"IFERROR('6 LCI Factors'!G174*'7 Mass Data for SMM'!G24,0)","v":0},{"$f":"IFERROR('6 LCI Factors'!H174*'7 Mass Data for SMM'!H24,0)","v":0},{"$f":"IFERROR('6 LCI Factors'!I174*'7 Mass Data for SMM'!I24,0)","v":0},{"$f":"IFERROR('6 LCI Factors'!J174*'7 Mass Data for SMM'!J24,0)","v":0},{"$f":"IFERROR('6 LCI Factors'!K174*'7 Mass Data for SMM'!K24,0)","v":0},{"$f":"IFERROR('6 LCI Factors'!L174*'7 Mass Data for SMM'!L24,0)","v":0},0,0]
[null,"C&D Debris",21,"Wood Products",{"$f":"IFERROR('6 LCI Factors'!E175*'7 Mass Data for SMM'!E25,0)","v":0},{"$f":"IFERROR('6 LCI Factors'!F175*'7 Mass Data for SMM'!F25,0)","v":0},{"$f":"IFERROR('6 LCI Factors'!E175*'7 Mass Data for SMM'!G25,0)","v":0},{"$f":"IFERROR('6 LCI Factors'!G175*'7 Mass Data for SMM'!G25,0)","v":0},{"$f":"IFERROR('6 LCI Factors'!H175*'7 Mass Data for SMM'!H25,0)","v":0},{"$f":"IFERROR('6 LCI Factors'!I175*'7 Mass Data for SMM'!I25,0)","v":0},{"$f":"IFERROR('6 LCI Factors'!J175*'7 Mass Data for SMM'!J25,0)","v":0},{"$f":"IFERROR('6 LCI Factors'!K175*'7 Mass Data for SMM'!K25,0)","v":0},{"$f":"IFERROR('6 LCI Factors'!L175*'7 Mass Data for SMM'!L25,0)","v":0},0,0]
[null,null,22,"Asphalt Shingles",{"$f":"IFERROR('6 LCI Factors'!E176*'7 Mass Data for SMM'!E26,0)","v":0},{"$f":"IFERROR('6 LCI Factors'!F176*'7 Mass Data for SMM'!F26,0)","v":0},{"$f":"IFERROR('6 LCI Factors'!E176*'7 Mass Data for SMM'!G26,0)","v":0},{"$f":"IFERROR('6 LCI Factors'!G176*'7 Mass Data for SMM'!G26,0)","v":0},{"$f":"IFERROR('6 LCI Factors'!H176*'7 Mass Data for SMM'!H26,0)","v":0},{"$f":"IFERROR('6 LCI Factors'!I176*'7 Mass Data for SMM'!I26,0)","v":0},{"$f":"IFERROR('6 LCI Factors'!J176*'7 Mass Data for SMM'!J26,0)","v":0},{"$f":"IFERROR('6 LCI Factors'!K176*'7 Mass Data for SMM'!K26,0)","v":0},{"$f":"IFERROR('6 LCI Factors'!L176*'7 Mass Data for SMM'!L26,0)","v":0},0,0]
[null,null,23,"Gypsum Drywall",{"$f":"IFERROR('6 LCI Factors'!E177*'7 Mass Data for SMM'!E27,0)","v":0},{"$f":"IFERROR('6 LCI Factors'!F177*'7 Mass Data for SMM'!F27,0)","v":0},{"$f":"IFERROR('6 LCI Factors'!E177*'7 Mass Data for SMM'!G27,0)","v":0},{"$f":"IFERROR('6 LCI Factors'!G177*'7 Mass Data for SMM'!G27,0)","v":0},{"$f":"IFERROR('6 LCI Factors'!H177*'7 Mass Data for SMM'!H27,0)","v":0},{"$f":"IFERROR('6 LCI Factors'!I177*'7 Mass Data for SMM'!I27,0)","v":0},{"$f":"IFERROR('6 LCI Factors'!J177*'7 Mass Data for SMM'!J27,0)","v":0},{"$f":"IFERROR('6 LCI Factors'!K177*'7 Mass Data for SMM'!K27,0)","v":0},{"$f":"IFERROR('6 LCI Factors'!L177*'7 Mass Data for SMM'!L27,0)","v":0},0,0]
[null,null,24,"Concrete",{"$f":"IFERROR('6 LCI Factors'!E178*'7 Mass Data for SMM'!E28,0)","v":0},{"$f":"IFERROR('6 LCI Factors'!F178*'7 Mass Data for SMM'!F28,0)","v":0},{"$f":"IFERROR('6 LCI Factors'!E178*'7 Mass Data for SMM'!G28,0)","v":0},{"$f":"IFERROR('6 LCI Factors'!G178*'7 Mass Data for SMM'!G28,0)","v":0},{"$f":"IFERROR('6 LCI Factors'!H178*'7 Mass Data for SMM'!H28,0)","v":0},{"$f":"IFERROR('6 LCI Factors'!I178*'7 Mass Data for SMM'!I28,0)","v":0},{"$f":"IFERROR('6 LCI Factors'!J178*'7 Mass Data for SMM'!J28,0)","v":0},{"$f":"IFERROR('6 LCI Factors'!K178*'7 Mass Data for SMM'!K28,0)","v":0},{"$f":"IFERROR('6 LCI Factors'!L178*'7 Mass Data for SMM'!L28,0)","v":0},0,0]
[null,null,25,"Reclaimed Asphalt Pavement",{"$f":"IFERROR('6 LCI Factors'!E179*'7 Mass Data for SMM'!E29,0)","v":0},{"$f":"IFERROR('6 LCI Factors'!F179*'7 Mass Data for SMM'!F29,0)","v":0},{"$f":"IFERROR('6 LCI Factors'!E179*'7 Mass Data for SMM'!G29,0)","v":0},{"$f":"IFERROR('6 LCI Factors'!G179*'7 Mass Data for SMM'!G29,0)","v":0},{"$f":"IFERROR('6 LCI Factors'!H179*'7 Mass Data for SMM'!H29,0)","v":0},{"$f":"IFERROR('6 LCI Factors'!I179*'7 Mass Data for SMM'!I29,0)","v":0},{"$f":"IFERROR('6 LCI Factors'!J179*'7 Mass Data for SMM'!J29,0)","v":0},{"$f":"IFERROR('6 LCI Factors'!K179*'7 Mass Data for SMM'!K29,0)","v":0},{"$f":"IFERROR('6 LCI Factors'!L179*'7 Mass Data for SMM'!L29,0)","v":0},0,0]
[null,"Total",null,null,{"$f":"SUMIF(E158:E182,\"<>#value!\")","v":0},0,0,{"$f":"SUMIF(H158:H182,\"<>#value!\")","v":1384.776300294272},{"$f":"SUMIF(I158:I182,\"<>#value!\")","v":-23689.838021910618},3796.3885821137455,0,7622.7635133161148,-25539.892392078018,-36425.802018264505,-36425.802018264505]
[]
[null,"Table 7."]
[null,"Acidification Potential (kgSO2eq.): Increasing concentration of hydrogen ions within the environment due to addition of acids. The units are expressed as kgSO2eq. to allow for comparison of acids in the air relative to SO2.\n\n"]
[null,"Material Category","Item No.","Material Type","Source Reduced/ Generated","Donated","Produced","Collection","Recycling","Composting","Anaerobic Digestion","Landfill","Combustion","Lifecycle Total","Waste Management Total"]
[null,"MSW ",1,"Mixed MSW",{"$f":"IFERROR('6 LCI Factors'!E185*'7 Mass Data for SMM'!E5,0)","v":0},{"$f":"IFERROR('6 LCI Factors'!F185*'7 Mass Data for SMM'!F5,0)","v":0},{"$f":"IFERROR('6 LCI Factors'!E185*'7 Mass Data for SMM'!G5,0)","v":0},{"$f":"IFERROR('6 LCI Factors'!G185*'7 Mass Data for SMM'!G5,0)","v":3785.9071015586032},{"$f":"IFERROR('6 LCI Factors'!H185*'7 Mass Data for SMM'!H5,0)","v":0},{"$f":"IFERROR('6 LCI Factors'!I185*'7 Mass Data for SMM'!I5,0)","v":0},{"$f":"IFERROR('6 LCI Factors'!J185*'7 Mass Data for SMM'!J5,0)","v":0},{"$f":"IFERROR('6 LCI Factors'!K185*'7 Mass Data for SMM'!K5,0)","v":-72034.74959009944},{"$f":"IFERROR('6 LCI Factors'!L185*'7 Mass Data for SMM'!L5,0)","v":0},{"$f":"SUMIF(E188:M188,\"<>#value!\")","v":-68248.842488540831},{"$f":"SUMIF(H188:M188,\"<>#value!\")","v":-68248.842488540831}]
[null,"Paper",2,"Newspaper",{"$f":"IFERROR('6 LCI Factors'!E186*'7 Mass Data for SMM'!E6,0)","v":0},{"$f":"IFERROR('6 LCI Factors'!F186*'7 Mass Data for SMM'!F6,0)","v":0},{"$f":"IFERROR('6 LCI Factors'!E186*'7 Mass Data for SMM'!G6,0)","v":0},{"$f":"IFERROR('6 LCI Factors'!G186*'7 Mass Data for SMM'!G6,0)","v":264.82229636207791},{"$f":"IFERROR('6 LCI Factors'!H186*'7 Mass Data for SMM'!H6,0)","v":-33574.626986359573},{"$f":"IFERROR('6 LCI Factors'!I186*'7 Mass Data for SMM'!I6,0)","v":0},{"$f":"IFERROR('6 LCI Factors'!J186*'7 Mass Data for SMM'!J6,0)","v":0},{"$f":"IFERROR('6 LCI Factors'!K186*'7 Mass Data for SMM'!K6,0)","v":-142.69873422305864},{"$f":"IFERROR('6 LCI Factors'!L186*'7 Mass Data for SMM'!L6,0)","v":0},{"$f":"SUMIF(E189:M189,\"<>#value!\")","v":-33452.503424220551},{"$f":"SUMIF(H189:M189,\"<>#value!\")","v":-33452.503424220551}]
[null,null,3,"Corrugated Cardboard (OCC)",{"$f":"IFERROR('6 LCI Factors'!E187*'7 Mass Data for SMM'!E7,0)","v":0},{"$f":"IFERROR('6 LCI Factors'!F187*'7 Mass Data for SMM'!F7,0)","v":0},{"$f":"IFERROR('6 LCI Factors'!E187*'7 Mass Data for SMM'!G7,0)","v":0},{"$f":"IFERROR('6 LCI Factors'!G187*'7 Mass Data for SMM'!G7,0)","v":3134.1791964109193},{"$f":"IFERROR('6 LCI Factors'!H187*'7 Mass Data for SMM'!H7,0)","v":-267182.96325939975},{"$f":"IFERROR('6 LCI Factors'!I187*'7 Mass Data for SMM'!I7,0)","v":0},{"$f":"IFERROR('6 LCI Factors'!J187*'7 Mass Data for SMM'!J7,0)","v":0},{"$f":"IFERROR('6 LCI Factors'!K187*'7 Mass Data for SMM'!K7,0)","v":-17331.839877030048},{"$f":"IFERROR('6 LCI Factors'!L187*'7 Mass Data for SMM'!L7,0)","v":0},-281380.62394001888,-281380.62394001888]
[null,null,4,"High Grade Paper (Office Type Paper)",{"$f":"IFERROR('6 LCI Factors'!E188*'7 Mass Data for SMM'!E8,0)","v":0},{"$f":"IFERROR('6 LCI Factors'!F188*'7 Mass Data for SMM'!F8,0)","v":0},{"$f":"IFERROR('6 LCI Factors'!E188*'7 Mass Data for SMM'!G8,0)","v":0},{"$f":"IFERROR('6 LCI Factors'!G188*'7 Mass Data for SMM'!G8,0)","v":315.66911812477417},{"$f":"IFERROR('6 LCI Factors'!H188*'7 Mass Data for SMM'!H8,0)","v":431.72448820944953},{"$f":"IFERROR('6 LCI Factors'!I188*'7 Mass Data for SMM'!I8,0)","v":0},{"$f":"IFERROR('6 LCI Factors'!J188*'7 Mass Data for SMM'!J8,0)","v":0},{"$f":"IFERROR('6 LCI Factors'!K188*'7 Mass Data for SMM'!K8,0)","v":-2576.689433394492},{"$f":"IFERROR('6 LCI Factors'!L188*'7 Mass Data for SMM'!L8,0)","v":0},-1829.2958270602683,-1829.2958270602683]
[null,null,5,"Magazines/third-class mail",{"$f":"IFERROR('6 LCI Factors'!E189*'7 Mass Data for SMM'!E9,0)","v":0},{"$f":"IFERROR('6 LCI Factors'!F189*'7 Mass Data for SMM'!F9,0)","v":0},{"$f":"IFERROR('6 LCI Factors'!E189*'7 Mass Data for SMM'!G9,0)","v":0},{"$f":"IFERROR('6 LCI Factors'!G189*'7 Mass Data for SMM'!G9,0)","v":726.21367947430372},{"$f":"IFERROR('6 LCI Factors'!H189*'7 Mass Data for SMM'!H9,0)","v":68.321676080756234},{"$f":"IFERROR('6 LCI Factors'!I189*'7 Mass Data for SMM'!I9,0)","v":0},{"$f":"IFERROR('6 LCI Factors'!J189*'7 Mass Data for SMM'!J9,0)","v":0},{"$f":"IFERROR('6 LCI Factors'!K189*'7 Mass Data for SMM'!K9,0)","v":-6462.4913629500752},{"$f":"IFERROR('6 LCI Factors'!L189*'7 Mass Data for SMM'!L9,0)","v":0},-5667.9560073950151,-5667.9560073950151]
[null,null,6,"Books",{"$f":"IFERROR('6 LCI Factors'!E190*'7 Mass Data for SMM'!E10,0)","v":0},{"$f":"IFERROR('6 LCI Factors'!F190*'7 Mass Data for SMM'!F10,0)","v":0},{"$f":"IFERROR('6 LCI Factors'!E190*'7 Mass Data for SMM'!G10,0)","v":0},{"$f":"IFERROR('6 LCI Factors'!G190*'7 Mass Data for SMM'!G10,0)","v":71.106766419237317},{"$f":"IFERROR('6 LCI Factors'!H190*'7 Mass Data for SMM'!H10,0)","v":0},{"$f":"IFERROR('6 LCI Factors'!I190*'7 Mass Data for SMM'!I10,0)","v":0},{"$f":"IFERROR('6 LCI Factors'!J190*'7 Mass Data for SMM'!J10,0)","v":0},{"$f":"IFERROR('6 LCI Factors'!K190*'7 Mass Data for SMM'!K10,0)","v":-385.04252513108963},{"$f":"IFERROR('6 LCI Factors'!L190*'7 Mass Data for SMM'!L10,0)","v":0},-313.93575871185232,-313.93575871185232]
[null,null,7,"Mixed Paper",{"$f":"IFERROR('6 LCI Factors'!E191*'7 Mass Data for SMM'!E11,0)","v":0},{"$f":"IFERROR('6 LCI Factors'!F191*'7 Mass Data for SMM'!F11,0)","v":0},{"$f":"IFERROR('6 LCI Factors'!E191*'7 Mass Data for SMM'!G11,0)","v":0},{"$f":"IFERROR('6 LCI Factors'!G191*'7 Mass Data for SMM'!G11,0)","v":2360.1303344295188},{"$f":"IFERROR('6 LCI Factors'!H191*'7 Mass Data for SMM'!H11,0)","v":-3262.4877606393798},{"$f":"IFERROR('6 LCI Factors'!I191*'7 Mass Data for SMM'!I11,0)","v":0},{"$f":"IFERROR('6 LCI Factors'!J191*'7 Mass Data for SMM'!J11,0)","v":0},{"$f":"IFERROR('6 LCI Factors'!K191*'7 Mass Data for SMM'!K11,0)","v":-33630.679615058158},{"$f":"IFERROR('6 LCI Factors'!L191*'7 Mass Data for SMM'!L11,0)","v":0},-34533.03704126802,-34533.03704126802]
[null,"Plastic",8,"HDPE",{"$f":"IFERROR('6 LCI Factors'!E192*'7 Mass Data for SMM'!E12,0)","v":0},{"$f":"IFERROR('6 LCI Factors'!F192*'7 Mass Data for SMM'!F12,0)","v":0},{"$f":"IFERROR('6 LCI Factors'!E192*'7 Mass Data for SMM'!G12,0)","v":0},{"$f":"IFERROR('6 LCI Factors'!G192*'7 Mass Data for SMM'!G12,0)","v":104.7145728942877},{"$f":"IFERROR('6 LCI Factors'!H192*'7 Mass Data for SMM'!H12,0)","v":-2837.9774261973675},{"$f":"IFERROR('6 LCI Factors'!I192*'7 Mass Data for SMM'!I12,0)","v":0},{"$f":"IFERROR('6 LCI Factors'!J192*'7 Mass Data for SMM'!J12,0)","v":0},{"$f":"IFERROR('6 LCI Factors'!K192*'7 Mass Data for SMM'!K12,0)","v":48.170695093580377},{"$f":"IFERROR('6 LCI Factors'!L192*'7 Mass Data for SMM'!L12,0)","v":0},-2685.0921582094993,-2685.0921582094993]
[null,null,9,"PET",{"$f":"IFERROR('6 LCI Factors'!E193*'7 Mass Data for SMM'!E13,0)","v":0},{"$f":"IFERROR('6 LCI Factors'!F193*'7 Mass Data for SMM'!F13,0)","v":0},{"$f":"IFERROR('6 LCI Factors'!E193*'7 Mass Data for SMM'!G13,0)","v":0},{"$f":"IFERROR('6 LCI Factors'!G193*'7 Mass Data for SMM'!G13,0)","v":172.28510861097897},{"$f":"IFERROR('6 LCI Factors'!H193*'7 Mass Data for SMM'!H13,0)","v":-18711.436164439376},{"$f":"IFERROR('6 LCI Factors'!I193*'7 Mass Data for SMM'!I13,0)","v":0},{"$f":"IFERROR('6 LCI Factors'!J193*'7 Mass Data for SMM'!J13,0)","v":0},{"$f":"IFERROR('6 LCI Factors'!K193*'7 Mass Data for SMM'!K13,0)","v":79.254426644532231},{"$f":"IFERROR('6 LCI Factors'!L193*'7 Mass Data for SMM'!L13,0)","v":0},-18459.896629183862,-18459.896629183862]
[null,null,10,"Mixed Plastic",{"$f":"IFERROR('6 LCI Factors'!E194*'7 Mass Data for SMM'!E14,0)","v":0},{"$f":"IFERROR('6 LCI Factors'!F194*'7 Mass Data for SMM'!F14,0)","v":0},{"$f":"IFERROR('6 LCI Factors'!E194*'7 Mass Data for SMM'!G14,0)","v":0},{"$f":"IFERROR('6 LCI Factors'!G194*'7 Mass Data for SMM'!G14,0)","v":1808.6707592550549},{"$f":"IFERROR('6 LCI Factors'!H194*'7 Mass Data for SMM'!H14,0)","v":-17062.918583172734},{"$f":"IFERROR('6 LCI Factors'!I194*'7 Mass Data for SMM'!I14,0)","v":0},{"$f":"IFERROR('6 LCI Factors'!J194*'7 Mass Data for SMM'!J14,0)","v":0},{"$f":"IFERROR('6 LCI Factors'!K194*'7 Mass Data for SMM'!K14,0)","v":1146.9581180797863},{"$f":"IFERROR('6 LCI Factors'!L194*'7 Mass Data for SMM'!L14,0)","v":0},-14107.289705837891,-14107.289705837891]
[null,"Glass",11,"Glass",{"$f":"IFERROR('6 LCI Factors'!E195*'7 Mass Data for SMM'!E15,0)","v":0},{"$f":"IFERROR('6 LCI Factors'!F195*'7 Mass Data for SMM'!F15,0)","v":0},{"$f":"IFERROR('6 LCI Factors'!E195*'7 Mass Data for SMM'!G15,0)","v":0},{"$f":"IFERROR('6 LCI Factors'!G195*'7 Mass Data for SMM'!G15,0)","v":565.28248832359316},{"$f":"IFERROR('6 LCI Factors'!H195*'7 Mass Data for SMM'!H15,0)","v":-6187.8281858850378},{"$f":"IFERROR('6 LCI Factors'!I195*'7 Mass Data for SMM'!I15,0)","v":0},{"$f":"IFERROR('6 LCI Factors'!J195*'7 Mass Data for SMM'!J15,0)","v":0},{"$f":"IFERROR('6 LCI Factors'!K195*'7 Mass Data for SMM'!K15,0)","v":159.76610364791426},{"$f":"IFERROR('6 LCI Factors'!L195*'7 Mass Data for SMM'!L15,0)","v":0},-5462.7795939135303,-5462.7795939135303]
[null,"Metals",12,"Aluminum Cans",{"$f":"IFERROR('6 LCI Factors'!E196*'7 Mass Data for SMM'!E16,0)","v":0},{"$f":"IFERROR('6 LCI Factors'!F196*'7 Mass Data for SMM'!F16,0)","v":0},{"$f":"IFERROR('6 LCI Factors'!E196*'7 Mass Data for SMM'!G16,0)","v":0},{"$f":"IFERROR('6 LCI Factors'!G196*'7 Mass Data for SMM'!G16,0)","v":82.355965088010848},{"$f":"IFERROR('6 LCI Factors'!H196*'7 Mass Data for SMM'!H16,0)","v":-40858.042854455089},{"$f":"IFERROR('6 LCI Factors'!I196*'7 Mass Data for SMM'!I16,0)","v":0},{"$f":"IFERROR('6 LCI Factors'!J196*'7 Mass Data for SMM'!J16,0)","v":0},{"$f":"IFERROR('6 LCI Factors'!K196*'7 Mass Data for SMM'!K16,0)","v":32.775670712927734},{"$f":"IFERROR('6 LCI Factors'!L196*'7 Mass Data for SMM'!L16,0)","v":0},-40742.911218654146,-40742.911218654146]
[null,null,13,"Steel/Tin Cans",{"$f":"IFERROR('6 LCI Factors'!E197*'7 Mass Data for SMM'!E17,0)","v":0},{"$f":"IFERROR('6 LCI Factors'!F197*'7 Mass Data for SMM'!F17,0)","v":0},{"$f":"IFERROR('6 LCI Factors'!E197*'7 Mass Data for SMM'!G17,0)","v":0},{"$f":"IFERROR('6 LCI Factors'!G197*'7 Mass Data for SMM'!G17,0)","v":102.50769015153155},{"$f":"IFERROR('6 LCI Factors'!H197*'7 Mass Data for SMM'!H17,0)","v":-441.30436822126666},{"$f":"IFERROR('6 LCI Factors'!I197*'7 Mass Data for SMM'!I17,0)","v":0},{"$f":"IFERROR('6 LCI Factors'!J197*'7 Mass Data for SMM'!J17,0)","v":0},{"$f":"IFERROR('6 LCI Factors'!K197*'7 Mass Data for SMM'!K17,0)","v":50.284796633090373},{"$f":"IFERROR('6 LCI Factors'!L197*'7 Mass Data for SMM'!L17,0)","v":0},-288.51188143664473,-288.51188143664473]
[null,null,14,"Mixed Metals",{"$f":"IFERROR('6 LCI Factors'!E198*'7 Mass Data for SMM'!E18,0)","v":0},{"$f":"IFERROR('6 LCI Factors'!F198*'7 Mass Data for SMM'!F18,0)","v":0},{"$f":"IFERROR('6 LCI Factors'!E198*'7 Mass Data for SMM'!G18,0)","v":0},{"$f":"IFERROR('6 LCI Factors'!G198*'7 Mass Data for SMM'!G18,0)","v":1432.1359049952421},{"$f":"IFERROR('6 LCI Factors'!H198*'7 Mass Data for SMM'!H18,0)","v":-769772.95179237088},{"$f":"IFERROR('6 LCI Factors'!I198*'7 Mass Data for SMM'!I18,0)","v":0},{"$f":"IFERROR('6 LCI Factors'!J198*'7 Mass Data for SMM'!J18,0)","v":0},{"$f":"IFERROR('6 LCI Factors'!K198*'7 Mass Data for SMM'!K18,0)","v":138.59056721600805},{"$f":"IFERROR('6 LCI Factors'!L198*'7 Mass Data for SMM'!L18,0)","v":0},-768202.22532015957,-768202.22532015957]
[null,"Organic",15,"Yard Waste",{"$f":"IFERROR('6 LCI Factors'!E199*'7 Mass Data for SMM'!E19,0)","v":0},{"$f":"IFERROR('6 LCI Factors'!F199*'7 Mass Data for SMM'!F19,0)","v":0},{"$f":"IFERROR('6 LCI Factors'!E199*'7 Mass Data for SMM'!G19,0)","v":0},{"$f":"IFERROR('6 LCI Factors'!G199*'7 Mass Data for SMM'!G19,0)","v":11443.948920818497},{"$f":"IFERROR('6 LCI Factors'!H199*'7 Mass Data for SMM'!H19,0)","v":0},{"$f":"IFERROR('6 LCI Factors'!I199*'7 Mass Data for SMM'!I19,0)","v":11323.597858557854},{"$f":"IFERROR('6 LCI Factors'!J199*'7 Mass Data for SMM'!J19,0)","v":0},{"$f":"IFERROR('6 LCI Factors'!K199*'7 Mass Data for SMM'!K19,0)","v":-407.66614899698106},{"$f":"IFERROR('6 LCI Factors'!L199*'7 Mass Data for SMM'!L19,0)","v":-404678.24511974736},-382318.36448936799,-382318.36448936799]
[null,null,16,"Food Waste",{"$f":"IFERROR('6 LCI Factors'!E200*'7 Mass Data for SMM'!E20,0)","v":0},{"$f":"IFERROR('6 LCI Factors'!F200*'7 Mass Data for SMM'!F20,0)","v":0},{"$f":"IFERROR('6 LCI Factors'!E200*'7 Mass Data for SMM'!G20,0)","v":0},{"$f":"IFERROR('6 LCI Factors'!G200*'7 Mass Data for SMM'!G20,0)","v":2138.8379364763864},{"$f":"IFERROR('6 LCI Factors'!H200*'7 Mass Data for SMM'!H20,0)","v":0},{"$f":"IFERROR('6 LCI Factors'!I200*'7 Mass Data for SMM'!I20,0)","v":153.82399182466193},{"$f":"IFERROR('6 LCI Factors'!J200*'7 Mass Data for SMM'!J20,0)","v":0},{"$f":"IFERROR('6 LCI Factors'!K200*'7 Mass Data for SMM'!K20,0)","v":-16883.60402307707},{"$f":"IFERROR('6 LCI Factors'!L200*'7 Mass Data for SMM'!L20,0)","v":0},-14590.942094776023,-14590.942094776023]
[null,"Other ",17,"Tires",{"$f":"IFERROR('6 LCI Factors'!E201*'7 Mass Data for SMM'!E21,0)","v":0},{"$f":"IFERROR('6 LCI Factors'!F201*'7 Mass Data for SMM'!F21,0)","v":0},{"$f":"IFERROR('6 LCI Factors'!E201*'7 Mass Data for SMM'!G21,0)","v":0},{"$f":"IFERROR('6 LCI Factors'!G201*'7 Mass Data for SMM'!G21,0)","v":0},{"$f":"IFERROR('6 LCI Factors'!H201*'7 Mass Data for SMM'!H21,0)","v":0},{"$f":"IFERROR('6 LCI Factors'!I201*'7 Mass Data for SMM'!I21,0)","v":0},{"$f":"IFERROR('6 LCI Factors'!J201*'7 Mass Data for SMM'!J21,0)","v":0},{"$f":"IFERROR('6 LCI Factors'!K201*'7 Mass Data for SMM'!K21,0)","v":0},{"$f":"IFERROR('6 LCI Factors'!L201*'7 Mass Data for SMM'!L21,0)","v":0},0,0]
[null,null,18,"Clothing and Footwear",{"$f":"IFERROR('6 LCI Factors'!E202*'7 Mass Data for SMM'!E22,0)","v":0},{"$f":"IFERROR('6 LCI Factors'!F202*'7 Mass Data for SMM'!F22,0)","v":0},{"$f":"IFERROR('6 LCI Factors'!E202*'7 Mass Data for SMM'!G22,0)","v":0},{"$f":"IFERROR('6 LCI Factors'!G202*'7 Mass Data for SMM'!G22,0)","v":0},{"$f":"IFERROR('6 LCI Factors'!H202*'7 Mass Data for SMM'!H22,0)","v":0},{"$f":"IFERROR('6 LCI Factors'!I202*'7 Mass Data for SMM'!I22,0)","v":0},{"$f":"IFERROR('6 LCI Factors'!J202*'7 Mass Data for SMM'!J22,0)","v":0},{"$f":"IFERROR('6 LCI Factors'!K202*'7 Mass Data for SMM'!K22,0)","v":0},{"$f":"IFERROR('6 LCI Factors'!L202*'7 Mass Data for SMM'!L22,0)","v":0},0,0]
[null,null,19,"Furniture",{"$f":"IFERROR('6 LCI Factors'!E203*'7 Mass Data for SMM'!E23,0)","v":0},{"$f":"IFERROR('6 LCI Factors'!F203*'7 Mass Data for SMM'!F23,0)","v":0},{"$f":"IFERROR('6 LCI Factors'!E203*'7 Mass Data for SMM'!G23,0)","v":0},{"$f":"IFERROR('6 LCI Factors'!G203*'7 Mass Data for SMM'!G23,0)","v":0},{"$f":"IFERROR('6 LCI Factors'!H203*'7 Mass Data for SMM'!H23,0)","v":0},{"$f":"IFERROR('6 LCI Factors'!I203*'7 Mass Data for SMM'!I23,0)","v":0},{"$f":"IFERROR('6 LCI Factors'!J203*'7 Mass Data for SMM'!J23,0)","v":0},{"$f":"IFERROR('6 LCI Factors'!K203*'7 Mass Data for SMM'!K23,0)","v":0},{"$f":"IFERROR('6 LCI Factors'!L203*'7 Mass Data for SMM'!L23,0)","v":0},0,0]
[null,null,20,"Electronics",{"$f":"IFERROR('6 LCI Factors'!E204*'7 Mass Data for SMM'!E24,0)","v":0},{"$f":"IFERROR('6 LCI Factors'!F204*'7 Mass Data for SMM'!F24,0)","v":0},{"$f":"IFERROR('6 LCI Factors'!E204*'7 Mass Data for SMM'!G24,0)","v":0},{"$f":"IFERROR('6 LCI Factors'!G204*'7 Mass Data for SMM'!G24,0)","v":0},{"$f":"IFERROR('6 LCI Factors'!H204*'7 Mass Data for SMM'!H24,0)","v":0},{"$f":"IFERROR('6 LCI Factors'!I204*'7 Mass Data for SMM'!I24,0)","v":0},{"$f":"IFERROR('6 LCI Factors'!J204*'7 Mass Data for SMM'!J24,0)","v":0},{"$f":"IFERROR('6 LCI Factors'!K204*'7 Mass Data for SMM'!K24,0)","v":0},{"$f":"IFERROR('6 LCI Factors'!L204*'7 Mass Data for SMM'!L24,0)","v":0},0,0]
[null,"C&D Debris",21,"Wood Products",{"$f":"IFERROR('6 LCI Factors'!E205*'7 Mass Data for SMM'!E25,0)","v":0},{"$f":"IFERROR('6 LCI Factors'!F205*'7 Mass Data for SMM'!F25,0)","v":0},{"$f":"IFERROR('6 LCI Factors'!E205*'7 Mass Data for SMM'!G25,0)","v":0},{"$f":"IFERROR('6 LCI Factors'!G205*'7 Mass Data for SMM'!G25,0)","v":0},{"$f":"IFERROR('6 LCI Factors'!H205*'7 Mass Data for SMM'!H25,0)","v":0},{"$f":"IFERROR('6 LCI Factors'!I205*'7 Mass Data for SMM'!I25,0)","v":0},{"$f":"IFERROR('6 LCI Factors'!J205*'7 Mass Data for SMM'!J25,0)","v":0},{"$f":"IFERROR('6 LCI Factors'!K205*'7 Mass Data for SMM'!K25,0)","v":0},{"$f":"IFERROR('6 LCI Factors'!L205*'7 Mass Data for SMM'!L25,0)","v":0},0,0]
[null,null,22,"Asphalt Shingles",{"$f":"IFERROR('6 LCI Factors'!E206*'7 Mass Data for SMM'!E26,0)","v":0},{"$f":"IFERROR('6 LCI Factors'!F206*'7 Mass Data for SMM'!F26,0)","v":0},{"$f":"IFERROR('6 LCI Factors'!E206*'7 Mass Data for SMM'!G26,0)","v":0},{"$f":"IFERROR('6 LCI Factors'!G206*'7 Mass Data for SMM'!G26,0)","v":0},{"$f":"IFERROR('6 LCI Factors'!H206*'7 Mass Data for SMM'!H26,0)","v":0},{"$f":"IFERROR('6 LCI Factors'!I206*'7 Mass Data for SMM'!I26,0)","v":0},{"$f":"IFERROR('6 LCI Factors'!J206*'7 Mass Data for SMM'!J26,0)","v":0},{"$f":"IFERROR('6 LCI Factors'!K206*'7 Mass Data for SMM'!K26,0)","v":0},{"$f":"IFERROR('6 LCI Factors'!L206*'7 Mass Data for SMM'!L26,0)","v":0},0,0]
[null,null,23,"Gypsum Drywall",{"$f":"IFERROR('6 LCI Factors'!E207*'7 Mass Data for SMM'!E27,0)","v":0},{"$f":"IFERROR('6 LCI Factors'!F207*'7 Mass Data for SMM'!F27,0)","v":0},{"$f":"IFERROR('6 LCI Factors'!E207*'7 Mass Data for SMM'!G27,0)","v":0},{"$f":"IFERROR('6 LCI Factors'!G207*'7 Mass Data for SMM'!G27,0)","v":0},{"$f":"IFERROR('6 LCI Factors'!H207*'7 Mass Data for SMM'!H27,0)","v":0},{"$f":"IFERROR('6 LCI Factors'!I207*'7 Mass Data for SMM'!I27,0)","v":0},{"$f":"IFERROR('6 LCI Factors'!J207*'7 Mass Data for SMM'!J27,0)","v":0},{"$f":"IFERROR('6 LCI Factors'!K207*'7 Mass Data for SMM'!K27,0)","v":0},{"$f":"IFERROR('6 LCI Factors'!L207*'7 Mass Data for SMM'!L27,0)","v":0},0,0]
[null,null,24,"Concrete",{"$f":"IFERROR('6 LCI Factors'!E208*'7 Mass Data for SMM'!E28,0)","v":0},{"$f":"IFERROR('6 LCI Factors'!F208*'7 Mass Data for SMM'!F28,0)","v":0},{"$f":"IFERROR('6 LCI Factors'!E208*'7 Mass Data for SMM'!G28,0)","v":0},{"$f":"IFERROR('6 LCI Factors'!G208*'7 Mass Data for SMM'!G28,0)","v":0},{"$f":"IFERROR('6 LCI Factors'!H208*'7 Mass Data for SMM'!H28,0)","v":0},{"$f":"IFERROR('6 LCI Factors'!I208*'7 Mass Data for SMM'!I28,0)","v":0},{"$f":"IFERROR('6 LCI Factors'!J208*'7 Mass Data for SMM'!J28,0)","v":0},{"$f":"IFERROR('6 LCI Factors'!K208*'7 Mass Data for SMM'!K28,0)","v":0},{"$f":"IFERROR('6 LCI Factors'!L208*'7 Mass Data for SMM'!L28,0)","v":0},0,0]
[null,null,25,"Reclaimed Asphalt Pavement",{"$f":"IFERROR('6 LCI Factors'!E209*'7 Mass Data for SMM'!E29,0)","v":0},{"$f":"IFERROR('6 LCI Factors'!F209*'7 Mass Data for SMM'!F29,0)","v":0},{"$f":"IFERROR('6 LCI Factors'!E209*'7 Mass Data for SMM'!G29,0)","v":0},{"$f":"IFERROR('6 LCI Factors'!G209*'7 Mass Data for SMM'!G29,0)","v":0},{"$f":"IFERROR('6 LCI Factors'!H209*'7 Mass Data for SMM'!H29,0)","v":0},{"$f":"IFERROR('6 LCI Factors'!I209*'7 Mass Data for SMM'!I29,0)","v":0},{"$f":"IFERROR('6 LCI Factors'!J209*'7 Mass Data for SMM'!J29,0)","v":0},{"$f":"IFERROR('6 LCI Factors'!K209*'7 Mass Data for SMM'!K29,0)","v":0},{"$f":"IFERROR('6 LCI Factors'!L209*'7 Mass Data for SMM'!L29,0)","v":0},0,0]
[null,"Total",null,null,{"$f":"SUMIF(E188:E212,\"<>#value!\")","v":0},0,{"$f":"SUMIF(G188:G212,\"<>#value!\")","v":0},{"$f":"SUMIF(H188:H212,\"<>#value!\")","v":28508.767839393015},{"$f":"SUMIF(I188:I212,\"<>#value!\")","v":-1159392.4912168502},11477.421850382516,0,-148199.66093193257,-404678.24511974736,-1672284.2075787545,-1672284.2075787545]
[]
[null,"Table 8."]
[null,"Jobs Produced (Jobs): The number of jobs associated with each type of waste management. This includes both direct and indirect jobs."]
[null,"Material Category","Item No.","Material Type","Source Reduced/ Generated","Donated","Produced","Collection","Recycling","Composting","Anaerobic Digestion","Landfill","Combustion","Lifecycle Total","Waste Management Total"]
[null,"MSW ",1,"Mixed MSW",{"$f":"IFERROR('6 LCI Factors'!E215*'7 Mass Data for SMM'!E5/10000,0)","v":0},{"$f":"IFERROR('6 LCI Factors'!F215*'7 Mass Data for SMM'!F5/10000,0)","v":0},{"$f":"IFERROR('6 LCI Factors'!E215*'7 Mass Data for SMM'!G5/10000,0)","v":0},{"$f":"IFERROR('6 LCI Factors'!G215*'7 Mass Data for SMM'!G5/10000,0)","v":0},{"$f":"IFERROR('6 LCI Factors'!H215*'7 Mass Data for SMM'!H5/10000,0)","v":0},{"$f":"IFERROR('6 LCI Factors'!I215*'7 Mass Data for SMM'!I5/10000,0)","v":0},{"$f":"IFERROR('6 LCI Factors'!J215*'7 Mass Data for SMM'!J5/10000,0)","v":0},{"$f":"IFERROR('6 LCI Factors'!K215*'7 Mass Data for SMM'!K5/10000,0)","v":0},{"$f":"IFERROR('6 LCI Factors'!L215*'7 Mass Data for SMM'!L5/10000,0)","v":0},{"$f":"SUMIF(E218:M218,\"<>#value!\")","v":0},{"$f":"SUMIF(H218:M218,\"<>#value!\")","v":0}]
[null,"Paper",2,"Newspaper",{"$f":"IFERROR('6 LCI Factors'!E216*'7 Mass Data for SMM'!E6/10000,0)","v":0},{"$f":"IFERROR('6 LCI Factors'!F216*'7 Mass Data for SMM'!F6/10000,0)","v":0},{"$f":"IFERROR('6 LCI Factors'!E216*'7 Mass Data for SMM'!G6/10000,0)","v":0},{"$f":"IFERROR('6 LCI Factors'!G216*'7 Mass Data for SMM'!G6/10000,0)","v":0},{"$f":"IFERROR('6 LCI Factors'!H216*'7 Mass Data for SMM'!H6/10000,0)","v":0},{"$f":"IFERROR('6 LCI Factors'!I216*'7 Mass Data for SMM'!I6/10000,0)","v":0},{"$f":"IFERROR('6 LCI Factors'!J216*'7 Mass Data for SMM'!J6/10000,0)","v":0},{"$f":"IFERROR('6 LCI Factors'!K216*'7 Mass Data for SMM'!K6/10000,0)","v":0},{"$f":"IFERROR('6 LCI Factors'!L216*'7 Mass Data for SMM'!L6/10000,0)","v":0},{"$f":"SUMIF(E219:M219,\"<>#value!\")","v":0},{"$f":"SUMIF(H219:M219,\"<>#value!\")","v":0}]
[null,null,3,"Corrugated Cardboard (OCC)",{"$f":"IFERROR('6 LCI Factors'!E217*'7 Mass Data for SMM'!E7/10000,0)","v":0},{"$f":"IFERROR('6 LCI Factors'!F217*'7 Mass Data for SMM'!F7/10000,0)","v":0},{"$f":"IFERROR('6 LCI Factors'!E217*'7 Mass Data for SMM'!G7/10000,0)","v":0},{"$f":"IFERROR('6 LCI Factors'!G217*'7 Mass Data for SMM'!G7/10000,0)","v":0},{"$f":"IFERROR('6 LCI Factors'!H217*'7 Mass Data for SMM'!H7/10000,0)","v":0},{"$f":"IFERROR('6 LCI Factors'!I217*'7 Mass Data for SMM'!I7/10000,0)","v":0},{"$f":"IFERROR('6 LCI Factors'!J217*'7 Mass Data for SMM'!J7/10000,0)","v":0},{"$f":"IFERROR('6 LCI Factors'!K217*'7 Mass Data for SMM'!K7/10000,0)","v":0},{"$f":"IFERROR('6 LCI Factors'!L217*'7 Mass Data for SMM'!L7/10000,0)","v":0},0,0]
[null,null,4,"High Grade Paper (Office Type Paper)",{"$f":"IFERROR('6 LCI Factors'!E218*'7 Mass Data for SMM'!E8/10000,0)","v":0},{"$f":"IFERROR('6 LCI Factors'!F218*'7 Mass Data for SMM'!F8/10000,0)","v":0},{"$f":"IFERROR('6 LCI Factors'!E218*'7 Mass Data for SMM'!G8/10000,0)","v":0},{"$f":"IFERROR('6 LCI Factors'!G218*'7 Mass Data for SMM'!G8/10000,0)","v":0},{"$f":"IFERROR('6 LCI Factors'!H218*'7 Mass Data for SMM'!H8/10000,0)","v":0},{"$f":"IFERROR('6 LCI Factors'!I218*'7 Mass Data for SMM'!I8/10000,0)","v":0},{"$f":"IFERROR('6 LCI Factors'!J218*'7 Mass Data for SMM'!J8/10000,0)","v":0},{"$f":"IFERROR('6 LCI Factors'!K218*'7 Mass Data for SMM'!K8/10000,0)","v":0},{"$f":"IFERROR('6 LCI Factors'!L218*'7 Mass Data for SMM'!L8/10000,0)","v":0},0,0]
[null,null,5,"Magazines/third-class mail",{"$f":"IFERROR('6 LCI Factors'!E219*'7 Mass Data for SMM'!E9/10000,0)","v":0},{"$f":"IFERROR('6 LCI Factors'!F219*'7 Mass Data for SMM'!F9/10000,0)","v":0},{"$f":"IFERROR('6 LCI Factors'!E219*'7 Mass Data for SMM'!G9/10000,0)","v":0},{"$f":"IFERROR('6 LCI Factors'!G219*'7 Mass Data for SMM'!G9/10000,0)","v":0},{"$f":"IFERROR('6 LCI Factors'!H219*'7 Mass Data for SMM'!H9/10000,0)","v":0},{"$f":"IFERROR('6 LCI Factors'!I219*'7 Mass Data for SMM'!I9/10000,0)","v":0},{"$f":"IFERROR('6 LCI Factors'!J219*'7 Mass Data for SMM'!J9/10000,0)","v":0},{"$f":"IFERROR('6 LCI Factors'!K219*'7 Mass Data for SMM'!K9/10000,0)","v":0},{"$f":"IFERROR('6 LCI Factors'!L219*'7 Mass Data for SMM'!L9/10000,0)","v":0},0,0]
[null,null,6,"Books",{"$f":"IFERROR('6 LCI Factors'!E220*'7 Mass Data for SMM'!E10/10000,0)","v":0},{"$f":"IFERROR('6 LCI Factors'!F220*'7 Mass Data for SMM'!F10/10000,0)","v":0},{"$f":"IFERROR('6 LCI Factors'!E220*'7 Mass Data for SMM'!G10/10000,0)","v":0},{"$f":"IFERROR('6 LCI Factors'!G220*'7 Mass Data for SMM'!G10/10000,0)","v":0},{"$f":"IFERROR('6 LCI Factors'!H220*'7 Mass Data for SMM'!H10/10000,0)","v":0},{"$f":"IFERROR('6 LCI Factors'!I220*'7 Mass Data for SMM'!I10/10000,0)","v":0},{"$f":"IFERROR('6 LCI Factors'!J220*'7 Mass Data for SMM'!J10/10000,0)","v":0},{"$f":"IFERROR('6 LCI Factors'!K220*'7 Mass Data for SMM'!K10/10000,0)","v":0},{"$f":"IFERROR('6 LCI Factors'!L220*'7 Mass Data for SMM'!L10/10000,0)","v":0},0,0]
[null,null,7,"Mixed Paper",{"$f":"IFERROR('6 LCI Factors'!E221*'7 Mass Data for SMM'!E11/10000,0)","v":0},{"$f":"IFERROR('6 LCI Factors'!F221*'7 Mass Data for SMM'!F11/10000,0)","v":0},{"$f":"IFERROR('6 LCI Factors'!E221*'7 Mass Data for SMM'!G11/10000,0)","v":0},{"$f":"IFERROR('6 LCI Factors'!G221*'7 Mass Data for SMM'!G11/10000,0)","v":0},{"$f":"IFERROR('6 LCI Factors'!H221*'7 Mass Data for SMM'!H11/10000,0)","v":0},{"$f":"IFERROR('6 LCI Factors'!I221*'7 Mass Data for SMM'!I11/10000,0)","v":0},{"$f":"IFERROR('6 LCI Factors'!J221*'7 Mass Data for SMM'!J11/10000,0)","v":0},{"$f":"IFERROR('6 LCI Factors'!K221*'7 Mass Data for SMM'!K11/10000,0)","v":0},{"$f":"IFERROR('6 LCI Factors'!L221*'7 Mass Data for SMM'!L11/10000,0)","v":0},0,0]
[null,"Plastic",8,"HDPE",{"$f":"IFERROR('6 LCI Factors'!E222*'7 Mass Data for SMM'!E12/10000,0)","v":0},{"$f":"IFERROR('6 LCI Factors'!F222*'7 Mass Data for SMM'!F12/10000,0)","v":0},{"$f":"IFERROR('6 LCI Factors'!E222*'7 Mass Data for SMM'!G12/10000,0)","v":0},{"$f":"IFERROR('6 LCI Factors'!G222*'7 Mass Data for SMM'!G12/10000,0)","v":0},{"$f":"IFERROR('6 LCI Factors'!H222*'7 Mass Data for SMM'!H12/10000,0)","v":0},{"$f":"IFERROR('6 LCI Factors'!I222*'7 Mass Data for SMM'!I12/10000,0)","v":0},{"$f":"IFERROR('6 LCI Factors'!J222*'7 Mass Data for SMM'!J12/10000,0)","v":0},{"$f":"IFERROR('6 LCI Factors'!K222*'7 Mass Data for SMM'!K12/10000,0)","v":0},{"$f":"IFERROR('6 LCI Factors'!L222*'7 Mass Data for SMM'!L12/10000,0)","v":0},0,0]
[null,null,9,"PET",{"$f":"IFERROR('6 LCI Factors'!E223*'7 Mass Data for SMM'!E13/10000,0)","v":0},{"$f":"IFERROR('6 LCI Factors'!F223*'7 Mass Data for SMM'!F13/10000,0)","v":0},{"$f":"IFERROR('6 LCI Factors'!E223*'7 Mass Data for SMM'!G13/10000,0)","v":0},{"$f":"IFERROR('6 LCI Factors'!G223*'7 Mass Data for SMM'!G13/10000,0)","v":0},{"$f":"IFERROR('6 LCI Factors'!H223*'7 Mass Data for SMM'!H13/10000,0)","v":0},{"$f":"IFERROR('6 LCI Factors'!I223*'7 Mass Data for SMM'!I13/10000,0)","v":0},{"$f":"IFERROR('6 LCI Factors'!J223*'7 Mass Data for SMM'!J13/10000,0)","v":0},{"$f":"IFERROR('6 LCI Factors'!K223*'7 Mass Data for SMM'!K13/10000,0)","v":0},{"$f":"IFERROR('6 LCI Factors'!L223*'7 Mass Data for SMM'!L13/10000,0)","v":0},0,0]
[null,null,10,"Mixed Plastic",{"$f":"IFERROR('6 LCI Factors'!E224*'7 Mass Data for SMM'!E14/10000,0)","v":0},{"$f":"IFERROR('6 LCI Factors'!F224*'7 Mass Data for SMM'!F14/10000,0)","v":0},{"$f":"IFERROR('6 LCI Factors'!E224*'7 Mass Data for SMM'!G14/10000,0)","v":0},{"$f":"IFERROR('6 LCI Factors'!G224*'7 Mass Data for SMM'!G14/10000,0)","v":0},{"$f":"IFERROR('6 LCI Factors'!H224*'7 Mass Data for SMM'!H14/10000,0)","v":0},{"$f":"IFERROR('6 LCI Factors'!I224*'7 Mass Data for SMM'!I14/10000,0)","v":0},{"$f":"IFERROR('6 LCI Factors'!J224*'7 Mass Data for SMM'!J14/10000,0)","v":0},{"$f":"IFERROR('6 LCI Factors'!K224*'7 Mass Data for SMM'!K14/10000,0)","v":0},{"$f":"IFERROR('6 LCI Factors'!L224*'7 Mass Data for SMM'!L14/10000,0)","v":0},0,0]
[null,"Glass",11,"Glass",{"$f":"IFERROR('6 LCI Factors'!E225*'7 Mass Data for SMM'!E15/10000,0)","v":0},{"$f":"IFERROR('6 LCI Factors'!F225*'7 Mass Data for SMM'!F15/10000,0)","v":0},{"$f":"IFERROR('6 LCI Factors'!E225*'7 Mass Data for SMM'!G15/10000,0)","v":0},{"$f":"IFERROR('6 LCI Factors'!G225*'7 Mass Data for SMM'!G15/10000,0)","v":0},{"$f":"IFERROR('6 LCI Factors'!H225*'7 Mass Data for SMM'!H15/10000,0)","v":0},{"$f":"IFERROR('6 LCI Factors'!I225*'7 Mass Data for SMM'!I15/10000,0)","v":0},{"$f":"IFERROR('6 LCI Factors'!J225*'7 Mass Data for SMM'!J15/10000,0)","v":0},{"$f":"IFERROR('6 LCI Factors'!K225*'7 Mass Data for SMM'!K15/10000,0)","v":0},{"$f":"IFERROR('6 LCI Factors'!L225*'7 Mass Data for SMM'!L15/10000,0)","v":0},0,0]
[null,"Metals",12,"Aluminum Cans",{"$f":"IFERROR('6 LCI Factors'!E226*'7 Mass Data for SMM'!E16/10000,0)","v":0},{"$f":"IFERROR('6 LCI Factors'!F226*'7 Mass Data for SMM'!F16/10000,0)","v":0},{"$f":"IFERROR('6 LCI Factors'!E226*'7 Mass Data for SMM'!G16/10000,0)","v":0},{"$f":"IFERROR('6 LCI Factors'!G226*'7 Mass Data for SMM'!G16/10000,0)","v":0},{"$f":"IFERROR('6 LCI Factors'!H226*'7 Mass Data for SMM'!H16/10000,0)","v":0},{"$f":"IFERROR('6 LCI Factors'!I226*'7 Mass Data for SMM'!I16/10000,0)","v":0},{"$f":"IFERROR('6 LCI Factors'!J226*'7 Mass Data for SMM'!J16/10000,0)","v":0},{"$f":"IFERROR('6 LCI Factors'!K226*'7 Mass Data for SMM'!K16/10000,0)","v":0},{"$f":"IFERROR('6 LCI Factors'!L226*'7 Mass Data for SMM'!L16/10000,0)","v":0},0,0]
[null,null,13,"Steel/Tin Cans",{"$f":"IFERROR('6 LCI Factors'!E227*'7 Mass Data for SMM'!E17/10000,0)","v":0},{"$f":"IFERROR('6 LCI Factors'!F227*'7 Mass Data for SMM'!F17/10000,0)","v":0},{"$f":"IFERROR('6 LCI Factors'!E227*'7 Mass Data for SMM'!G17/10000,0)","v":0},{"$f":"IFERROR('6 LCI Factors'!G227*'7 Mass Data for SMM'!G17/10000,0)","v":0},{"$f":"IFERROR('6 LCI Factors'!H227*'7 Mass Data for SMM'!H17/10000,0)","v":0},{"$f":"IFERROR('6 LCI Factors'!I227*'7 Mass Data for SMM'!I17/10000,0)","v":0},{"$f":"IFERROR('6 LCI Factors'!J227*'7 Mass Data for SMM'!J17/10000,0)","v":0},{"$f":"IFERROR('6 LCI Factors'!K227*'7 Mass Data for SMM'!K17/10000,0)","v":0},{"$f":"IFERROR('6 LCI Factors'!L227*'7 Mass Data for SMM'!L17/10000,0)","v":0},0,0]
[null,null,14,"Mixed Metals",{"$f":"IFERROR('6 LCI Factors'!E228*'7 Mass Data for SMM'!E18/10000,0)","v":0},{"$f":"IFERROR('6 LCI Factors'!F228*'7 Mass Data for SMM'!F18/10000,0)","v":0},{"$f":"IFERROR('6 LCI Factors'!E228*'7 Mass Data for SMM'!G18/10000,0)","v":0},{"$f":"IFERROR('6 LCI Factors'!G228*'7 Mass Data for SMM'!G18/10000,0)","v":0},{"$f":"IFERROR('6 LCI Factors'!H228*'7 Mass Data for SMM'!H18/10000,0)","v":0},{"$f":"IFERROR('6 LCI Factors'!I228*'7 Mass Data for SMM'!I18/10000,0)","v":0},{"$f":"IFERROR('6 LCI Factors'!J228*'7 Mass Data for SMM'!J18/10000,0)","v":0},{"$f":"IFERROR('6 LCI Factors'!K228*'7 Mass Data for SMM'!K18/10000,0)","v":0},{"$f":"IFERROR('6 LCI Factors'!L228*'7 Mass Data for SMM'!L18/10000,0)","v":0},0,0]
[null,"Organic",15,"Yard Waste",{"$f":"IFERROR('6 LCI Factors'!E229*'7 Mass Data for SMM'!E19/10000,0)","v":0},{"$f":"IFERROR('6 LCI Factors'!F229*'7 Mass Data for SMM'!F19/10000,0)","v":0},{"$f":"IFERROR('6 LCI Factors'!E229*'7 Mass Data for SMM'!G19/10000,0)","v":0},{"$f":"IFERROR('6 LCI Factors'!G229*'7 Mass Data for SMM'!G19/10000,0)","v":0},{"$f":"IFERROR('6 LCI Factors'!H229*'7 Mass Data for SMM'!H19/10000,0)","v":0},{"$f":"IFERROR('6 LCI Factors'!I229*'7 Mass Data for SMM'!I19/10000,0)","v":0},{"$f":"IFERROR('6 LCI Factors'!J229*'7 Mass Data for SMM'!J19/10000,0)","v":0},{"$f":"IFERROR('6 LCI Factors'!K229*'7 Mass Data for SMM'!K19/10000,0)","v":0},{"$f":"IFERROR('6 LCI Factors'!L229*'7 Mass Data for SMM'!L19/10000,0)","v":0},0,0]
[null,null,16,"Food Waste",{"$f":"IFERROR('6 LCI Factors'!E230*'7 Mass Data for SMM'!E20/10000,0)","v":0},{"$f":"IFERROR('6 LCI Factors'!F230*'7 Mass Data for SMM'!F20/10000,0)","v":0},{"$f":"IFERROR('6 LCI Factors'!E230*'7 Mass Data for SMM'!G20/10000,0)","v":0},{"$f":"IFERROR('6 LCI Factors'!G230*'7 Mass Data for SMM'!G20/10000,0)","v":0},{"$f":"IFERROR('6 LCI Factors'!H230*'7 Mass Data for SMM'!H20/10000,0)","v":0},{"$f":"IFERROR('6 LCI Factors'!I230*'7 Mass Data for SMM'!I20/10000,0)","v":0},{"$f":"IFERROR('6 LCI Factors'!J230*'7 Mass Data for SMM'!J20/10000,0)","v":0},{"$f":"IFERROR('6 LCI Factors'!K230*'7 Mass Data for SMM'!K20/10000,0)","v":0},{"$f":"IFERROR('6 LCI Factors'!L230*'7 Mass Data for SMM'!L20/10000,0)","v":0},0,0]
[null,"Other ",17,"Tires",{"$f":"IFERROR('6 LCI Factors'!E231*'7 Mass Data for SMM'!E21/10000,0)","v":0},{"$f":"IFERROR('6 LCI Factors'!F231*'7 Mass Data for SMM'!F21/10000,0)","v":0},{"$f":"IFERROR('6 LCI Factors'!E231*'7 Mass Data for SMM'!G21/10000,0)","v":0},{"$f":"IFERROR('6 LCI Factors'!G231*'7 Mass Data for SMM'!G21/10000,0)","v":0},{"$f":"IFERROR('6 LCI Factors'!H231*'7 Mass Data for SMM'!H21/10000,0)","v":0},{"$f":"IFERROR('6 LCI Factors'!I231*'7 Mass Data for SMM'!I21/10000,0)","v":0},{"$f":"IFERROR('6 LCI Factors'!J231*'7 Mass Data for SMM'!J21/10000,0)","v":0},{"$f":"IFERROR('6 LCI Factors'!K231*'7 Mass Data for SMM'!K21/10000,0)","v":0},{"$f":"IFERROR('6 LCI Factors'!L231*'7 Mass Data for SMM'!L21/10000,0)","v":0},0,0]
[null,null,18,"Clothing and Footwear",{"$f":"IFERROR('6 LCI Factors'!E232*'7 Mass Data for SMM'!E22/10000,0)","v":0},{"$f":"IFERROR('6 LCI Factors'!F232*'7 Mass Data for SMM'!F22/10000,0)","v":0},{"$f":"IFERROR('6 LCI Factors'!E232*'7 Mass Data for SMM'!G22/10000,0)","v":0},{"$f":"IFERROR('6 LCI Factors'!G232*'7 Mass Data for SMM'!G22/10000,0)","v":0},{"$f":"IFERROR('6 LCI Factors'!H232*'7 Mass Data for SMM'!H22/10000,0)","v":0},{"$f":"IFERROR('6 LCI Factors'!I232*'7 Mass Data for SMM'!I22/10000,0)","v":0},{"$f":"IFERROR('6 LCI Factors'!J232*'7 Mass Data for SMM'!J22/10000,0)","v":0},{"$f":"IFERROR('6 LCI Factors'!K232*'7 Mass Data for SMM'!K22/10000,0)","v":0},{"$f":"IFERROR('6 LCI Factors'!L232*'7 Mass Data for SMM'!L22/10000,0)","v":0},0,0]
[null,null,19,"Furniture",{"$f":"IFERROR('6 LCI Factors'!E233*'7 Mass Data for SMM'!E23/10000,0)","v":0},{"$f":"IFERROR('6 LCI Factors'!F233*'7 Mass Data for SMM'!F23/10000,0)","v":0},{"$f":"IFERROR('6 LCI Factors'!E233*'7 Mass Data for SMM'!G23/10000,0)","v":0},{"$f":"IFERROR('6 LCI Factors'!G233*'7 Mass Data for SMM'!G23/10000,0)","v":0},{"$f":"IFERROR('6 LCI Factors'!H233*'7 Mass Data for SMM'!H23/10000,0)","v":0},{"$f":"IFERROR('6 LCI Factors'!I233*'7 Mass Data for SMM'!I23/10000,0)","v":0},{"$f":"IFERROR('6 LCI Factors'!J233*'7 Mass Data for SMM'!J23/10000,0)","v":0},{"$f":"IFERROR('6 LCI Factors'!K233*'7 Mass Data for SMM'!K23/10000,0)","v":0},{"$f":"IFERROR('6 LCI Factors'!L233*'7 Mass Data for SMM'!L23/10000,0)","v":0},0,0]
[null,null,20,"Electronics",{"$f":"IFERROR('6 LCI Factors'!E234*'7 Mass Data for SMM'!E24/10000,0)","v":0},{"$f":"IFERROR('6 LCI Factors'!F234*'7 Mass Data for SMM'!F24/10000,0)","v":0},{"$f":"IFERROR('6 LCI Factors'!E234*'7 Mass Data for SMM'!G24/10000,0)","v":0},{"$f":"IFERROR('6 LCI Factors'!G234*'7 Mass Data for SMM'!G24/10000,0)","v":0},{"$f":"IFERROR('6 LCI Factors'!H234*'7 Mass Data for SMM'!H24/10000,0)","v":0},{"$f":"IFERROR('6 LCI Factors'!I234*'7 Mass Data for SMM'!I24/10000,0)","v":0},{"$f":"IFERROR('6 LCI Factors'!J234*'7 Mass Data for SMM'!J24/10000,0)","v":0},{"$f":"IFERROR('6 LCI Factors'!K234*'7 Mass Data for SMM'!K24/10000,0)","v":0},{"$f":"IFERROR('6 LCI Factors'!L234*'7 Mass Data for SMM'!L24/10000,0)","v":0},0,0]
[null,"C&D Debris",21,"Wood Products",{"$f":"IFERROR('6 LCI Factors'!E235*'7 Mass Data for SMM'!E25/10000,0)","v":0},{"$f":"IFERROR('6 LCI Factors'!F235*'7 Mass Data for SMM'!F25/10000,0)","v":0},{"$f":"IFERROR('6 LCI Factors'!E235*'7 Mass Data for SMM'!G25/10000,0)","v":0},{"$f":"IFERROR('6 LCI Factors'!G235*'7 Mass Data for SMM'!G25/10000,0)","v":0},{"$f":"IFERROR('6 LCI Factors'!H235*'7 Mass Data for SMM'!H25/10000,0)","v":0},{"$f":"IFERROR('6 LCI Factors'!I235*'7 Mass Data for SMM'!I25/10000,0)","v":0},{"$f":"IFERROR('6 LCI Factors'!J235*'7 Mass Data for SMM'!J25/10000,0)","v":0},{"$f":"IFERROR('6 LCI Factors'!K235*'7 Mass Data for SMM'!K25/10000,0)","v":0},{"$f":"IFERROR('6 LCI Factors'!L235*'7 Mass Data for SMM'!L25/10000,0)","v":0},0,0]
[null,null,22,"Asphalt Shingles",{"$f":"IFERROR('6 LCI Factors'!E236*'7 Mass Data for SMM'!E26/10000,0)","v":0},{"$f":"IFERROR('6 LCI Factors'!F236*'7 Mass Data for SMM'!F26/10000,0)","v":0},{"$f":"IFERROR('6 LCI Factors'!E236*'7 Mass Data for SMM'!G26/10000,0)","v":0},{"$f":"IFERROR('6 LCI Factors'!G236*'7 Mass Data for SMM'!G26/10000,0)","v":0},{"$f":"IFERROR('6 LCI Factors'!H236*'7 Mass Data for SMM'!H26/10000,0)","v":0},{"$f":"IFERROR('6 LCI Factors'!I236*'7 Mass Data for SMM'!I26/10000,0)","v":0},{"$f":"IFERROR('6 LCI Factors'!J236*'7 Mass Data for SMM'!J26/10000,0)","v":0},{"$f":"IFERROR('6 LCI Factors'!K236*'7 Mass Data for SMM'!K26/10000,0)","v":0},{"$f":"IFERROR('6 LCI Factors'!L236*'7 Mass Data for SMM'!L26/10000,0)","v":0},0,0]
[null,null,23,"Gypsum Drywall",{"$f":"IFERROR('6 LCI Factors'!E237*'7 Mass Data for SMM'!E27/10000,0)","v":0},{"$f":"IFERROR('6 LCI Factors'!F237*'7 Mass Data for SMM'!F27/10000,0)","v":0},{"$f":"IFERROR('6 LCI Factors'!E237*'7 Mass Data for SMM'!G27/10000,0)","v":0},{"$f":"IFERROR('6 LCI Factors'!G237*'7 Mass Data for SMM'!G27/10000,0)","v":0},{"$f":"IFERROR('6 LCI Factors'!H237*'7 Mass Data for SMM'!H27/10000,0)","v":0},{"$f":"IFERROR('6 LCI Factors'!I237*'7 Mass Data for SMM'!I27/10000,0)","v":0},{"$f":"IFERROR('6 LCI Factors'!J237*'7 Mass Data for SMM'!J27/10000,0)","v":0},{"$f":"IFERROR('6 LCI Factors'!K237*'7 Mass Data for SMM'!K27/10000,0)","v":0},{"$f":"IFERROR('6 LCI Factors'!L237*'7 Mass Data for SMM'!L27/10000,0)","v":0},0,0]
[null,null,24,"Concrete",{"$f":"IFERROR('6 LCI Factors'!E238*'7 Mass Data for SMM'!E28/10000,0)","v":0},{"$f":"IFERROR('6 LCI Factors'!F238*'7 Mass Data for SMM'!F28/10000,0)","v":0},{"$f":"IFERROR('6 LCI Factors'!E238*'7 Mass Data for SMM'!G28/10000,0)","v":0},{"$f":"IFERROR('6 LCI Factors'!G238*'7 Mass Data for SMM'!G28/10000,0)","v":0},{"$f":"IFERROR('6 LCI Factors'!H238*'7 Mass Data for SMM'!H28/10000,0)","v":0},{"$f":"IFERROR('6 LCI Factors'!I238*'7 Mass Data for SMM'!I28/10000,0)","v":0},{"$f":"IFERROR('6 LCI Factors'!J238*'7 Mass Data for SMM'!J28/10000,0)","v":0},{"$f":"IFERROR('6 LCI Factors'!K238*'7 Mass Data for SMM'!K28/10000,0)","v":0},{"$f":"IFERROR('6 LCI Factors'!L238*'7 Mass Data for SMM'!L28/10000,0)","v":0},0,0]
[null,null,25,"Reclaimed Asphalt Pavement",{"$f":"IFERROR('6 LCI Factors'!E239*'7 Mass Data for SMM'!E29/10000,0)","v":0},{"$f":"IFERROR('6 LCI Factors'!F239*'7 Mass Data for SMM'!F29/10000,0)","v":0},{"$f":"IFERROR('6 LCI Factors'!E239*'7 Mass Data for SMM'!G29/10000,0)","v":0},{"$f":"IFERROR('6 LCI Factors'!G239*'7 Mass Data for SMM'!G29/10000,0)","v":0},{"$f":"IFERROR('6 LCI Factors'!H239*'7 Mass Data for SMM'!H29/10000,0)","v":0},{"$f":"IFERROR('6 LCI Factors'!I239*'7 Mass Data for SMM'!I29/10000,0)","v":0},{"$f":"IFERROR('6 LCI Factors'!J239*'7 Mass Data for SMM'!J29/10000,0)","v":0},{"$f":"IFERROR('6 LCI Factors'!K239*'7 Mass Data for SMM'!K29/10000,0)","v":0},{"$f":"IFERROR('6 LCI Factors'!L239*'7 Mass Data for SMM'!L29/10000,0)","v":0},0,0]
[null,"Total",null,null,{"$f":"SUMIF(E218:E242,\"<>#value!\")","v":0},0,{"$f":"SUMIF(G218:G242,\"<>#value!\")","v":0},{"$f":"SUMIF(H218:H242,\"<>#value!\")","v":0},{"$f":"SUMIF(I218:I242,\"<>#value!\")","v":0},0,0,0,0,0,0]
[]
[null,"Table 9."]
[null,"Landfill Space Use (yd3): The measure of space a material, when compacted, occupies in a landfill. "]
[null,"Material Category","Item No.","Material Type","Source Reduced/ Generated","Donated","Produced","Collection","Recycling","Composting","Anaerobic Digestion","Landfill","Combustion","Lifecycle Total","Waste Management Total"]
[null,"MSW ",1,"Mixed MSW",{"$f":"IFERROR('6 LCI Factors'!E245*'7 Mass Data for SMM'!E5,0)","v":0},{"$f":"IFERROR('6 LCI Factors'!F245*'7 Mass Data for SMM'!F5,0)","v":0},{"$f":"IFERROR('6 LCI Factors'!E245*'7 Mass Data for SMM'!G5,0)","v":0},{"$f":"IFERROR('6 LCI Factors'!G245*'7 Mass Data for SMM'!G5,0)","v":0},{"$f":"IFERROR('6 LCI Factors'!H245*'7 Mass Data for SMM'!H5,0)","v":0},{"$f":"IFERROR('6 LCI Factors'!I245*'7 Mass Data for SMM'!I5,0)","v":0},{"$f":"IFERROR('6 LCI Factors'!J245*'7 Mass Data for SMM'!J5,0)","v":0},{"$f":"IFERROR('6 LCI Factors'!K245*'7 Mass Data for SMM'!K5,0)","v":0},{"$f":"IFERROR('6 LCI Factors'!L245*'7 Mass Data for SMM'!L5,0)","v":0},{"$f":"SUMIF(E248:M248,\"<>#value!\")","v":0},{"$f":"SUMIF(H248:M248,\"<>#value!\")","v":0}]
[null,"Paper",2,"Newspaper",{"$f":"IFERROR('6 LCI Factors'!E246*'7 Mass Data for SMM'!E6,0)","v":0},{"$f":"IFERROR('6 LCI Factors'!F246*'7 Mass Data for SMM'!F6,0)","v":0},{"$f":"IFERROR('6 LCI Factors'!E246*'7 Mass Data for SMM'!G6,0)","v":0},{"$f":"IFERROR('6 LCI Factors'!G246*'7 Mass Data for SMM'!G6,0)","v":0},{"$f":"IFERROR('6 LCI Factors'!H246*'7 Mass Data for SMM'!H6,0)","v":0},{"$f":"IFERROR('6 LCI Factors'!I246*'7 Mass Data for SMM'!I6,0)","v":0},{"$f":"IFERROR('6 LCI Factors'!J246*'7 Mass Data for SMM'!J6,0)","v":0},{"$f":"IFERROR('6 LCI Factors'!K246*'7 Mass Data for SMM'!K6,0)","v":0},{"$f":"IFERROR('6 LCI Factors'!L246*'7 Mass Data for SMM'!L6,0)","v":0},{"$f":"SUMIF(E249:M249,\"<>#value!\")","v":0},{"$f":"SUMIF(H249:M249,\"<>#value!\")","v":0}]
[null,null,3,"Corrugated Cardboard (OCC)",{"$f":"IFERROR('6 LCI Factors'!E247*'7 Mass Data for SMM'!E7,0)","v":0},{"$f":"IFERROR('6 LCI Factors'!F247*'7 Mass Data for SMM'!F7,0)","v":0},{"$f":"IFERROR('6 LCI Factors'!E247*'7 Mass Data for SMM'!G7,0)","v":0},{"$f":"IFERROR('6 LCI Factors'!G247*'7 Mass Data for SMM'!G7,0)","v":0},{"$f":"IFERROR('6 LCI Factors'!H247*'7 Mass Data for SMM'!H7,0)","v":0},{"$f":"IFERROR('6 LCI Factors'!I247*'7 Mass Data for SMM'!I7,0)","v":0},{"$f":"IFERROR('6 LCI Factors'!J247*'7 Mass Data for SMM'!J7,0)","v":0},{"$f":"IFERROR('6 LCI Factors'!K247*'7 Mass Data for SMM'!K7,0)","v":0},{"$f":"IFERROR('6 LCI Factors'!L247*'7 Mass Data for SMM'!L7,0)","v":0},0,0]
[null,null,4,"High Grade Paper (Office Type Paper)",{"$f":"IFERROR('6 LCI Factors'!E248*'7 Mass Data for SMM'!E8,0)","v":0},{"$f":"IFERROR('6 LCI Factors'!F248*'7 Mass Data for SMM'!F8,0)","v":0},{"$f":"IFERROR('6 LCI Factors'!E248*'7 Mass Data for SMM'!G8,0)","v":0},{"$f":"IFERROR('6 LCI Factors'!G248*'7 Mass Data for SMM'!G8,0)","v":0},{"$f":"IFERROR('6 LCI Factors'!H248*'7 Mass Data for SMM'!H8,0)","v":0},{"$f":"IFERROR('6 LCI Factors'!I248*'7 Mass Data for SMM'!I8,0)","v":0},{"$f":"IFERROR('6 LCI Factors'!J248*'7 Mass Data for SMM'!J8,0)","v":0},{"$f":"IFERROR('6 LCI Factors'!K248*'7 Mass Data for SMM'!K8,0)","v":0},{"$f":"IFERROR('6 LCI Factors'!L248*'7 Mass Data for SMM'!L8,0)","v":0},0,0]
[null,null,5,"Magazines/third-class mail",{"$f":"IFERROR('6 LCI Factors'!E249*'7 Mass Data for SMM'!E9,0)","v":0},{"$f":"IFERROR('6 LCI Factors'!F249*'7 Mass Data for SMM'!F9,0)","v":0},{"$f":"IFERROR('6 LCI Factors'!E249*'7 Mass Data for SMM'!G9,0)","v":0},{"$f":"IFERROR('6 LCI Factors'!G249*'7 Mass Data for SMM'!G9,0)","v":0},{"$f":"IFERROR('6 LCI Factors'!H249*'7 Mass Data for SMM'!H9,0)","v":0},{"$f":"IFERROR('6 LCI Factors'!I249*'7 Mass Data for SMM'!I9,0)","v":0},{"$f":"IFERROR('6 LCI Factors'!J249*'7 Mass Data for SMM'!J9,0)","v":0},{"$f":"IFERROR('6 LCI Factors'!K249*'7 Mass Data for SMM'!K9,0)","v":0},{"$f":"IFERROR('6 LCI Factors'!L249*'7 Mass Data for SMM'!L9,0)","v":0},0,0]
[null,null,6,"Books",{"$f":"IFERROR('6 LCI Factors'!E250*'7 Mass Data for SMM'!E10,0)","v":0},{"$f":"IFERROR('6 LCI Factors'!F250*'7 Mass Data for SMM'!F10,0)","v":0},{"$f":"IFERROR('6 LCI Factors'!E250*'7 Mass Data for SMM'!G10,0)","v":0},{"$f":"IFERROR('6 LCI Factors'!G250*'7 Mass Data for SMM'!G10,0)","v":0},{"$f":"IFERROR('6 LCI Factors'!H250*'7 Mass Data for SMM'!H10,0)","v":0},{"$f":"IFERROR('6 LCI Factors'!I250*'7 Mass Data for SMM'!I10,0)","v":0},{"$f":"IFERROR('6 LCI Factors'!J250*'7 Mass Data for SMM'!J10,0)","v":0},{"$f":"IFERROR('6 LCI Factors'!K250*'7 Mass Data for SMM'!K10,0)","v":0},{"$f":"IFERROR('6 LCI Factors'!L250*'7 Mass Data for SMM'!L10,0)","v":0},0,0]
[null,null,7,"Mixed Paper",{"$f":"IFERROR('6 LCI Factors'!E251*'7 Mass Data for SMM'!E11,0)","v":0},{"$f":"IFERROR('6 LCI Factors'!F251*'7 Mass Data for SMM'!F11,0)","v":0},{"$f":"IFERROR('6 LCI Factors'!E251*'7 Mass Data for SMM'!G11,0)","v":0},{"$f":"IFERROR('6 LCI Factors'!G251*'7 Mass Data for SMM'!G11,0)","v":0},{"$f":"IFERROR('6 LCI Factors'!H251*'7 Mass Data for SMM'!H11,0)","v":0},{"$f":"IFERROR('6 LCI Factors'!I251*'7 Mass Data for SMM'!I11,0)","v":0},{"$f":"IFERROR('6 LCI Factors'!J251*'7 Mass Data for SMM'!J11,0)","v":0},{"$f":"IFERROR('6 LCI Factors'!K251*'7 Mass Data for SMM'!K11,0)","v":0},{"$f":"IFERROR('6 LCI Factors'!L251*'7 Mass Data for SMM'!L11,0)","v":0},0,0]
[null,"Plastic",8,"HDPE",{"$f":"IFERROR('6 LCI Factors'!E252*'7 Mass Data for SMM'!E12,0)","v":0},{"$f":"IFERROR('6 LCI Factors'!F252*'7 Mass Data for SMM'!F12,0)","v":0},{"$f":"IFERROR('6 LCI Factors'!E252*'7 Mass Data for SMM'!G12,0)","v":0},{"$f":"IFERROR('6 LCI Factors'!G252*'7 Mass Data for SMM'!G12,0)","v":0},{"$f":"IFERROR('6 LCI Factors'!H252*'7 Mass Data for SMM'!H12,0)","v":0},{"$f":"IFERROR('6 LCI Factors'!I252*'7 Mass Data for SMM'!I12,0)","v":0},{"$f":"IFERROR('6 LCI Factors'!J252*'7 Mass Data for SMM'!J12,0)","v":0},{"$f":"IFERROR('6 LCI Factors'!K252*'7 Mass Data for SMM'!K12,0)","v":0},{"$f":"IFERROR('6 LCI Factors'!L252*'7 Mass Data for SMM'!L12,0)","v":0},0,0]
[null,null,9,"PET",{"$f":"IFERROR('6 LCI Factors'!E253*'7 Mass Data for SMM'!E13,0)","v":0},{"$f":"IFERROR('6 LCI Factors'!F253*'7 Mass Data for SMM'!F13,0)","v":0},{"$f":"IFERROR('6 LCI Factors'!E253*'7 Mass Data for SMM'!G13,0)","v":0},{"$f":"IFERROR('6 LCI Factors'!G253*'7 Mass Data for SMM'!G13,0)","v":0},{"$f":"IFERROR('6 LCI Factors'!H253*'7 Mass Data for SMM'!H13,0)","v":0},{"$f":"IFERROR('6 LCI Factors'!I253*'7 Mass Data for SMM'!I13,0)","v":0},{"$f":"IFERROR('6 LCI Factors'!J253*'7 Mass Data for SMM'!J13,0)","v":0},{"$f":"IFERROR('6 LCI Factors'!K253*'7 Mass Data for SMM'!K13,0)","v":0},{"$f":"IFERROR('6 LCI Factors'!L253*'7 Mass Data for SMM'!L13,0)","v":0},0,0]
[null,null,10,"Mixed Plastic",{"$f":"IFERROR('6 LCI Factors'!E254*'7 Mass Data for SMM'!E14,0)","v":0},{"$f":"IFERROR('6 LCI Factors'!F254*'7 Mass Data for SMM'!F14,0)","v":0},{"$f":"IFERROR('6 LCI Factors'!E254*'7 Mass Data for SMM'!G14,0)","v":0},{"$f":"IFERROR('6 LCI Factors'!G254*'7 Mass Data for SMM'!G14,0)","v":0},{"$f":"IFERROR('6 LCI Factors'!H254*'7 Mass Data for SMM'!H14,0)","v":0},{"$f":"IFERROR('6 LCI Factors'!I254*'7 Mass Data for SMM'!I14,0)","v":0},{"$f":"IFERROR('6 LCI Factors'!J254*'7 Mass Data for SMM'!J14,0)","v":0},{"$f":"IFERROR('6 LCI Factors'!K254*'7 Mass Data for SMM'!K14,0)","v":0},{"$f":"IFERROR('6 LCI Factors'!L254*'7 Mass Data for SMM'!L14,0)","v":0},0,0]
[null,"Glass",11,"Glass",{"$f":"IFERROR('6 LCI Factors'!E255*'7 Mass Data for SMM'!E15,0)","v":0},{"$f":"IFERROR('6 LCI Factors'!F255*'7 Mass Data for SMM'!F15,0)","v":0},{"$f":"IFERROR('6 LCI Factors'!E255*'7 Mass Data for SMM'!G15,0)","v":0},{"$f":"IFERROR('6 LCI Factors'!G255*'7 Mass Data for SMM'!G15,0)","v":0},{"$f":"IFERROR('6 LCI Factors'!H255*'7 Mass Data for SMM'!H15,0)","v":0},{"$f":"IFERROR('6 LCI Factors'!I255*'7 Mass Data for SMM'!I15,0)","v":0},{"$f":"IFERROR('6 LCI Factors'!J255*'7 Mass Data for SMM'!J15,0)","v":0},{"$f":"IFERROR('6 LCI Factors'!K255*'7 Mass Data for SMM'!K15,0)","v":0},{"$f":"IFERROR('6 LCI Factors'!L255*'7 Mass Data for SMM'!L15,0)","v":0},0,0]
[null,"Metals",12,"Aluminum Cans",{"$f":"IFERROR('6 LCI Factors'!E256*'7 Mass Data for SMM'!E16,0)","v":0},{"$f":"IFERROR('6 LCI Factors'!F256*'7 Mass Data for SMM'!F16,0)","v":0},{"$f":"IFERROR('6 LCI Factors'!E256*'7 Mass Data for SMM'!G16,0)","v":0},{"$f":"IFERROR('6 LCI Factors'!G256*'7 Mass Data for SMM'!G16,0)","v":0},{"$f":"IFERROR('6 LCI Factors'!H256*'7 Mass Data for SMM'!H16,0)","v":0},{"$f":"IFERROR('6 LCI Factors'!I256*'7 Mass Data for SMM'!I16,0)","v":0},{"$f":"IFERROR('6 LCI Factors'!J256*'7 Mass Data for SMM'!J16,0)","v":0},{"$f":"IFERROR('6 LCI Factors'!K256*'7 Mass Data for SMM'!K16,0)","v":0},{"$f":"IFERROR('6 LCI Factors'!L256*'7 Mass Data for SMM'!L16,0)","v":0},0,0]
[null,null,13,"Steel/Tin Cans",{"$f":"IFERROR('6 LCI Factors'!E257*'7 Mass Data for SMM'!E17,0)","v":0},{"$f":"IFERROR('6 LCI Factors'!F257*'7 Mass Data for SMM'!F17,0)","v":0},{"$f":"IFERROR('6 LCI Factors'!E257*'7 Mass Data for SMM'!G17,0)","v":0},{"$f":"IFERROR('6 LCI Factors'!G257*'7 Mass Data for SMM'!G17,0)","v":0},{"$f":"IFERROR('6 LCI Factors'!H257*'7 Mass Data for SMM'!H17,0)","v":0},{"$f":"IFERROR('6 LCI Factors'!I257*'7 Mass Data for SMM'!I17,0)","v":0},{"$f":"IFERROR('6 LCI Factors'!J257*'7 Mass Data for SMM'!J17,0)","v":0},{"$f":"IFERROR('6 LCI Factors'!K257*'7 Mass Data for SMM'!K17,0)","v":0},{"$f":"IFERROR('6 LCI Factors'!L257*'7 Mass Data for SMM'!L17,0)","v":0},0,0]
[null,null,14,"Mixed Metals",{"$f":"IFERROR('6 LCI Factors'!E258*'7 Mass Data for SMM'!E18,0)","v":0},{"$f":"IFERROR('6 LCI Factors'!F258*'7 Mass Data for SMM'!F18,0)","v":0},{"$f":"IFERROR('6 LCI Factors'!E258*'7 Mass Data for SMM'!G18,0)","v":0},{"$f":"IFERROR('6 LCI Factors'!G258*'7 Mass Data for SMM'!G18,0)","v":0},{"$f":"IFERROR('6 LCI Factors'!H258*'7 Mass Data for SMM'!H18,0)","v":0},{"$f":"IFERROR('6 LCI Factors'!I258*'7 Mass Data for SMM'!I18,0)","v":0},{"$f":"IFERROR('6 LCI Factors'!J258*'7 Mass Data for SMM'!J18,0)","v":0},{"$f":"IFERROR('6 LCI Factors'!K258*'7 Mass Data for SMM'!K18,0)","v":0},{"$f":"IFERROR('6 LCI Factors'!L258*'7 Mass Data for SMM'!L18,0)","v":0},0,0]
[null,"Organic",15,"Yard Waste",{"$f":"IFERROR('6 LCI Factors'!E259*'7 Mass Data for SMM'!E19,0)","v":0},{"$f":"IFERROR('6 LCI Factors'!F259*'7 Mass Data for SMM'!F19,0)","v":0},{"$f":"IFERROR('6 LCI Factors'!E259*'7 Mass Data for SMM'!G19,0)","v":0},{"$f":"IFERROR('6 LCI Factors'!G259*'7 Mass Data for SMM'!G19,0)","v":0},{"$f":"IFERROR('6 LCI Factors'!H259*'7 Mass Data for SMM'!H19,0)","v":0},{"$f":"IFERROR('6 LCI Factors'!I259*'7 Mass Data for SMM'!I19,0)","v":0},{"$f":"IFERROR('6 LCI Factors'!J259*'7 Mass Data for SMM'!J19,0)","v":0},{"$f":"IFERROR('6 LCI Factors'!K259*'7 Mass Data for SMM'!K19,0)","v":0},{"$f":"IFERROR('6 LCI Factors'!L259*'7 Mass Data for SMM'!L19,0)","v":0},0,0]
[null,null,16,"Food Waste",{"$f":"IFERROR('6 LCI Factors'!E260*'7 Mass Data for SMM'!E20,0)","v":0},{"$f":"IFERROR('6 LCI Factors'!F260*'7 Mass Data for SMM'!F20,0)","v":0},{"$f":"IFERROR('6 LCI Factors'!E260*'7 Mass Data for SMM'!G20,0)","v":0},{"$f":"IFERROR('6 LCI Factors'!G260*'7 Mass Data for SMM'!G20,0)","v":0},{"$f":"IFERROR('6 LCI Factors'!H260*'7 Mass Data for SMM'!H20,0)","v":0},{"$f":"IFERROR('6 LCI Factors'!I260*'7 Mass Data for SMM'!I20,0)","v":0},{"$f":"IFERROR('6 LCI Factors'!J260*'7 Mass Data for SMM'!J20,0)","v":0},{"$f":"IFERROR('6 LCI Factors'!K260*'7 Mass Data for SMM'!K20,0)","v":0},{"$f":"IFERROR('6 LCI Factors'!L260*'7 Mass Data for SMM'!L20,0)","v":0},0,0]
[null,"Other ",17,"Tires",{"$f":"IFERROR('6 LCI Factors'!E261*'7 Mass Data for SMM'!E21,0)","v":0},{"$f":"IFERROR('6 LCI Factors'!F261*'7 Mass Data for SMM'!F21,0)","v":0},{"$f":"IFERROR('6 LCI Factors'!E261*'7 Mass Data for SMM'!G21,0)","v":0},{"$f":"IFERROR('6 LCI Factors'!G261*'7 Mass Data for SMM'!G21,0)","v":0},{"$f":"IFERROR('6 LCI Factors'!H261*'7 Mass Data for SMM'!H21,0)","v":0},{"$f":"IFERROR('6 LCI Factors'!I261*'7 Mass Data for SMM'!I21,0)","v":0},{"$f":"IFERROR('6 LCI Factors'!J261*'7 Mass Data for SMM'!J21,0)","v":0},{"$f":"IFERROR('6 LCI Factors'!K261*'7 Mass Data for SMM'!K21,0)","v":0},{"$f":"IFERROR('6 LCI Factors'!L261*'7 Mass Data for SMM'!L21,0)","v":0},0,0]
[null,null,18,"Clothing and Footwear",{"$f":"IFERROR('6 LCI Factors'!E262*'7 Mass Data for SMM'!E22,0)","v":0},{"$f":"IFERROR('6 LCI Factors'!F262*'7 Mass Data for SMM'!F22,0)","v":0},{"$f":"IFERROR('6 LCI Factors'!E262*'7 Mass Data for SMM'!G22,0)","v":0},{"$f":"IFERROR('6 LCI Factors'!G262*'7 Mass Data for SMM'!G22,0)","v":0},{"$f":"IFERROR('6 LCI Factors'!H262*'7 Mass Data for SMM'!H22,0)","v":0},{"$f":"IFERROR('6 LCI Factors'!I262*'7 Mass Data for SMM'!I22,0)","v":0},{"$f":"IFERROR('6 LCI Factors'!J262*'7 Mass Data for SMM'!J22,0)","v":0},{"$f":"IFERROR('6 LCI Factors'!K262*'7 Mass Data for SMM'!K22,0)","v":0},{"$f":"IFERROR('6 LCI Factors'!L262*'7 Mass Data for SMM'!L22,0)","v":0},0,0]
[null,null,19,"Furniture",{"$f":"IFERROR('6 LCI Factors'!E263*'7 Mass Data for SMM'!E23,0)","v":0},{"$f":"IFERROR('6 LCI Factors'!F263*'7 Mass Data for SMM'!F23,0)","v":0},{"$f":"IFERROR('6 LCI Factors'!E263*'7 Mass Data for SMM'!G23,0)","v":0},{"$f":"IFERROR('6 LCI Factors'!G263*'7 Mass Data for SMM'!G23,0)","v":0},{"$f":"IFERROR('6 LCI Factors'!H263*'7 Mass Data for SMM'!H23,0)","v":0},{"$f":"IFERROR('6 LCI Factors'!I263*'7 Mass Data for SMM'!I23,0)","v":0},{"$f":"IFERROR('6 LCI Factors'!J263*'7 Mass Data for SMM'!J23,0)","v":0},{"$f":"IFERROR('6 LCI Factors'!K263*'7 Mass Data for SMM'!K23,0)","v":0},{"$f":"IFERROR('6 LCI Factors'!L263*'7 Mass Data for SMM'!L23,0)","v":0},0,0]
[null,null,20,"Electronics",{"$f":"IFERROR('6 LCI Factors'!E264*'7 Mass Data for SMM'!E24,0)","v":0},{"$f":"IFERROR('6 LCI Factors'!F264*'7 Mass Data for SMM'!F24,0)","v":0},{"$f":"IFERROR('6 LCI Factors'!E264*'7 Mass Data for SMM'!G24,0)","v":0},{"$f":"IFERROR('6 LCI Factors'!G264*'7 Mass Data for SMM'!G24,0)","v":0},{"$f":"IFERROR('6 LCI Factors'!H264*'7 Mass Data for SMM'!H24,0)","v":0},{"$f":"IFERROR('6 LCI Factors'!I264*'7 Mass Data for SMM'!I24,0)","v":0},{"$f":"IFERROR('6 LCI Factors'!J264*'7 Mass Data for SMM'!J24,0)","v":0},{"$f":"IFERROR('6 LCI Factors'!K264*'7 Mass Data for SMM'!K24,0)","v":0},{"$f":"IFERROR('6 LCI Factors'!L264*'7 Mass Data for SMM'!L24,0)","v":0},0,0]
[null,"C&D Debris",21,"Wood Products",{"$f":"IFERROR('6 LCI Factors'!E265*'7 Mass Data for SMM'!E25,0)","v":0},{"$f":"IFERROR('6 LCI Factors'!F265*'7 Mass Data for SMM'!F25,0)","v":0},{"$f":"IFERROR('6 LCI Factors'!E265*'7 Mass Data for SMM'!G25,0)","v":0},{"$f":"IFERROR('6 LCI Factors'!G265*'7 Mass Data for SMM'!G25,0)","v":0},{"$f":"IFERROR('6 LCI Factors'!H265*'7 Mass Data for SMM'!H25,0)","v":0},{"$f":"IFERROR('6 LCI Factors'!I265*'7 Mass Data for SMM'!I25,0)","v":0},{"$f":"IFERROR('6 LCI Factors'!J265*'7 Mass Data for SMM'!J25,0)","v":0},{"$f":"IFERROR('6 LCI Factors'!K265*'7 Mass Data for SMM'!K25,0)","v":0},{"$f":"IFERROR('6 LCI Factors'!L265*'7 Mass Data for SMM'!L25,0)","v":0},0,0]
[null,null,22,"Asphalt Shingles",{"$f":"IFERROR('6 LCI Factors'!E266*'7 Mass Data for SMM'!E26,0)","v":0},{"$f":"IFERROR('6 LCI Factors'!F266*'7 Mass Data for SMM'!F26,0)","v":0},{"$f":"IFERROR('6 LCI Factors'!E266*'7 Mass Data for SMM'!G26,0)","v":0},{"$f":"IFERROR('6 LCI Factors'!G266*'7 Mass Data for SMM'!G26,0)","v":0},{"$f":"IFERROR('6 LCI Factors'!H266*'7 Mass Data for SMM'!H26,0)","v":0},{"$f":"IFERROR('6 LCI Factors'!I266*'7 Mass Data for SMM'!I26,0)","v":0},{"$f":"IFERROR('6 LCI Factors'!J266*'7 Mass Data for SMM'!J26,0)","v":0},{"$f":"IFERROR('6 LCI Factors'!K266*'7 Mass Data for SMM'!K26,0)","v":0},{"$f":"IFERROR('6 LCI Factors'!L266*'7 Mass Data for SMM'!L26,0)","v":0},0,0]
[null,null,23,"Gypsum Drywall",{"$f":"IFERROR('6 LCI Factors'!E267*'7 Mass Data for SMM'!E27,0)","v":0},{"$f":"IFERROR('6 LCI Factors'!F267*'7 Mass Data for SMM'!F27,0)","v":0},{"$f":"IFERROR('6 LCI Factors'!E267*'7 Mass Data for SMM'!G27,0)","v":0},{"$f":"IFERROR('6 LCI Factors'!G267*'7 Mass Data for SMM'!G27,0)","v":0},{"$f":"IFERROR('6 LCI Factors'!H267*'7 Mass Data for SMM'!H27,0)","v":0},{"$f":"IFERROR('6 LCI Factors'!I267*'7 Mass Data for SMM'!I27,0)","v":0},{"$f":"IFERROR('6 LCI Factors'!J267*'7 Mass Data for SMM'!J27,0)","v":0},{"$f":"IFERROR('6 LCI Factors'!K267*'7 Mass Data for SMM'!K27,0)","v":0},{"$f":"IFERROR('6 LCI Factors'!L267*'7 Mass Data for SMM'!L27,0)","v":0},0,0]
[null,null,24,"Concrete",{"$f":"IFERROR('6 LCI Factors'!E268*'7 Mass Data for SMM'!E28,0)","v":0},{"$f":"IFERROR('6 LCI Factors'!F268*'7 Mass Data for SMM'!F28,0)","v":0},{"$f":"IFERROR('6 LCI Factors'!E268*'7 Mass Data for SMM'!G28,0)","v":0},{"$f":"IFERROR('6 LCI Factors'!G268*'7 Mass Data for SMM'!G28,0)","v":0},{"$f":"IFERROR('6 LCI Factors'!H268*'7 Mass Data for SMM'!H28,0)","v":0},{"$f":"IFERROR('6 LCI Factors'!I268*'7 Mass Data for SMM'!I28,0)","v":0},{"$f":"IFERROR('6 LCI Factors'!J268*'7 Mass Data for SMM'!J28,0)","v":0},{"$f":"IFERROR('6 LCI Factors'!K268*'7 Mass Data for SMM'!K28,0)","v":0},{"$f":"IFERROR('6 LCI Factors'!L268*'7 Mass Data for SMM'!L28,0)","v":0},0,0]
[null,null,25,"Reclaimed Asphalt Pavement",{"$f":"IFERROR('6 LCI Factors'!E269*'7 Mass Data for SMM'!E29,0)","v":0},{"$f":"IFERROR('6 LCI Factors'!F269*'7 Mass Data for SMM'!F29,0)","v":0},{"$f":"IFERROR('6 LCI Factors'!E269*'7 Mass Data for SMM'!G29,0)","v":0},{"$f":"IFERROR('6 LCI Factors'!G269*'7 Mass Data for SMM'!G29,0)","v":0},{"$f":"IFERROR('6 LCI Factors'!H269*'7 Mass Data for SMM'!H29,0)","v":0},{"$f":"IFERROR('6 LCI Factors'!I269*'7 Mass Data for SMM'!I29,0)","v":0},{"$f":"IFERROR('6 LCI Factors'!J269*'7 Mass Data for SMM'!J29,0)","v":0},{"$f":"IFERROR('6 LCI Factors'!K269*'7 Mass Data for SMM'!K29,0)","v":0},{"$f":"IFERROR('6 LCI Factors'!L269*'7 Mass Data for SMM'!L29,0)","v":0},0,0]
[null,"Total",null,null,{"$f":"SUMIF(E248:E272,\"<>#value!\")","v":0},0,{"$f":"SUMIF(G248:G272,\"<>#value!\")","v":0},{"$f":"SUMIF(H248:H272,\"<>#value!\")","v":0},{"$f":"SUMIF(I248:I272,\"<>#value!\")","v":0},0,0,0,0,0,0]

{"sheet":"6 LCI Factors","index":6,"n_rows":269,"n_cols":12,"rows_kept":269,"cut":false,"hidden":false,"merged":[[264,1,268,1],[242,1,242,11],[245,1,250,1],[251,1,253,1],[255,1,257,1],[258,1,259,1],[260,1,263,1],[234,1,238,1],[212,1,212,11],[215,1,220,1],[221,1,223,1],[225,1,227,1],[228,1,229,1],[230,1,233,1],[204,1,208,1],[182,1,182,11],[185,1,190,1],[191,1,193,1],[195,1,197,1],[198,1,199,1],[200,1,203,1],[174,1,178,1],[152,1,152,11],[155,1,160,1],[161,1,163,1],[165,1,167,1],[168,1,169,1],[170,1,173,1],[144,1,148,1],[122,1,122,11],[125,1,130,1],[131,1,133,1],[135,1,137,1],[138,1,139,1],[140,1,143,1],[114,1,118,1],[92,1,92,11],[95,1,100,1],[101,1,103,1],[105,1,107,1],[108,1,109,1],[110,1,113,1],[84,1,88,1],[62,1,62,11],[65,1,70,1],[71,1,73,1],[75,1,77,1],[78,1,79,1],[80,1,83,1],[24,1,28,1],[54,1,58,1],[32,1,32,11],[35,1,40,1],[41,1,43,1],[45,1,47,1],[48,1,49,1],[50,1,53,1],[0,1,0,11],[20,1,23,1],[2,1,2,11],[5,1,10,1],[11,1,13,1],[15,1,17,1],[18,1,19,1]]}
[null,"Note: For some material categories, the selected model does not measure the environmental impacts so that mass associated with that material will not have an associated environmental footprint. For those materials they will have an associated \"NA\". For example, MSWDST does not measure book recycling so the mass associated with recycled books will have no measured environmental footprint in the SMM Results tab."]
[null,"All Units (tCO2eq./ Short Ton)"]
[null,{"$f":"'5 SMM Results'!B6:M6","v":"Climate Change (tCO2eq.): Greenhouse gases (GHG) absorb energy and slow energy from escaping into space which causes the Earth to get warmer. GHG are expressed as units of tCO2eq.of material to allow for comparison of global warming impacts of different gases relative to CO2. This is a measure of how much energy the emission of 1 ton of gas will absorb over a given period of time, relative to the emissions of 1 ton of CO2."}]
[null,"Material Category","Item No.","Material Type","Produced","Donated","Collection","Recycling","Composting","Anaerobic Digestion","Landfill","Combustion"]
[null,"MSW ",1,"Mixed MSW",{"$f":"INDEX('8 LCI Data Compilation'!$D$6:$I$32,MATCH(D5,'8 LCI Data Compilation'!$C$6:$C$32,0),MATCH('4 SMM Input'!$E$3,'8 LCI Data Compilation'!$D$7:$I$7,0))","v":"NA"},"NA",{"$f":"INDEX('8 LCI Data Compilation'!$J$6:$O$32,MATCH(D5,'8 LCI Data Compilation'!$C$6:$C$32,0),MATCH('4 SMM Input'!$E$3,'8 LCI Data Compilation'!$J$7:$O$7,0))","v":5.6523794652499999E-3},{"$f":"INDEX('8 LCI Data Compilation'!$P$6:$U$32,MATCH(D5,'8 LCI Data Compilation'!$C$6:$C$32,0),MATCH('4 SMM Input'!$E$3,'8 LCI Data Compilation'!$P$7:$U$7,0))","v":"NA"},{"$f":"INDEX('8 LCI Data Compilation'!$V$6:$AA$32,MATCH(D5,'8 LCI Data Compilation'!$C$6:$C$32,0),MATCH('4 SMM Input'!$E$3,'8 LCI Data Compilation'!$V$7:$AA$7,0))","v":"NA"},{"$f":"INDEX('8 LCI Data Compilation'!$AB$6:$AG$32,MATCH(D5,'8 LCI Data Compilation'!$C$6:$C$32,0),MATCH('4 SMM Input'!$E$3,'8 LCI Data Compilation'!$AB$7:$AG$7,0))","v":"NA"},{"$f":"INDEX('8 LCI Data Compilation'!$AH$6:$AM$32,MATCH(D5,'8 LCI Data Compilation'!$C$6:$C$32,0),MATCH('4 SMM Input'!$E$3,'8 LCI Data Compilation'!$AH$7:$AM$7,0))","v":-0.18362829068322495},{"$f":"INDEX('8 LCI Data Compilation'!$AN$6:$AS$32,MATCH(D5,'8 LCI Data Compilation'!$C$6:$C$32,0),MATCH('4 SMM Input'!$E$3,'8 LCI Data Compilation'!$AN$7:$AS$7,0))","v":-0.26833714216560911}]
[null,"Paper",2,"Newspaper",{"$f":"INDEX('8 LCI Data Compilation'!$D$6:$I$32,MATCH(D6,'8 LCI Data Compilation'!$C$6:$C$32,0),MATCH('4 SMM Input'!$E$3,'8 LCI Data Compilation'!$D$7:$I$7,0))","v":"NA"},"NA",{"$f":"INDEX('8 LCI Data Compilation'!$J$6:$O$32,MATCH(D6,'8 LCI Data Compilation'!$C$6:$C$32,0),MATCH('4 SMM Input'!$E$3,'8 LCI Data Compilation'!$J$7:$O$7,0))","v":5.6523794652499999E-3},{"$f":"INDEX('8 LCI Data Compilation'!$P$6:$U$32,MATCH(D6,'8 LCI Data Compilation'!$C$6:$C$32,0),MATCH('4 SMM Input'!$E$3,'8 LCI Data Compilation'!$P$7:$U$7,0))","v":-0.83036313364831904},{"$f":"INDEX('8 LCI Data Compilation'!$V$6:$AA$32,MATCH(D6,'8 LCI Data Compilation'!$C$6:$C$32,0),MATCH('4 SMM Input'!$E$3,'8 LCI Data Compilation'!$V$7:$AA$7,0))","v":"NA"},{"$f":"INDEX('8 LCI Data Compilation'!$AB$6:$AG$32,MATCH(D6,'8 LCI Data Compilation'!$C$6:$C$32,0),MATCH('4 SMM Input'!$E$3,'8 LCI Data Compilation'!$AB$7:$AG$7,0))","v":"NA"},{"$f":"INDEX('8 LCI Data Compilation'!$AH$6:$AM$32,MATCH(D6,'8 LCI Data Compilation'!$C$6:$C$32,0),MATCH('4 SMM Input'!$E$3,'8 LCI Data Compilation'!$AH$7:$AM$7,0))","v":-1.35371471055},{"$f":"INDEX('8 LCI Data Compilation'!$AN$6:$AS$32,MATCH(D6,'8 LCI Data Compilation'!$C$6:$C$32,0),MATCH('4 SMM Input'!$E$3,'8 LCI Data Compilation'!$AN$7:$AS$7,0))","v":-1.1779576014114832}]
[null,null,3,"Corrugated Cardboard (OCC)",{"$f":"INDEX('8 LCI Data Compilation'!$D$6:$I$32,MATCH(D7,'8 LCI Data Compilation'!$C$6:$C$32,0),MATCH('4 SMM Input'!$E$3,'8 LCI Data Compilation'!$D$7:$I$7,0))","v":"NA"},"NA",{"$f":"INDEX('8 LCI Data Compilation'!$J$6:$O$32,MATCH(D7,'8 LCI Data Compilation'!$C$6:$C$32,0),MATCH('4 SMM Input'!$E$3,'8 LCI Data Compilation'!$J$7:$O$7,0))","v":5.6523794652499999E-3},{"$f":"INDEX('8 LCI Data Compilation'!$P$6:$U$32,MATCH(D7,'8 LCI Data Compilation'!$C$6:$C$32,0),MATCH('4 SMM Input'!$E$3,'8 LCI Data Compilation'!$P$7:$U$7,0))","v":0.19056110027016565},{"$f":"INDEX('8 LCI Data Compilation'!$V$6:$AA$32,MATCH(D7,'8 LCI Data Compilation'!$C$6:$C$32,0),MATCH('4 SMM Input'!$E$3,'8 LCI Data Compilation'!$V$7:$AA$7,0))","v":"NA"},{"$f":"INDEX('8 LCI Data Compilation'!$AB$6:$AG$32,MATCH(D7,'8 LCI Data Compilation'!$C$6:$C$32,0),MATCH('4 SMM Input'!$E$3,'8 LCI Data Compilation'!$AB$7:$AG$7,0))","v":"NA"},{"$f":"INDEX('8 LCI Data Compilation'!$AH$6:$AM$32,MATCH(D7,'8 LCI Data Compilation'!$C$6:$C$32,0),MATCH('4 SMM Input'!$E$3,'8 LCI Data Compilation'!$AH$7:$AM$7,0))","v":-0.7743346457000001},{"$f":"INDEX('8 LCI Data Compilation'!$AN$6:$AS$32,MATCH(D7,'8 LCI Data Compilation'!$C$6:$C$32,0),MATCH('4 SMM Input'!$E$3,'8 LCI Data Compilation'!$AN$7:$AS$7,0))","v":-1.0776788530909092}]
[null,null,4,"High Grade Paper (Office Type Paper)",{"$f":"INDEX('8 LCI Data Compilation'!$D$6:$I$32,MATCH(D8,'8 LCI Data Compilation'!$C$6:$C$32,0),MATCH('4 SMM Input'!$E$3,'8 LCI Data Compilation'!$D$7:$I$7,0))","v":"NA"},"NA",{"$f":"INDEX('8 LCI Data Compilation'!$J$6:$O$32,MATCH(D8,'8 LCI Data Compilation'!$C$6:$C$32,0),MATCH('4 SMM Input'!$E$3,'8 LCI Data Compilation'!$J$7:$O$7,0))","v":5.6523794652499999E-3},{"$f":"INDEX('8 LCI Data Compilation'!$P$6:$U$32,MATCH(D8,'8 LCI Data Compilation'!$C$6:$C$32,0),MATCH('4 SMM Input'!$E$3,'8 LCI Data Compilation'!$P$7:$U$7,0))","v":0.35253980183259448},{"$f":"INDEX('8 LCI Data Compilation'!$V$6:$AA$32,MATCH(D8,'8 LCI Data Compilation'!$C$6:$C$32,0),MATCH('4 SMM Input'!$E$3,'8 LCI Data Compilation'!$V$7:$AA$7,0))","v":"NA"},{"$f":"INDEX('8 LCI Data Compilation'!$AB$6:$AG$32,MATCH(D8,'8 LCI Data Compilation'!$C$6:$C$32,0),MATCH('4 SMM Input'!$E$3,'8 LCI Data Compilation'!$AB$7:$AG$7,0))","v":"NA"},{"$f":"INDEX('8 LCI Data Compilation'!$AH$6:$AM$32,MATCH(D8,'8 LCI Data Compilation'!$C$6:$C$32,0),MATCH('4 SMM Input'!$E$3,'8 LCI Data Compilation'!$AH$7:$AM$7,0))","v":0.10978402094999992},{"$f":"INDEX('8 LCI Data Compilation'!$AN$6:$AS$32,MATCH(D8,'8 LCI Data Compilation'!$C$6:$C$32,0),MATCH('4 SMM Input'!$E$3,'8 LCI Data Compilation'!$AN$7:$AS$7,0))","v":-0.98663037827272737}]
[null,null,5,"Magazines/third-class mail",{"$f":"INDEX('8 LCI Data Compilation'!$D$6:$I$32,MATCH(D9,'8 LCI Data Compilation'!$C$6:$C$32,0),MATCH('4 SMM Input'!$E$3,'8 LCI Data Compilation'!$D$7:$I$7,0))","v":"NA"},"NA",{"$f":"INDEX('8 LCI Data Compilation'!$J$6:$O$32,MATCH(D9,'8 LCI Data Compilation'!$C$6:$C$32,0),MATCH('4 SMM Input'!$E$3,'8 LCI Data Compilation'!$J$7:$O$7,0))","v":5.6523794652499999E-3},{"$f":"INDEX('8 LCI Data Compilation'!$P$6:$U$32,MATCH(D9,'8 LCI Data Compilation'!$C$6:$C$32,0),MATCH('4 SMM Input'!$E$3,'8 LCI Data Compilation'!$P$7:$U$7,0))","v":5.6597239962511106E-2},{"$f":"INDEX('8 LCI Data Compilation'!$V$6:$AA$32,MATCH(D9,'8 LCI Data Compilation'!$C$6:$C$32,0),MATCH('4 SMM Input'!$E$3,'8 LCI Data Compilation'!$V$7:$AA$7,0))","v":"NA"},{"$f":"INDEX('8 LCI Data Compilation'!$AB$6:$AG$32,MATCH(D9,'8 LCI Data Compilation'!$C$6:$C$32,0),MATCH('4 SMM Input'!$E$3,'8 LCI Data Compilation'!$AB$7:$AG$7,0))","v":"NA"},{"$f":"INDEX('8 LCI Data Compilation'!$AH$6:$AM$32,MATCH(D9,'8 LCI Data Compilation'!$C$6:$C$32,0),MATCH('4 SMM Input'!$E$3,'8 LCI Data Compilation'!$AH$7:$AM$7,0))","v":-0.46836317409999983},{"$f":"INDEX('8 LCI Data Compilation'!$AN$6:$AS$32,MATCH(D9,'8 LCI Data Compilation'!$C$6:$C$32,0),MATCH('4 SMM Input'!$E$3,'8 LCI Data Compilation'!$AN$7:$AS$7,0))","v":-0.88806206127007192}]
[null,null,6,"Books",{"$f":"INDEX('8 LCI Data Compilation'!$D$6:$I$32,MATCH(D10,'8 LCI Data Compilation'!$C$6:$C$32,0),MATCH('4 SMM Input'!$E$3,'8 LCI Data Compilation'!$D$7:$I$7,0))","v":"NA"},"NA",{"$f":"INDEX('8 LCI Data Compilation'!$J$6:$O$32,MATCH(D10,'8 LCI Data Compilation'!$C$6:$C$32,0),MATCH('4 SMM Input'!$E$3,'8 LCI Data Compilation'!$J$7:$O$7,0))","v":5.6523794652499999E-3},{"$f":"INDEX('8 LCI Data Compilation'!$P$6:$U$32,MATCH(D10,'8 LCI Data Compilation'!$C$6:$C$32,0),MATCH('4 SMM Input'!$E$3,'8 LCI Data Compilation'!$P$7:$U$7,0))","v":"NA"},{"$f":"INDEX('8 LCI Data Compilation'!$V$6:$AA$32,MATCH(D10,'8 LCI Data Compilation'!$C$6:$C$32,0),MATCH('4 SMM Input'!$E$3,'8 LCI Data Compilation'!$V$7:$AA$7,0))","v":"NA"},{"$f":"INDEX('8 LCI Data Compilation'!$AB$6:$AG$32,MATCH(D10,'8 LCI Data Compilation'!$C$6:$C$32,0),MATCH('4 SMM Input'!$E$3,'8 LCI Data Compilation'!$AB$7:$AG$7,0))","v":"NA"},{"$f":"INDEX('8 LCI Data Compilation'!$AH$6:$AM$32,MATCH(D10,'8 LCI Data Compilation'!$C$6:$C$32,0),MATCH('4 SMM Input'!$E$3,'8 LCI Data Compilation'!$AH$7:$AM$7,0))","v":9.629542936885245E-2},{"$f":"INDEX('8 LCI Data Compilation'!$AN$6:$AS$32,MATCH(D10,'8 LCI Data Compilation'!$C$6:$C$32,0),MATCH('4 SMM Input'!$E$3,'8 LCI Data Compilation'!$AN$7:$AS$7,0))","v":-0.96838381357607717}]
[null,null,7,"Mixed Paper",{"$f":"INDEX('8 LCI Data Compilation'!$D$6:$I$32,MATCH(D11,'8 LCI Data Compilation'!$C$6:$C$32,0),MATCH('4 SMM Input'!$E$3,'8 LCI Data Compilation'!$D$7:$I$7,0))","v":"NA"},"NA",{"$f":"INDEX('8 LCI Data Compilation'!$J$6:$O$32,MATCH(D11,'8 LCI Data Compilation'!$C$6:$C$32,0),MATCH('4 SMM Input'!$E$3,'8 LCI Data Compilation'!$J$7:$O$7,0))","v":5.6523794652499999E-3},{"$f":"INDEX('8 LCI Data Compilation'!$P$6:$U$32,MATCH(D11,'8 LCI Data Compilation'!$C$6:$C$32,0),MATCH('4 SMM Input'!$E$3,'8 LCI Data Compilation'!$P$7:$U$7,0))","v":-5.7666247895761941E-2},{"$f":"INDEX('8 LCI Data Compilation'!$V$6:$AA$32,MATCH(D11,'8 LCI Data Compilation'!$C$6:$C$32,0),MATCH('4 SMM Input'!$E$3,'8 LCI Data Compilation'!$V$7:$AA$7,0))","v":"NA"},{"$f":"INDEX('8 LCI Data Compilation'!$AB$6:$AG$32,MATCH(D11,'8 LCI Data Compilation'!$C$6:$C$32,0),MATCH('4 SMM Input'!$E$3,'8 LCI Data Compilation'!$AB$7:$AG$7,0))","v":"NA"},{"$f":"INDEX('8 LCI Data Compilation'!$AH$6:$AM$32,MATCH(D11,'8 LCI Data Compilation'!$C$6:$C$32,0),MATCH('4 SMM Input'!$E$3,'8 LCI Data Compilation'!$AH$7:$AM$7,0))","v":-0.62165712735},{"$f":"INDEX('8 LCI Data Compilation'!$AN$6:$AS$32,MATCH(D11,'8 LCI Data Compilation'!$C$6:$C$32,0),MATCH('4 SMM Input'!$E$3,'8 LCI Data Compilation'!$AN$7:$AS$7,0))","v":-1.0325822235112978}]
[null,"Plastic",8,"HDPE",{"$f":"INDEX('8 LCI Data Compilation'!$D$6:$I$32,MATCH(D12,'8 LCI Data Compilation'!$C$6:$C$32,0),MATCH('4 SMM Input'!$E$3,'8 LCI Data Compilation'!$D$7:$I$7,0))","v":"NA"},"NA",{"$f":"INDEX('8 LCI Data Compilation'!$J$6:$O$32,MATCH(D12,'8 LCI Data Compilation'!$C$6:$C$32,0),MATCH('4 SMM Input'!$E$3,'8 LCI Data Compilation'!$J$7:$O$7,0))","v":5.6523794652499999E-3},{"$f":"INDEX('8 LCI Data Compilation'!$P$6:$U$32,MATCH(D12,'8 LCI Data Compilation'!$C$6:$C$32,0),MATCH('4 SMM Input'!$E$3,'8 LCI Data Compilation'!$P$7:$U$7,0))","v":-1.1393799087790071},{"$f":"INDEX('8 LCI Data Compilation'!$V$6:$AA$32,MATCH(D12,'8 LCI Data Compilation'!$C$6:$C$32,0),MATCH('4 SMM Input'!$E$3,'8 LCI Data Compilation'!$V$7:$AA$7,0))","v":"NA"},{"$f":"INDEX('8 LCI Data Compilation'!$AB$6:$AG$32,MATCH(D12,'8 LCI Data Compilation'!$C$6:$C$32,0),MATCH('4 SMM Input'!$E$3,'8 LCI Data Compilation'!$AB$7:$AG$7,0))","v":"NA"},{"$f":"INDEX('8 LCI Data Compilation'!$AH$6:$AM$32,MATCH(D12,'8 LCI Data Compilation'!$C$6:$C$32,0),MATCH('4 SMM Input'!$E$3,'8 LCI Data Compilation'!$AH$7:$AM$7,0))","v":3.8994511335499996E-3},{"$f":"INDEX('8 LCI Data Compilation'!$AN$6:$AS$32,MATCH(D12,'8 LCI Data Compilation'!$C$6:$C$32,0),MATCH('4 SMM Input'!$E$3,'8 LCI Data Compilation'!$AN$7:$AS$7,0))","v":2.8834981714394838}]
[null,null,9,"PET",{"$f":"INDEX('8 LCI Data Compilation'!$D$6:$I$32,MATCH(D13,'8 LCI Data Compilation'!$C$6:$C$32,0),MATCH('4 SMM Input'!$E$3,'8 LCI Data Compilation'!$D$7:$I$7,0))","v":"NA"},"NA",{"$f":"INDEX('8 LCI Data Compilation'!$J$6:$O$32,MATCH(D13,'8 LCI Data Compilation'!$C$6:$C$32,0),MATCH('4 SMM Input'!$E$3,'8 LCI Data Compilation'!$J$7:$O$7,0))","v":5.6523794652499999E-3},{"$f":"INDEX('8 LCI Data Compilation'!$P$6:$U$32,MATCH(D13,'8 LCI Data Compilation'!$C$6:$C$32,0),MATCH('4 SMM Input'!$E$3,'8 LCI Data Compilation'!$P$7:$U$7,0))","v":-1.4807401747301159},{"$f":"INDEX('8 LCI Data Compilation'!$V$6:$AA$32,MATCH(D13,'8 LCI Data Compilation'!$C$6:$C$32,0),MATCH('4 SMM Input'!$E$3,'8 LCI Data Compilation'!$V$7:$AA$7,0))","v":"NA"},{"$f":"INDEX('8 LCI Data Compilation'!$AB$6:$AG$32,MATCH(D13,'8 LCI Data Compilation'!$C$6:$C$32,0),MATCH('4 SMM Input'!$E$3,'8 LCI Data Compilation'!$AB$7:$AG$7,0))","v":"NA"},{"$f":"INDEX('8 LCI Data Compilation'!$AH$6:$AM$32,MATCH(D13,'8 LCI Data Compilation'!$C$6:$C$32,0),MATCH('4 SMM Input'!$E$3,'8 LCI Data Compilation'!$AH$7:$AM$7,0))","v":3.8994511335499996E-3},{"$f":"INDEX('8 LCI Data Compilation'!$AN$6:$AS$32,MATCH(D13,'8 LCI Data Compilation'!$C$6:$C$32,0),MATCH('4 SMM Input'!$E$3,'8 LCI Data Compilation'!$AN$7:$AS$7,0))","v":1.3016799896213018}]
[null,null,10,"Mixed Plastic",{"$f":"INDEX('8 LCI Data Compilation'!$D$6:$I$32,MATCH(D14,'8 LCI Data Compilation'!$C$6:$C$32,0),MATCH('4 SMM Input'!$E$3,'8 LCI Data Compilation'!$D$7:$I$7,0))","v":"NA"},"NA",{"$f":"INDEX('8 LCI Data Compilation'!$J$6:$O$32,MATCH(D14,'8 LCI Data Compilation'!$C$6:$C$32,0),MATCH('4 SMM Input'!$E$3,'8 LCI Data Compilation'!$J$7:$O$7,0))","v":5.6523794652499999E-3},{"$f":"INDEX('8 LCI Data Compilation'!$P$6:$U$32,MATCH(D14,'8 LCI Data Compilation'!$C$6:$C$32,0),MATCH('4 SMM Input'!$E$3,'8 LCI Data Compilation'!$P$7:$U$7,0))","v":-1.3100600417545616},{"$f":"INDEX('8 LCI Data Compilation'!$V$6:$AA$32,MATCH(D14,'8 LCI Data Compilation'!$C$6:$C$32,0),MATCH('4 SMM Input'!$E$3,'8 LCI Data Compilation'!$V$7:$AA$7,0))","v":"NA"},{"$f":"INDEX('8 LCI Data Compilation'!$AB$6:$AG$32,MATCH(D14,'8 LCI Data Compilation'!$C$6:$C$32,0),MATCH('4 SMM Input'!$E$3,'8 LCI Data Compilation'!$AB$7:$AG$7,0))","v":"NA"},{"$f":"INDEX('8 LCI Data Compilation'!$AH$6:$AM$32,MATCH(D14,'8 LCI Data Compilation'!$C$6:$C$32,0),MATCH('4 SMM Input'!$E$3,'8 LCI Data Compilation'!$AH$7:$AM$7,0))","v":3.8994511335499996E-3},{"$f":"INDEX('8 LCI Data Compilation'!$AN$6:$AS$32,MATCH(D14,'8 LCI Data Compilation'!$C$6:$C$32,0),MATCH('4 SMM Input'!$E$3,'8 LCI Data Compilation'!$AN$7:$AS$7,0))","v":2.0925890805303928}]
[null,"Glass",11,"Glass",{"$f":"INDEX('8 LCI Data Compilation'!$D$6:$I$32,MATCH(D15,'8 LCI Data Compilation'!$C$6:$C$32,0),MATCH('4 SMM Input'!$E$3,'8 LCI Data Compilation'!$D$7:$I$7,0))","v":"NA"},"NA",{"$f":"INDEX('8 LCI Data Compilation'!$J$6:$O$32,MATCH(D15,'8 LCI Data Compilation'!$C$6:$C$32,0),MATCH('4 SMM Input'!$E$3,'8 LCI Data Compilation'!$J$7:$O$7,0))","v":5.6523794652499999E-3},{"$f":"INDEX('8 LCI Data Compilation'!$P$6:$U$32,MATCH(D15,'8 LCI Data Compilation'!$C$6:$C$32,0),MATCH('4 SMM Input'!$E$3,'8 LCI Data Compilation'!$P$7:$U$7,0))","v":-0.29978614753866939},{"$f":"INDEX('8 LCI Data Compilation'!$V$6:$AA$32,MATCH(D15,'8 LCI Data Compilation'!$C$6:$C$32,0),MATCH('4 SMM Input'!$E$3,'8 LCI Data Compilation'!$V$7:$AA$7,0))","v":"NA"},{"$f":"INDEX('8 LCI Data Compilation'!$AB$6:$AG$32,MATCH(D15,'8 LCI Data Compilation'!$C$6:$C$32,0),MATCH('4 SMM Input'!$E$3,'8 LCI Data Compilation'!$AB$7:$AG$7,0))","v":"NA"},{"$f":"INDEX('8 LCI Data Compilation'!$AH$6:$AM$32,MATCH(D15,'8 LCI Data Compilation'!$C$6:$C$32,0),MATCH('4 SMM Input'!$E$3,'8 LCI Data Compilation'!$AH$7:$AM$7,0))","v":3.8994511335499996E-3},{"$f":"INDEX('8 LCI Data Compilation'!$AN$6:$AS$32,MATCH(D15,'8 LCI Data Compilation'!$C$6:$C$32,0),MATCH('4 SMM Input'!$E$3,'8 LCI Data Compilation'!$AN$7:$AS$7,0))","v":1.352578962962963E-2}]
[null,"Metals",12,"Aluminum Cans",{"$f":"INDEX('8 LCI Data Compilation'!$D$6:$I$32,MATCH(D16,'8 LCI Data Compilation'!$C$6:$C$32,0),MATCH('4 SMM Input'!$E$3,'8 LCI Data Compilation'!$D$7:$I$7,0))","v":"NA"},"NA",{"$f":"INDEX('8 LCI Data Compilation'!$J$6:$O$32,MATCH(D16,'8 LCI Data Compilation'!$C$6:$C$32,0),MATCH('4 SMM Input'!$E$3,'8 LCI Data Compilation'!$J$7:$O$7,0))","v":5.6523794652499999E-3},{"$f":"INDEX('8 LCI Data Compilation'!$P$6:$U$32,MATCH(D16,'8 LCI Data Compilation'!$C$6:$C$32,0),MATCH('4 SMM Input'!$E$3,'8 LCI Data Compilation'!$P$7:$U$7,0))","v":-9.8571386785077415},{"$f":"INDEX('8 LCI Data Compilation'!$V$6:$AA$32,MATCH(D16,'8 LCI Data Compilation'!$C$6:$C$32,0),MATCH('4 SMM Input'!$E$3,'8 LCI Data Compilation'!$V$7:$AA$7,0))","v":"NA"},{"$f":"INDEX('8 LCI Data Compilation'!$AB$6:$AG$32,MATCH(D16,'8 LCI Data Compilation'!$C$6:$C$32,0),MATCH('4 SMM Input'!$E$3,'8 LCI Data Compilation'!$AB$7:$AG$7,0))","v":"NA"},{"$f":"INDEX('8 LCI Data Compilation'!$AH$6:$AM$32,MATCH(D16,'8 LCI Data Compilation'!$C$6:$C$32,0),MATCH('4 SMM Input'!$E$3,'8 LCI Data Compilation'!$AH$7:$AM$7,0))","v":3.8994511335499996E-3},{"$f":"INDEX('8 LCI Data Compilation'!$AN$6:$AS$32,MATCH(D16,'8 LCI Data Compilation'!$C$6:$C$32,0),MATCH('4 SMM Input'!$E$3,'8 LCI Data Compilation'!$AN$7:$AS$7,0))","v":2.6869406603773585E-2}]
[null,null,13,"Steel/Tin Cans",{"$f":"INDEX('8 LCI Data Compilation'!$D$6:$I$32,MATCH(D17,'8 LCI Data Compilation'!$C$6:$C$32,0),MATCH('4 SMM Input'!$E$3,'8 LCI Data Compilation'!$D$7:$I$7,0))","v":"NA"},"NA",{"$f":"INDEX('8 LCI Data Compilation'!$J$6:$O$32,MATCH(D17,'8 LCI Data Compilation'!$C$6:$C$32,0),MATCH('4 SMM Input'!$E$3,'8 LCI Data Compilation'!$J$7:$O$7,0))","v":5.6523794652499999E-3},{"$f":"INDEX('8 LCI Data Compilation'!$P$6:$U$32,MATCH(D17,'8 LCI Data Compilation'!$C$6:$C$32,0),MATCH('4 SMM Input'!$E$3,'8 LCI Data Compilation'!$P$7:$U$7,0))","v":-0.85213328115645415},{"$f":"INDEX('8 LCI Data Compilation'!$V$6:$AA$32,MATCH(D17,'8 LCI Data Compilation'!$C$6:$C$32,0),MATCH('4 SMM Input'!$E$3,'8 LCI Data Compilation'!$V$7:$AA$7,0))","v":"NA"},{"$f":"INDEX('8 LCI Data Compilation'!$AB$6:$AG$32,MATCH(D17,'8 LCI Data Compilation'!$C$6:$C$32,0),MATCH('4 SMM Input'!$E$3,'8 LCI Data Compilation'!$AB$7:$AG$7,0))","v":"NA"},{"$f":"INDEX('8 LCI Data Compilation'!$AH$6:$AM$32,MATCH(D17,'8 LCI Data Compilation'!$C$6:$C$32,0),MATCH('4 SMM Input'!$E$3,'8 LCI Data Compilation'!$AH$7:$AM$7,0))","v":3.8994511335499996E-3},{"$f":"INDEX('8 LCI Data Compilation'!$AN$6:$AS$32,MATCH(D17,'8 LCI Data Compilation'!$C$6:$C$32,0),MATCH('4 SMM Input'!$E$3,'8 LCI Data Compilation'!$AN$7:$AS$7,0))","v":-1.8339302636363637}]
[null,null,14,"Mixed Metals",{"$f":"INDEX('8 LCI Data Compilation'!$D$6:$I$32,MATCH(D18,'8 LCI Data Compilation'!$C$6:$C$32,0),MATCH('4 SMM Input'!$E$3,'8 LCI Data Compilation'!$D$7:$I$7,0))","v":"NA"},"NA",{"$f":"INDEX('8 LCI Data Compilation'!$J$6:$O$32,MATCH(D18,'8 LCI Data Compilation'!$C$6:$C$32,0),MATCH('4 SMM Input'!$E$3,'8 LCI Data Compilation'!$J$7:$O$7,0))","v":5.6523794652499999E-3},{"$f":"INDEX('8 LCI Data Compilation'!$P$6:$U$32,MATCH(D18,'8 LCI Data Compilation'!$C$6:$C$32,0),MATCH('4 SMM Input'!$E$3,'8 LCI Data Compilation'!$P$7:$U$7,0))","v":-5.350996838426112},{"$f":"INDEX('8 LCI Data Compilation'!$V$6:$AA$32,MATCH(D18,'8 LCI Data Compilation'!$C$6:$C$32,0),MATCH('4 SMM Input'!$E$3,'8 LCI Data Compilation'!$V$7:$AA$7,0))","v":"NA"},{"$f":"INDEX('8 LCI Data Compilation'!$AB$6:$AG$32,MATCH(D18,'8 LCI Data Compilation'!$C$6:$C$32,0),MATCH('4 SMM Input'!$E$3,'8 LCI Data Compilation'!$AB$7:$AG$7,0))","v":"NA"},{"$f":"INDEX('8 LCI Data Compilation'!$AH$6:$AM$32,MATCH(D18,'8 LCI Data Compilation'!$C$6:$C$32,0),MATCH('4 SMM Input'!$E$3,'8 LCI Data Compilation'!$AH$7:$AM$7,0))","v":3.8994511335499996E-3},{"$f":"INDEX('8 LCI Data Compilation'!$AN$6:$AS$32,MATCH(D18,'8 LCI Data Compilation'!$C$6:$C$32,0),MATCH('4 SMM Input'!$E$3,'8 LCI Data Compilation'!$AN$7:$AS$7,0))","v":-0.87954379215265865}]
[null,"Organic",15,"Yard Waste",{"$f":"INDEX('8 LCI Data Compilation'!$D$6:$I$32,MATCH(D19,'8 LCI Data Compilation'!$C$6:$C$32,0),MATCH('4 SMM Input'!$E$3,'8 LCI Data Compilation'!$D$7:$I$7,0))","v":"NA"},"NA",{"$f":"INDEX('8 LCI Data Compilation'!$J$6:$O$32,MATCH(D19,'8 LCI Data Compilation'!$C$6:$C$32,0),MATCH('4 SMM Input'!$E$3,'8 LCI Data Compilation'!$J$7:$O$7,0))","v":5.6523794652499999E-3},{"$f":"INDEX('8 LCI Data Compilation'!$P$6:$U$32,MATCH(D19,'8 LCI Data Compilation'!$C$6:$C$32,0),MATCH('4 SMM Input'!$E$3,'8 LCI Data Compilation'!$P$7:$U$7,0))","v":"NA"},{"$f":"INDEX('8 LCI Data Compilation'!$V$6:$AA$32,MATCH(D19,'8 LCI Data Compilation'!$C$6:$C$32,0),MATCH('4 SMM Input'!$E$3,'8 LCI Data Compilation'!$V$7:$AA$7,0))","v":1.9043663297750004E-2},{"$f":"INDEX('8 LCI Data Compilation'!$AB$6:$AG$32,MATCH(D19,'8 LCI Data Compilation'!$C$6:$C$32,0),MATCH('4 SMM Input'!$E$3,'8 LCI Data Compilation'!$AB$7:$AG$7,0))","v":"NA"},{"$f":"INDEX('8 LCI Data Compilation'!$AH$6:$AM$32,MATCH(D19,'8 LCI Data Compilation'!$C$6:$C$32,0),MATCH('4 SMM Input'!$E$3,'8 LCI Data Compilation'!$AH$7:$AM$7,0))","v":-0.25086782708333333},{"$f":"INDEX('8 LCI Data Compilation'!$AN$6:$AS$32,MATCH(D19,'8 LCI Data Compilation'!$C$6:$C$32,0),MATCH('4 SMM Input'!$E$3,'8 LCI Data Compilation'!$AN$7:$AS$7,0))","v":-0.60627324189184673}]
[null,null,16,"Food Waste",{"$f":"INDEX('8 LCI Data Compilation'!$D$6:$I$32,MATCH(D20,'8 LCI Data Compilation'!$C$6:$C$32,0),MATCH('4 SMM Input'!$E$3,'8 LCI Data Compilation'!$D$7:$I$7,0))","v":"NA"},{"$f":"IFERROR(E20*-1,\"NA\")","v":"NA"},{"$f":"INDEX('8 LCI Data Compilation'!$J$6:$O$32,MATCH(D20,'8 LCI Data Compilation'!$C$6:$C$32,0),MATCH('4 SMM Input'!$E$3,'8 LCI Data Compilation'!$J$7:$O$7,0))","v":5.6523794652499999E-3},{"$f":"INDEX('8 LCI Data Compilation'!$P$6:$U$32,MATCH(D20,'8 LCI Data Compilation'!$C$6:$C$32,0),MATCH('4 SMM Input'!$E$3,'8 LCI Data Compilation'!$P$7:$U$7,0))","v":"NA"},{"$f":"INDEX('8 LCI Data Compilation'!$V$6:$AA$32,MATCH(D20,'8 LCI Data Compilation'!$C$6:$C$32,0),MATCH('4 SMM Input'!$E$3,'8 LCI Data Compilation'!$V$7:$AA$7,0))","v":1.8868411700250002E-2},{"$f":"INDEX('8 LCI Data Compilation'!$AB$6:$AG$32,MATCH(D20,'8 LCI Data Compilation'!$C$6:$C$32,0),MATCH('4 SMM Input'!$E$3,'8 LCI Data Compilation'!$AB$7:$AG$7,0))","v":"NA"},{"$f":"INDEX('8 LCI Data Compilation'!$AH$6:$AM$32,MATCH(D20,'8 LCI Data Compilation'!$C$6:$C$32,0),MATCH('4 SMM Input'!$E$3,'8 LCI Data Compilation'!$AH$7:$AM$7,0))","v":0.39266351735000005},{"$f":"INDEX('8 LCI Data Compilation'!$AN$6:$AS$32,MATCH(D20,'8 LCI Data Compilation'!$C$6:$C$32,0),MATCH('4 SMM Input'!$E$3,'8 LCI Data Compilation'!$AN$7:$AS$7,0))","v":-0.26515437630041422}]
[null,"Other ",17,"Tires",{"$f":"INDEX('8 LCI Data Compilation'!$D$6:$I$32,MATCH(D21,'8 LCI Data Compilation'!$C$6:$C$32,0),MATCH('4 SMM Input'!$E$3,'8 LCI Data Compilation'!$D$7:$I$7,0))","v":"NA"},"NA",{"$f":"INDEX('8 LCI Data Compilation'!$J$6:$O$32,MATCH(D21,'8 LCI Data Compilation'!$C$6:$C$32,0),MATCH('4 SMM Input'!$E$3,'8 LCI Data Compilation'!$J$7:$O$7,0))","v":"NA"},{"$f":"INDEX('8 LCI Data Compilation'!$P$6:$U$32,MATCH(D21,'8 LCI Data Compilation'!$C$6:$C$32,0),MATCH('4 SMM Input'!$E$3,'8 LCI Data Compilation'!$P$7:$U$7,0))","v":"NA"},{"$f":"INDEX('8 LCI Data Compilation'!$V$6:$AA$32,MATCH(D21,'8 LCI Data Compilation'!$C$6:$C$32,0),MATCH('4 SMM Input'!$E$3,'8 LCI Data Compilation'!$V$7:$AA$7,0))","v":"NA"},{"$f":"INDEX('8 LCI Data Compilation'!$AB$6:$AG$32,MATCH(D21,'8 LCI Data Compilation'!$C$6:$C$32,0),MATCH('4 SMM Input'!$E$3,'8 LCI Data Compilation'!$AB$7:$AG$7,0))","v":"NA"},{"$f":"INDEX('8 LCI Data Compilation'!$AH$6:$AM$32,MATCH(D21,'8 LCI Data Compilation'!$C$6:$C$32,0),MATCH('4 SMM Input'!$E$3,'8 LCI Data Compilation'!$AH$7:$AM$7,0))","v":"NA"},{"$f":"INDEX('8 LCI Data Compilation'!$AN$6:$AS$32,MATCH(D21,'8 LCI Data Compilation'!$C$6:$C$32,0),MATCH('4 SMM Input'!$E$3,'8 LCI Data Compilation'!$AN$7:$AS$7,0))","v":"NA"}]
[null,null,18,"Clothing and Footwear",{"$f":"INDEX('8 LCI Data Compilation'!$D$6:$I$32,MATCH(D22,'8 LCI Data Compilation'!$C$6:$C$32,0),MATCH('4 SMM Input'!$E$3,'8 LCI Data Compilation'!$D$7:$I$7,0))","v":"NA"},{"$f":"IFERROR(E22*-1,\"NA\")","v":"NA"},{"$f":"INDEX('8 LCI Data Compilation'!$J$6:$O$32,MATCH(D22,'8 LCI Data Compilation'!$C$6:$C$32,0),MATCH('4 SMM Input'!$E$3,'8 LCI Data Compilation'!$J$7:$O$7,0))","v":"NA"},{"$f":"INDEX('8 LCI Data Compilation'!$P$6:$U$32,MATCH(D22,'8 LCI Data Compilation'!$C$6:$C$32,0),MATCH('4 SMM Input'!$E$3,'8 LCI Data Compilation'!$P$7:$U$7,0))","v":"NA"},{"$f":"INDEX('8 LCI Data Compilation'!$V$6:$AA$32,MATCH(D22,'8 LCI Data Compilation'!$C$6:$C$32,0),MATCH('4 SMM Input'!$E$3,'8 LCI Data Compilation'!$V$7:$AA$7,0))","v":"NA"},{"$f":"INDEX('8 LCI Data Compilation'!$AB$6:$AG$32,MATCH(D22,'8 LCI Data Compilation'!$C$6:$C$32,0),MATCH('4 SMM Input'!$E$3,'8 LCI Data Compilation'!$AB$7:$AG$7,0))","v":"NA"},{"$f":"INDEX('8 LCI Data Compilation'!$AH$6:$AM$32,MATCH(D22,'8 LCI Data Compilation'!$C$6:$C$32,0),MATCH('4 SMM Input'!$E$3,'8 LCI Data Compilation'!$AH$7:$AM$7,0))","v":"NA"},{"$f":"INDEX('8 LCI Data Compilation'!$AN$6:$AS$32,MATCH(D22,'8 LCI Data Compilation'!$C$6:$C$32,0),MATCH('4 SMM Input'!$E$3,'8 LCI Data Compilation'!$AN$7:$AS$7,0))","v":"NA"}]
[null,null,19,"Furniture",{"$f":"INDEX('8 LCI Data Compilation'!$D$6:$I$32,MATCH(D23,'8 LCI Data Compilation'!$C$6:$C$32,0),MATCH('4 SMM Input'!$E$3,'8 LCI Data Compilation'!$D$7:$I$7,0))","v":"NA"},{"$f":"IFERROR(E23*-1,\"NA\")","v":"NA"},{"$f":"INDEX('8 LCI Data Compilation'!$J$6:$O$32,MATCH(D23,'8 LCI Data Compilation'!$C$6:$C$32,0),MATCH('4 SMM Input'!$E$3,'8 LCI Data Compilation'!$J$7:$O$7,0))","v":"NA"},{"$f":"INDEX('8 LCI Data Compilation'!$P$6:$U$32,MATCH(D23,'8 LCI Data Compilation'!$C$6:$C$32,0),MATCH('4 SMM Input'!$E$3,'8 LCI Data Compilation'!$P$7:$U$7,0))","v":"NA"},{"$f":"INDEX('8 LCI Data Compilation'!$V$6:$AA$32,MATCH(D23,'8 LCI Data Compilation'!$C$6:$C$32,0),MATCH('4 SMM Input'!$E$3,'8 LCI Data Compilation'!$V$7:$AA$7,0))","v":"NA"},{"$f":"INDEX('8 LCI Data Compilation'!$AB$6:$AG$32,MATCH(D23,'8 LCI Data Compilation'!$C$6:$C$32,0),MATCH('4 SMM Input'!$E$3,'8 LCI Data Compilation'!$AB$7:$AG$7,0))","v":"NA"},{"$f":"INDEX('8 LCI Data Compilation'!$AH$6:$AM$32,MATCH(D23,'8 LCI Data Compilation'!$C$6:$C$32,0),MATCH('4 SMM Input'!$E$3,'8 LCI Data Compilation'!$AH$7:$AM$7,0))","v":"NA"},{"$f":"INDEX('8 LCI Data Compilation'!$AN$6:$AS$32,MATCH(D23,'8 LCI Data Compilation'!$C$6:$C$32,0),MATCH('4 SMM Input'!$E$3,'8 LCI Data Compilation'!$AN$7:$AS$7,0))","v":"NA"}]
[null,null,20,"Electronics",{"$f":"INDEX('8 LCI Data Compilation'!$D$6:$I$32,MATCH(D24,'8 LCI Data Compilation'!$C$6:$C$32,0),MATCH('4 SMM Input'!$E$3,'8 LCI Data Compilation'!$D$7:$I$7,0))","v":"NA"},{"$f":"IFERROR(E24*-1,\"NA\")","v":"NA"},{"$f":"INDEX('8 LCI Data Compilation'!$J$6:$O$32,MATCH(D24,'8 LCI Data Compilation'!$C$6:$C$32,0),MATCH('4 SMM Input'!$E$3,'8 LCI Data Compilation'!$J$7:$O$7,0))","v":"NA"},{"$f":"INDEX('8 LCI Data Compilation'!$P$6:$U$32,MATCH(D24,'8 LCI Data Compilation'!$C$6:$C$32,0),MATCH('4 SMM Input'!$E$3,'8 LCI Data Compilation'!$P$7:$U$7,0))","v":"NA"},{"$f":"INDEX('8 LCI Data Compilation'!$V$6:$AA$32,MATCH(D24,'8 LCI Data Compilation'!$C$6:$C$32,0),MATCH('4 SMM Input'!$E$3,'8 LCI Data Compilation'!$V$7:$AA$7,0))","v":"NA"},{"$f":"INDEX('8 LCI Data Compilation'!$AB$6:$AG$32,MATCH(D24,'8 LCI Data Compilation'!$C$6:$C$32,0),MATCH('4 SMM Input'!$E$3,'8 LCI Data Compilation'!$AB$7:$AG$7,0))","v":"NA"},{"$f":"INDEX('8 LCI Data Compilation'!$AH$6:$AM$32,MATCH(D24,'8 LCI Data Compilation'!$C$6:$C$32,0),MATCH('4 SMM Input'!$E$3,'8 LCI Data Compilation'!$AH$7:$AM$7,0))","v":"NA"},{"$f":"INDEX('8 LCI Data Compilation'!$AN$6:$AS$32,MATCH(D24,'8 LCI Data Compilation'!$C$6:$C$32,0),MATCH('4 SMM Input'!$E$3,'8 LCI Data Compilation'!$AN$7:$AS$7,0))","v":"NA"}]
[null,"C&D Debris",21,"Wood Products",{"$f":"INDEX('8 LCI Data Compilation'!$D$6:$I$32,MATCH(D25,'8 LCI Data Compilation'!$C$6:$C$32,0),MATCH('4 SMM Input'!$E$3,'8 LCI Data Compilation'!$D$7:$I$7,0))","v":"NA"},"NA",{"$f":"INDEX('8 LCI Data Compilation'!$J$6:$O$32,MATCH(D25,'8 LCI Data Compilation'!$C$6:$C$32,0),MATCH('4 SMM Input'!$E$3,'8 LCI Data Compilation'!$J$7:$O$7,0))","v":"NA"},{"$f":"INDEX('8 LCI Data Compilation'!$P$6:$U$32,MATCH(D25,'8 LCI Data Compilation'!$C$6:$C$32,0),MATCH('4 SMM Input'!$E$3,'8 LCI Data Compilation'!$P$7:$U$7,0))","v":"NA"},{"$f":"INDEX('8 LCI Data Compilation'!$V$6:$AA$32,MATCH(D25,'8 LCI Data Compilation'!$C$6:$C$32,0),MATCH('4 SMM Input'!$E$3,'8 LCI Data Compilation'!$V$7:$AA$7,0))","v":"NA"},{"$f":"INDEX('8 LCI Data Compilation'!$AB$6:$AG$32,MATCH(D25,'8 LCI Data Compilation'!$C$6:$C$32,0),MATCH('4 SMM Input'!$E$3,'8 LCI Data Compilation'!$AB$7:$AG$7,0))","v":"NA"},{"$f":"INDEX('8 LCI Data Compilation'!$AH$6:$AM$32,MATCH(D25,'8 LCI Data Compilation'!$C$6:$C$32,0),MATCH('4 SMM Input'!$E$3,'8 LCI Data Compilation'!$AH$7:$AM$7,0))","v":"NA"},{"$f":"INDEX('8 LCI Data Compilation'!$AN$6:$AS$32,MATCH(D25,'8 LCI Data Compilation'!$C$6:$C$32,0),MATCH('4 SMM Input'!$E$3,'8 LCI Data Compilation'!$AN$7:$AS$7,0))","v":"NA"}]
[null,null,22,"Asphalt Shingles",{"$f":"INDEX('8 LCI Data Compilation'!$D$6:$I$32,MATCH(D26,'8 LCI Data Compilation'!$C$6:$C$32,0),MATCH('4 SMM Input'!$E$3,'8 LCI Data Compilation'!$D$7:$I$7,0))","v":"NA"},"NA",{"$f":"INDEX('8 LCI Data Compilation'!$J$6:$O$32,MATCH(D26,'8 LCI Data Compilation'!$C$6:$C$32,0),MATCH('4 SMM Input'!$E$3,'8 LCI Data Compilation'!$J$7:$O$7,0))","v":"NA"},{"$f":"INDEX('8 LCI Data Compilation'!$P$6:$U$32,MATCH(D26,'8 LCI Data Compilation'!$C$6:$C$32,0),MATCH('4 SMM Input'!$E$3,'8 LCI Data Compilation'!$P$7:$U$7,0))","v":"NA"},{"$f":"INDEX('8 LCI Data Compilation'!$V$6:$AA$32,MATCH(D26,'8 LCI Data Compilation'!$C$6:$C$32,0),MATCH('4 SMM Input'!$E$3,'8 LCI Data Compilation'!$V$7:$AA$7,0))","v":"NA"},{"$f":"INDEX('8 LCI Data Compilation'!$AB$6:$AG$32,MATCH(D26,'8 LCI Data Compilation'!$C$6:$C$32,0),MATCH('4 SMM Input'!$E$3,'8 LCI Data Compilation'!$AB$7:$AG$7,0))","v":"NA"},{"$f":"INDEX('8 LCI Data Compilation'!$AH$6:$AM$32,MATCH(D26,'8 LCI Data Compilation'!$C$6:$C$32,0),MATCH('4 SMM Input'!$E$3,'8 LCI Data Compilation'!$AH$7:$AM$7,0))","v":"NA"},{"$f":"INDEX('8 LCI Data Compilation'!$AN$6:$AS$32,MATCH(D26,'8 LCI Data Compilation'!$C$6:$C$32,0),MATCH('4 SMM Input'!$E$3,'8 LCI Data Compilation'!$AN$7:$AS$7,0))","v":"NA"}]
[null,null,23,"Gypsum Drywall",{"$f":"INDEX('8 LCI Data Compilation'!$D$6:$I$32,MATCH(D27,'8 LCI Data Compilation'!$C$6:$C$32,0),MATCH('4 SMM Input'!$E$3,'8 LCI Data Compilation'!$D$7:$I$7,0))","v":"NA"},"NA",{"$f":"INDEX('8 LCI Data Compilation'!$J$6:$O$32,MATCH(D27,'8 LCI Data Compilation'!$C$6:$C$32,0),MATCH('4 SMM Input'!$E$3,'8 LCI Data Compilation'!$J$7:$O$7,0))","v":"NA"},{"$f":"INDEX('8 LCI Data Compilation'!$P$6:$U$32,MATCH(D27,'8 LCI Data Compilation'!$C$6:$C$32,0),MATCH('4 SMM Input'!$E$3,'8 LCI Data Compilation'!$P$7:$U$7,0))","v":"NA"},{"$f":"INDEX('8 LCI Data Compilation'!$V$6:$AA$32,MATCH(D27,'8 LCI Data Compilation'!$C$6:$C$32,0),MATCH('4 SMM Input'!$E$3,'8 LCI Data Compilation'!$V$7:$AA$7,0))","v":"NA"},{"$f":"INDEX('8 LCI Data Compilation'!$AB$6:$AG$32,MATCH(D27,'8 LCI Data Compilation'!$C$6:$C$32,0),MATCH('4 SMM Input'!$E$3,'8 LCI Data Compilation'!$AB$7:$AG$7,0))","v":"NA"},{"$f":"INDEX('8 LCI Data Compilation'!$AH$6:$AM$32,MATCH(D27,'8 LCI Data Compilation'!$C$6:$C$32,0),MATCH('4 SMM Input'!$E$3,'8 LCI Data Compilation'!$AH$7:$AM$7,0))","v":"NA"},{"$f":"INDEX('8 LCI Data Compilation'!$AN$6:$AS$32,MATCH(D27,'8 LCI Data Compilation'!$C$6:$C$32,0),MATCH('4 SMM Input'!$E$3,'8 LCI Data Compilation'!$AN$7:$AS$7,0))","v":"NA"}]
[null,null,24,"Concrete",{"$f":"INDEX('8 LCI Data Compilation'!$D$6:$I$32,MATCH(D28,'8 LCI Data Compilation'!$C$6:$C$32,0),MATCH('4 SMM Input'!$E$3,'8 LCI Data Compilation'!$D$7:$I$7,0))","v":"NA"},"NA",{"$f":"INDEX('8 LCI Data Compilation'!$J$6:$O$32,MATCH(D28,'8 LCI Data Compilation'!$C$6:$C$32,0),MATCH('4 SMM Input'!$E$3,'8 LCI Data Compilation'!$J$7:$O$7,0))","v":"NA"},{"$f":"INDEX('8 LCI Data Compilation'!$P$6:$U$32,MATCH(D28,'8 LCI Data Compilation'!$C$6:$C$32,0),MATCH('4 SMM Input'!$E$3,'8 LCI Data Compilation'!$P$7:$U$7,0))","v":"NA"},{"$f":"INDEX('8 LCI Data Compilation'!$V$6:$AA$32,MATCH(D28,'8 LCI Data Compilation'!$C$6:$C$32,0),MATCH('4 SMM Input'!$E$3,'8 LCI Data Compilation'!$V$7:$AA$7,0))","v":"NA"},{"$f":"INDEX('8 LCI Data Compilation'!$AB$6:$AG$32,MATCH(D28,'8 LCI Data Compilation'!$C$6:$C$32,0),MATCH('4 SMM Input'!$E$3,'8 LCI Data Compilation'!$AB$7:$AG$7,0))","v":"NA"},{"$f":"INDEX('8 LCI Data Compilation'!$AH$6:$AM$32,MATCH(D28,'8 LCI Data Compilation'!$C$6:$C$32,0),MATCH('4 SMM Input'!$E$3,'8 LCI Data Compilation'!$AH$7:$AM$7,0))","v":"NA"},{"$f":"INDEX('8 LCI Data Compilation'!$AN$6:$AS$32,MATCH(D28,'8 LCI Data Compilation'!$C$6:$C$32,0),MATCH('4 SMM Input'!$E$3,'8 LCI Data Compilation'!$AN$7:$AS$7,0))","v":"NA"}]
[null,null,25,"Reclaimed Asphalt Pavement",{"$f":"INDEX('8 LCI Data Compilation'!$D$6:$I$32,MATCH(D29,'8 LCI Data Compilation'!$C$6:$C$32,0),MATCH('4 SMM Input'!$E$3,'8 LCI Data Compilation'!$D$7:$I$7,0))","v":"NA"},"NA",{"$f":"INDEX('8 LCI Data Compilation'!$J$6:$O$32,MATCH(D29,'8 LCI Data Compilation'!$C$6:$C$32,0),MATCH('4 SMM Input'!$E$3,'8 LCI Data Compilation'!$J$7:$O$7,0))","v":"NA"},{"$f":"INDEX('8 LCI Data Compilation'!$P$6:$U$32,MATCH(D29,'8 LCI Data Compilation'!$C$6:$C$32,0),MATCH('4 SMM Input'!$E$3,'8 LCI Data Compilation'!$P$7:$U$7,0))","v":"NA"},{"$f":"INDEX('8 LCI Data Compilation'!$V$6:$AA$32,MATCH(D29,'8 LCI Data Compilation'!$C$6:$C$32,0),MATCH('4 SMM Input'!$E$3,'8 LCI Data Compilation'!$V$7:$AA$7,0))","v":"NA"},{"$f":"INDEX('8 LCI Data Compilation'!$AB$6:$AG$32,MATCH(D29,'8 LCI Data Compilation'!$C$6:$C$32,0),MATCH('4 SMM Input'!$E$3,'8 LCI Data Compilation'!$AB$7:$AG$7,0))","v":"NA"},{"$f":"INDEX('8 LCI Data Compilation'!$AH$6:$AM$32,MATCH(D29,'8 LCI Data Compilation'!$C$6:$C$32,0),MATCH('4 SMM Input'!$E$3,'8 LCI Data Compilation'!$AH$7:$AM$7,0))","v":"NA"},{"$f":"INDEX('8 LCI Data Compilation'!$AN$6:$AS$32,MATCH(D29,'8 LCI Data Compilation'!$C$6:$C$32,0),MATCH('4 SMM Input'!$E$3,'8 LCI Data Compilation'!$AN$7:$AS$7,0))","v":"NA"}]
[]
[]
[null,"All Units (MJ/ Short Ton)"]
[null,{"$f":"'5 SMM Results'!B36:M36","v":"Energy Use (MJ): Energy is consumed by different processes, the units are expressed as MJ. This is a measure of the direct and indirect energy use throughout the life cycle and can include both renewable and non-renewable energy source.\n"}]
[null,"Material Category","Item No.","Material Type","Produced","Donated","Collection","Recycling","Composting","Anaerobic Digestion","Landfill","Combustion"]
[null,"MSW ",1,"Mixed MSW",{"$f":"INDEX('8 LCI Data Compilation'!$D$36:$I$62,MATCH(D35,'8 LCI Data Compilation'!$C$36:$C$62,0),MATCH('4 SMM Input'!$E$3,'8 LCI Data Compilation'!$D$37:$I$37,0))","v":"NA"},"NA",{"$f":"INDEX('8 LCI Data Compilation'!$J$36:$O$62,MATCH(D35,'8 LCI Data Compilation'!$C$36:$C$62,0),MATCH('4 SMM Input'!$E$3,'8 LCI Data Compilation'!$J$37:$O$37,0))","v":321.312464207},{"$f":"INDEX('8 LCI Data Compilation'!$P$36:$U$62,MATCH(D35,'8 LCI Data Compilation'!$C$36:$C$62,0),MATCH('4 SMM Input'!$E$3,'8 LCI Data Compilation'!$P$37:$U$37,0))","v":"NA"},{"$f":"INDEX('8 LCI Data Compilation'!$V$36:$AA$62,MATCH(D35,'8 LCI Data Compilation'!$C$36:$C$62,0),MATCH('4 SMM Input'!$E$3,'8 LCI Data Compilation'!$V$37:$AA$37,0))","v":"NA"},{"$f":"INDEX('8 LCI Data Compilation'!$AB$36:$AG$62,MATCH(D35,'8 LCI Data Compilation'!$C$36:$C$62,0),MATCH('4 SMM Input'!$E$3,'8 LCI Data Compilation'!$AB$37:$AG$37,0))","v":"NA"},{"$f":"INDEX('8 LCI Data Compilation'!$AH$36:$AM$62,MATCH(D35,'8 LCI Data Compilation'!$C$36:$C$62,0),MATCH('4 SMM Input'!$E$3,'8 LCI Data Compilation'!$AH$37:$AM$37,0))","v":-1177.3464173554999},{"$f":"INDEX('8 LCI Data Compilation'!$AN$36:$AS$62,MATCH(D35,'8 LCI Data Compilation'!$C$36:$C$62,0),MATCH('4 SMM Input'!$E$3,'8 LCI Data Compilation'!$AN$37:$AS$37,0))","v":-2076.103770137518}]
[null,"Paper",2,"Newspaper",{"$f":"INDEX('8 LCI Data Compilation'!$D$36:$I$62,MATCH(D36,'8 LCI Data Compilation'!$C$36:$C$62,0),MATCH('4 SMM Input'!$E$3,'8 LCI Data Compilation'!$D$37:$I$37,0))","v":"NA"},"NA",{"$f":"INDEX('8 LCI Data Compilation'!$J$36:$O$62,MATCH(D36,'8 LCI Data Compilation'!$C$36:$C$62,0),MATCH('4 SMM Input'!$E$3,'8 LCI Data Compilation'!$J$37:$O$37,0))","v":321.312464207},{"$f":"INDEX('8 LCI Data Compilation'!$P$36:$U$62,MATCH(D36,'8 LCI Data Compilation'!$C$36:$C$62,0),MATCH('4 SMM Input'!$E$3,'8 LCI Data Compilation'!$P$37:$U$37,0))","v":-17820.02097847591},{"$f":"INDEX('8 LCI Data Compilation'!$V$36:$AA$62,MATCH(D36,'8 LCI Data Compilation'!$C$36:$C$62,0),MATCH('4 SMM Input'!$E$3,'8 LCI Data Compilation'!$V$37:$AA$37,0))","v":"NA"},{"$f":"INDEX('8 LCI Data Compilation'!$AB$36:$AG$62,MATCH(D36,'8 LCI Data Compilation'!$C$36:$C$62,0),MATCH('4 SMM Input'!$E$3,'8 LCI Data Compilation'!$AB$37:$AG$37,0))","v":"NA"},{"$f":"INDEX('8 LCI Data Compilation'!$AH$36:$AM$62,MATCH(D36,'8 LCI Data Compilation'!$C$36:$C$62,0),MATCH('4 SMM Input'!$E$3,'8 LCI Data Compilation'!$AH$37:$AM$37,0))","v":-25.417254631300004},{"$f":"INDEX('8 LCI Data Compilation'!$AN$36:$AS$62,MATCH(D36,'8 LCI Data Compilation'!$C$36:$C$62,0),MATCH('4 SMM Input'!$E$3,'8 LCI Data Compilation'!$AN$37:$AS$37,0))","v":-8986.7077939852516}]
[null,null,3,"Corrugated Cardboard (OCC)",{"$f":"INDEX('8 LCI Data Compilation'!$D$36:$I$62,MATCH(D37,'8 LCI Data Compilation'!$C$36:$C$62,0),MATCH('4 SMM Input'!$E$3,'8 LCI Data Compilation'!$D$37:$I$37,0))","v":"NA"},"NA",{"$f":"INDEX('8 LCI Data Compilation'!$J$36:$O$62,MATCH(D37,'8 LCI Data Compilation'!$C$36:$C$62,0),MATCH('4 SMM Input'!$E$3,'8 LCI Data Compilation'!$J$37:$O$37,0))","v":321.312464207},{"$f":"INDEX('8 LCI Data Compilation'!$P$36:$U$62,MATCH(D37,'8 LCI Data Compilation'!$C$36:$C$62,0),MATCH('4 SMM Input'!$E$3,'8 LCI Data Compilation'!$P$37:$U$37,0))","v":-13171.053500144924},{"$f":"INDEX('8 LCI Data Compilation'!$V$36:$AA$62,MATCH(D37,'8 LCI Data Compilation'!$C$36:$C$62,0),MATCH('4 SMM Input'!$E$3,'8 LCI Data Compilation'!$V$37:$AA$37,0))","v":"NA"},{"$f":"INDEX('8 LCI Data Compilation'!$AB$36:$AG$62,MATCH(D37,'8 LCI Data Compilation'!$C$36:$C$62,0),MATCH('4 SMM Input'!$E$3,'8 LCI Data Compilation'!$AB$37:$AG$37,0))","v":"NA"},{"$f":"INDEX('8 LCI Data Compilation'!$AH$36:$AM$62,MATCH(D37,'8 LCI Data Compilation'!$C$36:$C$62,0),MATCH('4 SMM Input'!$E$3,'8 LCI Data Compilation'!$AH$37:$AM$37,0))","v":-1064.6472694619999},{"$f":"INDEX('8 LCI Data Compilation'!$AN$36:$AS$62,MATCH(D37,'8 LCI Data Compilation'!$C$36:$C$62,0),MATCH('4 SMM Input'!$E$3,'8 LCI Data Compilation'!$AN$37:$AS$37,0))","v":-8198.5211437518265}]
[null,null,4,"High Grade Paper (Office Type Paper)",{"$f":"INDEX('8 LCI Data Compilation'!$D$36:$I$62,MATCH(D38,'8 LCI Data Compilation'!$C$36:$C$62,0),MATCH('4 SMM Input'!$E$3,'8 LCI Data Compilation'!$D$37:$I$37,0))","v":"NA"},"NA",{"$f":"INDEX('8 LCI Data Compilation'!$J$36:$O$62,MATCH(D38,'8 LCI Data Compilation'!$C$36:$C$62,0),MATCH('4 SMM Input'!$E$3,'8 LCI Data Compilation'!$J$37:$O$37,0))","v":321.312464207},{"$f":"INDEX('8 LCI Data Compilation'!$P$36:$U$62,MATCH(D38,'8 LCI Data Compilation'!$C$36:$C$62,0),MATCH('4 SMM Input'!$E$3,'8 LCI Data Compilation'!$P$37:$U$37,0))","v":-11257.445947455399},{"$f":"INDEX('8 LCI Data Compilation'!$V$36:$AA$62,MATCH(D38,'8 LCI Data Compilation'!$C$36:$C$62,0),MATCH('4 SMM Input'!$E$3,'8 LCI Data Compilation'!$V$37:$AA$37,0))","v":"NA"},{"$f":"INDEX('8 LCI Data Compilation'!$AB$36:$AG$62,MATCH(D38,'8 LCI Data Compilation'!$C$36:$C$62,0),MATCH('4 SMM Input'!$E$3,'8 LCI Data Compilation'!$AB$37:$AG$37,0))","v":"NA"},{"$f":"INDEX('8 LCI Data Compilation'!$AH$36:$AM$62,MATCH(D38,'8 LCI Data Compilation'!$C$36:$C$62,0),MATCH('4 SMM Input'!$E$3,'8 LCI Data Compilation'!$AH$37:$AM$37,0))","v":-1640.132279982},{"$f":"INDEX('8 LCI Data Compilation'!$AN$36:$AS$62,MATCH(D38,'8 LCI Data Compilation'!$C$36:$C$62,0),MATCH('4 SMM Input'!$E$3,'8 LCI Data Compilation'!$AN$37:$AS$37,0))","v":-7498.7934868019138}]
[null,null,5,"Magazines/third-class mail",{"$f":"INDEX('8 LCI Data Compilation'!$D$36:$I$62,MATCH(D39,'8 LCI Data Compilation'!$C$36:$C$62,0),MATCH('4 SMM Input'!$E$3,'8 LCI Data Compilation'!$D$37:$I$37,0))","v":"NA"},"NA",{"$f":"INDEX('8 LCI Data Compilation'!$J$36:$O$62,MATCH(D39,'8 LCI Data Compilation'!$C$36:$C$62,0),MATCH('4 SMM Input'!$E$3,'8 LCI Data Compilation'!$J$37:$O$37,0))","v":321.312464207},{"$f":"INDEX('8 LCI Data Compilation'!$P$36:$U$62,MATCH(D39,'8 LCI Data Compilation'!$C$36:$C$62,0),MATCH('4 SMM Input'!$E$3,'8 LCI Data Compilation'!$P$37:$U$37,0))","v":-282.98942535829781},{"$f":"INDEX('8 LCI Data Compilation'!$V$36:$AA$62,MATCH(D39,'8 LCI Data Compilation'!$C$36:$C$62,0),MATCH('4 SMM Input'!$E$3,'8 LCI Data Compilation'!$V$37:$AA$37,0))","v":"NA"},{"$f":"INDEX('8 LCI Data Compilation'!$AB$36:$AG$62,MATCH(D39,'8 LCI Data Compilation'!$C$36:$C$62,0),MATCH('4 SMM Input'!$E$3,'8 LCI Data Compilation'!$AB$37:$AG$37,0))","v":"NA"},{"$f":"INDEX('8 LCI Data Compilation'!$AH$36:$AM$62,MATCH(D39,'8 LCI Data Compilation'!$C$36:$C$62,0),MATCH('4 SMM Input'!$E$3,'8 LCI Data Compilation'!$AH$37:$AM$37,0))","v":-274.45839293383},{"$f":"INDEX('8 LCI Data Compilation'!$AN$36:$AS$62,MATCH(D39,'8 LCI Data Compilation'!$C$36:$C$62,0),MATCH('4 SMM Input'!$E$3,'8 LCI Data Compilation'!$AN$37:$AS$37,0))","v":-6787.4952168463224}]
[null,null,6,"Books",{"$f":"INDEX('8 LCI Data Compilation'!$D$36:$I$62,MATCH(D40,'8 LCI Data Compilation'!$C$36:$C$62,0),MATCH('4 SMM Input'!$E$3,'8 LCI Data Compilation'!$D$37:$I$37,0))","v":"NA"},"NA",{"$f":"INDEX('8 LCI Data Compilation'!$J$36:$O$62,MATCH(D40,'8 LCI Data Compilation'!$C$36:$C$62,0),MATCH('4 SMM Input'!$E$3,'8 LCI Data Compilation'!$J$37:$O$37,0))","v":321.312464207},{"$f":"INDEX('8 LCI Data Compilation'!$P$36:$U$62,MATCH(D40,'8 LCI Data Compilation'!$C$36:$C$62,0),MATCH('4 SMM Input'!$E$3,'8 LCI Data Compilation'!$P$37:$U$37,0))","v":"NA"},{"$f":"INDEX('8 LCI Data Compilation'!$V$36:$AA$62,MATCH(D40,'8 LCI Data Compilation'!$C$36:$C$62,0),MATCH('4 SMM Input'!$E$3,'8 LCI Data Compilation'!$V$37:$AA$37,0))","v":"NA"},{"$f":"INDEX('8 LCI Data Compilation'!$AB$36:$AG$62,MATCH(D40,'8 LCI Data Compilation'!$C$36:$C$62,0),MATCH('4 SMM Input'!$E$3,'8 LCI Data Compilation'!$AB$37:$AG$37,0))","v":"NA"},{"$f":"INDEX('8 LCI Data Compilation'!$AH$36:$AM$62,MATCH(D40,'8 LCI Data Compilation'!$C$36:$C$62,0),MATCH('4 SMM Input'!$E$3,'8 LCI Data Compilation'!$AH$37:$AM$37,0))","v":-25.309809797824045},{"$f":"INDEX('8 LCI Data Compilation'!$AN$36:$AS$62,MATCH(D40,'8 LCI Data Compilation'!$C$36:$C$62,0),MATCH('4 SMM Input'!$E$3,'8 LCI Data Compilation'!$AN$37:$AS$37,0))","v":-7378.4647469959627}]
[null,null,7,"Mixed Paper",{"$f":"INDEX('8 LCI Data Compilation'!$D$36:$I$62,MATCH(D41,'8 LCI Data Compilation'!$C$36:$C$62,0),MATCH('4 SMM Input'!$E$3,'8 LCI Data Compilation'!$D$37:$I$37,0))","v":"NA"},"NA",{"$f":"INDEX('8 LCI Data Compilation'!$J$36:$O$62,MATCH(D41,'8 LCI Data Compilation'!$C$36:$C$62,0),MATCH('4 SMM Input'!$E$3,'8 LCI Data Compilation'!$J$37:$O$37,0))","v":321.312464207},{"$f":"INDEX('8 LCI Data Compilation'!$P$36:$U$62,MATCH(D41,'8 LCI Data Compilation'!$C$36:$C$62,0),MATCH('4 SMM Input'!$E$3,'8 LCI Data Compilation'!$P$37:$U$37,0))","v":-10632.877462858632},{"$f":"INDEX('8 LCI Data Compilation'!$V$36:$AA$62,MATCH(D41,'8 LCI Data Compilation'!$C$36:$C$62,0),MATCH('4 SMM Input'!$E$3,'8 LCI Data Compilation'!$V$37:$AA$37,0))","v":"NA"},{"$f":"INDEX('8 LCI Data Compilation'!$AB$36:$AG$62,MATCH(D41,'8 LCI Data Compilation'!$C$36:$C$62,0),MATCH('4 SMM Input'!$E$3,'8 LCI Data Compilation'!$AB$37:$AG$37,0))","v":"NA"},{"$f":"INDEX('8 LCI Data Compilation'!$AH$36:$AM$62,MATCH(D41,'8 LCI Data Compilation'!$C$36:$C$62,0),MATCH('4 SMM Input'!$E$3,'8 LCI Data Compilation'!$AH$37:$AM$37,0))","v":-751.1637992522825},{"$f":"INDEX('8 LCI Data Compilation'!$AN$36:$AS$62,MATCH(D41,'8 LCI Data Compilation'!$C$36:$C$62,0),MATCH('4 SMM Input'!$E$3,'8 LCI Data Compilation'!$AN$37:$AS$37,0))","v":-7867.8794103463279}]
[null,"Plastic",8,"HDPE",{"$f":"INDEX('8 LCI Data Compilation'!$D$36:$I$62,MATCH(D42,'8 LCI Data Compilation'!$C$36:$C$62,0),MATCH('4 SMM Input'!$E$3,'8 LCI Data Compilation'!$D$37:$I$37,0))","v":"NA"},"NA",{"$f":"INDEX('8 LCI Data Compilation'!$J$36:$O$62,MATCH(D42,'8 LCI Data Compilation'!$C$36:$C$62,0),MATCH('4 SMM Input'!$E$3,'8 LCI Data Compilation'!$J$37:$O$37,0))","v":321.312464207},{"$f":"INDEX('8 LCI Data Compilation'!$P$36:$U$62,MATCH(D42,'8 LCI Data Compilation'!$C$36:$C$62,0),MATCH('4 SMM Input'!$E$3,'8 LCI Data Compilation'!$P$37:$U$37,0))","v":-20396.505658891179},{"$f":"INDEX('8 LCI Data Compilation'!$V$36:$AA$62,MATCH(D42,'8 LCI Data Compilation'!$C$36:$C$62,0),MATCH('4 SMM Input'!$E$3,'8 LCI Data Compilation'!$V$37:$AA$37,0))","v":"NA"},{"$f":"INDEX('8 LCI Data Compilation'!$AB$36:$AG$62,MATCH(D42,'8 LCI Data Compilation'!$C$36:$C$62,0),MATCH('4 SMM Input'!$E$3,'8 LCI Data Compilation'!$AB$37:$AG$37,0))","v":"NA"},{"$f":"INDEX('8 LCI Data Compilation'!$AH$36:$AM$62,MATCH(D42,'8 LCI Data Compilation'!$C$36:$C$62,0),MATCH('4 SMM Input'!$E$3,'8 LCI Data Compilation'!$AH$37:$AM$37,0))","v":551.50646841499997},{"$f":"INDEX('8 LCI Data Compilation'!$AN$36:$AS$62,MATCH(D42,'8 LCI Data Compilation'!$C$36:$C$62,0),MATCH('4 SMM Input'!$E$3,'8 LCI Data Compilation'!$AN$37:$AS$37,0))","v":-22515.883726867785}]
[null,null,9,"PET",{"$f":"INDEX('8 LCI Data Compilation'!$D$36:$I$62,MATCH(D43,'8 LCI Data Compilation'!$C$36:$C$62,0),MATCH('4 SMM Input'!$E$3,'8 LCI Data Compilation'!$D$37:$I$37,0))","v":"NA"},"NA",{"$f":"INDEX('8 LCI Data Compilation'!$J$36:$O$62,MATCH(D43,'8 LCI Data Compilation'!$C$36:$C$62,0),MATCH('4 SMM Input'!$E$3,'8 LCI Data Compilation'!$J$37:$O$37,0))","v":321.312464207},{"$f":"INDEX('8 LCI Data Compilation'!$P$36:$U$62,MATCH(D43,'8 LCI Data Compilation'!$C$36:$C$62,0),MATCH('4 SMM Input'!$E$3,'8 LCI Data Compilation'!$P$37:$U$37,0))","v":-24098.241440185448},{"$f":"INDEX('8 LCI Data Compilation'!$V$36:$AA$62,MATCH(D43,'8 LCI Data Compilation'!$C$36:$C$62,0),MATCH('4 SMM Input'!$E$3,'8 LCI Data Compilation'!$V$37:$AA$37,0))","v":"NA"},{"$f":"INDEX('8 LCI Data Compilation'!$AB$36:$AG$62,MATCH(D43,'8 LCI Data Compilation'!$C$36:$C$62,0),MATCH('4 SMM Input'!$E$3,'8 LCI Data Compilation'!$AB$37:$AG$37,0))","v":"NA"},{"$f":"INDEX('8 LCI Data Compilation'!$AH$36:$AM$62,MATCH(D43,'8 LCI Data Compilation'!$C$36:$C$62,0),MATCH('4 SMM Input'!$E$3,'8 LCI Data Compilation'!$AH$37:$AM$37,0))","v":551.50646841499997},{"$f":"INDEX('8 LCI Data Compilation'!$AN$36:$AS$62,MATCH(D43,'8 LCI Data Compilation'!$C$36:$C$62,0),MATCH('4 SMM Input'!$E$3,'8 LCI Data Compilation'!$AN$37:$AS$37,0))","v":-22515.883726867785}]
[null,null,10,"Mixed Plastic",{"$f":"INDEX('8 LCI Data Compilation'!$D$36:$I$62,MATCH(D44,'8 LCI Data Compilation'!$C$36:$C$62,0),MATCH('4 SMM Input'!$E$3,'8 LCI Data Compilation'!$D$37:$I$37,0))","v":"NA"},"NA",{"$f":"INDEX('8 LCI Data Compilation'!$J$36:$O$62,MATCH(D44,'8 LCI Data Compilation'!$C$36:$C$62,0),MATCH('4 SMM Input'!$E$3,'8 LCI Data Compilation'!$J$37:$O$37,0))","v":321.312464207},{"$f":"INDEX('8 LCI Data Compilation'!$P$36:$U$62,MATCH(D44,'8 LCI Data Compilation'!$C$36:$C$62,0),MATCH('4 SMM Input'!$E$3,'8 LCI Data Compilation'!$P$37:$U$37,0))","v":-22247.373549538315},{"$f":"INDEX('8 LCI Data Compilation'!$V$36:$AA$62,MATCH(D44,'8 LCI Data Compilation'!$C$36:$C$62,0),MATCH('4 SMM Input'!$E$3,'8 LCI Data Compilation'!$V$37:$AA$37,0))","v":"NA"},{"$f":"INDEX('8 LCI Data Compilation'!$AB$36:$AG$62,MATCH(D44,'8 LCI Data Compilation'!$C$36:$C$62,0),MATCH('4 SMM Input'!$E$3,'8 LCI Data Compilation'!$AB$37:$AG$37,0))","v":"NA"},{"$f":"INDEX('8 LCI Data Compilation'!$AH$36:$AM$62,MATCH(D44,'8 LCI Data Compilation'!$C$36:$C$62,0),MATCH('4 SMM Input'!$E$3,'8 LCI Data Compilation'!$AH$37:$AM$37,0))","v":551.50646841499997},{"$f":"INDEX('8 LCI Data Compilation'!$AN$36:$AS$62,MATCH(D44,'8 LCI Data Compilation'!$C$36:$C$62,0),MATCH('4 SMM Input'!$E$3,'8 LCI Data Compilation'!$AN$37:$AS$37,0))","v":-22515.883726867785}]
[null,"Glass",11,"Glass",{"$f":"INDEX('8 LCI Data Compilation'!$D$36:$I$62,MATCH(D45,'8 LCI Data Compilation'!$C$36:$C$62,0),MATCH('4 SMM Input'!$E$3,'8 LCI Data Compilation'!$D$37:$I$37,0))","v":"NA"},"NA",{"$f":"INDEX('8 LCI Data Compilation'!$J$36:$O$62,MATCH(D45,'8 LCI Data Compilation'!$C$36:$C$62,0),MATCH('4 SMM Input'!$E$3,'8 LCI Data Compilation'!$J$37:$O$37,0))","v":321.312464207},{"$f":"INDEX('8 LCI Data Compilation'!$P$36:$U$62,MATCH(D45,'8 LCI Data Compilation'!$C$36:$C$62,0),MATCH('4 SMM Input'!$E$3,'8 LCI Data Compilation'!$P$37:$U$37,0))","v":-2018.6451696297986},{"$f":"INDEX('8 LCI Data Compilation'!$V$36:$AA$62,MATCH(D45,'8 LCI Data Compilation'!$C$36:$C$62,0),MATCH('4 SMM Input'!$E$3,'8 LCI Data Compilation'!$V$37:$AA$37,0))","v":"NA"},{"$f":"INDEX('8 LCI Data Compilation'!$AB$36:$AG$62,MATCH(D45,'8 LCI Data Compilation'!$C$36:$C$62,0),MATCH('4 SMM Input'!$E$3,'8 LCI Data Compilation'!$AB$37:$AG$37,0))","v":"NA"},{"$f":"INDEX('8 LCI Data Compilation'!$AH$36:$AM$62,MATCH(D45,'8 LCI Data Compilation'!$C$36:$C$62,0),MATCH('4 SMM Input'!$E$3,'8 LCI Data Compilation'!$AH$37:$AM$37,0))","v":551.50646841499997},{"$f":"INDEX('8 LCI Data Compilation'!$AN$36:$AS$62,MATCH(D45,'8 LCI Data Compilation'!$C$36:$C$62,0),MATCH('4 SMM Input'!$E$3,'8 LCI Data Compilation'!$AN$37:$AS$37,0))","v":76.86632504710964}]
[null,"Metals",12,"Aluminum Cans",{"$f":"INDEX('8 LCI Data Compilation'!$D$36:$I$62,MATCH(D46,'8 LCI Data Compilation'!$C$36:$C$62,0),MATCH('4 SMM Input'!$E$3,'8 LCI Data Compilation'!$D$37:$I$37,0))","v":"NA"},"NA",{"$f":"INDEX('8 LCI Data Compilation'!$J$36:$O$62,MATCH(D46,'8 LCI Data Compilation'!$C$36:$C$62,0),MATCH('4 SMM Input'!$E$3,'8 LCI Data Compilation'!$J$37:$O$37,0))","v":321.312464207},{"$f":"INDEX('8 LCI Data Compilation'!$P$36:$U$62,MATCH(D46,'8 LCI Data Compilation'!$C$36:$C$62,0),MATCH('4 SMM Input'!$E$3,'8 LCI Data Compilation'!$P$37:$U$37,0))","v":-212962.81113847348},{"$f":"INDEX('8 LCI Data Compilation'!$V$36:$AA$62,MATCH(D46,'8 LCI Data Compilation'!$C$36:$C$62,0),MATCH('4 SMM Input'!$E$3,'8 LCI Data Compilation'!$V$37:$AA$37,0))","v":"NA"},{"$f":"INDEX('8 LCI Data Compilation'!$AB$36:$AG$62,MATCH(D46,'8 LCI Data Compilation'!$C$36:$C$62,0),MATCH('4 SMM Input'!$E$3,'8 LCI Data Compilation'!$AB$37:$AG$37,0))","v":"NA"},{"$f":"INDEX('8 LCI Data Compilation'!$AH$36:$AM$62,MATCH(D46,'8 LCI Data Compilation'!$C$36:$C$62,0),MATCH('4 SMM Input'!$E$3,'8 LCI Data Compilation'!$AH$37:$AM$37,0))","v":551.50646841499997},{"$f":"INDEX('8 LCI Data Compilation'!$AN$36:$AS$62,MATCH(D46,'8 LCI Data Compilation'!$C$36:$C$62,0),MATCH('4 SMM Input'!$E$3,'8 LCI Data Compilation'!$AN$37:$AS$37,0))","v":178.4872189231653}]
[null,null,13,"Steel/Tin Cans",{"$f":"INDEX('8 LCI Data Compilation'!$D$36:$I$62,MATCH(D47,'8 LCI Data Compilation'!$C$36:$C$62,0),MATCH('4 SMM Input'!$E$3,'8 LCI Data Compilation'!$D$37:$I$37,0))","v":"NA"},"NA",{"$f":"INDEX('8 LCI Data Compilation'!$J$36:$O$62,MATCH(D47,'8 LCI Data Compilation'!$C$36:$C$62,0),MATCH('4 SMM Input'!$E$3,'8 LCI Data Compilation'!$J$37:$O$37,0))","v":321.312464207},{"$f":"INDEX('8 LCI Data Compilation'!$P$36:$U$62,MATCH(D47,'8 LCI Data Compilation'!$C$36:$C$62,0),MATCH('4 SMM Input'!$E$3,'8 LCI Data Compilation'!$P$37:$U$37,0))","v":-10816.449618090121},{"$f":"INDEX('8 LCI Data Compilation'!$V$36:$AA$62,MATCH(D47,'8 LCI Data Compilation'!$C$36:$C$62,0),MATCH('4 SMM Input'!$E$3,'8 LCI Data Compilation'!$V$37:$AA$37,0))","v":"NA"},{"$f":"INDEX('8 LCI Data Compilation'!$AB$36:$AG$62,MATCH(D47,'8 LCI Data Compilation'!$C$36:$C$62,0),MATCH('4 SMM Input'!$E$3,'8 LCI Data Compilation'!$AB$37:$AG$37,0))","v":"NA"},{"$f":"INDEX('8 LCI Data Compilation'!$AH$36:$AM$62,MATCH(D47,'8 LCI Data Compilation'!$C$36:$C$62,0),MATCH('4 SMM Input'!$E$3,'8 LCI Data Compilation'!$AH$37:$AM$37,0))","v":551.50646841499997},{"$f":"INDEX('8 LCI Data Compilation'!$AN$36:$AS$62,MATCH(D47,'8 LCI Data Compilation'!$C$36:$C$62,0),MATCH('4 SMM Input'!$E$3,'8 LCI Data Compilation'!$AN$37:$AS$37,0))","v":-10357.7710476758}]
[null,null,14,"Mixed Metals",{"$f":"INDEX('8 LCI Data Compilation'!$D$36:$I$62,MATCH(D48,'8 LCI Data Compilation'!$C$36:$C$62,0),MATCH('4 SMM Input'!$E$3,'8 LCI Data Compilation'!$D$37:$I$37,0))","v":"NA"},"NA",{"$f":"INDEX('8 LCI Data Compilation'!$J$36:$O$62,MATCH(D48,'8 LCI Data Compilation'!$C$36:$C$62,0),MATCH('4 SMM Input'!$E$3,'8 LCI Data Compilation'!$J$37:$O$37,0))","v":321.312464207},{"$f":"INDEX('8 LCI Data Compilation'!$P$36:$U$62,MATCH(D48,'8 LCI Data Compilation'!$C$36:$C$62,0),MATCH('4 SMM Input'!$E$3,'8 LCI Data Compilation'!$P$37:$U$37,0))","v":-111847.08780357937},{"$f":"INDEX('8 LCI Data Compilation'!$V$36:$AA$62,MATCH(D48,'8 LCI Data Compilation'!$C$36:$C$62,0),MATCH('4 SMM Input'!$E$3,'8 LCI Data Compilation'!$V$37:$AA$37,0))","v":"NA"},{"$f":"INDEX('8 LCI Data Compilation'!$AB$36:$AG$62,MATCH(D48,'8 LCI Data Compilation'!$C$36:$C$62,0),MATCH('4 SMM Input'!$E$3,'8 LCI Data Compilation'!$AB$37:$AG$37,0))","v":"NA"},{"$f":"INDEX('8 LCI Data Compilation'!$AH$36:$AM$62,MATCH(D48,'8 LCI Data Compilation'!$C$36:$C$62,0),MATCH('4 SMM Input'!$E$3,'8 LCI Data Compilation'!$AH$37:$AM$37,0))","v":551.50646841499997},{"$f":"INDEX('8 LCI Data Compilation'!$AN$36:$AS$62,MATCH(D48,'8 LCI Data Compilation'!$C$36:$C$62,0),MATCH('4 SMM Input'!$E$3,'8 LCI Data Compilation'!$AN$37:$AS$37,0))","v":-4907.0692947888483}]
[null,"Organic",15,"Yard Waste",{"$f":"INDEX('8 LCI Data Compilation'!$D$36:$I$62,MATCH(D49,'8 LCI Data Compilation'!$C$36:$C$62,0),MATCH('4 SMM Input'!$E$3,'8 LCI Data Compilation'!$D$37:$I$37,0))","v":"NA"},"NA",{"$f":"INDEX('8 LCI Data Compilation'!$J$36:$O$62,MATCH(D49,'8 LCI Data Compilation'!$C$36:$C$62,0),MATCH('4 SMM Input'!$E$3,'8 LCI Data Compilation'!$J$37:$O$37,0))","v":321.312464207},{"$f":"INDEX('8 LCI Data Compilation'!$P$36:$U$62,MATCH(D49,'8 LCI Data Compilation'!$C$36:$C$62,0),MATCH('4 SMM Input'!$E$3,'8 LCI Data Compilation'!$P$37:$U$37,0))","v":"NA"},{"$f":"INDEX('8 LCI Data Compilation'!$V$36:$AA$62,MATCH(D49,'8 LCI Data Compilation'!$C$36:$C$62,0),MATCH('4 SMM Input'!$E$3,'8 LCI Data Compilation'!$V$37:$AA$37,0))","v":306.92533894400003},{"$f":"INDEX('8 LCI Data Compilation'!$AB$36:$AG$62,MATCH(D49,'8 LCI Data Compilation'!$C$36:$C$62,0),MATCH('4 SMM Input'!$E$3,'8 LCI Data Compilation'!$AB$37:$AG$37,0))","v":"NA"},{"$f":"INDEX('8 LCI Data Compilation'!$AH$36:$AM$62,MATCH(D49,'8 LCI Data Compilation'!$C$36:$C$62,0),MATCH('4 SMM Input'!$E$3,'8 LCI Data Compilation'!$AH$37:$AM$37,0))","v":244.26141557626667},{"$f":"INDEX('8 LCI Data Compilation'!$AN$36:$AS$62,MATCH(D49,'8 LCI Data Compilation'!$C$36:$C$62,0),MATCH('4 SMM Input'!$E$3,'8 LCI Data Compilation'!$AN$37:$AS$37,0))","v":-4658.9329825659215}]
[null,null,16,"Food Waste",{"$f":"INDEX('8 LCI Data Compilation'!$D$36:$I$62,MATCH(D50,'8 LCI Data Compilation'!$C$36:$C$62,0),MATCH('4 SMM Input'!$E$3,'8 LCI Data Compilation'!$D$37:$I$37,0))","v":"NA"},{"$f":"IFERROR(E50*-1,\"NA\")","v":"NA"},{"$f":"INDEX('8 LCI Data Compilation'!$J$36:$O$62,MATCH(D50,'8 LCI Data Compilation'!$C$36:$C$62,0),MATCH('4 SMM Input'!$E$3,'8 LCI Data Compilation'!$J$37:$O$37,0))","v":321.312464207},{"$f":"INDEX('8 LCI Data Compilation'!$P$36:$U$62,MATCH(D50,'8 LCI Data Compilation'!$C$36:$C$62,0),MATCH('4 SMM Input'!$E$3,'8 LCI Data Compilation'!$P$37:$U$37,0))","v":"NA"},{"$f":"INDEX('8 LCI Data Compilation'!$V$36:$AA$62,MATCH(D50,'8 LCI Data Compilation'!$C$36:$C$62,0),MATCH('4 SMM Input'!$E$3,'8 LCI Data Compilation'!$V$37:$AA$37,0))","v":306.92533894400003},{"$f":"INDEX('8 LCI Data Compilation'!$AB$36:$AG$62,MATCH(D50,'8 LCI Data Compilation'!$C$36:$C$62,0),MATCH('4 SMM Input'!$E$3,'8 LCI Data Compilation'!$AB$37:$AG$37,0))","v":"NA"},{"$f":"INDEX('8 LCI Data Compilation'!$AH$36:$AM$62,MATCH(D50,'8 LCI Data Compilation'!$C$36:$C$62,0),MATCH('4 SMM Input'!$E$3,'8 LCI Data Compilation'!$AH$37:$AM$37,0))","v":-229.23486252380005},{"$f":"INDEX('8 LCI Data Compilation'!$AN$36:$AS$62,MATCH(D50,'8 LCI Data Compilation'!$C$36:$C$62,0),MATCH('4 SMM Input'!$E$3,'8 LCI Data Compilation'!$AN$37:$AS$37,0))","v":-2066.9266384213902}]
[null,"Other ",17,"Tires",{"$f":"INDEX('8 LCI Data Compilation'!$D$36:$I$62,MATCH(D51,'8 LCI Data Compilation'!$C$36:$C$62,0),MATCH('4 SMM Input'!$E$3,'8 LCI Data Compilation'!$D$37:$I$37,0))","v":"NA"},"NA",{"$f":"INDEX('8 LCI Data Compilation'!$J$36:$O$62,MATCH(D51,'8 LCI Data Compilation'!$C$36:$C$62,0),MATCH('4 SMM Input'!$E$3,'8 LCI Data Compilation'!$J$37:$O$37,0))","v":"NA"},{"$f":"INDEX('8 LCI Data Compilation'!$P$36:$U$62,MATCH(D51,'8 LCI Data Compilation'!$C$36:$C$62,0),MATCH('4 SMM Input'!$E$3,'8 LCI Data Compilation'!$P$37:$U$37,0))","v":"NA"},{"$f":"INDEX('8 LCI Data Compilation'!$V$36:$AA$62,MATCH(D51,'8 LCI Data Compilation'!$C$36:$C$62,0),MATCH('4 SMM Input'!$E$3,'8 LCI Data Compilation'!$V$37:$AA$37,0))","v":"NA"},{"$f":"INDEX('8 LCI Data Compilation'!$AB$36:$AG$62,MATCH(D51,'8 LCI Data Compilation'!$C$36:$C$62,0),MATCH('4 SMM Input'!$E$3,'8 LCI Data Compilation'!$AB$37:$AG$37,0))","v":"NA"},{"$f":"INDEX('8 LCI Data Compilation'!$AH$36:$AM$62,MATCH(D51,'8 LCI Data Compilation'!$C$36:$C$62,0),MATCH('4 SMM Input'!$E$3,'8 LCI Data Compilation'!$AH$37:$AM$37,0))","v":"NA"},{"$f":"INDEX('8 LCI Data Compilation'!$AN$36:$AS$62,MATCH(D51,'8 LCI Data Compilation'!$C$36:$C$62,0),MATCH('4 SMM Input'!$E$3,'8 LCI Data Compilation'!$AN$37:$AS$37,0))","v":"NA"}]
[null,null,18,"Clothing and Footwear",{"$f":"INDEX('8 LCI Data Compilation'!$D$36:$I$62,MATCH(D52,'8 LCI Data Compilation'!$C$36:$C$62,0),MATCH('4 SMM Input'!$E$3,'8 LCI Data Compilation'!$D$37:$I$37,0))","v":"NA"},{"$f":"IFERROR(E52*-1,\"NA\")","v":"NA"},{"$f":"INDEX('8 LCI Data Compilation'!$J$36:$O$62,MATCH(D52,'8 LCI Data Compilation'!$C$36:$C$62,0),MATCH('4 SMM Input'!$E$3,'8 LCI Data Compilation'!$J$37:$O$37,0))","v":"NA"},{"$f":"INDEX('8 LCI Data Compilation'!$P$36:$U$62,MATCH(D52,'8 LCI Data Compilation'!$C$36:$C$62,0),MATCH('4 SMM Input'!$E$3,'8 LCI Data Compilation'!$P$37:$U$37,0))","v":"NA"},{"$f":"INDEX('8 LCI Data Compilation'!$V$36:$AA$62,MATCH(D52,'8 LCI Data Compilation'!$C$36:$C$62,0),MATCH('4 SMM Input'!$E$3,'8 LCI Data Compilation'!$V$37:$AA$37,0))","v":"NA"},{"$f":"INDEX('8 LCI Data Compilation'!$AB$36:$AG$62,MATCH(D52,'8 LCI Data Compilation'!$C$36:$C$62,0),MATCH('4 SMM Input'!$E$3,'8 LCI Data Compilation'!$AB$37:$AG$37,0))","v":"NA"},{"$f":"INDEX('8 LCI Data Compilation'!$AH$36:$AM$62,MATCH(D52,'8 LCI Data Compilation'!$C$36:$C$62,0),MATCH('4 SMM Input'!$E$3,'8 LCI Data Compilation'!$AH$37:$AM$37,0))","v":"NA"},{"$f":"INDEX('8 LCI Data Compilation'!$AN$36:$AS$62,MATCH(D52,'8 LCI Data Compilation'!$C$36:$C$62,0),MATCH('4 SMM Input'!$E$3,'8 LCI Data Compilation'!$AN$37:$AS$37,0))","v":"NA"}]
[null,null,19,"Furniture",{"$f":"INDEX('8 LCI Data Compilation'!$D$36:$I$62,MATCH(D53,'8 LCI Data Compilation'!$C$36:$C$62,0),MATCH('4 SMM Input'!$E$3,'8 LCI Data Compilation'!$D$37:$I$37,0))","v":"NA"},{"$f":"IFERROR(E53*-1,\"NA\")","v":"NA"},{"$f":"INDEX('8 LCI Data Compilation'!$J$36:$O$62,MATCH(D53,'8 LCI Data Compilation'!$C$36:$C$62,0),MATCH('4 SMM Input'!$E$3,'8 LCI Data Compilation'!$J$37:$O$37,0))","v":"NA"},{"$f":"INDEX('8 LCI Data Compilation'!$P$36:$U$62,MATCH(D53,'8 LCI Data Compilation'!$C$36:$C$62,0),MATCH('4 SMM Input'!$E$3,'8 LCI Data Compilation'!$P$37:$U$37,0))","v":"NA"},{"$f":"INDEX('8 LCI Data Compilation'!$V$36:$AA$62,MATCH(D53,'8 LCI Data Compilation'!$C$36:$C$62,0),MATCH('4 SMM Input'!$E$3,'8 LCI Data Compilation'!$V$37:$AA$37,0))","v":"NA"},{"$f":"INDEX('8 LCI Data Compilation'!$AB$36:$AG$62,MATCH(D53,'8 LCI Data Compilation'!$C$36:$C$62,0),MATCH('4 SMM Input'!$E$3,'8 LCI Data Compilation'!$AB$37:$AG$37,0))","v":"NA"},{"$f":"INDEX('8 LCI Data Compilation'!$AH$36:$AM$62,MATCH(D53,'8 LCI Data Compilation'!$C$36:$C$62,0),MATCH('4 SMM Input'!$E$3,'8 LCI Data Compilation'!$AH$37:$AM$37,0))","v":"NA"},{"$f":"INDEX('8 LCI Data Compilation'!$AN$36:$AS$62,MATCH(D53,'8 LCI Data Compilation'!$C$36:$C$62,0),MATCH('4 SMM Input'!$E$3,'8 LCI Data Compilation'!$AN$37:$AS$37,0))","v":"NA"}]
[null,null,20,"Electronics",{"$f":"INDEX('8 LCI Data Compilation'!$D$36:$I$62,MATCH(D54,'8 LCI Data Compilation'!$C$36:$C$62,0),MATCH('4 SMM Input'!$E$3,'8 LCI Data Compilation'!$D$37:$I$37,0))","v":"NA"},{"$f":"IFERROR(E54*-1,\"NA\")","v":"NA"},{"$f":"INDEX('8 LCI Data Compilation'!$J$36:$O$62,MATCH(D54,'8 LCI Data Compilation'!$C$36:$C$62,0),MATCH('4 SMM Input'!$E$3,'8 LCI Data Compilation'!$J$37:$O$37,0))","v":"NA"},{"$f":"INDEX('8 LCI Data Compilation'!$P$36:$U$62,MATCH(D54,'8 LCI Data Compilation'!$C$36:$C$62,0),MATCH('4 SMM Input'!$E$3,'8 LCI Data Compilation'!$P$37:$U$37,0))","v":"NA"},{"$f":"INDEX('8 LCI Data Compilation'!$V$36:$AA$62,MATCH(D54,'8 LCI Data Compilation'!$C$36:$C$62,0),MATCH('4 SMM Input'!$E$3,'8 LCI Data Compilation'!$V$37:$AA$37,0))","v":"NA"},{"$f":"INDEX('8 LCI Data Compilation'!$AB$36:$AG$62,MATCH(D54,'8 LCI Data Compilation'!$C$36:$C$62,0),MATCH('4 SMM Input'!$E$3,'8 LCI Data Compilation'!$AB$37:$AG$37,0))","v":"NA"},{"$f":"INDEX('8 LCI Data Compilation'!$AH$36:$AM$62,MATCH(D54,'8 LCI Data Compilation'!$C$36:$C$62,0),MATCH('4 SMM Input'!$E$3,'8 LCI Data Compilation'!$AH$37:$AM$37,0))","v":"NA"},{"$f":"INDEX('8 LCI Data Compilation'!$AN$36:$AS$62,MATCH(D54,'8 LCI Data Compilation'!$C$36:$C$62,0),MATCH('4 SMM Input'!$E$3,'8 LCI Data Compilation'!$AN$37:$AS$37,0))","v":"NA"}]
[null,"C&D Debris",21,"Wood Products",{"$f":"INDEX('8 LCI Data Compilation'!$D$36:$I$62,MATCH(D55,'8 LCI Data Compilation'!$C$36:$C$62,0),MATCH('4 SMM Input'!$E$3,'8 LCI Data Compilation'!$D$37:$I$37,0))","v":"NA"},"NA",{"$f":"INDEX('8 LCI Data Compilation'!$J$36:$O$62,MATCH(D55,'8 LCI Data Compilation'!$C$36:$C$62,0),MATCH('4 SMM Input'!$E$3,'8 LCI Data Compilation'!$J$37:$O$37,0))","v":"NA"},{"$f":"INDEX('8 LCI Data Compilation'!$P$36:$U$62,MATCH(D55,'8 LCI Data Compilation'!$C$36:$C$62,0),MATCH('4 SMM Input'!$E$3,'8 LCI Data Compilation'!$P$37:$U$37,0))","v":"NA"},{"$f":"INDEX('8 LCI Data Compilation'!$V$36:$AA$62,MATCH(D55,'8 LCI Data Compilation'!$C$36:$C$62,0),MATCH('4 SMM Input'!$E$3,'8 LCI Data Compilation'!$V$37:$AA$37,0))","v":"NA"},{"$f":"INDEX('8 LCI Data Compilation'!$AB$36:$AG$62,MATCH(D55,'8 LCI Data Compilation'!$C$36:$C$62,0),MATCH('4 SMM Input'!$E$3,'8 LCI Data Compilation'!$AB$37:$AG$37,0))","v":"NA"},{"$f":"INDEX('8 LCI Data Compilation'!$AH$36:$AM$62,MATCH(D55,'8 LCI Data Compilation'!$C$36:$C$62,0),MATCH('4 SMM Input'!$E$3,'8 LCI Data Compilation'!$AH$37:$AM$37,0))","v":"NA"},{"$f":"INDEX('8 LCI Data Compilation'!$AN$36:$AS$62,MATCH(D55,'8 LCI Data Compilation'!$C$36:$C$62,0),MATCH('4 SMM Input'!$E$3,'8 LCI Data Compilation'!$AN$37:$AS$37,0))","v":"NA"}]
[null,null,22,"Asphalt Shingles",{"$f":"INDEX('8 LCI Data Compilation'!$D$36:$I$62,MATCH(D56,'8 LCI Data Compilation'!$C$36:$C$62,0),MATCH('4 SMM Input'!$E$3,'8 LCI Data Compilation'!$D$37:$I$37,0))","v":"NA"},"NA",{"$f":"INDEX('8 LCI Data Compilation'!$J$36:$O$62,MATCH(D56,'8 LCI Data Compilation'!$C$36:$C$62,0),MATCH('4 SMM Input'!$E$3,'8 LCI Data Compilation'!$J$37:$O$37,0))","v":"NA"},{"$f":"INDEX('8 LCI Data Compilation'!$P$36:$U$62,MATCH(D56,'8 LCI Data Compilation'!$C$36:$C$62,0),MATCH('4 SMM Input'!$E$3,'8 LCI Data Compilation'!$P$37:$U$37,0))","v":"NA"},{"$f":"INDEX('8 LCI Data Compilation'!$V$36:$AA$62,MATCH(D56,'8 LCI Data Compilation'!$C$36:$C$62,0),MATCH('4 SMM Input'!$E$3,'8 LCI Data Compilation'!$V$37:$AA$37,0))","v":"NA"},{"$f":"INDEX('8 LCI Data Compilation'!$AB$36:$AG$62,MATCH(D56,'8 LCI Data Compilation'!$C$36:$C$62,0),MATCH('4 SMM Input'!$E$3,'8 LCI Data Compilation'!$AB$37:$AG$37,0))","v":"NA"},{"$f":"INDEX('8 LCI Data Compilation'!$AH$36:$AM$62,MATCH(D56,'8 LCI Data Compilation'!$C$36:$C$62,0),MATCH('4 SMM Input'!$E$3,'8 LCI Data Compilation'!$AH$37:$AM$37,0))","v":"NA"},{"$f":"INDEX('8 LCI Data Compilation'!$AN$36:$AS$62,MATCH(D56,'8 LCI Data Compilation'!$C$36:$C$62,0),MATCH('4 SMM Input'!$E$3,'8 LCI Data Compilation'!$AN$37:$AS$37,0))","v":"NA"}]
[null,null,23,"Gypsum Drywall",{"$f":"INDEX('8 LCI Data Compilation'!$D$36:$I$62,MATCH(D57,'8 LCI Data Compilation'!$C$36:$C$62,0),MATCH('4 SMM Input'!$E$3,'8 LCI Data Compilation'!$D$37:$I$37,0))","v":"NA"},"NA",{"$f":"INDEX('8 LCI Data Compilation'!$J$36:$O$62,MATCH(D57,'8 LCI Data Compilation'!$C$36:$C$62,0),MATCH('4 SMM Input'!$E$3,'8 LCI Data Compilation'!$J$37:$O$37,0))","v":"NA"},{"$f":"INDEX('8 LCI Data Compilation'!$P$36:$U$62,MATCH(D57,'8 LCI Data Compilation'!$C$36:$C$62,0),MATCH('4 SMM Input'!$E$3,'8 LCI Data Compilation'!$P$37:$U$37,0))","v":"NA"},{"$f":"INDEX('8 LCI Data Compilation'!$V$36:$AA$62,MATCH(D57,'8 LCI Data Compilation'!$C$36:$C$62,0),MATCH('4 SMM Input'!$E$3,'8 LCI Data Compilation'!$V$37:$AA$37,0))","v":"NA"},{"$f":"INDEX('8 LCI Data Compilation'!$AB$36:$AG$62,MATCH(D57,'8 LCI Data Compilation'!$C$36:$C$62,0),MATCH('4 SMM Input'!$E$3,'8 LCI Data Compilation'!$AB$37:$AG$37,0))","v":"NA"},{"$f":"INDEX('8 LCI Data Compilation'!$AH$36:$AM$62,MATCH(D57,'8 LCI Data Compilation'!$C$36:$C$62,0),MATCH('4 SMM Input'!$E$3,'8 LCI Data Compilation'!$AH$37:$AM$37,0))","v":"NA"},{"$f":"INDEX('8 LCI Data Compilation'!$AN$36:$AS$62,MATCH(D57,'8 LCI Data Compilation'!$C$36:$C$62,0),MATCH('4 SMM Input'!$E$3,'8 LCI Data Compilation'!$AN$37:$AS$37,0))","v":"NA"}]
[null,null,24,"Concrete",{"$f":"INDEX('8 LCI Data Compilation'!$D$36:$I$62,MATCH(D58,'8 LCI Data Compilation'!$C$36:$C$62,0),MATCH('4 SMM Input'!$E$3,'8 LCI Data Compilation'!$D$37:$I$37,0))","v":"NA"},"NA",{"$f":"INDEX('8 LCI Data Compilation'!$J$36:$O$62,MATCH(D58,'8 LCI Data Compilation'!$C$36:$C$62,0),MATCH('4 SMM Input'!$E$3,'8 LCI Data Compilation'!$J$37:$O$37,0))","v":"NA"},{"$f":"INDEX('8 LCI Data Compilation'!$P$36:$U$62,MATCH(D58,'8 LCI Data Compilation'!$C$36:$C$62,0),MATCH('4 SMM Input'!$E$3,'8 LCI Data Compilation'!$P$37:$U$37,0))","v":"NA"},{"$f":"INDEX('8 LCI Data Compilation'!$V$36:$AA$62,MATCH(D58,'8 LCI Data Compilation'!$C$36:$C$62,0),MATCH('4 SMM Input'!$E$3,'8 LCI Data Compilation'!$V$37:$AA$37,0))","v":"NA"},{"$f":"INDEX('8 LCI Data Compilation'!$AB$36:$AG$62,MATCH(D58,'8 LCI Data Compilation'!$C$36:$C$62,0),MATCH('4 SMM Input'!$E$3,'8 LCI Data Compilation'!$AB$37:$AG$37,0))","v":"NA"},{"$f":"INDEX('8 LCI Data Compilation'!$AH$36:$AM$62,MATCH(D58,'8 LCI Data Compilation'!$C$36:$C$62,0),MATCH('4 SMM Input'!$E$3,'8 LCI Data Compilation'!$AH$37:$AM$37,0))","v":"NA"},{"$f":"INDEX('8 LCI Data Compilation'!$AN$36:$AS$62,MATCH(D58,'8 LCI Data Compilation'!$C$36:$C$62,0),MATCH('4 SMM Input'!$E$3,'8 LCI Data Compilation'!$AN$37:$AS$37,0))","v":"NA"}]
[null,null,25,"Reclaimed Asphalt Pavement",{"$f":"INDEX('8 LCI Data Compilation'!$D$36:$I$62,MATCH(D59,'8 LCI Data Compilation'!$C$36:$C$62,0),MATCH('4 SMM Input'!$E$3,'8 LCI Data Compilation'!$D$37:$I$37,0))","v":"NA"},"NA",{"$f":"INDEX('8 LCI Data Compilation'!$J$36:$O$62,MATCH(D59,'8 LCI Data Compilation'!$C$36:$C$62,0),MATCH('4 SMM Input'!$E$3,'8 LCI Data Compilation'!$J$37:$O$37,0))","v":"NA"},{"$f":"INDEX('8 LCI Data Compilation'!$P$36:$U$62,MATCH(D59,'8 LCI Data Compilation'!$C$36:$C$62,0),MATCH('4 SMM Input'!$E$3,'8 LCI Data Compilation'!$P$37:$U$37,0))","v":"NA"},{"$f":"INDEX('8 LCI Data Compilation'!$V$36:$AA$62,MATCH(D59,'8 LCI Data Compilation'!$C$36:$C$62,0),MATCH('4 SMM Input'!$E$3,'8 LCI Data Compilation'!$V$37:$AA$37,0))","v":"NA"},{"$f":"INDEX('8 LCI Data Compilation'!$AB$36:$AG$62,MATCH(D59,'8 LCI Data Compilation'!$C$36:$C$62,0),MATCH('4 SMM Input'!$E$3,'8 LCI Data Compilation'!$AB$37:$AG$37,0))","v":"NA"},{"$f":"INDEX('8 LCI Data Compilation'!$AH$36:$AM$62,MATCH(D59,'8 LCI Data Compilation'!$C$36:$C$62,0),MATCH('4 SMM Input'!$E$3,'8 LCI Data Compilation'!$AH$37:$AM$37,0))","v":"NA"},{"$f":"INDEX('8 LCI Data Compilation'!$AN$36:$AS$62,MATCH(D59,'8 LCI Data Compilation'!$C$36:$C$62,0),MATCH('4 SMM Input'!$E$3,'8 LCI Data Compilation'!$AN$37:$AS$37,0))","v":"NA"}]
[]
[]
[null,"All Units (Gal./ Short Ton)"]
[null,{"$f":"'5 SMM Results'!B66:M66","v":"Water Use (Gallons): Freshwater from lakes, rivers, and wells are consumed by different processes. The units are expressed as units of gallons. This a measure of the water used in such way that the water is evaporated, incorporated into products, transferred to other watersheds, or disposed into the sea.\n"}]
[null,"Material Category","Item No.","Material Type","Produced","Donated","Collection","Recycling","Composting","Anaerobic Digestion","Landfill","Combustion"]
[null,"MSW ",1,"Mixed MSW",{"$f":"INDEX('8 LCI Data Compilation'!$D$66:$I$92,MATCH(D65,'8 LCI Data Compilation'!$C$66:$C$92,0),MATCH('4 SMM Input'!$E$3,'8 LCI Data Compilation'!$D$67:$I$67,0))","v":"NA"},"NA",{"$f":"INDEX('8 LCI Data Compilation'!$J$66:$O$92,MATCH(D65,'8 LCI Data Compilation'!$C$66:$C$92,0),MATCH('4 SMM Input'!$E$3,'8 LCI Data Compilation'!$J$67:$O$67,0))","v":"NA"},{"$f":"INDEX('8 LCI Data Compilation'!$P$66:$U$92,MATCH(D65,'8 LCI Data Compilation'!$C$66:$C$92,0),MATCH('4 SMM Input'!$E$3,'8 LCI Data Compilation'!$P$67:$U$67,0))","v":"NA"},{"$f":"INDEX('8 LCI Data Compilation'!$V$66:$AA$92,MATCH(D65,'8 LCI Data Compilation'!$C$66:$C$92,0),MATCH('4 SMM Input'!$E$3,'8 LCI Data Compilation'!$V$67:$AA$67,0))","v":"NA"},{"$f":"INDEX('8 LCI Data Compilation'!$AB$66:$AG$92,MATCH(D65,'8 LCI Data Compilation'!$C$66:$C$92,0),MATCH('4 SMM Input'!$E$3,'8 LCI Data Compilation'!$AB$67:$AG$67,0))","v":"NA"},{"$f":"INDEX('8 LCI Data Compilation'!$AH$66:$AM$92,MATCH(D65,'8 LCI Data Compilation'!$C$66:$C$92,0),MATCH('4 SMM Input'!$E$3,'8 LCI Data Compilation'!$AH$67:$AM$67,0))","v":"NA"},{"$f":"INDEX('8 LCI Data Compilation'!$AN$66:$AS$92,MATCH(D65,'8 LCI Data Compilation'!$C$66:$C$92,0),MATCH('4 SMM Input'!$E$3,'8 LCI Data Compilation'!$AN$67:$AS$67,0))","v":"NA"}]
[null,"Paper",2,"Newspaper",{"$f":"INDEX('8 LCI Data Compilation'!$D$66:$I$92,MATCH(D66,'8 LCI Data Compilation'!$C$66:$C$92,0),MATCH('4 SMM Input'!$E$3,'8 LCI Data Compilation'!$D$67:$I$67,0))","v":"NA"},"NA",{"$f":"INDEX('8 LCI Data Compilation'!$J$66:$O$92,MATCH(D66,'8 LCI Data Compilation'!$C$66:$C$92,0),MATCH('4 SMM Input'!$E$3,'8 LCI Data Compilation'!$J$67:$O$67,0))","v":"NA"},{"$f":"INDEX('8 LCI Data Compilation'!$P$66:$U$92,MATCH(D66,'8 LCI Data Compilation'!$C$66:$C$92,0),MATCH('4 SMM Input'!$E$3,'8 LCI Data Compilation'!$P$67:$U$67,0))","v":"NA"},{"$f":"INDEX('8 LCI Data Compilation'!$V$66:$AA$92,MATCH(D66,'8 LCI Data Compilation'!$C$66:$C$92,0),MATCH('4 SMM Input'!$E$3,'8 LCI Data Compilation'!$V$67:$AA$67,0))","v":"NA"},{"$f":"INDEX('8 LCI Data Compilation'!$AB$66:$AG$92,MATCH(D66,'8 LCI Data Compilation'!$C$66:$C$92,0),MATCH('4 SMM Input'!$E$3,'8 LCI Data Compilation'!$AB$67:$AG$67,0))","v":"NA"},{"$f":"INDEX('8 LCI Data Compilation'!$AH$66:$AM$92,MATCH(D66,'8 LCI Data Compilation'!$C$66:$C$92,0),MATCH('4 SMM Input'!$E$3,'8 LCI Data Compilation'!$AH$67:$AM$67,0))","v":"NA"},{"$f":"INDEX('8 LCI Data Compilation'!$AN$66:$AS$92,MATCH(D66,'8 LCI Data Compilation'!$C$66:$C$92,0),MATCH('4 SMM Input'!$E$3,'8 LCI Data Compilation'!$AN$67:$AS$67,0))","v":"NA"}]
[null,null,3,"Corrugated Cardboard (OCC)",{"$f":"INDEX('8 LCI Data Compilation'!$D$66:$I$92,MATCH(D67,'8 LCI Data Compilation'!$C$66:$C$92,0),MATCH('4 SMM Input'!$E$3,'8 LCI Data Compilation'!$D$67:$I$67,0))","v":"NA"},"NA",{"$f":"INDEX('8 LCI Data Compilation'!$J$66:$O$92,MATCH(D67,'8 LCI Data Compilation'!$C$66:$C$92,0),MATCH('4 SMM Input'!$E$3,'8 LCI Data Compilation'!$J$67:$O$67,0))","v":"NA"},{"$f":"INDEX('8 LCI Data Compilation'!$P$66:$U$92,MATCH(D67,'8 LCI Data Compilation'!$C$66:$C$92,0),MATCH('4 SMM Input'!$E$3,'8 LCI Data Compilation'!$P$67:$U$67,0))","v":"NA"},{"$f":"INDEX('8 LCI Data Compilation'!$V$66:$AA$92,MATCH(D67,'8 LCI Data Compilation'!$C$66:$C$92,0),MATCH('4 SMM Input'!$E$3,'8 LCI Data Compilation'!$V$67:$AA$67,0))","v":"NA"},{"$f":"INDEX('8 LCI Data Compilation'!$AB$66:$AG$92,MATCH(D67,'8 LCI Data Compilation'!$C$66:$C$92,0),MATCH('4 SMM Input'!$E$3,'8 LCI Data Compilation'!$AB$67:$AG$67,0))","v":"NA"},{"$f":"INDEX('8 LCI Data Compilation'!$AH$66:$AM$92,MATCH(D67,'8 LCI Data Compilation'!$C$66:$C$92,0),MATCH('4 SMM Input'!$E$3,'8 LCI Data Compilation'!$AH$67:$AM$67,0))","v":"NA"},{"$f":"INDEX('8 LCI Data Compilation'!$AN$66:$AS$92,MATCH(D67,'8 LCI Data Compilation'!$C$66:$C$92,0),MATCH('4 SMM Input'!$E$3,'8 LCI Data Compilation'!$AN$67:$AS$67,0))","v":"NA"}]
[null,null,4,"High Grade Paper (Office Type Paper)",{"$f":"INDEX('8 LCI Data Compilation'!$D$66:$I$92,MATCH(D68,'8 LCI Data Compilation'!$C$66:$C$92,0),MATCH('4 SMM Input'!$E$3,'8 LCI Data Compilation'!$D$67:$I$67,0))","v":"NA"},"NA",{"$f":"INDEX('8 LCI Data Compilation'!$J$66:$O$92,MATCH(D68,'8 LCI Data Compilation'!$C$66:$C$92,0),MATCH('4 SMM Input'!$E$3,'8 LCI Data Compilation'!$J$67:$O$67,0))","v":"NA"},{"$f":"INDEX('8 LCI Data Compilation'!$P$66:$U$92,MATCH(D68,'8 LCI Data Compilation'!$C$66:$C$92,0),MATCH('4 SMM Input'!$E$3,'8 LCI Data Compilation'!$P$67:$U$67,0))","v":"NA"},{"$f":"INDEX('8 LCI Data Compilation'!$V$66:$AA$92,MATCH(D68,'8 LCI Data Compilation'!$C$66:$C$92,0),MATCH('4 SMM Input'!$E$3,'8 LCI Data Compilation'!$V$67:$AA$67,0))","v":"NA"},{"$f":"INDEX('8 LCI Data Compilation'!$AB$66:$AG$92,MATCH(D68,'8 LCI Data Compilation'!$C$66:$C$92,0),MATCH('4 SMM Input'!$E$3,'8 LCI Data Compilation'!$AB$67:$AG$67,0))","v":"NA"},{"$f":"INDEX('8 LCI Data Compilation'!$AH$66:$AM$92,MATCH(D68,'8 LCI Data Compilation'!$C$66:$C$92,0),MATCH('4 SMM Input'!$E$3,'8 LCI Data Compilation'!$AH$67:$AM$67,0))","v":"NA"},{"$f":"INDEX('8 LCI Data Compilation'!$AN$66:$AS$92,MATCH(D68,'8 LCI Data Compilation'!$C$66:$C$92,0),MATCH('4 SMM Input'!$E$3,'8 LCI Data Compilation'!$AN$67:$AS$67,0))","v":"NA"}]
[null,null,5,"Magazines/third-class mail",{"$f":"INDEX('8 LCI Data Compilation'!$D$66:$I$92,MATCH(D69,'8 LCI Data Compilation'!$C$66:$C$92,0),MATCH('4 SMM Input'!$E$3,'8 LCI Data Compilation'!$D$67:$I$67,0))","v":"NA"},"NA",{"$f":"INDEX('8 LCI Data Compilation'!$J$66:$O$92,MATCH(D69,'8 LCI Data Compilation'!$C$66:$C$92,0),MATCH('4 SMM Input'!$E$3,'8 LCI Data Compilation'!$J$67:$O$67,0))","v":"NA"},{"$f":"INDEX('8 LCI Data Compilation'!$P$66:$U$92,MATCH(D69,'8 LCI Data Compilation'!$C$66:$C$92,0),MATCH('4 SMM Input'!$E$3,'8 LCI Data Compilation'!$P$67:$U$67,0))","v":"NA"},{"$f":"INDEX('8 LCI Data Compilation'!$V$66:$AA$92,MATCH(D69,'8 LCI Data Compilation'!$C$66:$C$92,0),MATCH('4 SMM Input'!$E$3,'8 LCI Data Compilation'!$V$67:$AA$67,0))","v":"NA"},{"$f":"INDEX('8 LCI Data Compilation'!$AB$66:$AG$92,MATCH(D69,'8 LCI Data Compilation'!$C$66:$C$92,0),MATCH('4 SMM Input'!$E$3,'8 LCI Data Compilation'!$AB$67:$AG$67,0))","v":"NA"},{"$f":"INDEX('8 LCI Data Compilation'!$AH$66:$AM$92,MATCH(D69,'8 LCI Data Compilation'!$C$66:$C$92,0),MATCH('4 SMM Input'!$E$3,'8 LCI Data Compilation'!$AH$67:$AM$67,0))","v":"NA"},{"$f":"INDEX('8 LCI Data Compilation'!$AN$66:$AS$92,MATCH(D69,'8 LCI Data Compilation'!$C$66:$C$92,0),MATCH('4 SMM Input'!$E$3,'8 LCI Data Compilation'!$AN$67:$AS$67,0))","v":"NA"}]
[null,null,6,"Books",{"$f":"INDEX('8 LCI Data Compilation'!$D$66:$I$92,MATCH(D70,'8 LCI Data Compilation'!$C$66:$C$92,0),MATCH('4 SMM Input'!$E$3,'8 LCI Data Compilation'!$D$67:$I$67,0))","v":"NA"},"NA",{"$f":"INDEX('8 LCI Data Compilation'!$J$66:$O$92,MATCH(D70,'8 LCI Data Compilation'!$C$66:$C$92,0),MATCH('4 SMM Input'!$E$3,'8 LCI Data Compilation'!$J$67:$O$67,0))","v":"NA"},{"$f":"INDEX('8 LCI Data Compilation'!$P$66:$U$92,MATCH(D70,'8 LCI Data Compilation'!$C$66:$C$92,0),MATCH('4 SMM Input'!$E$3,'8 LCI Data Compilation'!$P$67:$U$67,0))","v":"NA"},{"$f":"INDEX('8 LCI Data Compilation'!$V$66:$AA$92,MATCH(D70,'8 LCI Data Compilation'!$C$66:$C$92,0),MATCH('4 SMM Input'!$E$3,'8 LCI Data Compilation'!$V$67:$AA$67,0))","v":"NA"},{"$f":"INDEX('8 LCI Data Compilation'!$AB$66:$AG$92,MATCH(D70,'8 LCI Data Compilation'!$C$66:$C$92,0),MATCH('4 SMM Input'!$E$3,'8 LCI Data Compilation'!$AB$67:$AG$67,0))","v":"NA"},{"$f":"INDEX('8 LCI Data Compilation'!$AH$66:$AM$92,MATCH(D70,'8 LCI Data Compilation'!$C$66:$C$92,0),MATCH('4 SMM Input'!$E$3,'8 LCI Data Compilation'!$AH$67:$AM$67,0))","v":"NA"},{"$f":"INDEX('8 LCI Data Compilation'!$AN$66:$AS$92,MATCH(D70,'8 LCI Data Compilation'!$C$66:$C$92,0),MATCH('4 SMM Input'!$E$3,'8 LCI Data Compilation'!$AN$67:$AS$67,0))","v":"NA"}]
[null,null,7,"Mixed Paper",{"$f":"INDEX('8 LCI Data Compilation'!$D$66:$I$92,MATCH(D71,'8 LCI Data Compilation'!$C$66:$C$92,0),MATCH('4 SMM Input'!$E$3,'8 LCI Data Compilation'!$D$67:$I$67,0))","v":"NA"},"NA",{"$f":"INDEX('8 LCI Data Compilation'!$J$66:$O$92,MATCH(D71,'8 LCI Data Compilation'!$C$66:$C$92,0),MATCH('4 SMM Input'!$E$3,'8 LCI Data Compilation'!$J$67:$O$67,0))","v":"NA"},{"$f":"INDEX('8 LCI Data Compilation'!$P$66:$U$92,MATCH(D71,'8 LCI Data Compilation'!$C$66:$C$92,0),MATCH('4 SMM Input'!$E$3,'8 LCI Data Compilation'!$P$67:$U$67,0))","v":"NA"},{"$f":"INDEX('8 LCI Data Compilation'!$V$66:$AA$92,MATCH(D71,'8 LCI Data Compilation'!$C$66:$C$92,0),MATCH('4 SMM Input'!$E$3,'8 LCI Data Compilation'!$V$67:$AA$67,0))","v":"NA"},{"$f":"INDEX('8 LCI Data Compilation'!$AB$66:$AG$92,MATCH(D71,'8 LCI Data Compilation'!$C$66:$C$92,0),MATCH('4 SMM Input'!$E$3,'8 LCI Data Compilation'!$AB$67:$AG$67,0))","v":"NA"},{"$f":"INDEX('8 LCI Data Compilation'!$AH$66:$AM$92,MATCH(D71,'8 LCI Data Compilation'!$C$66:$C$92,0),MATCH('4 SMM Input'!$E$3,'8 LCI Data Compilation'!$AH$67:$AM$67,0))","v":"NA"},{"$f":"INDEX('8 LCI Data Compilation'!$AN$66:$AS$92,MATCH(D71,'8 LCI Data Compilation'!$C$66:$C$92,0),MATCH('4 SMM Input'!$E$3,'8 LCI Data Compilation'!$AN$67:$AS$67,0))","v":"NA"}]
[null,"Plastic",8,"HDPE",{"$f":"INDEX('8 LCI Data Compilation'!$D$66:$I$92,MATCH(D72,'8 LCI Data Compilation'!$C$66:$C$92,0),MATCH('4 SMM Input'!$E$3,'8 LCI Data Compilation'!$D$67:$I$67,0))","v":"NA"},"NA",{"$f":"INDEX('8 LCI Data Compilation'!$J$66:$O$92,MATCH(D72,'8 LCI Data Compilation'!$C$66:$C$92,0),MATCH('4 SMM Input'!$E$3,'8 LCI Data Compilation'!$J$67:$O$67,0))","v":"NA"},{"$f":"INDEX('8 LCI Data Compilation'!$P$66:$U$92,MATCH(D72,'8 LCI Data Compilation'!$C$66:$C$92,0),MATCH('4 SMM Input'!$E$3,'8 LCI Data Compilation'!$P$67:$U$67,0))","v":"NA"},{"$f":"INDEX('8 LCI Data Compilation'!$V$66:$AA$92,MATCH(D72,'8 LCI Data Compilation'!$C$66:$C$92,0),MATCH('4 SMM Input'!$E$3,'8 LCI Data Compilation'!$V$67:$AA$67,0))","v":"NA"},{"$f":"INDEX('8 LCI Data Compilation'!$AB$66:$AG$92,MATCH(D72,'8 LCI Data Compilation'!$C$66:$C$92,0),MATCH('4 SMM Input'!$E$3,'8 LCI Data Compilation'!$AB$67:$AG$67,0))","v":"NA"},{"$f":"INDEX('8 LCI Data Compilation'!$AH$66:$AM$92,MATCH(D72,'8 LCI Data Compilation'!$C$66:$C$92,0),MATCH('4 SMM Input'!$E$3,'8 LCI Data Compilation'!$AH$67:$AM$67,0))","v":"NA"},{"$f":"INDEX('8 LCI Data Compilation'!$AN$66:$AS$92,MATCH(D72,'8 LCI Data Compilation'!$C$66:$C$92,0),MATCH('4 SMM Input'!$E$3,'8 LCI Data Compilation'!$AN$67:$AS$67,0))","v":"NA"}]
[null,null,9,"PET",{"$f":"INDEX('8 LCI Data Compilation'!$D$66:$I$92,MATCH(D73,'8 LCI Data Compilation'!$C$66:$C$92,0),MATCH('4 SMM Input'!$E$3,'8 LCI Data Compilation'!$D$67:$I$67,0))","v":"NA"},"NA",{"$f":"INDEX('8 LCI Data Compilation'!$J$66:$O$92,MATCH(D73,'8 LCI Data Compilation'!$C$66:$C$92,0),MATCH('4 SMM Input'!$E$3,'8 LCI Data Compilation'!$J$67:$O$67,0))","v":"NA"},{"$f":"INDEX('8 LCI Data Compilation'!$P$66:$U$92,MATCH(D73,'8 LCI Data Compilation'!$C$66:$C$92,0),MATCH('4 SMM Input'!$E$3,'8 LCI Data Compilation'!$P$67:$U$67,0))","v":"NA"},{"$f":"INDEX('8 LCI Data Compilation'!$V$66:$AA$92,MATCH(D73,'8 LCI Data Compilation'!$C$66:$C$92,0),MATCH('4 SMM Input'!$E$3,'8 LCI Data Compilation'!$V$67:$AA$67,0))","v":"NA"},{"$f":"INDEX('8 LCI Data Compilation'!$AB$66:$AG$92,MATCH(D73,'8 LCI Data Compilation'!$C$66:$C$92,0),MATCH('4 SMM Input'!$E$3,'8 LCI Data Compilation'!$AB$67:$AG$67,0))","v":"NA"},{"$f":"INDEX('8 LCI Data Compilation'!$AH$66:$AM$92,MATCH(D73,'8 LCI Data Compilation'!$C$66:$C$92,0),MATCH('4 SMM Input'!$E$3,'8 LCI Data Compilation'!$AH$67:$AM$67,0))","v":"NA"},{"$f":"INDEX('8 LCI Data Compilation'!$AN$66:$AS$92,MATCH(D73,'8 LCI Data Compilation'!$C$66:$C$92,0),MATCH('4 SMM Input'!$E$3,'8 LCI Data Compilation'!$AN$67:$AS$67,0))","v":"NA"}]
[null,null,10,"Mixed Plastic",{"$f":"INDEX('8 LCI Data Compilation'!$D$66:$I$92,MATCH(D74,'8 LCI Data Compilation'!$C$66:$C$92,0),MATCH('4 SMM Input'!$E$3,'8 LCI Data Compilation'!$D$67:$I$67,0))","v":"NA"},"NA",{"$f":"INDEX('8 LCI Data Compilation'!$J$66:$O$92,MATCH(D74,'8 LCI Data Compilation'!$C$66:$C$92,0),MATCH('4 SMM Input'!$E$3,'8 LCI Data Compilation'!$J$67:$O$67,0))","v":"NA"},{"$f":"INDEX('8 LCI Data Compilation'!$P$66:$U$92,MATCH(D74,'8 LCI Data Compilation'!$C$66:$C$92,0),MATCH('4 SMM Input'!$E$3,'8 LCI Data Compilation'!$P$67:$U$67,0))","v":"NA"},{"$f":"INDEX('8 LCI Data Compilation'!$V$66:$AA$92,MATCH(D74,'8 LCI Data Compilation'!$C$66:$C$92,0),MATCH('4 SMM Input'!$E$3,'8 LCI Data Compilation'!$V$67:$AA$67,0))","v":"NA"},{"$f":"INDEX('8 LCI Data Compilation'!$AB$66:$AG$92,MATCH(D74,'8 LCI Data Compilation'!$C$66:$C$92,0),MATCH('4 SMM Input'!$E$3,'8 LCI Data Compilation'!$AB$67:$AG$67,0))","v":"NA"},{"$f":"INDEX('8 LCI Data Compilation'!$AH$66:$AM$92,MATCH(D74,'8 LCI Data Compilation'!$C$66:$C$92,0),MATCH('4 SMM Input'!$E$3,'8 LCI Data Compilation'!$AH$67:$AM$67,0))","v":"NA"},{"$f":"INDEX('8 LCI Data Compilation'!$AN$66:$AS$92,MATCH(D74,'8 LCI Data Compilation'!$C$66:$C$92,0),MATCH('4 SMM Input'!$E$3,'8 LCI Data Compilation'!$AN$67:$AS$67,0))","v":"NA"}]
[null,"Glass",11,"Glass",{"$f":"INDEX('8 LCI Data Compilation'!$D$66:$I$92,MATCH(D75,'8 LCI Data Compilation'!$C$66:$C$92,0),MATCH('4 SMM Input'!$E$3,'8 LCI Data Compilation'!$D$67:$I$67,0))","v":"NA"},"NA",{"$f":"INDEX('8 LCI Data Compilation'!$J$66:$O$92,MATCH(D75,'8 LCI Data Compilation'!$C$66:$C$92,0),MATCH('4 SMM Input'!$E$3,'8 LCI Data Compilation'!$J$67:$O$67,0))","v":"NA"},{"$f":"INDEX('8 LCI Data Compilation'!$P$66:$U$92,MATCH(D75,'8 LCI Data Compilation'!$C$66:$C$92,0),MATCH('4 SMM Input'!$E$3,'8 LCI Data Compilation'!$P$67:$U$67,0))","v":"NA"},{"$f":"INDEX('8 LCI Data Compilation'!$V$66:$AA$92,MATCH(D75,'8 LCI Data Compilation'!$C$66:$C$92,0),MATCH('4 SMM Input'!$E$3,'8 LCI Data Compilation'!$V$67:$AA$67,0))","v":"NA"},{"$f":"INDEX('8 LCI Data Compilation'!$AB$66:$AG$92,MATCH(D75,'8 LCI Data Compilation'!$C$66:$C$92,0),MATCH('4 SMM Input'!$E$3,'8 LCI Data Compilation'!$AB$67:$AG$67,0))","v":"NA"},{"$f":"INDEX('8 LCI Data Compilation'!$AH$66:$AM$92,MATCH(D75,'8 LCI Data Compilation'!$C$66:$C$92,0),MATCH('4 SMM Input'!$E$3,'8 LCI Data Compilation'!$AH$67:$AM$67,0))","v":"NA"},{"$f":"INDEX('8 LCI Data Compilation'!$AN$66:$AS$92,MATCH(D75,'8 LCI Data Compilation'!$C$66:$C$92,0),MATCH('4 SMM Input'!$E$3,'8 LCI Data Compilation'!$AN$67:$AS$67,0))","v":"NA"}]
[null,"Metals",12,"Aluminum Cans",{"$f":"INDEX('8 LCI Data Compilation'!$D$66:$I$92,MATCH(D76,'8 LCI Data Compilation'!$C$66:$C$92,0),MATCH('4 SMM Input'!$E$3,'8 LCI Data Compilation'!$D$67:$I$67,0))","v":"NA"},"NA",{"$f":"INDEX('8 LCI Data Compilation'!$J$66:$O$92,MATCH(D76,'8 LCI Data Compilation'!$C$66:$C$92,0),MATCH('4 SMM Input'!$E$3,'8 LCI Data Compilation'!$J$67:$O$67,0))","v":"NA"},{"$f":"INDEX('8 LCI Data Compilation'!$P$66:$U$92,MATCH(D76,'8 LCI Data Compilation'!$C$66:$C$92,0),MATCH('4 SMM Input'!$E$3,'8 LCI Data Compilation'!$P$67:$U$67,0))","v":"NA"},{"$f":"INDEX('8 LCI Data Compilation'!$V$66:$AA$92,MATCH(D76,'8 LCI Data Compilation'!$C$66:$C$92,0),MATCH('4 SMM Input'!$E$3,'8 LCI Data Compilation'!$V$67:$AA$67,0))","v":"NA"},{"$f":"INDEX('8 LCI Data Compilation'!$AB$66:$AG$92,MATCH(D76,'8 LCI Data Compilation'!$C$66:$C$92,0),MATCH('4 SMM Input'!$E$3,'8 LCI Data Compilation'!$AB$67:$AG$67,0))","v":"NA"},{"$f":"INDEX('8 LCI Data Compilation'!$AH$66:$AM$92,MATCH(D76,'8 LCI Data Compilation'!$C$66:$C$92,0),MATCH('4 SMM Input'!$E$3,'8 LCI Data Compilation'!$AH$67:$AM$67,0))","v":"NA"},{"$f":"INDEX('8 LCI Data Compilation'!$AN$66:$AS$92,MATCH(D76,'8 LCI Data Compilation'!$C$66:$C$92,0),MATCH('4 SMM Input'!$E$3,'8 LCI Data Compilation'!$AN$67:$AS$67,0))","v":"NA"}]
[null,null,13,"Steel/Tin Cans",{"$f":"INDEX('8 LCI Data Compilation'!$D$66:$I$92,MATCH(D77,'8 LCI Data Compilation'!$C$66:$C$92,0),MATCH('4 SMM Input'!$E$3,'8 LCI Data Compilation'!$D$67:$I$67,0))","v":"NA"},"NA",{"$f":"INDEX('8 LCI Data Compilation'!$J$66:$O$92,MATCH(D77,'8 LCI Data Compilation'!$C$66:$C$92,0),MATCH('4 SMM Input'!$E$3,'8 LCI Data Compilation'!$J$67:$O$67,0))","v":"NA"},{"$f":"INDEX('8 LCI Data Compilation'!$P$66:$U$92,MATCH(D77,'8 LCI Data Compilation'!$C$66:$C$92,0),MATCH('4 SMM Input'!$E$3,'8 LCI Data Compilation'!$P$67:$U$67,0))","v":"NA"},{"$f":"INDEX('8 LCI Data Compilation'!$V$66:$AA$92,MATCH(D77,'8 LCI Data Compilation'!$C$66:$C$92,0),MATCH('4 SMM Input'!$E$3,'8 LCI Data Compilation'!$V$67:$AA$67,0))","v":"NA"},{"$f":"INDEX('8 LCI Data Compilation'!$AB$66:$AG$92,MATCH(D77,'8 LCI Data Compilation'!$C$66:$C$92,0),MATCH('4 SMM Input'!$E$3,'8 LCI Data Compilation'!$AB$67:$AG$67,0))","v":"NA"},{"$f":"INDEX('8 LCI Data Compilation'!$AH$66:$AM$92,MATCH(D77,'8 LCI Data Compilation'!$C$66:$C$92,0),MATCH('4 SMM Input'!$E$3,'8 LCI Data Compilation'!$AH$67:$AM$67,0))","v":"NA"},{"$f":"INDEX('8 LCI Data Compilation'!$AN$66:$AS$92,MATCH(D77,'8 LCI Data Compilation'!$C$66:$C$92,0),MATCH('4 SMM Input'!$E$3,'8 LCI Data Compilation'!$AN$67:$AS$67,0))","v":"NA"}]
[null,null,14,"Mixed Metals",{"$f":"INDEX('8 LCI Data Compilation'!$D$66:$I$92,MATCH(D78,'8 LCI Data Compilation'!$C$66:$C$92,0),MATCH('4 SMM Input'!$E$3,'8 LCI Data Compilation'!$D$67:$I$67,0))","v":"NA"},"NA",{"$f":"INDEX('8 LCI Data Compilation'!$J$66:$O$92,MATCH(D78,'8 LCI Data Compilation'!$C$66:$C$92,0),MATCH('4 SMM Input'!$E$3,'8 LCI Data Compilation'!$J$67:$O$67,0))","v":"NA"},{"$f":"INDEX('8 LCI Data Compilation'!$P$66:$U$92,MATCH(D78,'8 LCI Data Compilation'!$C$66:$C$92,0),MATCH('4 SMM Input'!$E$3,'8 LCI Data Compilation'!$P$67:$U$67,0))","v":"NA"},{"$f":"INDEX('8 LCI Data Compilation'!$V$66:$AA$92,MATCH(D78,'8 LCI Data Compilation'!$C$66:$C$92,0),MATCH('4 SMM Input'!$E$3,'8 LCI Data Compilation'!$V$67:$AA$67,0))","v":"NA"},{"$f":"INDEX('8 LCI Data Compilation'!$AB$66:$AG$92,MATCH(D78,'8 LCI Data Compilation'!$C$66:$C$92,0),MATCH('4 SMM Input'!$E$3,'8 LCI Data Compilation'!$AB$67:$AG$67,0))","v":"NA"},{"$f":"INDEX('8 LCI Data Compilation'!$AH$66:$AM$92,MATCH(D78,'8 LCI Data Compilation'!$C$66:$C$92,0),MATCH('4 SMM Input'!$E$3,'8 LCI Data Compilation'!$AH$67:$AM$67,0))","v":"NA"},{"$f":"INDEX('8 LCI Data Compilation'!$AN$66:$AS$92,MATCH(D78,'8 LCI Data Compilation'!$C$66:$C$92,0),MATCH('4 SMM Input'!$E$3,'8 LCI Data Compilation'!$AN$67:$AS$67,0))","v":"NA"}]
[null,"Organic",15,"Yard Waste",{"$f":"INDEX('8 LCI Data Compilation'!$D$66:$I$92,MATCH(D79,'8 LCI Data Compilation'!$C$66:$C$92,0),MATCH('4 SMM Input'!$E$3,'8 LCI Data Compilation'!$D$67:$I$67,0))","v":"NA"},"NA",{"$f":"INDEX('8 LCI Data Compilation'!$J$66:$O$92,MATCH(D79,'8 LCI Data Compilation'!$C$66:$C$92,0),MATCH('4 SMM Input'!$E$3,'8 LCI Data Compilation'!$J$67:$O$67,0))","v":"NA"},{"$f":"INDEX('8 LCI Data Compilation'!$P$66:$U$92,MATCH(D79,'8 LCI Data Compilation'!$C$66:$C$92,0),MATCH('4 SMM Input'!$E$3,'8 LCI Data Compilation'!$P$67:$U$67,0))","v":"NA"},{"$f":"INDEX('8 LCI Data Compilation'!$V$66:$AA$92,MATCH(D79,'8 LCI Data Compilation'!$C$66:$C$92,0),MATCH('4 SMM Input'!$E$3,'8 LCI Data Compilation'!$V$67:$AA$67,0))","v":"NA"},{"$f":"INDEX('8 LCI Data Compilation'!$AB$66:$AG$92,MATCH(D79,'8 LCI Data Compilation'!$C$66:$C$92,0),MATCH('4 SMM Input'!$E$3,'8 LCI Data Compilation'!$AB$67:$AG$67,0))","v":"NA"},{"$f":"INDEX('8 LCI Data Compilation'!$AH$66:$AM$92,MATCH(D79,'8 LCI Data Compilation'!$C$66:$C$92,0),MATCH('4 SMM Input'!$E$3,'8 LCI Data Compilation'!$AH$67:$AM$67,0))","v":"NA"},{"$f":"INDEX('8 LCI Data Compilation'!$AN$66:$AS$92,MATCH(D79,'8 LCI Data Compilation'!$C$66:$C$92,0),MATCH('4 SMM Input'!$E$3,'8 LCI Data Compilation'!$AN$67:$AS$67,0))","v":"NA"}]
[null,null,16,"Food Waste",{"$f":"INDEX('8 LCI Data Compilation'!$D$66:$I$92,MATCH(D80,'8 LCI Data Compilation'!$C$66:$C$92,0),MATCH('4 SMM Input'!$E$3,'8 LCI Data Compilation'!$D$67:$I$67,0))","v":"NA"},{"$f":"IFERROR(E80*-1,\"NA\")","v":"NA"},{"$f":"INDEX('8 LCI Data Compilation'!$J$66:$O$92,MATCH(D80,'8 LCI Data Compilation'!$C$66:$C$92,0),MATCH('4 SMM Input'!$E$3,'8 LCI Data Compilation'!$J$67:$O$67,0))","v":"NA"},{"$f":"INDEX('8 LCI Data Compilation'!$P$66:$U$92,MATCH(D80,'8 LCI Data Compilation'!$C$66:$C$92,0),MATCH('4 SMM Input'!$E$3,'8 LCI Data Compilation'!$P$67:$U$67,0))","v":"NA"},{"$f":"INDEX('8 LCI Data Compilation'!$V$66:$AA$92,MATCH(D80,'8 LCI Data Compilation'!$C$66:$C$92,0),MATCH('4 SMM Input'!$E$3,'8 LCI Data Compilation'!$V$67:$AA$67,0))","v":"NA"},{"$f":"INDEX('8 LCI Data Compilation'!$AB$66:$AG$92,MATCH(D80,'8 LCI Data Compilation'!$C$66:$C$92,0),MATCH('4 SMM Input'!$E$3,'8 LCI Data Compilation'!$AB$67:$AG$67,0))","v":"NA"},{"$f":"INDEX('8 LCI Data Compilation'!$AH$66:$AM$92,MATCH(D80,'8 LCI Data Compilation'!$C$66:$C$92,0),MATCH('4 SMM Input'!$E$3,'8 LCI Data Compilation'!$AH$67:$AM$67,0))","v":"NA"},{"$f":"INDEX('8 LCI Data Compilation'!$AN$66:$AS$92,MATCH(D80,'8 LCI Data Compilation'!$C$66:$C$92,0),MATCH('4 SMM Input'!$E$3,'8 LCI Data Compilation'!$AN$67:$AS$67,0))","v":"NA"}]
[null,"Other ",17,"Tires",{"$f":"INDEX('8 LCI Data Compilation'!$D$66:$I$92,MATCH(D81,'8 LCI Data Compilation'!$C$66:$C$92,0),MATCH('4 SMM Input'!$E$3,'8 LCI Data Compilation'!$D$67:$I$67,0))","v":"NA"},"NA",{"$f":"INDEX('8 LCI Data Compilation'!$J$66:$O$92,MATCH(D81,'8 LCI Data Compilation'!$C$66:$C$92,0),MATCH('4 SMM Input'!$E$3,'8 LCI Data Compilation'!$J$67:$O$67,0))","v":"NA"},{"$f":"INDEX('8 LCI Data Compilation'!$P$66:$U$92,MATCH(D81,'8 LCI Data Compilation'!$C$66:$C$92,0),MATCH('4 SMM Input'!$E$3,'8 LCI Data Compilation'!$P$67:$U$67,0))","v":"NA"},{"$f":"INDEX('8 LCI Data Compilation'!$V$66:$AA$92,MATCH(D81,'8 LCI Data Compilation'!$C$66:$C$92,0),MATCH('4 SMM Input'!$E$3,'8 LCI Data Compilation'!$V$67:$AA$67,0))","v":"NA"},{"$f":"INDEX('8 LCI Data Compilation'!$AB$66:$AG$92,MATCH(D81,'8 LCI Data Compilation'!$C$66:$C$92,0),MATCH('4 SMM Input'!$E$3,'8 LCI Data Compilation'!$AB$67:$AG$67,0))","v":"NA"},{"$f":"INDEX('8 LCI Data Compilation'!$AH$66:$AM$92,MATCH(D81,'8 LCI Data Compilation'!$C$66:$C$92,0),MATCH('4 SMM Input'!$E$3,'8 LCI Data Compilation'!$AH$67:$AM$67,0))","v":"NA"},{"$f":"INDEX('8 LCI Data Compilation'!$AN$66:$AS$92,MATCH(D81,'8 LCI Data Compilation'!$C$66:$C$92,0),MATCH('4 SMM Input'!$E$3,'8 LCI Data Compilation'!$AN$67:$AS$67,0))","v":"NA"}]
[null,null,18,"Clothing and Footwear",{"$f":"INDEX('8 LCI Data Compilation'!$D$66:$I$92,MATCH(D82,'8 LCI Data Compilation'!$C$66:$C$92,0),MATCH('4 SMM Input'!$E$3,'8 LCI Data Compilation'!$D$67:$I$67,0))","v":"NA"},{"$f":"IFERROR(E82*-1,\"NA\")","v":"NA"},{"$f":"INDEX('8 LCI Data Compilation'!$J$66:$O$92,MATCH(D82,'8 LCI Data Compilation'!$C$66:$C$92,0),MATCH('4 SMM Input'!$E$3,'8 LCI Data Compilation'!$J$67:$O$67,0))","v":"NA"},{"$f":"INDEX('8 LCI Data Compilation'!$P$66:$U$92,MATCH(D82,'8 LCI Data Compilation'!$C$66:$C$92,0),MATCH('4 SMM Input'!$E$3,'8 LCI Data Compilation'!$P$67:$U$67,0))","v":"NA"},{"$f":"INDEX('8 LCI Data Compilation'!$V$66:$AA$92,MATCH(D82,'8 LCI Data Compilation'!$C$66:$C$92,0),MATCH('4 SMM Input'!$E$3,'8 LCI Data Compilation'!$V$67:$AA$67,0))","v":"NA"},{"$f":"INDEX('8 LCI Data Compilation'!$AB$66:$AG$92,MATCH(D82,'8 LCI Data Compilation'!$C$66:$C$92,0),MATCH('4 SMM Input'!$E$3,'8 LCI Data Compilation'!$AB$67:$AG$67,0))","v":"NA"},{"$f":"INDEX('8 LCI Data Compilation'!$AH$66:$AM$92,MATCH(D82,'8 LCI Data Compilation'!$C$66:$C$92,0),MATCH('4 SMM Input'!$E$3,'8 LCI Data Compilation'!$AH$67:$AM$67,0))","v":"NA"},{"$f":"INDEX('8 LCI Data Compilation'!$AN$66:$AS$92,MATCH(D82,'8 LCI Data Compilation'!$C$66:$C$92,0),MATCH('4 SMM Input'!$E$3,'8 LCI Data Compilation'!$AN$67:$AS$67,0))","v":"NA"}]
[null,null,19,"Furniture",{"$f":"INDEX('8 LCI Data Compilation'!$D$66:$I$92,MATCH(D83,'8 LCI Data Compilation'!$C$66:$C$92,0),MATCH('4 SMM Input'!$E$3,'8 LCI Data Compilation'!$D$67:$I$67,0))","v":"NA"},{"$f":"IFERROR(E83*-1,\"NA\")","v":"NA"},{"$f":"INDEX('8 LCI Data Compilation'!$J$66:$O$92,MATCH(D83,'8 LCI Data Compilation'!$C$66:$C$92,0),MATCH('4 SMM Input'!$E$3,'8 LCI Data Compilation'!$J$67:$O$67,0))","v":"NA"},{"$f":"INDEX('8 LCI Data Compilation'!$P$66:$U$92,MATCH(D83,'8 LCI Data Compilation'!$C$66:$C$92,0),MATCH('4 SMM Input'!$E$3,'8 LCI Data Compilation'!$P$67:$U$67,0))","v":"NA"},{"$f":"INDEX('8 LCI Data Compilation'!$V$66:$AA$92,MATCH(D83,'8 LCI Data Compilation'!$C$66:$C$92,0),MATCH('4 SMM Input'!$E$3,'8 LCI Data Compilation'!$V$67:$AA$67,0))","v":"NA"},{"$f":"INDEX('8 LCI Data Compilation'!$AB$66:$AG$92,MATCH(D83,'8 LCI Data Compilation'!$C$66:$C$92,0),MATCH('4 SMM Input'!$E$3,'8 LCI Data Compilation'!$AB$67:$AG$67,0))","v":"NA"},{"$f":"INDEX('8 LCI Data Compilation'!$AH$66:$AM$92,MATCH(D83,'8 LCI Data Compilation'!$C$66:$C$92,0),MATCH('4 SMM Input'!$E$3,'8 LCI Data Compilation'!$AH$67:$AM$67,0))","v":"NA"},{"$f":"INDEX('8 LCI Data Compilation'!$AN$66:$AS$92,MATCH(D83,'8 LCI Data Compilation'!$C$66:$C$92,0),MATCH('4 SMM Input'!$E$3,'8 LCI Data Compilation'!$AN$67:$AS$67,0))","v":"NA"}]
[null,null,20,"Electronics",{"$f":"INDEX('8 LCI Data Compilation'!$D$66:$I$92,MATCH(D84,'8 LCI Data Compilation'!$C$66:$C$92,0),MATCH('4 SMM Input'!$E$3,'8 LCI Data Compilation'!$D$67:$I$67,0))","v":"NA"},{"$f":"IFERROR(E84*-1,\"NA\")","v":"NA"},{"$f":"INDEX('8 LCI Data Compilation'!$J$66:$O$92,MATCH(D84,'8 LCI Data Compilation'!$C$66:$C$92,0),MATCH('4 SMM Input'!$E$3,'8 LCI Data Compilation'!$J$67:$O$67,0))","v":"NA"},{"$f":"INDEX('8 LCI Data Compilation'!$P$66:$U$92,MATCH(D84,'8 LCI Data Compilation'!$C$66:$C$92,0),MATCH('4 SMM Input'!$E$3,'8 LCI Data Compilation'!$P$67:$U$67,0))","v":"NA"},{"$f":"INDEX('8 LCI Data Compilation'!$V$66:$AA$92,MATCH(D84,'8 LCI Data Compilation'!$C$66:$C$92,0),MATCH('4 SMM Input'!$E$3,'8 LCI Data Compilation'!$V$67:$AA$67,0))","v":"NA"},{"$f":"INDEX('8 LCI Data Compilation'!$AB$66:$AG$92,MATCH(D84,'8 LCI Data Compilation'!$C$66:$C$92,0),MATCH('4 SMM Input'!$E$3,'8 LCI Data Compilation'!$AB$67:$AG$67,0))","v":"NA"},{"$f":"INDEX('8 LCI Data Compilation'!$AH$66:$AM$92,MATCH(D84,'8 LCI Data Compilation'!$C$66:$C$92,0),MATCH('4 SMM Input'!$E$3,'8 LCI Data Compilation'!$AH$67:$AM$67,0))","v":"NA"},{"$f":"INDEX('8 LCI Data Compilation'!$AN$66:$AS$92,MATCH(D84,'8 LCI Data Compilation'!$C$66:$C$92,0),MATCH('4 SMM Input'!$E$3,'8 LCI Data Compilation'!$AN$67:$AS$67,0))","v":"NA"}]
[null,"C&D Debris",21,"Wood Products",{"$f":"INDEX('8 LCI Data Compilation'!$D$66:$I$92,MATCH(D85,'8 LCI Data Compilation'!$C$66:$C$92,0),MATCH('4 SMM Input'!$E$3,'8 LCI Data Compilation'!$D$67:$I$67,0))","v":"NA"},"NA",{"$f":"INDEX('8 LCI Data Compilation'!$J$66:$O$92,MATCH(D85,'8 LCI Data Compilation'!$C$66:$C$92,0),MATCH('4 SMM Input'!$E$3,'8 LCI Data Compilation'!$J$67:$O$67,0))","v":"NA"},{"$f":"INDEX('8 LCI Data Compilation'!$P$66:$U$92,MATCH(D85,'8 LCI Data Compilation'!$C$66:$C$92,0),MATCH('4 SMM Input'!$E$3,'8 LCI Data Compilation'!$P$67:$U$67,0))","v":"NA"},{"$f":"INDEX('8 LCI Data Compilation'!$V$66:$AA$92,MATCH(D85,'8 LCI Data Compilation'!$C$66:$C$92,0),MATCH('4 SMM Input'!$E$3,'8 LCI Data Compilation'!$V$67:$AA$67,0))","v":"NA"},{"$f":"INDEX('8 LCI Data Compilation'!$AB$66:$AG$92,MATCH(D85,'8 LCI Data Compilation'!$C$66:$C$92,0),MATCH('4 SMM Input'!$E$3,'8 LCI Data Compilation'!$AB$67:$AG$67,0))","v":"NA"},{"$f":"INDEX('8 LCI Data Compilation'!$AH$66:$AM$92,MATCH(D85,'8 LCI Data Compilation'!$C$66:$C$92,0),MATCH('4 SMM Input'!$E$3,'8 LCI Data Compilation'!$AH$67:$AM$67,0))","v":"NA"},{"$f":"INDEX('8 LCI Data Compilation'!$AN$66:$AS$92,MATCH(D85,'8 LCI Data Compilation'!$C$66:$C$92,0),MATCH('4 SMM Input'!$E$3,'8 LCI Data Compilation'!$AN$67:$AS$67,0))","v":"NA"}]
[null,null,22,"Asphalt Shingles",{"$f":"INDEX('8 LCI Data Compilation'!$D$66:$I$92,MATCH(D86,'8 LCI Data Compilation'!$C$66:$C$92,0),MATCH('4 SMM Input'!$E$3,'8 LCI Data Compilation'!$D$67:$I$67,0))","v":"NA"},"NA",{"$f":"INDEX('8 LCI Data Compilation'!$J$66:$O$92,MATCH(D86,'8 LCI Data Compilation'!$C$66:$C$92,0),MATCH('4 SMM Input'!$E$3,'8 LCI Data Compilation'!$J$67:$O$67,0))","v":"NA"},{"$f":"INDEX('8 LCI Data Compilation'!$P$66:$U$92,MATCH(D86,'8 LCI Data Compilation'!$C$66:$C$92,0),MATCH('4 SMM Input'!$E$3,'8 LCI Data Compilation'!$P$67:$U$67,0))","v":"NA"},{"$f":"INDEX('8 LCI Data Compilation'!$V$66:$AA$92,MATCH(D86,'8 LCI Data Compilation'!$C$66:$C$92,0),MATCH('4 SMM Input'!$E$3,'8 LCI Data Compilation'!$V$67:$AA$67,0))","v":"NA"},{"$f":"INDEX('8 LCI Data Compilation'!$AB$66:$AG$92,MATCH(D86,'8 LCI Data Compilation'!$C$66:$C$92,0),MATCH('4 SMM Input'!$E$3,'8 LCI Data Compilation'!$AB$67:$AG$67,0))","v":"NA"},{"$f":"INDEX('8 LCI Data Compilation'!$AH$66:$AM$92,MATCH(D86,'8 LCI Data Compilation'!$C$66:$C$92,0),MATCH('4 SMM Input'!$E$3,'8 LCI Data Compilation'!$AH$67:$AM$67,0))","v":"NA"},{"$f":"INDEX('8 LCI Data Compilation'!$AN$66:$AS$92,MATCH(D86,'8 LCI Data Compilation'!$C$66:$C$92,0),MATCH('4 SMM Input'!$E$3,'8 LCI Data Compilation'!$AN$67:$AS$67,0))","v":"NA"}]
[null,null,23,"Gypsum Drywall",{"$f":"INDEX('8 LCI Data Compilation'!$D$66:$I$92,MATCH(D87,'8 LCI Data Compilation'!$C$66:$C$92,0),MATCH('4 SMM Input'!$E$3,'8 LCI Data Compilation'!$D$67:$I$67,0))","v":"NA"},"NA",{"$f":"INDEX('8 LCI Data Compilation'!$J$66:$O$92,MATCH(D87,'8 LCI Data Compilation'!$C$66:$C$92,0),MATCH('4 SMM Input'!$E$3,'8 LCI Data Compilation'!$J$67:$O$67,0))","v":"NA"},{"$f":"INDEX('8 LCI Data Compilation'!$P$66:$U$92,MATCH(D87,'8 LCI Data Compilation'!$C$66:$C$92,0),MATCH('4 SMM Input'!$E$3,'8 LCI Data Compilation'!$P$67:$U$67,0))","v":"NA"},{"$f":"INDEX('8 LCI Data Compilation'!$V$66:$AA$92,MATCH(D87,'8 LCI Data Compilation'!$C$66:$C$92,0),MATCH('4 SMM Input'!$E$3,'8 LCI Data Compilation'!$V$67:$AA$67,0))","v":"NA"},{"$f":"INDEX('8 LCI Data Compilation'!$AB$66:$AG$92,MATCH(D87,'8 LCI Data Compilation'!$C$66:$C$92,0),MATCH('4 SMM Input'!$E$3,'8 LCI Data Compilation'!$AB$67:$AG$67,0))","v":"NA"},{"$f":"INDEX('8 LCI Data Compilation'!$AH$66:$AM$92,MATCH(D87,'8 LCI Data Compilation'!$C$66:$C$92,0),MATCH('4 SMM Input'!$E$3,'8 LCI Data Compilation'!$AH$67:$AM$67,0))","v":"NA"},{"$f":"INDEX('8 LCI Data Compilation'!$AN$66:$AS$92,MATCH(D87,'8 LCI Data Compilation'!$C$66:$C$92,0),MATCH('4 SMM Input'!$E$3,'8 LCI Data Compilation'!$AN$67:$AS$67,0))","v":"NA"}]
[null,null,24,"Concrete",{"$f":"INDEX('8 LCI Data Compilation'!$D$66:$I$92,MATCH(D88,'8 LCI Data Compilation'!$C$66:$C$92,0),MATCH('4 SMM Input'!$E$3,'8 LCI Data Compilation'!$D$67:$I$67,0))","v":"NA"},"NA",{"$f":"INDEX('8 LCI Data Compilation'!$J$66:$O$92,MATCH(D88,'8 LCI Data Compilation'!$C$66:$C$92,0),MATCH('4 SMM Input'!$E$3,'8 LCI Data Compilation'!$J$67:$O$67,0))","v":"NA"},{"$f":"INDEX('8 LCI Data Compilation'!$P$66:$U$92,MATCH(D88,'8 LCI Data Compilation'!$C$66:$C$92,0),MATCH('4 SMM Input'!$E$3,'8 LCI Data Compilation'!$P$67:$U$67,0))","v":"NA"},{"$f":"INDEX('8 LCI Data Compilation'!$V$66:$AA$92,MATCH(D88,'8 LCI Data Compilation'!$C$66:$C$92,0),MATCH('4 SMM Input'!$E$3,'8 LCI Data Compilation'!$V$67:$AA$67,0))","v":"NA"},{"$f":"INDEX('8 LCI Data Compilation'!$AB$66:$AG$92,MATCH(D88,'8 LCI Data Compilation'!$C$66:$C$92,0),MATCH('4 SMM Input'!$E$3,'8 LCI Data Compilation'!$AB$67:$AG$67,0))","v":"NA"},{"$f":"INDEX('8 LCI Data Compilation'!$AH$66:$AM$92,MATCH(D88,'8 LCI Data Compilation'!$C$66:$C$92,0),MATCH('4 SMM Input'!$E$3,'8 LCI Data Compilation'!$AH$67:$AM$67,0))","v":"NA"},{"$f":"INDEX('8 LCI Data Compilation'!$AN$66:$AS$92,MATCH(D88,'8 LCI Data Compilation'!$C$66:$C$92,0),MATCH('4 SMM Input'!$E$3,'8 LCI Data Compilation'!$AN$67:$AS$67,0))","v":"NA"}]
[null,null,25,"Reclaimed Asphalt Pavement",{"$f":"INDEX('8 LCI Data Compilation'!$D$66:$I$92,MATCH(D89,'8 LCI Data Compilation'!$C$66:$C$92,0),MATCH('4 SMM Input'!$E$3,'8 LCI Data Compilation'!$D$67:$I$67,0))","v":"NA"},"NA",{"$f":"INDEX('8 LCI Data Compilation'!$J$66:$O$92,MATCH(D89,'8 LCI Data Compilation'!$C$66:$C$92,0),MATCH('4 SMM Input'!$E$3,'8 LCI Data Compilation'!$J$67:$O$67,0))","v":"NA"},{"$f":"INDEX('8 LCI Data Compilation'!$P$66:$U$92,MATCH(D89,'8 LCI Data Compilation'!$C$66:$C$92,0),MATCH('4 SMM Input'!$E$3,'8 LCI Data Compilation'!$P$67:$U$67,0))","v":"NA"},{"$f":"INDEX('8 LCI Data Compilation'!$V$66:$AA$92,MATCH(D89,'8 LCI Data Compilation'!$C$66:$C$92,0),MATCH('4 SMM Input'!$E$3,'8 LCI Data Compilation'!$V$67:$AA$67,0))","v":"NA"},{"$f":"INDEX('8 LCI Data Compilation'!$AB$66:$AG$92,MATCH(D89,'8 LCI Data Compilation'!$C$66:$C$92,0),MATCH('4 SMM Input'!$E$3,'8 LCI Data Compilation'!$AB$67:$AG$67,0))","v":"NA"},{"$f":"INDEX('8 LCI Data Compilation'!$AH$66:$AM$92,MATCH(D89,'8 LCI Data Compilation'!$C$66:$C$92,0),MATCH('4 SMM Input'!$E$3,'8 LCI Data Compilation'!$AH$67:$AM$67,0))","v":"NA"},{"$f":"INDEX('8 LCI Data Compilation'!$AN$66:$AS$92,MATCH(D89,'8 LCI Data Compilation'!$C$66:$C$92,0),MATCH('4 SMM Input'!$E$3,'8 LCI Data Compilation'!$AN$67:$AS$67,0))","v":"NA"}]
[]
[]
[null,"All Units (CTUh/ Short Ton)"]
[null,{"$f":"'5 SMM Results'!B96:M96","v":"Human Toxicity (CTUh): Release of toxic materials to humans due to inhalation or ingestion by humans. The units are expressed as comparative toxic units (CTUh) which is interpreted as disease cases per kg of substance emitted. This is a measure of adverse impacts include causing cancer and other non-cancer diseases.\n\n"}]
[null,"Material Category","Item No.","Material Type","Produced","Donated","Collection","Recycling","Composting","Anaerobic Digestion","Landfill","Combustion"]
[null,"MSW ",1,"Mixed MSW",{"$f":"INDEX('8 LCI Data Compilation'!$D$96:$I$122,MATCH(D95,'8 LCI Data Compilation'!$C$96:$C$122,0),MATCH('4 SMM Input'!$E$3,'8 LCI Data Compilation'!$D$97:$I$97,0))","v":"NA"},"NA",{"$f":"INDEX('8 LCI Data Compilation'!$J$96:$O$122,MATCH(D95,'8 LCI Data Compilation'!$C$96:$C$122,0),MATCH('4 SMM Input'!$E$3,'8 LCI Data Compilation'!$J$97:$O$97,0))","v":1.2875388083724344E-9},{"$f":"INDEX('8 LCI Data Compilation'!$P$96:$U$122,MATCH(D95,'8 LCI Data Compilation'!$C$96:$C$122,0),MATCH('4 SMM Input'!$E$3,'8 LCI Data Compilation'!$P$97:$U$97,0))","v":"NA"},{"$f":"INDEX('8 LCI Data Compilation'!$V$96:$AA$122,MATCH(D95,'8 LCI Data Compilation'!$C$96:$C$122,0),MATCH('4 SMM Input'!$E$3,'8 LCI Data Compilation'!$V$97:$AA$97,0))","v":"NA"},{"$f":"INDEX('8 LCI Data Compilation'!$AB$96:$AG$122,MATCH(D95,'8 LCI Data Compilation'!$C$96:$C$122,0),MATCH('4 SMM Input'!$E$3,'8 LCI Data Compilation'!$AB$97:$AG$97,0))","v":"NA"},{"$f":"INDEX('8 LCI Data Compilation'!$AH$96:$AM$122,MATCH(D95,'8 LCI Data Compilation'!$C$96:$C$122,0),MATCH('4 SMM Input'!$E$3,'8 LCI Data Compilation'!$AH$97:$AM$97,0))","v":-7.9276355266216439E-7},{"$f":"INDEX('8 LCI Data Compilation'!$AN$96:$AS$122,MATCH(D95,'8 LCI Data Compilation'!$C$96:$C$122,0),MATCH('4 SMM Input'!$E$3,'8 LCI Data Compilation'!$AN$97:$AS$97,0))","v":-1.715538630481352E-4}]
[null,"Paper",2,"Newspaper",{"$f":"INDEX('8 LCI Data Compilation'!$D$96:$I$122,MATCH(D96,'8 LCI Data Compilation'!$C$96:$C$122,0),MATCH('4 SMM Input'!$E$3,'8 LCI Data Compilation'!$D$97:$I$97,0))","v":"NA"},"NA",{"$f":"INDEX('8 LCI Data Compilation'!$J$96:$O$122,MATCH(D96,'8 LCI Data Compilation'!$C$96:$C$122,0),MATCH('4 SMM Input'!$E$3,'8 LCI Data Compilation'!$J$97:$O$97,0))","v":1.2875388083724344E-9},{"$f":"INDEX('8 LCI Data Compilation'!$P$96:$U$122,MATCH(D96,'8 LCI Data Compilation'!$C$96:$C$122,0),MATCH('4 SMM Input'!$E$3,'8 LCI Data Compilation'!$P$97:$U$97,0))","v":-2.5004545214512853E-6},{"$f":"INDEX('8 LCI Data Compilation'!$V$96:$AA$122,MATCH(D96,'8 LCI Data Compilation'!$C$96:$C$122,0),MATCH('4 SMM Input'!$E$3,'8 LCI Data Compilation'!$V$97:$AA$97,0))","v":"NA"},{"$f":"INDEX('8 LCI Data Compilation'!$AB$96:$AG$122,MATCH(D96,'8 LCI Data Compilation'!$C$96:$C$122,0),MATCH('4 SMM Input'!$E$3,'8 LCI Data Compilation'!$AB$97:$AG$97,0))","v":"NA"},{"$f":"INDEX('8 LCI Data Compilation'!$AH$96:$AM$122,MATCH(D96,'8 LCI Data Compilation'!$C$96:$C$122,0),MATCH('4 SMM Input'!$E$3,'8 LCI Data Compilation'!$AH$97:$AM$97,0))","v":-2.8139705058281808E-7},{"$f":"INDEX('8 LCI Data Compilation'!$AN$96:$AS$122,MATCH(D96,'8 LCI Data Compilation'!$C$96:$C$122,0),MATCH('4 SMM Input'!$E$3,'8 LCI Data Compilation'!$AN$97:$AS$97,0))","v":-1.3849837242339714E-3}]
[null,null,3,"Corrugated Cardboard (OCC)",{"$f":"INDEX('8 LCI Data Compilation'!$D$96:$I$122,MATCH(D97,'8 LCI Data Compilation'!$C$96:$C$122,0),MATCH('4 SMM Input'!$E$3,'8 LCI Data Compilation'!$D$97:$I$97,0))","v":"NA"},"NA",{"$f":"INDEX('8 LCI Data Compilation'!$J$96:$O$122,MATCH(D97,'8 LCI Data Compilation'!$C$96:$C$122,0),MATCH('4 SMM Input'!$E$3,'8 LCI Data Compilation'!$J$97:$O$97,0))","v":1.2875388083724344E-9},{"$f":"INDEX('8 LCI Data Compilation'!$P$96:$U$122,MATCH(D97,'8 LCI Data Compilation'!$C$96:$C$122,0),MATCH('4 SMM Input'!$E$3,'8 LCI Data Compilation'!$P$97:$U$97,0))","v":-5.0294987462131721E-6},{"$f":"INDEX('8 LCI Data Compilation'!$V$96:$AA$122,MATCH(D97,'8 LCI Data Compilation'!$C$96:$C$122,0),MATCH('4 SMM Input'!$E$3,'8 LCI Data Compilation'!$V$97:$AA$97,0))","v":"NA"},{"$f":"INDEX('8 LCI Data Compilation'!$AB$96:$AG$122,MATCH(D97,'8 LCI Data Compilation'!$C$96:$C$122,0),MATCH('4 SMM Input'!$E$3,'8 LCI Data Compilation'!$AB$97:$AG$97,0))","v":"NA"},{"$f":"INDEX('8 LCI Data Compilation'!$AH$96:$AM$122,MATCH(D97,'8 LCI Data Compilation'!$C$96:$C$122,0),MATCH('4 SMM Input'!$E$3,'8 LCI Data Compilation'!$AH$97:$AM$97,0))","v":-7.574861038002341E-7},{"$f":"INDEX('8 LCI Data Compilation'!$AN$96:$AS$122,MATCH(D97,'8 LCI Data Compilation'!$C$96:$C$122,0),MATCH('4 SMM Input'!$E$3,'8 LCI Data Compilation'!$AN$97:$AS$97,0))","v":-1.2684603510855518E-3}]
[null,null,4,"High Grade Paper (Office Type Paper)",{"$f":"INDEX('8 LCI Data Compilation'!$D$96:$I$122,MATCH(D98,'8 LCI Data Compilation'!$C$96:$C$122,0),MATCH('4 SMM Input'!$E$3,'8 LCI Data Compilation'!$D$97:$I$97,0))","v":"NA"},"NA",{"$f":"INDEX('8 LCI Data Compilation'!$J$96:$O$122,MATCH(D98,'8 LCI Data Compilation'!$C$96:$C$122,0),MATCH('4 SMM Input'!$E$3,'8 LCI Data Compilation'!$J$97:$O$97,0))","v":1.2875388083724344E-9},{"$f":"INDEX('8 LCI Data Compilation'!$P$96:$U$122,MATCH(D98,'8 LCI Data Compilation'!$C$96:$C$122,0),MATCH('4 SMM Input'!$E$3,'8 LCI Data Compilation'!$P$97:$U$97,0))","v":2.1609306681583935E-7},{"$f":"INDEX('8 LCI Data Compilation'!$V$96:$AA$122,MATCH(D98,'8 LCI Data Compilation'!$C$96:$C$122,0),MATCH('4 SMM Input'!$E$3,'8 LCI Data Compilation'!$V$97:$AA$97,0))","v":"NA"},{"$f":"INDEX('8 LCI Data Compilation'!$AB$96:$AG$122,MATCH(D98,'8 LCI Data Compilation'!$C$96:$C$122,0),MATCH('4 SMM Input'!$E$3,'8 LCI Data Compilation'!$AB$97:$AG$97,0))","v":"NA"},{"$f":"INDEX('8 LCI Data Compilation'!$AH$96:$AM$122,MATCH(D98,'8 LCI Data Compilation'!$C$96:$C$122,0),MATCH('4 SMM Input'!$E$3,'8 LCI Data Compilation'!$AH$97:$AM$97,0))","v":-1.0219789181980739E-6},{"$f":"INDEX('8 LCI Data Compilation'!$AN$96:$AS$122,MATCH(D98,'8 LCI Data Compilation'!$C$96:$C$122,0),MATCH('4 SMM Input'!$E$3,'8 LCI Data Compilation'!$AN$97:$AS$97,0))","v":-1.1600367216401514E-3}]
[null,null,5,"Magazines/third-class mail",{"$f":"INDEX('8 LCI Data Compilation'!$D$96:$I$122,MATCH(D99,'8 LCI Data Compilation'!$C$96:$C$122,0),MATCH('4 SMM Input'!$E$3,'8 LCI Data Compilation'!$D$97:$I$97,0))","v":"NA"},"NA",{"$f":"INDEX('8 LCI Data Compilation'!$J$96:$O$122,MATCH(D99,'8 LCI Data Compilation'!$C$96:$C$122,0),MATCH('4 SMM Input'!$E$3,'8 LCI Data Compilation'!$J$97:$O$97,0))","v":1.2875388083724344E-9},{"$f":"INDEX('8 LCI Data Compilation'!$P$96:$U$122,MATCH(D99,'8 LCI Data Compilation'!$C$96:$C$122,0),MATCH('4 SMM Input'!$E$3,'8 LCI Data Compilation'!$P$97:$U$97,0))","v":1.5870555540160918E-7},{"$f":"INDEX('8 LCI Data Compilation'!$V$96:$AA$122,MATCH(D99,'8 LCI Data Compilation'!$C$96:$C$122,0),MATCH('4 SMM Input'!$E$3,'8 LCI Data Compilation'!$V$97:$AA$97,0))","v":"NA"},{"$f":"INDEX('8 LCI Data Compilation'!$AB$96:$AG$122,MATCH(D99,'8 LCI Data Compilation'!$C$96:$C$122,0),MATCH('4 SMM Input'!$E$3,'8 LCI Data Compilation'!$AB$97:$AG$97,0))","v":"NA"},{"$f":"INDEX('8 LCI Data Compilation'!$AH$96:$AM$122,MATCH(D99,'8 LCI Data Compilation'!$C$96:$C$122,0),MATCH('4 SMM Input'!$E$3,'8 LCI Data Compilation'!$AH$97:$AM$97,0))","v":-3.9630640941187382E-7},{"$f":"INDEX('8 LCI Data Compilation'!$AN$96:$AS$122,MATCH(D99,'8 LCI Data Compilation'!$C$96:$C$122,0),MATCH('4 SMM Input'!$E$3,'8 LCI Data Compilation'!$AN$97:$AS$97,0))","v":-1.0054457137226569E-3}]
[null,null,6,"Books",{"$f":"INDEX('8 LCI Data Compilation'!$D$96:$I$122,MATCH(D100,'8 LCI Data Compilation'!$C$96:$C$122,0),MATCH('4 SMM Input'!$E$3,'8 LCI Data Compilation'!$D$97:$I$97,0))","v":"NA"},"NA",{"$f":"INDEX('8 LCI Data Compilation'!$J$96:$O$122,MATCH(D100,'8 LCI Data Compilation'!$C$96:$C$122,0),MATCH('4 SMM Input'!$E$3,'8 LCI Data Compilation'!$J$97:$O$97,0))","v":1.2875388083724344E-9},{"$f":"INDEX('8 LCI Data Compilation'!$P$96:$U$122,MATCH(D100,'8 LCI Data Compilation'!$C$96:$C$122,0),MATCH('4 SMM Input'!$E$3,'8 LCI Data Compilation'!$P$97:$U$97,0))","v":"NA"},{"$f":"INDEX('8 LCI Data Compilation'!$V$96:$AA$122,MATCH(D100,'8 LCI Data Compilation'!$C$96:$C$122,0),MATCH('4 SMM Input'!$E$3,'8 LCI Data Compilation'!$V$97:$AA$97,0))","v":"NA"},{"$f":"INDEX('8 LCI Data Compilation'!$AB$96:$AG$122,MATCH(D100,'8 LCI Data Compilation'!$C$96:$C$122,0),MATCH('4 SMM Input'!$E$3,'8 LCI Data Compilation'!$AB$97:$AG$97,0))","v":"NA"},{"$f":"INDEX('8 LCI Data Compilation'!$AH$96:$AM$122,MATCH(D100,'8 LCI Data Compilation'!$C$96:$C$122,0),MATCH('4 SMM Input'!$E$3,'8 LCI Data Compilation'!$AH$97:$AM$97,0))","v":-2.8042868525530925E-7},{"$f":"INDEX('8 LCI Data Compilation'!$AN$96:$AS$122,MATCH(D100,'8 LCI Data Compilation'!$C$96:$C$122,0),MATCH('4 SMM Input'!$E$3,'8 LCI Data Compilation'!$AN$97:$AS$97,0))","v":-1.1430509547801302E-3}]
[null,null,7,"Mixed Paper",{"$f":"INDEX('8 LCI Data Compilation'!$D$96:$I$122,MATCH(D101,'8 LCI Data Compilation'!$C$96:$C$122,0),MATCH('4 SMM Input'!$E$3,'8 LCI Data Compilation'!$D$97:$I$97,0))","v":"NA"},"NA",{"$f":"INDEX('8 LCI Data Compilation'!$J$96:$O$122,MATCH(D101,'8 LCI Data Compilation'!$C$96:$C$122,0),MATCH('4 SMM Input'!$E$3,'8 LCI Data Compilation'!$J$97:$O$97,0))","v":1.2875388083724344E-9},{"$f":"INDEX('8 LCI Data Compilation'!$P$96:$U$122,MATCH(D101,'8 LCI Data Compilation'!$C$96:$C$122,0),MATCH('4 SMM Input'!$E$3,'8 LCI Data Compilation'!$P$97:$U$97,0))","v":-1.7887886613617521E-6},{"$f":"INDEX('8 LCI Data Compilation'!$V$96:$AA$122,MATCH(D101,'8 LCI Data Compilation'!$C$96:$C$122,0),MATCH('4 SMM Input'!$E$3,'8 LCI Data Compilation'!$V$97:$AA$97,0))","v":"NA"},{"$f":"INDEX('8 LCI Data Compilation'!$AB$96:$AG$122,MATCH(D101,'8 LCI Data Compilation'!$C$96:$C$122,0),MATCH('4 SMM Input'!$E$3,'8 LCI Data Compilation'!$AB$97:$AG$97,0))","v":"NA"},{"$f":"INDEX('8 LCI Data Compilation'!$AH$96:$AM$122,MATCH(D101,'8 LCI Data Compilation'!$C$96:$C$122,0),MATCH('4 SMM Input'!$E$3,'8 LCI Data Compilation'!$AH$97:$AM$97,0))","v":-6.1429212049824997E-7},{"$f":"INDEX('8 LCI Data Compilation'!$AN$96:$AS$122,MATCH(D101,'8 LCI Data Compilation'!$C$96:$C$122,0),MATCH('4 SMM Input'!$E$3,'8 LCI Data Compilation'!$AN$97:$AS$97,0))","v":-1.2047316276705829E-3}]
[null,"Plastic",8,"HDPE",{"$f":"INDEX('8 LCI Data Compilation'!$D$96:$I$122,MATCH(D102,'8 LCI Data Compilation'!$C$96:$C$122,0),MATCH('4 SMM Input'!$E$3,'8 LCI Data Compilation'!$D$97:$I$97,0))","v":"NA"},"NA",{"$f":"INDEX('8 LCI Data Compilation'!$J$96:$O$122,MATCH(D102,'8 LCI Data Compilation'!$C$96:$C$122,0),MATCH('4 SMM Input'!$E$3,'8 LCI Data Compilation'!$J$97:$O$97,0))","v":1.2875388083724344E-9},{"$f":"INDEX('8 LCI Data Compilation'!$P$96:$U$122,MATCH(D102,'8 LCI Data Compilation'!$C$96:$C$122,0),MATCH('4 SMM Input'!$E$3,'8 LCI Data Compilation'!$P$97:$U$97,0))","v":3.1819809140794085E-7},{"$f":"INDEX('8 LCI Data Compilation'!$V$96:$AA$122,MATCH(D102,'8 LCI Data Compilation'!$C$96:$C$122,0),MATCH('4 SMM Input'!$E$3,'8 LCI Data Compilation'!$V$97:$AA$97,0))","v":"NA"},{"$f":"INDEX('8 LCI Data Compilation'!$AB$96:$AG$122,MATCH(D102,'8 LCI Data Compilation'!$C$96:$C$122,0),MATCH('4 SMM Input'!$E$3,'8 LCI Data Compilation'!$AB$97:$AG$97,0))","v":"NA"},{"$f":"INDEX('8 LCI Data Compilation'!$AH$96:$AM$122,MATCH(D102,'8 LCI Data Compilation'!$C$96:$C$122,0),MATCH('4 SMM Input'!$E$3,'8 LCI Data Compilation'!$AH$97:$AM$97,0))","v":4.2802412309166766E-10},{"$f":"INDEX('8 LCI Data Compilation'!$AN$96:$AS$122,MATCH(D102,'8 LCI Data Compilation'!$C$96:$C$122,0),MATCH('4 SMM Input'!$E$3,'8 LCI Data Compilation'!$AN$97:$AS$97,0))","v":-3.4176781672872409E-3}]
[null,null,9,"PET",{"$f":"INDEX('8 LCI Data Compilation'!$D$96:$I$122,MATCH(D103,'8 LCI Data Compilation'!$C$96:$C$122,0),MATCH('4 SMM Input'!$E$3,'8 LCI Data Compilation'!$D$97:$I$97,0))","v":"NA"},"NA",{"$f":"INDEX('8 LCI Data Compilation'!$J$96:$O$122,MATCH(D103,'8 LCI Data Compilation'!$C$96:$C$122,0),MATCH('4 SMM Input'!$E$3,'8 LCI Data Compilation'!$J$97:$O$97,0))","v":1.2875388083724344E-9},{"$f":"INDEX('8 LCI Data Compilation'!$P$96:$U$122,MATCH(D103,'8 LCI Data Compilation'!$C$96:$C$122,0),MATCH('4 SMM Input'!$E$3,'8 LCI Data Compilation'!$P$97:$U$97,0))","v":2.9833270134844569E-7},{"$f":"INDEX('8 LCI Data Compilation'!$V$96:$AA$122,MATCH(D103,'8 LCI Data Compilation'!$C$96:$C$122,0),MATCH('4 SMM Input'!$E$3,'8 LCI Data Compilation'!$V$97:$AA$97,0))","v":"NA"},{"$f":"INDEX('8 LCI Data Compilation'!$AB$96:$AG$122,MATCH(D103,'8 LCI Data Compilation'!$C$96:$C$122,0),MATCH('4 SMM Input'!$E$3,'8 LCI Data Compilation'!$AB$97:$AG$97,0))","v":"NA"},{"$f":"INDEX('8 LCI Data Compilation'!$AH$96:$AM$122,MATCH(D103,'8 LCI Data Compilation'!$C$96:$C$122,0),MATCH('4 SMM Input'!$E$3,'8 LCI Data Compilation'!$AH$97:$AM$97,0))","v":4.2802412309166766E-10},{"$f":"INDEX('8 LCI Data Compilation'!$AN$96:$AS$122,MATCH(D103,'8 LCI Data Compilation'!$C$96:$C$122,0),MATCH('4 SMM Input'!$E$3,'8 LCI Data Compilation'!$AN$97:$AS$97,0))","v":-3.4177149345653471E-3}]
[null,null,10,"Mixed Plastic",{"$f":"INDEX('8 LCI Data Compilation'!$D$96:$I$122,MATCH(D104,'8 LCI Data Compilation'!$C$96:$C$122,0),MATCH('4 SMM Input'!$E$3,'8 LCI Data Compilation'!$D$97:$I$97,0))","v":"NA"},"NA",{"$f":"INDEX('8 LCI Data Compilation'!$J$96:$O$122,MATCH(D104,'8 LCI Data Compilation'!$C$96:$C$122,0),MATCH('4 SMM Input'!$E$3,'8 LCI Data Compilation'!$J$97:$O$97,0))","v":1.2875388083724344E-9},{"$f":"INDEX('8 LCI Data Compilation'!$P$96:$U$122,MATCH(D104,'8 LCI Data Compilation'!$C$96:$C$122,0),MATCH('4 SMM Input'!$E$3,'8 LCI Data Compilation'!$P$97:$U$97,0))","v":3.0826539637819324E-7},{"$f":"INDEX('8 LCI Data Compilation'!$V$96:$AA$122,MATCH(D104,'8 LCI Data Compilation'!$C$96:$C$122,0),MATCH('4 SMM Input'!$E$3,'8 LCI Data Compilation'!$V$97:$AA$97,0))","v":"NA"},{"$f":"INDEX('8 LCI Data Compilation'!$AB$96:$AG$122,MATCH(D104,'8 LCI Data Compilation'!$C$96:$C$122,0),MATCH('4 SMM Input'!$E$3,'8 LCI Data Compilation'!$AB$97:$AG$97,0))","v":"NA"},{"$f":"INDEX('8 LCI Data Compilation'!$AH$96:$AM$122,MATCH(D104,'8 LCI Data Compilation'!$C$96:$C$122,0),MATCH('4 SMM Input'!$E$3,'8 LCI Data Compilation'!$AH$97:$AM$97,0))","v":4.2802412309166766E-10},{"$f":"INDEX('8 LCI Data Compilation'!$AN$96:$AS$122,MATCH(D104,'8 LCI Data Compilation'!$C$96:$C$122,0),MATCH('4 SMM Input'!$E$3,'8 LCI Data Compilation'!$AN$97:$AS$97,0))","v":-3.4176965509262937E-3}]
[null,"Glass",11,"Glass",{"$f":"INDEX('8 LCI Data Compilation'!$D$96:$I$122,MATCH(D105,'8 LCI Data Compilation'!$C$96:$C$122,0),MATCH('4 SMM Input'!$E$3,'8 LCI Data Compilation'!$D$97:$I$97,0))","v":"NA"},"NA",{"$f":"INDEX('8 LCI Data Compilation'!$J$96:$O$122,MATCH(D105,'8 LCI Data Compilation'!$C$96:$C$122,0),MATCH('4 SMM Input'!$E$3,'8 LCI Data Compilation'!$J$97:$O$97,0))","v":1.2875388083724344E-9},{"$f":"INDEX('8 LCI Data Compilation'!$P$96:$U$122,MATCH(D105,'8 LCI Data Compilation'!$C$96:$C$122,0),MATCH('4 SMM Input'!$E$3,'8 LCI Data Compilation'!$P$97:$U$97,0))","v":-5.6985407660873389E-9},{"$f":"INDEX('8 LCI Data Compilation'!$V$96:$AA$122,MATCH(D105,'8 LCI Data Compilation'!$C$96:$C$122,0),MATCH('4 SMM Input'!$E$3,'8 LCI Data Compilation'!$V$97:$AA$97,0))","v":"NA"},{"$f":"INDEX('8 LCI Data Compilation'!$AB$96:$AG$122,MATCH(D105,'8 LCI Data Compilation'!$C$96:$C$122,0),MATCH('4 SMM Input'!$E$3,'8 LCI Data Compilation'!$AB$97:$AG$97,0))","v":"NA"},{"$f":"INDEX('8 LCI Data Compilation'!$AH$96:$AM$122,MATCH(D105,'8 LCI Data Compilation'!$C$96:$C$122,0),MATCH('4 SMM Input'!$E$3,'8 LCI Data Compilation'!$AH$97:$AM$97,0))","v":4.2802412309166766E-10},{"$f":"INDEX('8 LCI Data Compilation'!$AN$96:$AS$122,MATCH(D105,'8 LCI Data Compilation'!$C$96:$C$122,0),MATCH('4 SMM Input'!$E$3,'8 LCI Data Compilation'!$AN$97:$AS$97,0))","v":3.5379329767676776E-5}]
[null,"Metals",12,"Aluminum Cans",{"$f":"INDEX('8 LCI Data Compilation'!$D$96:$I$122,MATCH(D106,'8 LCI Data Compilation'!$C$96:$C$122,0),MATCH('4 SMM Input'!$E$3,'8 LCI Data Compilation'!$D$97:$I$97,0))","v":"NA"},"NA",{"$f":"INDEX('8 LCI Data Compilation'!$J$96:$O$122,MATCH(D106,'8 LCI Data Compilation'!$C$96:$C$122,0),MATCH('4 SMM Input'!$E$3,'8 LCI Data Compilation'!$J$97:$O$97,0))","v":1.2875388083724344E-9},{"$f":"INDEX('8 LCI Data Compilation'!$P$96:$U$122,MATCH(D106,'8 LCI Data Compilation'!$C$96:$C$122,0),MATCH('4 SMM Input'!$E$3,'8 LCI Data Compilation'!$P$97:$U$97,0))","v":-3.685006544843715E-6},{"$f":"INDEX('8 LCI Data Compilation'!$V$96:$AA$122,MATCH(D106,'8 LCI Data Compilation'!$C$96:$C$122,0),MATCH('4 SMM Input'!$E$3,'8 LCI Data Compilation'!$V$97:$AA$97,0))","v":"NA"},{"$f":"INDEX('8 LCI Data Compilation'!$AB$96:$AG$122,MATCH(D106,'8 LCI Data Compilation'!$C$96:$C$122,0),MATCH('4 SMM Input'!$E$3,'8 LCI Data Compilation'!$AB$97:$AG$97,0))","v":"NA"},{"$f":"INDEX('8 LCI Data Compilation'!$AH$96:$AM$122,MATCH(D106,'8 LCI Data Compilation'!$C$96:$C$122,0),MATCH('4 SMM Input'!$E$3,'8 LCI Data Compilation'!$AH$97:$AM$97,0))","v":4.2802412309166766E-10},{"$f":"INDEX('8 LCI Data Compilation'!$AN$96:$AS$122,MATCH(D106,'8 LCI Data Compilation'!$C$96:$C$122,0),MATCH('4 SMM Input'!$E$3,'8 LCI Data Compilation'!$AN$97:$AS$97,0))","v":2.412565568439108E-5}]
[null,null,13,"Steel/Tin Cans",{"$f":"INDEX('8 LCI Data Compilation'!$D$96:$I$122,MATCH(D107,'8 LCI Data Compilation'!$C$96:$C$122,0),MATCH('4 SMM Input'!$E$3,'8 LCI Data Compilation'!$D$97:$I$97,0))","v":"NA"},"NA",{"$f":"INDEX('8 LCI Data Compilation'!$J$96:$O$122,MATCH(D107,'8 LCI Data Compilation'!$C$96:$C$122,0),MATCH('4 SMM Input'!$E$3,'8 LCI Data Compilation'!$J$97:$O$97,0))","v":1.2875388083724344E-9},{"$f":"INDEX('8 LCI Data Compilation'!$P$96:$U$122,MATCH(D107,'8 LCI Data Compilation'!$C$96:$C$122,0),MATCH('4 SMM Input'!$E$3,'8 LCI Data Compilation'!$P$97:$U$97,0))","v":6.1930005654865146E-6},{"$f":"INDEX('8 LCI Data Compilation'!$V$96:$AA$122,MATCH(D107,'8 LCI Data Compilation'!$C$96:$C$122,0),MATCH('4 SMM Input'!$E$3,'8 LCI Data Compilation'!$V$97:$AA$97,0))","v":"NA"},{"$f":"INDEX('8 LCI Data Compilation'!$AB$96:$AG$122,MATCH(D107,'8 LCI Data Compilation'!$C$96:$C$122,0),MATCH('4 SMM Input'!$E$3,'8 LCI Data Compilation'!$AB$97:$AG$97,0))","v":"NA"},{"$f":"INDEX('8 LCI Data Compilation'!$AH$96:$AM$122,MATCH(D107,'8 LCI Data Compilation'!$C$96:$C$122,0),MATCH('4 SMM Input'!$E$3,'8 LCI Data Compilation'!$AH$97:$AM$97,0))","v":4.2802412309166766E-10},{"$f":"INDEX('8 LCI Data Compilation'!$AN$96:$AS$122,MATCH(D107,'8 LCI Data Compilation'!$C$96:$C$122,0),MATCH('4 SMM Input'!$E$3,'8 LCI Data Compilation'!$AN$97:$AS$97,0))","v":2.5911983470909088E-3}]
[null,null,14,"Mixed Metals",{"$f":"INDEX('8 LCI Data Compilation'!$D$96:$I$122,MATCH(D108,'8 LCI Data Compilation'!$C$96:$C$122,0),MATCH('4 SMM Input'!$E$3,'8 LCI Data Compilation'!$D$97:$I$97,0))","v":"NA"},"NA",{"$f":"INDEX('8 LCI Data Compilation'!$J$96:$O$122,MATCH(D108,'8 LCI Data Compilation'!$C$96:$C$122,0),MATCH('4 SMM Input'!$E$3,'8 LCI Data Compilation'!$J$97:$O$97,0))","v":1.2875388083724344E-9},{"$f":"INDEX('8 LCI Data Compilation'!$P$96:$U$122,MATCH(D108,'8 LCI Data Compilation'!$C$96:$C$122,0),MATCH('4 SMM Input'!$E$3,'8 LCI Data Compilation'!$P$97:$U$97,0))","v":1.2573628078631519E-6},{"$f":"INDEX('8 LCI Data Compilation'!$V$96:$AA$122,MATCH(D108,'8 LCI Data Compilation'!$C$96:$C$122,0),MATCH('4 SMM Input'!$E$3,'8 LCI Data Compilation'!$V$97:$AA$97,0))","v":"NA"},{"$f":"INDEX('8 LCI Data Compilation'!$AB$96:$AG$122,MATCH(D108,'8 LCI Data Compilation'!$C$96:$C$122,0),MATCH('4 SMM Input'!$E$3,'8 LCI Data Compilation'!$AB$97:$AG$97,0))","v":"NA"},{"$f":"INDEX('8 LCI Data Compilation'!$AH$96:$AM$122,MATCH(D108,'8 LCI Data Compilation'!$C$96:$C$122,0),MATCH('4 SMM Input'!$E$3,'8 LCI Data Compilation'!$AH$97:$AM$97,0))","v":4.2802412309166766E-10},{"$f":"INDEX('8 LCI Data Compilation'!$AN$96:$AS$122,MATCH(D108,'8 LCI Data Compilation'!$C$96:$C$122,0),MATCH('4 SMM Input'!$E$3,'8 LCI Data Compilation'!$AN$97:$AS$97,0))","v":1.4152794513550599E-3}]
[null,"Organic",15,"Yard Waste",{"$f":"INDEX('8 LCI Data Compilation'!$D$96:$I$122,MATCH(D109,'8 LCI Data Compilation'!$C$96:$C$122,0),MATCH('4 SMM Input'!$E$3,'8 LCI Data Compilation'!$D$97:$I$97,0))","v":"NA"},"NA",{"$f":"INDEX('8 LCI Data Compilation'!$J$96:$O$122,MATCH(D109,'8 LCI Data Compilation'!$C$96:$C$122,0),MATCH('4 SMM Input'!$E$3,'8 LCI Data Compilation'!$J$97:$O$97,0))","v":1.2875388083724344E-9},{"$f":"INDEX('8 LCI Data Compilation'!$P$96:$U$122,MATCH(D109,'8 LCI Data Compilation'!$C$96:$C$122,0),MATCH('4 SMM Input'!$E$3,'8 LCI Data Compilation'!$P$97:$U$97,0))","v":"NA"},{"$f":"INDEX('8 LCI Data Compilation'!$V$96:$AA$122,MATCH(D109,'8 LCI Data Compilation'!$C$96:$C$122,0),MATCH('4 SMM Input'!$E$3,'8 LCI Data Compilation'!$V$97:$AA$97,0))","v":1.4528002561403589E-7},{"$f":"INDEX('8 LCI Data Compilation'!$AB$96:$AG$122,MATCH(D109,'8 LCI Data Compilation'!$C$96:$C$122,0),MATCH('4 SMM Input'!$E$3,'8 LCI Data Compilation'!$AB$97:$AG$97,0))","v":"NA"},{"$f":"INDEX('8 LCI Data Compilation'!$AH$96:$AM$122,MATCH(D109,'8 LCI Data Compilation'!$C$96:$C$122,0),MATCH('4 SMM Input'!$E$3,'8 LCI Data Compilation'!$AH$97:$AM$97,0))","v":-1.5711977259202138E-7},{"$f":"INDEX('8 LCI Data Compilation'!$AN$96:$AS$122,MATCH(D109,'8 LCI Data Compilation'!$C$96:$C$122,0),MATCH('4 SMM Input'!$E$3,'8 LCI Data Compilation'!$AN$97:$AS$97,0))","v":-6.7224352253526245E-4}]
[null,null,16,"Food Waste",{"$f":"INDEX('8 LCI Data Compilation'!$D$96:$I$122,MATCH(D110,'8 LCI Data Compilation'!$C$96:$C$122,0),MATCH('4 SMM Input'!$E$3,'8 LCI Data Compilation'!$D$97:$I$97,0))","v":"NA"},{"$f":"IFERROR(E110*-1,\"NA\")","v":"NA"},{"$f":"INDEX('8 LCI Data Compilation'!$J$96:$O$122,MATCH(D110,'8 LCI Data Compilation'!$C$96:$C$122,0),MATCH('4 SMM Input'!$E$3,'8 LCI Data Compilation'!$J$97:$O$97,0))","v":1.2875388083724344E-9},{"$f":"INDEX('8 LCI Data Compilation'!$P$96:$U$122,MATCH(D110,'8 LCI Data Compilation'!$C$96:$C$122,0),MATCH('4 SMM Input'!$E$3,'8 LCI Data Compilation'!$P$97:$U$97,0))","v":"NA"},{"$f":"INDEX('8 LCI Data Compilation'!$V$96:$AA$122,MATCH(D110,'8 LCI Data Compilation'!$C$96:$C$122,0),MATCH('4 SMM Input'!$E$3,'8 LCI Data Compilation'!$V$97:$AA$97,0))","v":5.7178838330304832E-8},{"$f":"INDEX('8 LCI Data Compilation'!$AB$96:$AG$122,MATCH(D110,'8 LCI Data Compilation'!$C$96:$C$122,0),MATCH('4 SMM Input'!$E$3,'8 LCI Data Compilation'!$AB$97:$AG$97,0))","v":"NA"},{"$f":"INDEX('8 LCI Data Compilation'!$AH$96:$AM$122,MATCH(D110,'8 LCI Data Compilation'!$C$96:$C$122,0),MATCH('4 SMM Input'!$E$3,'8 LCI Data Compilation'!$AH$97:$AM$97,0))","v":-3.5869960964856377E-7},{"$f":"INDEX('8 LCI Data Compilation'!$AN$96:$AS$122,MATCH(D110,'8 LCI Data Compilation'!$C$96:$C$122,0),MATCH('4 SMM Input'!$E$3,'8 LCI Data Compilation'!$AN$97:$AS$97,0))","v":-2.979645513596294E-4}]
[null,"Other ",17,"Tires",{"$f":"INDEX('8 LCI Data Compilation'!$D$96:$I$122,MATCH(D111,'8 LCI Data Compilation'!$C$96:$C$122,0),MATCH('4 SMM Input'!$E$3,'8 LCI Data Compilation'!$D$97:$I$97,0))","v":"NA"},"NA",{"$f":"INDEX('8 LCI Data Compilation'!$J$96:$O$122,MATCH(D111,'8 LCI Data Compilation'!$C$96:$C$122,0),MATCH('4 SMM Input'!$E$3,'8 LCI Data Compilation'!$J$97:$O$97,0))","v":"NA"},{"$f":"INDEX('8 LCI Data Compilation'!$P$96:$U$122,MATCH(D111,'8 LCI Data Compilation'!$C$96:$C$122,0),MATCH('4 SMM Input'!$E$3,'8 LCI Data Compilation'!$P$97:$U$97,0))","v":"NA"},{"$f":"INDEX('8 LCI Data Compilation'!$V$96:$AA$122,MATCH(D111,'8 LCI Data Compilation'!$C$96:$C$122,0),MATCH('4 SMM Input'!$E$3,'8 LCI Data Compilation'!$V$97:$AA$97,0))","v":"NA"},{"$f":"INDEX('8 LCI Data Compilation'!$AB$96:$AG$122,MATCH(D111,'8 LCI Data Compilation'!$C$96:$C$122,0),MATCH('4 SMM Input'!$E$3,'8 LCI Data Compilation'!$AB$97:$AG$97,0))","v":"NA"},{"$f":"INDEX('8 LCI Data Compilation'!$AH$96:$AM$122,MATCH(D111,'8 LCI Data Compilation'!$C$96:$C$122,0),MATCH('4 SMM Input'!$E$3,'8 LCI Data Compilation'!$AH$97:$AM$97,0))","v":"NA"},{"$f":"INDEX('8 LCI Data Compilation'!$AN$96:$AS$122,MATCH(D111,'8 LCI Data Compilation'!$C$96:$C$122,0),MATCH('4 SMM Input'!$E$3,'8 LCI Data Compilation'!$AN$97:$AS$97,0))","v":"NA"}]
[null,null,18,"Clothing and Footwear",{"$f":"INDEX('8 LCI Data Compilation'!$D$96:$I$122,MATCH(D112,'8 LCI Data Compilation'!$C$96:$C$122,0),MATCH('4 SMM Input'!$E$3,'8 LCI Data Compilation'!$D$97:$I$97,0))","v":"NA"},{"$f":"IFERROR(E112*-1,\"NA\")","v":"NA"},{"$f":"INDEX('8 LCI Data Compilation'!$J$96:$O$122,MATCH(D112,'8 LCI Data Compilation'!$C$96:$C$122,0),MATCH('4 SMM Input'!$E$3,'8 LCI Data Compilation'!$J$97:$O$97,0))","v":"NA"},{"$f":"INDEX('8 LCI Data Compilation'!$P$96:$U$122,MATCH(D112,'8 LCI Data Compilation'!$C$96:$C$122,0),MATCH('4 SMM Input'!$E$3,'8 LCI Data Compilation'!$P$97:$U$97,0))","v":"NA"},{"$f":"INDEX('8 LCI Data Compilation'!$V$96:$AA$122,MATCH(D112,'8 LCI Data Compilation'!$C$96:$C$122,0),MATCH('4 SMM Input'!$E$3,'8 LCI Data Compilation'!$V$97:$AA$97,0))","v":"NA"},{"$f":"INDEX('8 LCI Data Compilation'!$AB$96:$AG$122,MATCH(D112,'8 LCI Data Compilation'!$C$96:$C$122,0),MATCH('4 SMM Input'!$E$3,'8 LCI Data Compilation'!$AB$97:$AG$97,0))","v":"NA"},{"$f":"INDEX('8 LCI Data Compilation'!$AH$96:$AM$122,MATCH(D112,'8 LCI Data Compilation'!$C$96:$C$122,0),MATCH('4 SMM Input'!$E$3,'8 LCI Data Compilation'!$AH$97:$AM$97,0))","v":"NA"},{"$f":"INDEX('8 LCI Data Compilation'!$AN$96:$AS$122,MATCH(D112,'8 LCI Data Compilation'!$C$96:$C$122,0),MATCH('4 SMM Input'!$E$3,'8 LCI Data Compilation'!$AN$97:$AS$97,0))","v":"NA"}]
[null,null,19,"Furniture",{"$f":"INDEX('8 LCI Data Compilation'!$D$96:$I$122,MATCH(D113,'8 LCI Data Compilation'!$C$96:$C$122,0),MATCH('4 SMM Input'!$E$3,'8 LCI Data Compilation'!$D$97:$I$97,0))","v":"NA"},{"$f":"IFERROR(E113*-1,\"NA\")","v":"NA"},{"$f":"INDEX('8 LCI Data Compilation'!$J$96:$O$122,MATCH(D113,'8 LCI Data Compilation'!$C$96:$C$122,0),MATCH('4 SMM Input'!$E$3,'8 LCI Data Compilation'!$J$97:$O$97,0))","v":"NA"},{"$f":"INDEX('8 LCI Data Compilation'!$P$96:$U$122,MATCH(D113,'8 LCI Data Compilation'!$C$96:$C$122,0),MATCH('4 SMM Input'!$E$3,'8 LCI Data Compilation'!$P$97:$U$97,0))","v":"NA"},{"$f":"INDEX('8 LCI Data Compilation'!$V$96:$AA$122,MATCH(D113,'8 LCI Data Compilation'!$C$96:$C$122,0),MATCH('4 SMM Input'!$E$3,'8 LCI Data Compilation'!$V$97:$AA$97,0))","v":"NA"},{"$f":"INDEX('8 LCI Data Compilation'!$AB$96:$AG$122,MATCH(D113,'8 LCI Data Compilation'!$C$96:$C$122,0),MATCH('4 SMM Input'!$E$3,'8 LCI Data Compilation'!$AB$97:$AG$97,0))","v":"NA"},{"$f":"INDEX('8 LCI Data Compilation'!$AH$96:$AM$122,MATCH(D113,'8 LCI Data Compilation'!$C$96:$C$122,0),MATCH('4 SMM Input'!$E$3,'8 LCI Data Compilation'!$AH$97:$AM$97,0))","v":"NA"},{"$f":"INDEX('8 LCI Data Compilation'!$AN$96:$AS$122,MATCH(D113,'8 LCI Data Compilation'!$C$96:$C$122,0),MATCH('4 SMM Input'!$E$3,'8 LCI Data Compilation'!$AN$97:$AS$97,0))","v":"NA"}]
[null,null,20,"Electronics",{"$f":"INDEX('8 LCI Data Compilation'!$D$96:$I$122,MATCH(D114,'8 LCI Data Compilation'!$C$96:$C$122,0),MATCH('4 SMM Input'!$E$3,'8 LCI Data Compilation'!$D$97:$I$97,0))","v":"NA"},{"$f":"IFERROR(E114*-1,\"NA\")","v":"NA"},{"$f":"INDEX('8 LCI Data Compilation'!$J$96:$O$122,MATCH(D114,'8 LCI Data Compilation'!$C$96:$C$122,0),MATCH('4 SMM Input'!$E$3,'8 LCI Data Compilation'!$J$97:$O$97,0))","v":"NA"},{"$f":"INDEX('8 LCI Data Compilation'!$P$96:$U$122,MATCH(D114,'8 LCI Data Compilation'!$C$96:$C$122,0),MATCH('4 SMM Input'!$E$3,'8 LCI Data Compilation'!$P$97:$U$97,0))","v":"NA"},{"$f":"INDEX('8 LCI Data Compilation'!$V$96:$AA$122,MATCH(D114,'8 LCI Data Compilation'!$C$96:$C$122,0),MATCH('4 SMM Input'!$E$3,'8 LCI Data Compilation'!$V$97:$AA$97,0))","v":"NA"},{"$f":"INDEX('8 LCI Data Compilation'!$AB$96:$AG$122,MATCH(D114,'8 LCI Data Compilation'!$C$96:$C$122,0),MATCH('4 SMM Input'!$E$3,'8 LCI Data Compilation'!$AB$97:$AG$97,0))","v":"NA"},{"$f":"INDEX('8 LCI Data Compilation'!$AH$96:$AM$122,MATCH(D114,'8 LCI Data Compilation'!$C$96:$C$122,0),MATCH('4 SMM Input'!$E$3,'8 LCI Data Compilation'!$AH$97:$AM$97,0))","v":"NA"},{"$f":"INDEX('8 LCI Data Compilation'!$AN$96:$AS$122,MATCH(D114,'8 LCI Data Compilation'!$C$96:$C$122,0),MATCH('4 SMM Input'!$E$3,'8 LCI Data Compilation'!$AN$97:$AS$97,0))","v":"NA"}]
[null,"C&D Debris",21,"Wood Products",{"$f":"INDEX('8 LCI Data Compilation'!$D$96:$I$122,MATCH(D115,'8 LCI Data Compilation'!$C$96:$C$122,0),MATCH('4 SMM Input'!$E$3,'8 LCI Data Compilation'!$D$97:$I$97,0))","v":"NA"},"NA",{"$f":"INDEX('8 LCI Data Compilation'!$J$96:$O$122,MATCH(D115,'8 LCI Data Compilation'!$C$96:$C$122,0),MATCH('4 SMM Input'!$E$3,'8 LCI Data Compilation'!$J$97:$O$97,0))","v":"NA"},{"$f":"INDEX('8 LCI Data Compilation'!$P$96:$U$122,MATCH(D115,'8 LCI Data Compilation'!$C$96:$C$122,0),MATCH('4 SMM Input'!$E$3,'8 LCI Data Compilation'!$P$97:$U$97,0))","v":"NA"},{"$f":"INDEX('8 LCI Data Compilation'!$V$96:$AA$122,MATCH(D115,'8 LCI Data Compilation'!$C$96:$C$122,0),MATCH('4 SMM Input'!$E$3,'8 LCI Data Compilation'!$V$97:$AA$97,0))","v":"NA"},{"$f":"INDEX('8 LCI Data Compilation'!$AB$96:$AG$122,MATCH(D115,'8 LCI Data Compilation'!$C$96:$C$122,0),MATCH('4 SMM Input'!$E$3,'8 LCI Data Compilation'!$AB$97:$AG$97,0))","v":"NA"},{"$f":"INDEX('8 LCI Data Compilation'!$AH$96:$AM$122,MATCH(D115,'8 LCI Data Compilation'!$C$96:$C$122,0),MATCH('4 SMM Input'!$E$3,'8 LCI Data Compilation'!$AH$97:$AM$97,0))","v":"NA"},{"$f":"INDEX('8 LCI Data Compilation'!$AN$96:$AS$122,MATCH(D115,'8 LCI Data Compilation'!$C$96:$C$122,0),MATCH('4 SMM Input'!$E$3,'8 LCI Data Compilation'!$AN$97:$AS$97,0))","v":"NA"}]
[null,null,22,"Asphalt Shingles",{"$f":"INDEX('8 LCI Data Compilation'!$D$96:$I$122,MATCH(D116,'8 LCI Data Compilation'!$C$96:$C$122,0),MATCH('4 SMM Input'!$E$3,'8 LCI Data Compilation'!$D$97:$I$97,0))","v":"NA"},"NA",{"$f":"INDEX('8 LCI Data Compilation'!$J$96:$O$122,MATCH(D116,'8 LCI Data Compilation'!$C$96:$C$122,0),MATCH('4 SMM Input'!$E$3,'8 LCI Data Compilation'!$J$97:$O$97,0))","v":"NA"},{"$f":"INDEX('8 LCI Data Compilation'!$P$96:$U$122,MATCH(D116,'8 LCI Data Compilation'!$C$96:$C$122,0),MATCH('4 SMM Input'!$E$3,'8 LCI Data Compilation'!$P$97:$U$97,0))","v":"NA"},{"$f":"INDEX('8 LCI Data Compilation'!$V$96:$AA$122,MATCH(D116,'8 LCI Data Compilation'!$C$96:$C$122,0),MATCH('4 SMM Input'!$E$3,'8 LCI Data Compilation'!$V$97:$AA$97,0))","v":"NA"},{"$f":"INDEX('8 LCI Data Compilation'!$AB$96:$AG$122,MATCH(D116,'8 LCI Data Compilation'!$C$96:$C$122,0),MATCH('4 SMM Input'!$E$3,'8 LCI Data Compilation'!$AB$97:$AG$97,0))","v":"NA"},{"$f":"INDEX('8 LCI Data Compilation'!$AH$96:$AM$122,MATCH(D116,'8 LCI Data Compilation'!$C$96:$C$122,0),MATCH('4 SMM Input'!$E$3,'8 LCI Data Compilation'!$AH$97:$AM$97,0))","v":"NA"},{"$f":"INDEX('8 LCI Data Compilation'!$AN$96:$AS$122,MATCH(D116,'8 LCI Data Compilation'!$C$96:$C$122,0),MATCH('4 SMM Input'!$E$3,'8 LCI Data Compilation'!$AN$97:$AS$97,0))","v":"NA"}]
[null,null,23,"Gypsum Drywall",{"$f":"INDEX('8 LCI Data Compilation'!$D$96:$I$122,MATCH(D117,'8 LCI Data Compilation'!$C$96:$C$122,0),MATCH('4 SMM Input'!$E$3,'8 LCI Data Compilation'!$D$97:$I$97,0))","v":"NA"},"NA",{"$f":"INDEX('8 LCI Data Compilation'!$J$96:$O$122,MATCH(D117,'8 LCI Data Compilation'!$C$96:$C$122,0),MATCH('4 SMM Input'!$E$3,'8 LCI Data Compilation'!$J$97:$O$97,0))","v":"NA"},{"$f":"INDEX('8 LCI Data Compilation'!$P$96:$U$122,MATCH(D117,'8 LCI Data Compilation'!$C$96:$C$122,0),MATCH('4 SMM Input'!$E$3,'8 LCI Data Compilation'!$P$97:$U$97,0))","v":"NA"},{"$f":"INDEX('8 LCI Data Compilation'!$V$96:$AA$122,MATCH(D117,'8 LCI Data Compilation'!$C$96:$C$122,0),MATCH('4 SMM Input'!$E$3,'8 LCI Data Compilation'!$V$97:$AA$97,0))","v":"NA"},{"$f":"INDEX('8 LCI Data Compilation'!$AB$96:$AG$122,MATCH(D117,'8 LCI Data Compilation'!$C$96:$C$122,0),MATCH('4 SMM Input'!$E$3,'8 LCI Data Compilation'!$AB$97:$AG$97,0))","v":"NA"},{"$f":"INDEX('8 LCI Data Compilation'!$AH$96:$AM$122,MATCH(D117,'8 LCI Data Compilation'!$C$96:$C$122,0),MATCH('4 SMM Input'!$E$3,'8 LCI Data Compilation'!$AH$97:$AM$97,0))","v":"NA"},{"$f":"INDEX('8 LCI Data Compilation'!$AN$96:$AS$122,MATCH(D117,'8 LCI Data Compilation'!$C$96:$C$122,0),MATCH('4 SMM Input'!$E$3,'8 LCI Data Compilation'!$AN$97:$AS$97,0))","v":"NA"}]
[null,null,24,"Concrete",{"$f":"INDEX('8 LCI Data Compilation'!$D$96:$I$122,MATCH(D118,'8 LCI Data Compilation'!$C$96:$C$122,0),MATCH('4 SMM Input'!$E$3,'8 LCI Data Compilation'!$D$97:$I$97,0))","v":"NA"},"NA",{"$f":"INDEX('8 LCI Data Compilation'!$J$96:$O$122,MATCH(D118,'8 LCI Data Compilation'!$C$96:$C$122,0),MATCH('4 SMM Input'!$E$3,'8 LCI Data Compilation'!$J$97:$O$97,0))","v":"NA"},{"$f":"INDEX('8 LCI Data Compilation'!$P$96:$U$122,MATCH(D118,'8 LCI Data Compilation'!$C$96:$C$122,0),MATCH('4 SMM Input'!$E$3,'8 LCI Data Compilation'!$P$97:$U$97,0))","v":"NA"},{"$f":"INDEX('8 LCI Data Compilation'!$V$96:$AA$122,MATCH(D118,'8 LCI Data Compilation'!$C$96:$C$122,0),MATCH('4 SMM Input'!$E$3,'8 LCI Data Compilation'!$V$97:$AA$97,0))","v":"NA"},{"$f":"INDEX('8 LCI Data Compilation'!$AB$96:$AG$122,MATCH(D118,'8 LCI Data Compilation'!$C$96:$C$122,0),MATCH('4 SMM Input'!$E$3,'8 LCI Data Compilation'!$AB$97:$AG$97,0))","v":"NA"},{"$f":"INDEX('8 LCI Data Compilation'!$AH$96:$AM$122,MATCH(D118,'8 LCI Data Compilation'!$C$96:$C$122,0),MATCH('4 SMM Input'!$E$3,'8 LCI Data Compilation'!$AH$97:$AM$97,0))","v":"NA"},{"$f":"INDEX('8 LCI Data Compilation'!$AN$96:$AS$122,MATCH(D118,'8 LCI Data Compilation'!$C$96:$C$122,0),MATCH('4 SMM Input'!$E$3,'8 LCI Data Compilation'!$AN$97:$AS$97,0))","v":"NA"}]
[null,null,25,"Reclaimed Asphalt Pavement",{"$f":"INDEX('8 LCI Data Compilation'!$D$96:$I$122,MATCH(D119,'8 LCI Data Compilation'!$C$96:$C$122,0),MATCH('4 SMM Input'!$E$3,'8 LCI Data Compilation'!$D$97:$I$97,0))","v":"NA"},"NA",{"$f":"INDEX('8 LCI Data Compilation'!$J$96:$O$122,MATCH(D119,'8 LCI Data Compilation'!$C$96:$C$122,0),MATCH('4 SMM Input'!$E$3,'8 LCI Data Compilation'!$J$97:$O$97,0))","v":"NA"},{"$f":"INDEX('8 LCI Data Compilation'!$P$96:$U$122,MATCH(D119,'8 LCI Data Compilation'!$C$96:$C$122,0),MATCH('4 SMM Input'!$E$3,'8 LCI Data Compilation'!$P$97:$U$97,0))","v":"NA"},{"$f":"INDEX('8 LCI Data Compilation'!$V$96:$AA$122,MATCH(D119,'8 LCI Data Compilation'!$C$96:$C$122,0),MATCH('4 SMM Input'!$E$3,'8 LCI Data Compilation'!$V$97:$AA$97,0))","v":"NA"},{"$f":"INDEX('8 LCI Data Compilation'!$AB$96:$AG$122,MATCH(D119,'8 LCI Data Compilation'!$C$96:$C$122,0),MATCH('4 SMM Input'!$E$3,'8 LCI Data Compilation'!$AB$97:$AG$97,0))","v":"NA"},{"$f":"INDEX('8 LCI Data Compilation'!$AH$96:$AM$122,MATCH(D119,'8 LCI Data Compilation'!$C$96:$C$122,0),MATCH('4 SMM Input'!$E$3,'8 LCI Data Compilation'!$AH$97:$AM$97,0))","v":"NA"},{"$f":"INDEX('8 LCI Data Compilation'!$AN$96:$AS$122,MATCH(D119,'8 LCI Data Compilation'!$C$96:$C$122,0),MATCH('4 SMM Input'!$E$3,'8 LCI Data Compilation'!$AN$97:$AS$97,0))","v":"NA"}]
[]
[]
[null,"All Units (CTUe/ Short Ton)"]
[null,{"$f":"'5 SMM Results'!B126:M126","v":"Marine Ecotoxicity (CTUe): Release of toxic materials to aquatic ecosystem. The units are expressed as comparative toxic units (CTUe) which is interpreted as the potentially affected fraction of species over time and volume per kg of substance emitted.\n\n"}]
[null,"Material Category","Item No.","Material Type","Produced","Donated","Collection","Recycling","Composting","Anaerobic Digestion","Landfill","Combustion"]
[null,"MSW ",1,"Mixed MSW",{"$f":"INDEX('8 LCI Data Compilation'!$D$126:$I$152,MATCH(D125,'8 LCI Data Compilation'!$C$126:$C$152,0),MATCH('4 SMM Input'!$E$3,'8 LCI Data Compilation'!$D$127:$I$127,0))","v":"NA"},"NA",{"$f":"INDEX('8 LCI Data Compilation'!$J$126:$O$152,MATCH(D125,'8 LCI Data Compilation'!$C$126:$C$152,0),MATCH('4 SMM Input'!$E$3,'8 LCI Data Compilation'!$J$127:$O$127,0))","v":4.3302626073613966E-2},{"$f":"INDEX('8 LCI Data Compilation'!$P$126:$U$152,MATCH(D125,'8 LCI Data Compilation'!$C$126:$C$152,0),MATCH('4 SMM Input'!$E$3,'8 LCI Data Compilation'!$P$127:$U$127,0))","v":"NA"},{"$f":"INDEX('8 LCI Data Compilation'!$V$126:$AA$152,MATCH(D125,'8 LCI Data Compilation'!$C$126:$C$152,0),MATCH('4 SMM Input'!$E$3,'8 LCI Data Compilation'!$V$127:$AA$127,0))","v":"NA"},{"$f":"INDEX('8 LCI Data Compilation'!$AB$126:$AG$152,MATCH(D125,'8 LCI Data Compilation'!$C$126:$C$152,0),MATCH('4 SMM Input'!$E$3,'8 LCI Data Compilation'!$AB$127:$AG$127,0))","v":"NA"},{"$f":"INDEX('8 LCI Data Compilation'!$AH$126:$AM$152,MATCH(D125,'8 LCI Data Compilation'!$C$126:$C$152,0),MATCH('4 SMM Input'!$E$3,'8 LCI Data Compilation'!$AH$127:$AM$127,0))","v":-39.630409585367168},{"$f":"INDEX('8 LCI Data Compilation'!$AN$126:$AS$152,MATCH(D125,'8 LCI Data Compilation'!$C$126:$C$152,0),MATCH('4 SMM Input'!$E$3,'8 LCI Data Compilation'!$AN$127:$AS$127,0))","v":-1.0251244757907561E-2}]
[null,"Paper",2,"Newspaper",{"$f":"INDEX('8 LCI Data Compilation'!$D$126:$I$152,MATCH(D126,'8 LCI Data Compilation'!$C$126:$C$152,0),MATCH('4 SMM Input'!$E$3,'8 LCI Data Compilation'!$D$127:$I$127,0))","v":"NA"},"NA",{"$f":"INDEX('8 LCI Data Compilation'!$J$126:$O$152,MATCH(D126,'8 LCI Data Compilation'!$C$126:$C$152,0),MATCH('4 SMM Input'!$E$3,'8 LCI Data Compilation'!$J$127:$O$127,0))","v":4.3302626073613966E-2},{"$f":"INDEX('8 LCI Data Compilation'!$P$126:$U$152,MATCH(D126,'8 LCI Data Compilation'!$C$126:$C$152,0),MATCH('4 SMM Input'!$E$3,'8 LCI Data Compilation'!$P$127:$U$127,0))","v":-98.626048403859002},{"$f":"INDEX('8 LCI Data Compilation'!$V$126:$AA$152,MATCH(D126,'8 LCI Data Compilation'!$C$126:$C$152,0),MATCH('4 SMM Input'!$E$3,'8 LCI Data Compilation'!$V$127:$AA$127,0))","v":"NA"},{"$f":"INDEX('8 LCI Data Compilation'!$AB$126:$AG$152,MATCH(D126,'8 LCI Data Compilation'!$C$126:$C$152,0),MATCH('4 SMM Input'!$E$3,'8 LCI Data Compilation'!$AB$127:$AG$127,0))","v":"NA"},{"$f":"INDEX('8 LCI Data Compilation'!$AH$126:$AM$152,MATCH(D126,'8 LCI Data Compilation'!$C$126:$C$152,0),MATCH('4 SMM Input'!$E$3,'8 LCI Data Compilation'!$AH$127:$AM$127,0))","v":-14.092071274664111},{"$f":"INDEX('8 LCI Data Compilation'!$AN$126:$AS$152,MATCH(D126,'8 LCI Data Compilation'!$C$126:$C$152,0),MATCH('4 SMM Input'!$E$3,'8 LCI Data Compilation'!$AN$127:$AS$127,0))","v":-4.3688548763797602E-2}]
[null,null,3,"Corrugated Cardboard (OCC)",{"$f":"INDEX('8 LCI Data Compilation'!$D$126:$I$152,MATCH(D127,'8 LCI Data Compilation'!$C$126:$C$152,0),MATCH('4 SMM Input'!$E$3,'8 LCI Data Compilation'!$D$127:$I$127,0))","v":"NA"},"NA",{"$f":"INDEX('8 LCI Data Compilation'!$J$126:$O$152,MATCH(D127,'8 LCI Data Compilation'!$C$126:$C$152,0),MATCH('4 SMM Input'!$E$3,'8 LCI Data Compilation'!$J$127:$O$127,0))","v":4.3302626073613966E-2},{"$f":"INDEX('8 LCI Data Compilation'!$P$126:$U$152,MATCH(D127,'8 LCI Data Compilation'!$C$126:$C$152,0),MATCH('4 SMM Input'!$E$3,'8 LCI Data Compilation'!$P$127:$U$127,0))","v":624.20816807613778},{"$f":"INDEX('8 LCI Data Compilation'!$V$126:$AA$152,MATCH(D127,'8 LCI Data Compilation'!$C$126:$C$152,0),MATCH('4 SMM Input'!$E$3,'8 LCI Data Compilation'!$V$127:$AA$127,0))","v":"NA"},{"$f":"INDEX('8 LCI Data Compilation'!$AB$126:$AG$152,MATCH(D127,'8 LCI Data Compilation'!$C$126:$C$152,0),MATCH('4 SMM Input'!$E$3,'8 LCI Data Compilation'!$AB$127:$AG$127,0))","v":"NA"},{"$f":"INDEX('8 LCI Data Compilation'!$AH$126:$AM$152,MATCH(D127,'8 LCI Data Compilation'!$C$126:$C$152,0),MATCH('4 SMM Input'!$E$3,'8 LCI Data Compilation'!$AH$127:$AM$127,0))","v":-37.855574555997187},{"$f":"INDEX('8 LCI Data Compilation'!$AN$126:$AS$152,MATCH(D127,'8 LCI Data Compilation'!$C$126:$C$152,0),MATCH('4 SMM Input'!$E$3,'8 LCI Data Compilation'!$AN$127:$AS$127,0))","v":-3.9950071987488803E-2}]
[null,null,4,"High Grade Paper (Office Type Paper)",{"$f":"INDEX('8 LCI Data Compilation'!$D$126:$I$152,MATCH(D128,'8 LCI Data Compilation'!$C$126:$C$152,0),MATCH('4 SMM Input'!$E$3,'8 LCI Data Compilation'!$D$127:$I$127,0))","v":"NA"},"NA",{"$f":"INDEX('8 LCI Data Compilation'!$J$126:$O$152,MATCH(D128,'8 LCI Data Compilation'!$C$126:$C$152,0),MATCH('4 SMM Input'!$E$3,'8 LCI Data Compilation'!$J$127:$O$127,0))","v":4.3302626073613966E-2},{"$f":"INDEX('8 LCI Data Compilation'!$P$126:$U$152,MATCH(D128,'8 LCI Data Compilation'!$C$126:$C$152,0),MATCH('4 SMM Input'!$E$3,'8 LCI Data Compilation'!$P$127:$U$127,0))","v":21.015935879761432},{"$f":"INDEX('8 LCI Data Compilation'!$V$126:$AA$152,MATCH(D128,'8 LCI Data Compilation'!$C$126:$C$152,0),MATCH('4 SMM Input'!$E$3,'8 LCI Data Compilation'!$V$127:$AA$127,0))","v":"NA"},{"$f":"INDEX('8 LCI Data Compilation'!$AB$126:$AG$152,MATCH(D128,'8 LCI Data Compilation'!$C$126:$C$152,0),MATCH('4 SMM Input'!$E$3,'8 LCI Data Compilation'!$AB$127:$AG$127,0))","v":"NA"},{"$f":"INDEX('8 LCI Data Compilation'!$AH$126:$AM$152,MATCH(D128,'8 LCI Data Compilation'!$C$126:$C$152,0),MATCH('4 SMM Input'!$E$3,'8 LCI Data Compilation'!$AH$127:$AM$127,0))","v":-51.116460410506797},{"$f":"INDEX('8 LCI Data Compilation'!$AN$126:$AS$152,MATCH(D128,'8 LCI Data Compilation'!$C$126:$C$152,0),MATCH('4 SMM Input'!$E$3,'8 LCI Data Compilation'!$AN$127:$AS$127,0))","v":-3.6579738796876517E-2}]
[null,null,5,"Magazines/third-class mail",{"$f":"INDEX('8 LCI Data Compilation'!$D$126:$I$152,MATCH(D129,'8 LCI Data Compilation'!$C$126:$C$152,0),MATCH('4 SMM Input'!$E$3,'8 LCI Data Compilation'!$D$127:$I$127,0))","v":"NA"},"NA",{"$f":"INDEX('8 LCI Data Compilation'!$J$126:$O$152,MATCH(D129,'8 LCI Data Compilation'!$C$126:$C$152,0),MATCH('4 SMM Input'!$E$3,'8 LCI Data Compilation'!$J$127:$O$127,0))","v":4.3302626073613966E-2},{"$f":"INDEX('8 LCI Data Compilation'!$P$126:$U$152,MATCH(D129,'8 LCI Data Compilation'!$C$126:$C$152,0),MATCH('4 SMM Input'!$E$3,'8 LCI Data Compilation'!$P$127:$U$127,0))","v":7.3218092370905872},{"$f":"INDEX('8 LCI Data Compilation'!$V$126:$AA$152,MATCH(D129,'8 LCI Data Compilation'!$C$126:$C$152,0),MATCH('4 SMM Input'!$E$3,'8 LCI Data Compilation'!$V$127:$AA$127,0))","v":"NA"},{"$f":"INDEX('8 LCI Data Compilation'!$AB$126:$AG$152,MATCH(D129,'8 LCI Data Compilation'!$C$126:$C$152,0),MATCH('4 SMM Input'!$E$3,'8 LCI Data Compilation'!$AB$127:$AG$127,0))","v":"NA"},{"$f":"INDEX('8 LCI Data Compilation'!$AH$126:$AM$152,MATCH(D129,'8 LCI Data Compilation'!$C$126:$C$152,0),MATCH('4 SMM Input'!$E$3,'8 LCI Data Compilation'!$AH$127:$AM$127,0))","v":-19.838882062284654},{"$f":"INDEX('8 LCI Data Compilation'!$AN$126:$AS$152,MATCH(D129,'8 LCI Data Compilation'!$C$126:$C$152,0),MATCH('4 SMM Input'!$E$3,'8 LCI Data Compilation'!$AN$127:$AS$127,0))","v":-3.3141135530686483E-2}]
[null,null,6,"Books",{"$f":"INDEX('8 LCI Data Compilation'!$D$126:$I$152,MATCH(D130,'8 LCI Data Compilation'!$C$126:$C$152,0),MATCH('4 SMM Input'!$E$3,'8 LCI Data Compilation'!$D$127:$I$127,0))","v":"NA"},"NA",{"$f":"INDEX('8 LCI Data Compilation'!$J$126:$O$152,MATCH(D130,'8 LCI Data Compilation'!$C$126:$C$152,0),MATCH('4 SMM Input'!$E$3,'8 LCI Data Compilation'!$J$127:$O$127,0))","v":4.3302626073613966E-2},{"$f":"INDEX('8 LCI Data Compilation'!$P$126:$U$152,MATCH(D130,'8 LCI Data Compilation'!$C$126:$C$152,0),MATCH('4 SMM Input'!$E$3,'8 LCI Data Compilation'!$P$127:$U$127,0))","v":"NA"},{"$f":"INDEX('8 LCI Data Compilation'!$V$126:$AA$152,MATCH(D130,'8 LCI Data Compilation'!$C$126:$C$152,0),MATCH('4 SMM Input'!$E$3,'8 LCI Data Compilation'!$V$127:$AA$127,0))","v":"NA"},{"$f":"INDEX('8 LCI Data Compilation'!$AB$126:$AG$152,MATCH(D130,'8 LCI Data Compilation'!$C$126:$C$152,0),MATCH('4 SMM Input'!$E$3,'8 LCI Data Compilation'!$AB$127:$AG$127,0))","v":"NA"},{"$f":"INDEX('8 LCI Data Compilation'!$AH$126:$AM$152,MATCH(D130,'8 LCI Data Compilation'!$C$126:$C$152,0),MATCH('4 SMM Input'!$E$3,'8 LCI Data Compilation'!$AH$127:$AM$127,0))","v":-13.996173476388361},{"$f":"INDEX('8 LCI Data Compilation'!$AN$126:$AS$152,MATCH(D130,'8 LCI Data Compilation'!$C$126:$C$152,0),MATCH('4 SMM Input'!$E$3,'8 LCI Data Compilation'!$AN$127:$AS$127,0))","v":-3.5992014290627511E-2}]
[null,null,7,"Mixed Paper",{"$f":"INDEX('8 LCI Data Compilation'!$D$126:$I$152,MATCH(D131,'8 LCI Data Compilation'!$C$126:$C$152,0),MATCH('4 SMM Input'!$E$3,'8 LCI Data Compilation'!$D$127:$I$127,0))","v":"NA"},"NA",{"$f":"INDEX('8 LCI Data Compilation'!$J$126:$O$152,MATCH(D131,'8 LCI Data Compilation'!$C$126:$C$152,0),MATCH('4 SMM Input'!$E$3,'8 LCI Data Compilation'!$J$127:$O$127,0))","v":4.3302626073613966E-2},{"$f":"INDEX('8 LCI Data Compilation'!$P$126:$U$152,MATCH(D131,'8 LCI Data Compilation'!$C$126:$C$152,0),MATCH('4 SMM Input'!$E$3,'8 LCI Data Compilation'!$P$127:$U$127,0))","v":138.47996619728269},{"$f":"INDEX('8 LCI Data Compilation'!$V$126:$AA$152,MATCH(D131,'8 LCI Data Compilation'!$C$126:$C$152,0),MATCH('4 SMM Input'!$E$3,'8 LCI Data Compilation'!$V$127:$AA$127,0))","v":"NA"},{"$f":"INDEX('8 LCI Data Compilation'!$AB$126:$AG$152,MATCH(D131,'8 LCI Data Compilation'!$C$126:$C$152,0),MATCH('4 SMM Input'!$E$3,'8 LCI Data Compilation'!$AB$127:$AG$127,0))","v":"NA"},{"$f":"INDEX('8 LCI Data Compilation'!$AH$126:$AM$152,MATCH(D131,'8 LCI Data Compilation'!$C$126:$C$152,0),MATCH('4 SMM Input'!$E$3,'8 LCI Data Compilation'!$AH$127:$AM$127,0))","v":-30.72574707586319},{"$f":"INDEX('8 LCI Data Compilation'!$AN$126:$AS$152,MATCH(D131,'8 LCI Data Compilation'!$C$126:$C$152,0),MATCH('4 SMM Input'!$E$3,'8 LCI Data Compilation'!$AN$127:$AS$127,0))","v":-3.8339873769712353E-2}]
[null,"Plastic",8,"HDPE",{"$f":"INDEX('8 LCI Data Compilation'!$D$126:$I$152,MATCH(D132,'8 LCI Data Compilation'!$C$126:$C$152,0),MATCH('4 SMM Input'!$E$3,'8 LCI Data Compilation'!$D$127:$I$127,0))","v":"NA"},"NA",{"$f":"INDEX('8 LCI Data Compilation'!$J$126:$O$152,MATCH(D132,'8 LCI Data Compilation'!$C$126:$C$152,0),MATCH('4 SMM Input'!$E$3,'8 LCI Data Compilation'!$J$127:$O$127,0))","v":4.3302626073613966E-2},{"$f":"INDEX('8 LCI Data Compilation'!$P$126:$U$152,MATCH(D132,'8 LCI Data Compilation'!$C$126:$C$152,0),MATCH('4 SMM Input'!$E$3,'8 LCI Data Compilation'!$P$127:$U$127,0))","v":12.706674104754994},{"$f":"INDEX('8 LCI Data Compilation'!$V$126:$AA$152,MATCH(D132,'8 LCI Data Compilation'!$C$126:$C$152,0),MATCH('4 SMM Input'!$E$3,'8 LCI Data Compilation'!$V$127:$AA$127,0))","v":"NA"},{"$f":"INDEX('8 LCI Data Compilation'!$AB$126:$AG$152,MATCH(D132,'8 LCI Data Compilation'!$C$126:$C$152,0),MATCH('4 SMM Input'!$E$3,'8 LCI Data Compilation'!$AB$127:$AG$127,0))","v":"NA"},{"$f":"INDEX('8 LCI Data Compilation'!$AH$126:$AM$152,MATCH(D132,'8 LCI Data Compilation'!$C$126:$C$152,0),MATCH('4 SMM Input'!$E$3,'8 LCI Data Compilation'!$AH$127:$AM$127,0))","v":1.5220035985458352E-2},{"$f":"INDEX('8 LCI Data Compilation'!$AN$126:$AS$152,MATCH(D132,'8 LCI Data Compilation'!$C$126:$C$152,0),MATCH('4 SMM Input'!$E$3,'8 LCI Data Compilation'!$AN$127:$AS$127,0))","v":-0.10851797003862816}]
[null,null,9,"PET",{"$f":"INDEX('8 LCI Data Compilation'!$D$126:$I$152,MATCH(D133,'8 LCI Data Compilation'!$C$126:$C$152,0),MATCH('4 SMM Input'!$E$3,'8 LCI Data Compilation'!$D$127:$I$127,0))","v":"NA"},"NA",{"$f":"INDEX('8 LCI Data Compilation'!$J$126:$O$152,MATCH(D133,'8 LCI Data Compilation'!$C$126:$C$152,0),MATCH('4 SMM Input'!$E$3,'8 LCI Data Compilation'!$J$127:$O$127,0))","v":4.3302626073613966E-2},{"$f":"INDEX('8 LCI Data Compilation'!$P$126:$U$152,MATCH(D133,'8 LCI Data Compilation'!$C$126:$C$152,0),MATCH('4 SMM Input'!$E$3,'8 LCI Data Compilation'!$P$127:$U$127,0))","v":-56.922593820932249},{"$f":"INDEX('8 LCI Data Compilation'!$V$126:$AA$152,MATCH(D133,'8 LCI Data Compilation'!$C$126:$C$152,0),MATCH('4 SMM Input'!$E$3,'8 LCI Data Compilation'!$V$127:$AA$127,0))","v":"NA"},{"$f":"INDEX('8 LCI Data Compilation'!$AB$126:$AG$152,MATCH(D133,'8 LCI Data Compilation'!$C$126:$C$152,0),MATCH('4 SMM Input'!$E$3,'8 LCI Data Compilation'!$AB$127:$AG$127,0))","v":"NA"},{"$f":"INDEX('8 LCI Data Compilation'!$AH$126:$AM$152,MATCH(D133,'8 LCI Data Compilation'!$C$126:$C$152,0),MATCH('4 SMM Input'!$E$3,'8 LCI Data Compilation'!$AH$127:$AM$127,0))","v":1.5220035985458352E-2},{"$f":"INDEX('8 LCI Data Compilation'!$AN$126:$AS$152,MATCH(D133,'8 LCI Data Compilation'!$C$126:$C$152,0),MATCH('4 SMM Input'!$E$3,'8 LCI Data Compilation'!$AN$127:$AS$127,0))","v":-0.10851816445383526}]
[null,null,10,"Mixed Plastic",{"$f":"INDEX('8 LCI Data Compilation'!$D$126:$I$152,MATCH(D134,'8 LCI Data Compilation'!$C$126:$C$152,0),MATCH('4 SMM Input'!$E$3,'8 LCI Data Compilation'!$D$127:$I$127,0))","v":"NA"},"NA",{"$f":"INDEX('8 LCI Data Compilation'!$J$126:$O$152,MATCH(D134,'8 LCI Data Compilation'!$C$126:$C$152,0),MATCH('4 SMM Input'!$E$3,'8 LCI Data Compilation'!$J$127:$O$127,0))","v":4.3302626073613966E-2},{"$f":"INDEX('8 LCI Data Compilation'!$P$126:$U$152,MATCH(D134,'8 LCI Data Compilation'!$C$126:$C$152,0),MATCH('4 SMM Input'!$E$3,'8 LCI Data Compilation'!$P$127:$U$127,0))","v":-22.107959858088627},{"$f":"INDEX('8 LCI Data Compilation'!$V$126:$AA$152,MATCH(D134,'8 LCI Data Compilation'!$C$126:$C$152,0),MATCH('4 SMM Input'!$E$3,'8 LCI Data Compilation'!$V$127:$AA$127,0))","v":"NA"},{"$f":"INDEX('8 LCI Data Compilation'!$AB$126:$AG$152,MATCH(D134,'8 LCI Data Compilation'!$C$126:$C$152,0),MATCH('4 SMM Input'!$E$3,'8 LCI Data Compilation'!$AB$127:$AG$127,0))","v":"NA"},{"$f":"INDEX('8 LCI Data Compilation'!$AH$126:$AM$152,MATCH(D134,'8 LCI Data Compilation'!$C$126:$C$152,0),MATCH('4 SMM Input'!$E$3,'8 LCI Data Compilation'!$AH$127:$AM$127,0))","v":1.5220035985458352E-2},{"$f":"INDEX('8 LCI Data Compilation'!$AN$126:$AS$152,MATCH(D134,'8 LCI Data Compilation'!$C$126:$C$152,0),MATCH('4 SMM Input'!$E$3,'8 LCI Data Compilation'!$AN$127:$AS$127,0))","v":-0.10851806724623171}]
[null,"Glass",11,"Glass",{"$f":"INDEX('8 LCI Data Compilation'!$D$126:$I$152,MATCH(D135,'8 LCI Data Compilation'!$C$126:$C$152,0),MATCH('4 SMM Input'!$E$3,'8 LCI Data Compilation'!$D$127:$I$127,0))","v":"NA"},"NA",{"$f":"INDEX('8 LCI Data Compilation'!$J$126:$O$152,MATCH(D135,'8 LCI Data Compilation'!$C$126:$C$152,0),MATCH('4 SMM Input'!$E$3,'8 LCI Data Compilation'!$J$127:$O$127,0))","v":4.3302626073613966E-2},{"$f":"INDEX('8 LCI Data Compilation'!$P$126:$U$152,MATCH(D135,'8 LCI Data Compilation'!$C$126:$C$152,0),MATCH('4 SMM Input'!$E$3,'8 LCI Data Compilation'!$P$127:$U$127,0))","v":-8.7410225822902472},{"$f":"INDEX('8 LCI Data Compilation'!$V$126:$AA$152,MATCH(D135,'8 LCI Data Compilation'!$C$126:$C$152,0),MATCH('4 SMM Input'!$E$3,'8 LCI Data Compilation'!$V$127:$AA$127,0))","v":"NA"},{"$f":"INDEX('8 LCI Data Compilation'!$AB$126:$AG$152,MATCH(D135,'8 LCI Data Compilation'!$C$126:$C$152,0),MATCH('4 SMM Input'!$E$3,'8 LCI Data Compilation'!$AB$127:$AG$127,0))","v":"NA"},{"$f":"INDEX('8 LCI Data Compilation'!$AH$126:$AM$152,MATCH(D135,'8 LCI Data Compilation'!$C$126:$C$152,0),MATCH('4 SMM Input'!$E$3,'8 LCI Data Compilation'!$AH$127:$AM$127,0))","v":1.5220035985458352E-2},{"$f":"INDEX('8 LCI Data Compilation'!$AN$126:$AS$152,MATCH(D135,'8 LCI Data Compilation'!$C$126:$C$152,0),MATCH('4 SMM Input'!$E$3,'8 LCI Data Compilation'!$AN$127:$AS$127,0))","v":-1.5679439183333328E-4}]
[null,"Metals",12,"Aluminum Cans",{"$f":"INDEX('8 LCI Data Compilation'!$D$126:$I$152,MATCH(D136,'8 LCI Data Compilation'!$C$126:$C$152,0),MATCH('4 SMM Input'!$E$3,'8 LCI Data Compilation'!$D$127:$I$127,0))","v":"NA"},"NA",{"$f":"INDEX('8 LCI Data Compilation'!$J$126:$O$152,MATCH(D136,'8 LCI Data Compilation'!$C$126:$C$152,0),MATCH('4 SMM Input'!$E$3,'8 LCI Data Compilation'!$J$127:$O$127,0))","v":4.3302626073613966E-2},{"$f":"INDEX('8 LCI Data Compilation'!$P$126:$U$152,MATCH(D136,'8 LCI Data Compilation'!$C$126:$C$152,0),MATCH('4 SMM Input'!$E$3,'8 LCI Data Compilation'!$P$127:$U$127,0))","v":-828.90310430012903},{"$f":"INDEX('8 LCI Data Compilation'!$V$126:$AA$152,MATCH(D136,'8 LCI Data Compilation'!$C$126:$C$152,0),MATCH('4 SMM Input'!$E$3,'8 LCI Data Compilation'!$V$127:$AA$127,0))","v":"NA"},{"$f":"INDEX('8 LCI Data Compilation'!$AB$126:$AG$152,MATCH(D136,'8 LCI Data Compilation'!$C$126:$C$152,0),MATCH('4 SMM Input'!$E$3,'8 LCI Data Compilation'!$AB$127:$AG$127,0))","v":"NA"},{"$f":"INDEX('8 LCI Data Compilation'!$AH$126:$AM$152,MATCH(D136,'8 LCI Data Compilation'!$C$126:$C$152,0),MATCH('4 SMM Input'!$E$3,'8 LCI Data Compilation'!$AH$127:$AM$127,0))","v":1.5220035985458352E-2},{"$f":"INDEX('8 LCI Data Compilation'!$AN$126:$AS$152,MATCH(D136,'8 LCI Data Compilation'!$C$126:$C$152,0),MATCH('4 SMM Input'!$E$3,'8 LCI Data Compilation'!$AN$127:$AS$127,0))","v":3.1829479044939978E-4}]
[null,null,13,"Steel/Tin Cans",{"$f":"INDEX('8 LCI Data Compilation'!$D$126:$I$152,MATCH(D137,'8 LCI Data Compilation'!$C$126:$C$152,0),MATCH('4 SMM Input'!$E$3,'8 LCI Data Compilation'!$D$127:$I$127,0))","v":"NA"},"NA",{"$f":"INDEX('8 LCI Data Compilation'!$J$126:$O$152,MATCH(D137,'8 LCI Data Compilation'!$C$126:$C$152,0),MATCH('4 SMM Input'!$E$3,'8 LCI Data Compilation'!$J$127:$O$127,0))","v":4.3302626073613966E-2},{"$f":"INDEX('8 LCI Data Compilation'!$P$126:$U$152,MATCH(D137,'8 LCI Data Compilation'!$C$126:$C$152,0),MATCH('4 SMM Input'!$E$3,'8 LCI Data Compilation'!$P$127:$U$127,0))","v":9.1871613796470193},{"$f":"INDEX('8 LCI Data Compilation'!$V$126:$AA$152,MATCH(D137,'8 LCI Data Compilation'!$C$126:$C$152,0),MATCH('4 SMM Input'!$E$3,'8 LCI Data Compilation'!$V$127:$AA$127,0))","v":"NA"},{"$f":"INDEX('8 LCI Data Compilation'!$AB$126:$AG$152,MATCH(D137,'8 LCI Data Compilation'!$C$126:$C$152,0),MATCH('4 SMM Input'!$E$3,'8 LCI Data Compilation'!$AB$127:$AG$127,0))","v":"NA"},{"$f":"INDEX('8 LCI Data Compilation'!$AH$126:$AM$152,MATCH(D137,'8 LCI Data Compilation'!$C$126:$C$152,0),MATCH('4 SMM Input'!$E$3,'8 LCI Data Compilation'!$AH$127:$AM$127,0))","v":1.5220035985458352E-2},{"$f":"INDEX('8 LCI Data Compilation'!$AN$126:$AS$152,MATCH(D137,'8 LCI Data Compilation'!$C$126:$C$152,0),MATCH('4 SMM Input'!$E$3,'8 LCI Data Compilation'!$AN$127:$AS$127,0))","v":-9.1943861454545119E-5}]
[null,null,14,"Mixed Metals",{"$f":"INDEX('8 LCI Data Compilation'!$D$126:$I$152,MATCH(D138,'8 LCI Data Compilation'!$C$126:$C$152,0),MATCH('4 SMM Input'!$E$3,'8 LCI Data Compilation'!$D$127:$I$127,0))","v":"NA"},"NA",{"$f":"INDEX('8 LCI Data Compilation'!$J$126:$O$152,MATCH(D138,'8 LCI Data Compilation'!$C$126:$C$152,0),MATCH('4 SMM Input'!$E$3,'8 LCI Data Compilation'!$J$127:$O$127,0))","v":4.3302626073613966E-2},{"$f":"INDEX('8 LCI Data Compilation'!$P$126:$U$152,MATCH(D138,'8 LCI Data Compilation'!$C$126:$C$152,0),MATCH('4 SMM Input'!$E$3,'8 LCI Data Compilation'!$P$127:$U$127,0))","v":-409.69372530195909},{"$f":"INDEX('8 LCI Data Compilation'!$V$126:$AA$152,MATCH(D138,'8 LCI Data Compilation'!$C$126:$C$152,0),MATCH('4 SMM Input'!$E$3,'8 LCI Data Compilation'!$V$127:$AA$127,0))","v":"NA"},{"$f":"INDEX('8 LCI Data Compilation'!$AB$126:$AG$152,MATCH(D138,'8 LCI Data Compilation'!$C$126:$C$152,0),MATCH('4 SMM Input'!$E$3,'8 LCI Data Compilation'!$AB$127:$AG$127,0))","v":"NA"},{"$f":"INDEX('8 LCI Data Compilation'!$AH$126:$AM$152,MATCH(D138,'8 LCI Data Compilation'!$C$126:$C$152,0),MATCH('4 SMM Input'!$E$3,'8 LCI Data Compilation'!$AH$127:$AM$127,0))","v":1.5220035985458352E-2},{"$f":"INDEX('8 LCI Data Compilation'!$AN$126:$AS$152,MATCH(D138,'8 LCI Data Compilation'!$C$126:$C$152,0),MATCH('4 SMM Input'!$E$3,'8 LCI Data Compilation'!$AN$127:$AS$127,0))","v":1.2744900652186964E-3}]
[null,"Organic",15,"Yard Waste",{"$f":"INDEX('8 LCI Data Compilation'!$D$126:$I$152,MATCH(D139,'8 LCI Data Compilation'!$C$126:$C$152,0),MATCH('4 SMM Input'!$E$3,'8 LCI Data Compilation'!$D$127:$I$127,0))","v":"NA"},"NA",{"$f":"INDEX('8 LCI Data Compilation'!$J$126:$O$152,MATCH(D139,'8 LCI Data Compilation'!$C$126:$C$152,0),MATCH('4 SMM Input'!$E$3,'8 LCI Data Compilation'!$J$127:$O$127,0))","v":4.3302626073613966E-2},{"$f":"INDEX('8 LCI Data Compilation'!$P$126:$U$152,MATCH(D139,'8 LCI Data Compilation'!$C$126:$C$152,0),MATCH('4 SMM Input'!$E$3,'8 LCI Data Compilation'!$P$127:$U$127,0))","v":"NA"},{"$f":"INDEX('8 LCI Data Compilation'!$V$126:$AA$152,MATCH(D139,'8 LCI Data Compilation'!$C$126:$C$152,0),MATCH('4 SMM Input'!$E$3,'8 LCI Data Compilation'!$V$127:$AA$127,0))","v":14.702452131287489},{"$f":"INDEX('8 LCI Data Compilation'!$AB$126:$AG$152,MATCH(D139,'8 LCI Data Compilation'!$C$126:$C$152,0),MATCH('4 SMM Input'!$E$3,'8 LCI Data Compilation'!$AB$127:$AG$127,0))","v":"NA"},{"$f":"INDEX('8 LCI Data Compilation'!$AH$126:$AM$152,MATCH(D139,'8 LCI Data Compilation'!$C$126:$C$152,0),MATCH('4 SMM Input'!$E$3,'8 LCI Data Compilation'!$AH$127:$AM$127,0))","v":-7.9009726661448489},{"$f":"INDEX('8 LCI Data Compilation'!$AN$126:$AS$152,MATCH(D139,'8 LCI Data Compilation'!$C$126:$C$152,0),MATCH('4 SMM Input'!$E$3,'8 LCI Data Compilation'!$AN$127:$AS$127,0))","v":-2.2672527852595225E-2}]
[null,null,16,"Food Waste",{"$f":"INDEX('8 LCI Data Compilation'!$D$126:$I$152,MATCH(D140,'8 LCI Data Compilation'!$C$126:$C$152,0),MATCH('4 SMM Input'!$E$3,'8 LCI Data Compilation'!$D$127:$I$127,0))","v":"NA"},{"$f":"IFERROR(E140*-1,\"NA\")","v":"NA"},{"$f":"INDEX('8 LCI Data Compilation'!$J$126:$O$152,MATCH(D140,'8 LCI Data Compilation'!$C$126:$C$152,0),MATCH('4 SMM Input'!$E$3,'8 LCI Data Compilation'!$J$127:$O$127,0))","v":4.3302626073613966E-2},{"$f":"INDEX('8 LCI Data Compilation'!$P$126:$U$152,MATCH(D140,'8 LCI Data Compilation'!$C$126:$C$152,0),MATCH('4 SMM Input'!$E$3,'8 LCI Data Compilation'!$P$127:$U$127,0))","v":"NA"},{"$f":"INDEX('8 LCI Data Compilation'!$V$126:$AA$152,MATCH(D140,'8 LCI Data Compilation'!$C$126:$C$152,0),MATCH('4 SMM Input'!$E$3,'8 LCI Data Compilation'!$V$127:$AA$127,0))","v":4.1293895458905352},{"$f":"INDEX('8 LCI Data Compilation'!$AB$126:$AG$152,MATCH(D140,'8 LCI Data Compilation'!$C$126:$C$152,0),MATCH('4 SMM Input'!$E$3,'8 LCI Data Compilation'!$AB$127:$AG$127,0))","v":"NA"},{"$f":"INDEX('8 LCI Data Compilation'!$AH$126:$AM$152,MATCH(D140,'8 LCI Data Compilation'!$C$126:$C$152,0),MATCH('4 SMM Input'!$E$3,'8 LCI Data Compilation'!$AH$127:$AM$127,0))","v":-17.965769799034536},{"$f":"INDEX('8 LCI Data Compilation'!$AN$126:$AS$152,MATCH(D140,'8 LCI Data Compilation'!$C$126:$C$152,0),MATCH('4 SMM Input'!$E$3,'8 LCI Data Compilation'!$AN$127:$AS$127,0))","v":-1.0177288223401639E-2}]
[null,"Other ",17,"Tires",{"$f":"INDEX('8 LCI Data Compilation'!$D$126:$I$152,MATCH(D141,'8 LCI Data Compilation'!$C$126:$C$152,0),MATCH('4 SMM Input'!$E$3,'8 LCI Data Compilation'!$D$127:$I$127,0))","v":"NA"},"NA",{"$f":"INDEX('8 LCI Data Compilation'!$J$126:$O$152,MATCH(D141,'8 LCI Data Compilation'!$C$126:$C$152,0),MATCH('4 SMM Input'!$E$3,'8 LCI Data Compilation'!$J$127:$O$127,0))","v":"NA"},{"$f":"INDEX('8 LCI Data Compilation'!$P$126:$U$152,MATCH(D141,'8 LCI Data Compilation'!$C$126:$C$152,0),MATCH('4 SMM Input'!$E$3,'8 LCI Data Compilation'!$P$127:$U$127,0))","v":"NA"},{"$f":"INDEX('8 LCI Data Compilation'!$V$126:$AA$152,MATCH(D141,'8 LCI Data Compilation'!$C$126:$C$152,0),MATCH('4 SMM Input'!$E$3,'8 LCI Data Compilation'!$V$127:$AA$127,0))","v":"NA"},{"$f":"INDEX('8 LCI Data Compilation'!$AB$126:$AG$152,MATCH(D141,'8 LCI Data Compilation'!$C$126:$C$152,0),MATCH('4 SMM Input'!$E$3,'8 LCI Data Compilation'!$AB$127:$AG$127,0))","v":"NA"},{"$f":"INDEX('8 LCI Data Compilation'!$AH$126:$AM$152,MATCH(D141,'8 LCI Data Compilation'!$C$126:$C$152,0),MATCH('4 SMM Input'!$E$3,'8 LCI Data Compilation'!$AH$127:$AM$127,0))","v":"NA"},{"$f":"INDEX('8 LCI Data Compilation'!$AN$126:$AS$152,MATCH(D141,'8 LCI Data Compilation'!$C$126:$C$152,0),MATCH('4 SMM Input'!$E$3,'8 LCI Data Compilation'!$AN$127:$AS$127,0))","v":"NA"}]
[null,null,18,"Clothing and Footwear",{"$f":"INDEX('8 LCI Data Compilation'!$D$126:$I$152,MATCH(D142,'8 LCI Data Compilation'!$C$126:$C$152,0),MATCH('4 SMM Input'!$E$3,'8 LCI Data Compilation'!$D$127:$I$127,0))","v":"NA"},{"$f":"IFERROR(E142*-1,\"NA\")","v":"NA"},{"$f":"INDEX('8 LCI Data Compilation'!$J$126:$O$152,MATCH(D142,'8 LCI Data Compilation'!$C$126:$C$152,0),MATCH('4 SMM Input'!$E$3,'8 LCI Data Compilation'!$J$127:$O$127,0))","v":"NA"},{"$f":"INDEX('8 LCI Data Compilation'!$P$126:$U$152,MATCH(D142,'8 LCI Data Compilation'!$C$126:$C$152,0),MATCH('4 SMM Input'!$E$3,'8 LCI Data Compilation'!$P$127:$U$127,0))","v":"NA"},{"$f":"INDEX('8 LCI Data Compilation'!$V$126:$AA$152,MATCH(D142,'8 LCI Data Compilation'!$C$126:$C$152,0),MATCH('4 SMM Input'!$E$3,'8 LCI Data Compilation'!$V$127:$AA$127,0))","v":"NA"},{"$f":"INDEX('8 LCI Data Compilation'!$AB$126:$AG$152,MATCH(D142,'8 LCI Data Compilation'!$C$126:$C$152,0),MATCH('4 SMM Input'!$E$3,'8 LCI Data Compilation'!$AB$127:$AG$127,0))","v":"NA"},{"$f":"INDEX('8 LCI Data Compilation'!$AH$126:$AM$152,MATCH(D142,'8 LCI Data Compilation'!$C$126:$C$152,0),MATCH('4 SMM Input'!$E$3,'8 LCI Data Compilation'!$AH$127:$AM$127,0))","v":"NA"},{"$f":"INDEX('8 LCI Data Compilation'!$AN$126:$AS$152,MATCH(D142,'8 LCI Data Compilation'!$C$126:$C$152,0),MATCH('4 SMM Input'!$E$3,'8 LCI Data Compilation'!$AN$127:$AS$127,0))","v":"NA"}]
[null,null,19,"Furniture",{"$f":"INDEX('8 LCI Data Compilation'!$D$126:$I$152,MATCH(D143,'8 LCI Data Compilation'!$C$126:$C$152,0),MATCH('4 SMM Input'!$E$3,'8 LCI Data Compilation'!$D$127:$I$127,0))","v":"NA"},{"$f":"IFERROR(E143*-1,\"NA\")","v":"NA"},{"$f":"INDEX('8 LCI Data Compilation'!$J$126:$O$152,MATCH(D143,'8 LCI Data Compilation'!$C$126:$C$152,0),MATCH('4 SMM Input'!$E$3,'8 LCI Data Compilation'!$J$127:$O$127,0))","v":"NA"},{"$f":"INDEX('8 LCI Data Compilation'!$P$126:$U$152,MATCH(D143,'8 LCI Data Compilation'!$C$126:$C$152,0),MATCH('4 SMM Input'!$E$3,'8 LCI Data Compilation'!$P$127:$U$127,0))","v":"NA"},{"$f":"INDEX('8 LCI Data Compilation'!$V$126:$AA$152,MATCH(D143,'8 LCI Data Compilation'!$C$126:$C$152,0),MATCH('4 SMM Input'!$E$3,'8 LCI Data Compilation'!$V$127:$AA$127,0))","v":"NA"},{"$f":"INDEX('8 LCI Data Compilation'!$AB$126:$AG$152,MATCH(D143,'8 LCI Data Compilation'!$C$126:$C$152,0),MATCH('4 SMM Input'!$E$3,'8 LCI Data Compilation'!$AB$127:$AG$127,0))","v":"NA"},{"$f":"INDEX('8 LCI Data Compilation'!$AH$126:$AM$152,MATCH(D143,'8 LCI Data Compilation'!$C$126:$C$152,0),MATCH('4 SMM Input'!$E$3,'8 LCI Data Compilation'!$AH$127:$AM$127,0))","v":"NA"},{"$f":"INDEX('8 LCI Data Compilation'!$AN$126:$AS$152,MATCH(D143,'8 LCI Data Compilation'!$C$126:$C$152,0),MATCH('4 SMM Input'!$E$3,'8 LCI Data Compilation'!$AN$127:$AS$127,0))","v":"NA"}]
[null,null,20,"Electronics",{"$f":"INDEX('8 LCI Data Compilation'!$D$126:$I$152,MATCH(D144,'8 LCI Data Compilation'!$C$126:$C$152,0),MATCH('4 SMM Input'!$E$3,'8 LCI Data Compilation'!$D$127:$I$127,0))","v":"NA"},{"$f":"IFERROR(E144*-1,\"NA\")","v":"NA"},{"$f":"INDEX('8 LCI Data Compilation'!$J$126:$O$152,MATCH(D144,'8 LCI Data Compilation'!$C$126:$C$152,0),MATCH('4 SMM Input'!$E$3,'8 LCI Data Compilation'!$J$127:$O$127,0))","v":"NA"},{"$f":"INDEX('8 LCI Data Compilation'!$P$126:$U$152,MATCH(D144,'8 LCI Data Compilation'!$C$126:$C$152,0),MATCH('4 SMM Input'!$E$3,'8 LCI Data Compilation'!$P$127:$U$127,0))","v":"NA"},{"$f":"INDEX('8 LCI Data Compilation'!$V$126:$AA$152,MATCH(D144,'8 LCI Data Compilation'!$C$126:$C$152,0),MATCH('4 SMM Input'!$E$3,'8 LCI Data Compilation'!$V$127:$AA$127,0))","v":"NA"},{"$f":"INDEX('8 LCI Data Compilation'!$AB$126:$AG$152,MATCH(D144,'8 LCI Data Compilation'!$C$126:$C$152,0),MATCH('4 SMM Input'!$E$3,'8 LCI Data Compilation'!$AB$127:$AG$127,0))","v":"NA"},{"$f":"INDEX('8 LCI Data Compilation'!$AH$126:$AM$152,MATCH(D144,'8 LCI Data Compilation'!$C$126:$C$152,0),MATCH('4 SMM Input'!$E$3,'8 LCI Data Compilation'!$AH$127:$AM$127,0))","v":"NA"},{"$f":"INDEX('8 LCI Data Compilation'!$AN$126:$AS$152,MATCH(D144,'8 LCI Data Compilation'!$C$126:$C$152,0),MATCH('4 SMM Input'!$E$3,'8 LCI Data Compilation'!$AN$127:$AS$127,0))","v":"NA"}]
[null,"C&D Debris",21,"Wood Products",{"$f":"INDEX('8 LCI Data Compilation'!$D$126:$I$152,MATCH(D145,'8 LCI Data Compilation'!$C$126:$C$152,0),MATCH('4 SMM Input'!$E$3,'8 LCI Data Compilation'!$D$127:$I$127,0))","v":"NA"},"NA",{"$f":"INDEX('8 LCI Data Compilation'!$J$126:$O$152,MATCH(D145,'8 LCI Data Compilation'!$C$126:$C$152,0),MATCH('4 SMM Input'!$E$3,'8 LCI Data Compilation'!$J$127:$O$127,0))","v":"NA"},{"$f":"INDEX('8 LCI Data Compilation'!$P$126:$U$152,MATCH(D145,'8 LCI Data Compilation'!$C$126:$C$152,0),MATCH('4 SMM Input'!$E$3,'8 LCI Data Compilation'!$P$127:$U$127,0))","v":"NA"},{"$f":"INDEX('8 LCI Data Compilation'!$V$126:$AA$152,MATCH(D145,'8 LCI Data Compilation'!$C$126:$C$152,0),MATCH('4 SMM Input'!$E$3,'8 LCI Data Compilation'!$V$127:$AA$127,0))","v":"NA"},{"$f":"INDEX('8 LCI Data Compilation'!$AB$126:$AG$152,MATCH(D145,'8 LCI Data Compilation'!$C$126:$C$152,0),MATCH('4 SMM Input'!$E$3,'8 LCI Data Compilation'!$AB$127:$AG$127,0))","v":"NA"},{"$f":"INDEX('8 LCI Data Compilation'!$AH$126:$AM$152,MATCH(D145,'8 LCI Data Compilation'!$C$126:$C$152,0),MATCH('4 SMM Input'!$E$3,'8 LCI Data Compilation'!$AH$127:$AM$127,0))","v":"NA"},{"$f":"INDEX('8 LCI Data Compilation'!$AN$126:$AS$152,MATCH(D145,'8 LCI Data Compilation'!$C$126:$C$152,0),MATCH('4 SMM Input'!$E$3,'8 LCI Data Compilation'!$AN$127:$AS$127,0))","v":"NA"}]
[null,null,22,"Asphalt Shingles",{"$f":"INDEX('8 LCI Data Compilation'!$D$126:$I$152,MATCH(D146,'8 LCI Data Compilation'!$C$126:$C$152,0),MATCH('4 SMM Input'!$E$3,'8 LCI Data Compilation'!$D$127:$I$127,0))","v":"NA"},"NA",{"$f":"INDEX('8 LCI Data Compilation'!$J$126:$O$152,MATCH(D146,'8 LCI Data Compilation'!$C$126:$C$152,0),MATCH('4 SMM Input'!$E$3,'8 LCI Data Compilation'!$J$127:$O$127,0))","v":"NA"},{"$f":"INDEX('8 LCI Data Compilation'!$P$126:$U$152,MATCH(D146,'8 LCI Data Compilation'!$C$126:$C$152,0),MATCH('4 SMM Input'!$E$3,'8 LCI Data Compilation'!$P$127:$U$127,0))","v":"NA"},{"$f":"INDEX('8 LCI Data Compilation'!$V$126:$AA$152,MATCH(D146,'8 LCI Data Compilation'!$C$126:$C$152,0),MATCH('4 SMM Input'!$E$3,'8 LCI Data Compilation'!$V$127:$AA$127,0))","v":"NA"},{"$f":"INDEX('8 LCI Data Compilation'!$AB$126:$AG$152,MATCH(D146,'8 LCI Data Compilation'!$C$126:$C$152,0),MATCH('4 SMM Input'!$E$3,'8 LCI Data Compilation'!$AB$127:$AG$127,0))","v":"NA"},{"$f":"INDEX('8 LCI Data Compilation'!$AH$126:$AM$152,MATCH(D146,'8 LCI Data Compilation'!$C$126:$C$152,0),MATCH('4 SMM Input'!$E$3,'8 LCI Data Compilation'!$AH$127:$AM$127,0))","v":"NA"},{"$f":"INDEX('8 LCI Data Compilation'!$AN$126:$AS$152,MATCH(D146,'8 LCI Data Compilation'!$C$126:$C$152,0),MATCH('4 SMM Input'!$E$3,'8 LCI Data Compilation'!$AN$127:$AS$127,0))","v":"NA"}]
[null,null,23,"Gypsum Drywall",{"$f":"INDEX('8 LCI Data Compilation'!$D$126:$I$152,MATCH(D147,'8 LCI Data Compilation'!$C$126:$C$152,0),MATCH('4 SMM Input'!$E$3,'8 LCI Data Compilation'!$D$127:$I$127,0))","v":"NA"},"NA",{"$f":"INDEX('8 LCI Data Compilation'!$J$126:$O$152,MATCH(D147,'8 LCI Data Compilation'!$C$126:$C$152,0),MATCH('4 SMM Input'!$E$3,'8 LCI Data Compilation'!$J$127:$O$127,0))","v":"NA"},{"$f":"INDEX('8 LCI Data Compilation'!$P$126:$U$152,MATCH(D147,'8 LCI Data Compilation'!$C$126:$C$152,0),MATCH('4 SMM Input'!$E$3,'8 LCI Data Compilation'!$P$127:$U$127,0))","v":"NA"},{"$f":"INDEX('8 LCI Data Compilation'!$V$126:$AA$152,MATCH(D147,'8 LCI Data Compilation'!$C$126:$C$152,0),MATCH('4 SMM Input'!$E$3,'8 LCI Data Compilation'!$V$127:$AA$127,0))","v":"NA"},{"$f":"INDEX('8 LCI Data Compilation'!$AB$126:$AG$152,MATCH(D147,'8 LCI Data Compilation'!$C$126:$C$152,0),MATCH('4 SMM Input'!$E$3,'8 LCI Data Compilation'!$AB$127:$AG$127,0))","v":"NA"},{"$f":"INDEX('8 LCI Data Compilation'!$AH$126:$AM$152,MATCH(D147,'8 LCI Data Compilation'!$C$126:$C$152,0),MATCH('4 SMM Input'!$E$3,'8 LCI Data Compilation'!$AH$127:$AM$127,0))","v":"NA"},{"$f":"INDEX('8 LCI Data Compilation'!$AN$126:$AS$152,MATCH(D147,'8 LCI Data Compilation'!$C$126:$C$152,0),MATCH('4 SMM Input'!$E$3,'8 LCI Data Compilation'!$AN$127:$AS$127,0))","v":"NA"}]
[null,null,24,"Concrete",{"$f":"INDEX('8 LCI Data Compilation'!$D$126:$I$152,MATCH(D148,'8 LCI Data Compilation'!$C$126:$C$152,0),MATCH('4 SMM Input'!$E$3,'8 LCI Data Compilation'!$D$127:$I$127,0))","v":"NA"},"NA",{"$f":"INDEX('8 LCI Data Compilation'!$J$126:$O$152,MATCH(D148,'8 LCI Data Compilation'!$C$126:$C$152,0),MATCH('4 SMM Input'!$E$3,'8 LCI Data Compilation'!$J$127:$O$127,0))","v":"NA"},{"$f":"INDEX('8 LCI Data Compilation'!$P$126:$U$152,MATCH(D148,'8 LCI Data Compilation'!$C$126:$C$152,0),MATCH('4 SMM Input'!$E$3,'8 LCI Data Compilation'!$P$127:$U$127,0))","v":"NA"},{"$f":"INDEX('8 LCI Data Compilation'!$V$126:$AA$152,MATCH(D148,'8 LCI Data Compilation'!$C$126:$C$152,0),MATCH('4 SMM Input'!$E$3,'8 LCI Data Compilation'!$V$127:$AA$127,0))","v":"NA"},{"$f":"INDEX('8 LCI Data Compilation'!$AB$126:$AG$152,MATCH(D148,'8 LCI Data Compilation'!$C$126:$C$152,0),MATCH('4 SMM Input'!$E$3,'8 LCI Data Compilation'!$AB$127:$AG$127,0))","v":"NA"},{"$f":"INDEX('8 LCI Data Compilation'!$AH$126:$AM$152,MATCH(D148,'8 LCI Data Compilation'!$C$126:$C$152,0),MATCH('4 SMM Input'!$E$3,'8 LCI Data Compilation'!$AH$127:$AM$127,0))","v":"NA"},{"$f":"INDEX('8 LCI Data Compilation'!$AN$126:$AS$152,MATCH(D148,'8 LCI Data Compilation'!$C$126:$C$152,0),MATCH('4 SMM Input'!$E$3,'8 LCI Data Compilation'!$AN$127:$AS$127,0))","v":"NA"}]
[null,null,25,"Reclaimed Asphalt Pavement",{"$f":"INDEX('8 LCI Data Compilation'!$D$126:$I$152,MATCH(D149,'8 LCI Data Compilation'!$C$126:$C$152,0),MATCH('4 SMM Input'!$E$3,'8 LCI Data Compilation'!$D$127:$I$127,0))","v":"NA"},"NA",{"$f":"INDEX('8 LCI Data Compilation'!$J$126:$O$152,MATCH(D149,'8 LCI Data Compilation'!$C$126:$C$152,0),MATCH('4 SMM Input'!$E$3,'8 LCI Data Compilation'!$J$127:$O$127,0))","v":"NA"},{"$f":"INDEX('8 LCI Data Compilation'!$P$126:$U$152,MATCH(D149,'8 LCI Data Compilation'!$C$126:$C$152,0),MATCH('4 SMM Input'!$E$3,'8 LCI Data Compilation'!$P$127:$U$127,0))","v":"NA"},{"$f":"INDEX('8 LCI Data Compilation'!$V$126:$AA$152,MATCH(D149,'8 LCI Data Compilation'!$C$126:$C$152,0),MATCH('4 SMM Input'!$E$3,'8 LCI Data Compilation'!$V$127:$AA$127,0))","v":"NA"},{"$f":"INDEX('8 LCI Data Compilation'!$AB$126:$AG$152,MATCH(D149,'8 LCI Data Compilation'!$C$126:$C$152,0),MATCH('4 SMM Input'!$E$3,'8 LCI Data Compilation'!$AB$127:$AG$127,0))","v":"NA"},{"$f":"INDEX('8 LCI Data Compilation'!$AH$126:$AM$152,MATCH(D149,'8 LCI Data Compilation'!$C$126:$C$152,0),MATCH('4 SMM Input'!$E$3,'8 LCI Data Compilation'!$AH$127:$AM$127,0))","v":"NA"},{"$f":"INDEX('8 LCI Data Compilation'!$AN$126:$AS$152,MATCH(D149,'8 LCI Data Compilation'!$C$126:$C$152,0),MATCH('4 SMM Input'!$E$3,'8 LCI Data Compilation'!$AN$127:$AS$127,0))","v":"NA"}]
[]
[]
[null,"All Units (kgNeq./ Short Ton)"]
[null,{"$f":"'5 SMM Results'!B156:M156","v":"Eutrophication Potential (kgNeq.): Enrichment of aquatic ecosystems with nutrients (nitrates and phosphates) that causes undesirable algal growth.The units are expressed as kgNeq. to allow for comparison of nutrients in the water relative to N. "}]
[null,"Material Category","Item No.","Material Type","Produced","Donated","Collection","Recycling","Composting","Anaerobic Digestion","Landfill","Combustion"]
[null,"MSW ",1,"Mixed MSW",{"$f":"INDEX('8 LCI Data Compilation'!$D$156:$I$182,MATCH(D155,'8 LCI Data Compilation'!$C$156:$C$182,0),MATCH('4 SMM Input'!$E$3,'8 LCI Data Compilation'!$D$157:$I$157,0))","v":"NA"},"NA",{"$f":"INDEX('8 LCI Data Compilation'!$J$156:$O$182,MATCH(D155,'8 LCI Data Compilation'!$C$156:$C$182,0),MATCH('4 SMM Input'!$E$3,'8 LCI Data Compilation'!$J$157:$O$157,0))","v":3.8653739057613614E-3},{"$f":"INDEX('8 LCI Data Compilation'!$P$156:$U$182,MATCH(D155,'8 LCI Data Compilation'!$C$156:$C$182,0),MATCH('4 SMM Input'!$E$3,'8 LCI Data Compilation'!$P$157:$U$157,0))","v":"NA"},{"$f":"INDEX('8 LCI Data Compilation'!$V$156:$AA$182,MATCH(D155,'8 LCI Data Compilation'!$C$156:$C$182,0),MATCH('4 SMM Input'!$E$3,'8 LCI Data Compilation'!$V$157:$AA$157,0))","v":"NA"},{"$f":"INDEX('8 LCI Data Compilation'!$AB$156:$AG$182,MATCH(D155,'8 LCI Data Compilation'!$C$156:$C$182,0),MATCH('4 SMM Input'!$E$3,'8 LCI Data Compilation'!$AB$157:$AG$157,0))","v":"NA"},{"$f":"INDEX('8 LCI Data Compilation'!$AH$156:$AM$182,MATCH(D155,'8 LCI Data Compilation'!$C$156:$C$182,0),MATCH('4 SMM Input'!$E$3,'8 LCI Data Compilation'!$AH$157:$AM$157,0))","v":3.1301106724042661E-2},{"$f":"INDEX('8 LCI Data Compilation'!$AN$156:$AS$182,MATCH(D155,'8 LCI Data Compilation'!$C$156:$C$182,0),MATCH('4 SMM Input'!$E$3,'8 LCI Data Compilation'!$AN$157:$AS$157,0))","v":0.30597338764622717}]
[null,"Paper",2,"Newspaper",{"$f":"INDEX('8 LCI Data Compilation'!$D$156:$I$182,MATCH(D156,'8 LCI Data Compilation'!$C$156:$C$182,0),MATCH('4 SMM Input'!$E$3,'8 LCI Data Compilation'!$D$157:$I$157,0))","v":"NA"},"NA",{"$f":"INDEX('8 LCI Data Compilation'!$J$156:$O$182,MATCH(D156,'8 LCI Data Compilation'!$C$156:$C$182,0),MATCH('4 SMM Input'!$E$3,'8 LCI Data Compilation'!$J$157:$O$157,0))","v":3.8653739057613614E-3},{"$f":"INDEX('8 LCI Data Compilation'!$P$156:$U$182,MATCH(D156,'8 LCI Data Compilation'!$C$156:$C$182,0),MATCH('4 SMM Input'!$E$3,'8 LCI Data Compilation'!$P$157:$U$157,0))","v":0.14834112410557571},{"$f":"INDEX('8 LCI Data Compilation'!$V$156:$AA$182,MATCH(D156,'8 LCI Data Compilation'!$C$156:$C$182,0),MATCH('4 SMM Input'!$E$3,'8 LCI Data Compilation'!$V$157:$AA$157,0))","v":"NA"},{"$f":"INDEX('8 LCI Data Compilation'!$AB$156:$AG$182,MATCH(D156,'8 LCI Data Compilation'!$C$156:$C$182,0),MATCH('4 SMM Input'!$E$3,'8 LCI Data Compilation'!$AB$157:$AG$157,0))","v":"NA"},{"$f":"INDEX('8 LCI Data Compilation'!$AH$156:$AM$182,MATCH(D156,'8 LCI Data Compilation'!$C$156:$C$182,0),MATCH('4 SMM Input'!$E$3,'8 LCI Data Compilation'!$AH$157:$AM$157,0))","v":8.8792825775995329E-2},{"$f":"INDEX('8 LCI Data Compilation'!$AN$156:$AS$182,MATCH(D156,'8 LCI Data Compilation'!$C$156:$C$182,0),MATCH('4 SMM Input'!$E$3,'8 LCI Data Compilation'!$AN$157:$AS$157,0))","v":-1.0145055803971292}]
[null,null,3,"Corrugated Cardboard (OCC)",{"$f":"INDEX('8 LCI Data Compilation'!$D$156:$I$182,MATCH(D157,'8 LCI Data Compilation'!$C$156:$C$182,0),MATCH('4 SMM Input'!$E$3,'8 LCI Data Compilation'!$D$157:$I$157,0))","v":"NA"},"NA",{"$f":"INDEX('8 LCI Data Compilation'!$J$156:$O$182,MATCH(D157,'8 LCI Data Compilation'!$C$156:$C$182,0),MATCH('4 SMM Input'!$E$3,'8 LCI Data Compilation'!$J$157:$O$157,0))","v":3.8653739057613614E-3},{"$f":"INDEX('8 LCI Data Compilation'!$P$156:$U$182,MATCH(D157,'8 LCI Data Compilation'!$C$156:$C$182,0),MATCH('4 SMM Input'!$E$3,'8 LCI Data Compilation'!$P$157:$U$157,0))","v":-0.44254373783792345},{"$f":"INDEX('8 LCI Data Compilation'!$V$156:$AA$182,MATCH(D157,'8 LCI Data Compilation'!$C$156:$C$182,0),MATCH('4 SMM Input'!$E$3,'8 LCI Data Compilation'!$V$157:$AA$157,0))","v":"NA"},{"$f":"INDEX('8 LCI Data Compilation'!$AB$156:$AG$182,MATCH(D157,'8 LCI Data Compilation'!$C$156:$C$182,0),MATCH('4 SMM Input'!$E$3,'8 LCI Data Compilation'!$AB$157:$AG$157,0))","v":"NA"},{"$f":"INDEX('8 LCI Data Compilation'!$AH$156:$AM$182,MATCH(D157,'8 LCI Data Compilation'!$C$156:$C$182,0),MATCH('4 SMM Input'!$E$3,'8 LCI Data Compilation'!$AH$157:$AM$157,0))","v":0.10588032670135467},{"$f":"INDEX('8 LCI Data Compilation'!$AN$156:$AS$182,MATCH(D157,'8 LCI Data Compilation'!$C$156:$C$182,0),MATCH('4 SMM Input'!$E$3,'8 LCI Data Compilation'!$AN$157:$AS$157,0))","v":-0.89104880024025979}]
[null,null,4,"High Grade Paper (Office Type Paper)",{"$f":"INDEX('8 LCI Data Compilation'!$D$156:$I$182,MATCH(D158,'8 LCI Data Compilation'!$C$156:$C$182,0),MATCH('4 SMM Input'!$E$3,'8 LCI Data Compilation'!$D$157:$I$157,0))","v":"NA"},"NA",{"$f":"INDEX('8 LCI Data Compilation'!$J$156:$O$182,MATCH(D158,'8 LCI Data Compilation'!$C$156:$C$182,0),MATCH('4 SMM Input'!$E$3,'8 LCI Data Compilation'!$J$157:$O$157,0))","v":3.8653739057613614E-3},{"$f":"INDEX('8 LCI Data Compilation'!$P$156:$U$182,MATCH(D158,'8 LCI Data Compilation'!$C$156:$C$182,0),MATCH('4 SMM Input'!$E$3,'8 LCI Data Compilation'!$P$157:$U$157,0))","v":-4.5227793848880822E-2},{"$f":"INDEX('8 LCI Data Compilation'!$V$156:$AA$182,MATCH(D158,'8 LCI Data Compilation'!$C$156:$C$182,0),MATCH('4 SMM Input'!$E$3,'8 LCI Data Compilation'!$V$157:$AA$157,0))","v":"NA"},{"$f":"INDEX('8 LCI Data Compilation'!$AB$156:$AG$182,MATCH(D158,'8 LCI Data Compilation'!$C$156:$C$182,0),MATCH('4 SMM Input'!$E$3,'8 LCI Data Compilation'!$AB$157:$AG$157,0))","v":"NA"},{"$f":"INDEX('8 LCI Data Compilation'!$AH$156:$AM$182,MATCH(D158,'8 LCI Data Compilation'!$C$156:$C$182,0),MATCH('4 SMM Input'!$E$3,'8 LCI Data Compilation'!$AH$157:$AM$157,0))","v":0.11560822058058297},{"$f":"INDEX('8 LCI Data Compilation'!$AN$156:$AS$182,MATCH(D158,'8 LCI Data Compilation'!$C$156:$C$182,0),MATCH('4 SMM Input'!$E$3,'8 LCI Data Compilation'!$AN$157:$AS$157,0))","v":-0.89671120857575759}]
[null,null,5,"Magazines/third-class mail",{"$f":"INDEX('8 LCI Data Compilation'!$D$156:$I$182,MATCH(D159,'8 LCI Data Compilation'!$C$156:$C$182,0),MATCH('4 SMM Input'!$E$3,'8 LCI Data Compilation'!$D$157:$I$157,0))","v":"NA"},"NA",{"$f":"INDEX('8 LCI Data Compilation'!$J$156:$O$182,MATCH(D159,'8 LCI Data Compilation'!$C$156:$C$182,0),MATCH('4 SMM Input'!$E$3,'8 LCI Data Compilation'!$J$157:$O$157,0))","v":3.8653739057613614E-3},{"$f":"INDEX('8 LCI Data Compilation'!$P$156:$U$182,MATCH(D159,'8 LCI Data Compilation'!$C$156:$C$182,0),MATCH('4 SMM Input'!$E$3,'8 LCI Data Compilation'!$P$157:$U$157,0))","v":8.5701377846952045E-2},{"$f":"INDEX('8 LCI Data Compilation'!$V$156:$AA$182,MATCH(D159,'8 LCI Data Compilation'!$C$156:$C$182,0),MATCH('4 SMM Input'!$E$3,'8 LCI Data Compilation'!$V$157:$AA$157,0))","v":"NA"},{"$f":"INDEX('8 LCI Data Compilation'!$AB$156:$AG$182,MATCH(D159,'8 LCI Data Compilation'!$C$156:$C$182,0),MATCH('4 SMM Input'!$E$3,'8 LCI Data Compilation'!$AB$157:$AG$157,0))","v":"NA"},{"$f":"INDEX('8 LCI Data Compilation'!$AH$156:$AM$182,MATCH(D159,'8 LCI Data Compilation'!$C$156:$C$182,0),MATCH('4 SMM Input'!$E$3,'8 LCI Data Compilation'!$AH$157:$AM$157,0))","v":9.2706946210498145E-2},{"$f":"INDEX('8 LCI Data Compilation'!$AN$156:$AS$182,MATCH(D159,'8 LCI Data Compilation'!$C$156:$C$182,0),MATCH('4 SMM Input'!$E$3,'8 LCI Data Compilation'!$AN$157:$AS$157,0))","v":-1.0320545438899562}]
[null,null,6,"Books",{"$f":"INDEX('8 LCI Data Compilation'!$D$156:$I$182,MATCH(D160,'8 LCI Data Compilation'!$C$156:$C$182,0),MATCH('4 SMM Input'!$E$3,'8 LCI Data Compilation'!$D$157:$I$157,0))","v":"NA"},"NA",{"$f":"INDEX('8 LCI Data Compilation'!$J$156:$O$182,MATCH(D160,'8 LCI Data Compilation'!$C$156:$C$182,0),MATCH('4 SMM Input'!$E$3,'8 LCI Data Compilation'!$J$157:$O$157,0))","v":3.8653739057613614E-3},{"$f":"INDEX('8 LCI Data Compilation'!$P$156:$U$182,MATCH(D160,'8 LCI Data Compilation'!$C$156:$C$182,0),MATCH('4 SMM Input'!$E$3,'8 LCI Data Compilation'!$P$157:$U$157,0))","v":"NA"},{"$f":"INDEX('8 LCI Data Compilation'!$V$156:$AA$182,MATCH(D160,'8 LCI Data Compilation'!$C$156:$C$182,0),MATCH('4 SMM Input'!$E$3,'8 LCI Data Compilation'!$V$157:$AA$157,0))","v":"NA"},{"$f":"INDEX('8 LCI Data Compilation'!$AB$156:$AG$182,MATCH(D160,'8 LCI Data Compilation'!$C$156:$C$182,0),MATCH('4 SMM Input'!$E$3,'8 LCI Data Compilation'!$AB$157:$AG$157,0))","v":"NA"},{"$f":"INDEX('8 LCI Data Compilation'!$AH$156:$AM$182,MATCH(D160,'8 LCI Data Compilation'!$C$156:$C$182,0),MATCH('4 SMM Input'!$E$3,'8 LCI Data Compilation'!$AH$157:$AM$157,0))","v":8.8155546633530854E-2},{"$f":"INDEX('8 LCI Data Compilation'!$AN$156:$AS$182,MATCH(D160,'8 LCI Data Compilation'!$C$156:$C$182,0),MATCH('4 SMM Input'!$E$3,'8 LCI Data Compilation'!$AN$157:$AS$157,0))","v":-0.51941018492764379}]
[null,null,7,"Mixed Paper",{"$f":"INDEX('8 LCI Data Compilation'!$D$156:$I$182,MATCH(D161,'8 LCI Data Compilation'!$C$156:$C$182,0),MATCH('4 SMM Input'!$E$3,'8 LCI Data Compilation'!$D$157:$I$157,0))","v":"NA"},"NA",{"$f":"INDEX('8 LCI Data Compilation'!$J$156:$O$182,MATCH(D161,'8 LCI Data Compilation'!$C$156:$C$182,0),MATCH('4 SMM Input'!$E$3,'8 LCI Data Compilation'!$J$157:$O$157,0))","v":3.8653739057613614E-3},{"$f":"INDEX('8 LCI Data Compilation'!$P$156:$U$182,MATCH(D161,'8 LCI Data Compilation'!$C$156:$C$182,0),MATCH('4 SMM Input'!$E$3,'8 LCI Data Compilation'!$P$157:$U$157,0))","v":-6.3432257433569131E-2},{"$f":"INDEX('8 LCI Data Compilation'!$V$156:$AA$182,MATCH(D161,'8 LCI Data Compilation'!$C$156:$C$182,0),MATCH('4 SMM Input'!$E$3,'8 LCI Data Compilation'!$V$157:$AA$157,0))","v":"NA"},{"$f":"INDEX('8 LCI Data Compilation'!$AB$156:$AG$182,MATCH(D161,'8 LCI Data Compilation'!$C$156:$C$182,0),MATCH('4 SMM Input'!$E$3,'8 LCI Data Compilation'!$AB$157:$AG$157,0))","v":"NA"},{"$f":"INDEX('8 LCI Data Compilation'!$AH$156:$AM$182,MATCH(D161,'8 LCI Data Compilation'!$C$156:$C$182,0),MATCH('4 SMM Input'!$E$3,'8 LCI Data Compilation'!$AH$157:$AM$157,0))","v":0.10074707981710777},{"$f":"INDEX('8 LCI Data Compilation'!$AN$156:$AS$182,MATCH(D161,'8 LCI Data Compilation'!$C$156:$C$182,0),MATCH('4 SMM Input'!$E$3,'8 LCI Data Compilation'!$AN$157:$AS$157,0))","v":-0.95858003327577579}]
[null,"Plastic",8,"HDPE",{"$f":"INDEX('8 LCI Data Compilation'!$D$156:$I$182,MATCH(D162,'8 LCI Data Compilation'!$C$156:$C$182,0),MATCH('4 SMM Input'!$E$3,'8 LCI Data Compilation'!$D$157:$I$157,0))","v":"NA"},"NA",{"$f":"INDEX('8 LCI Data Compilation'!$J$156:$O$182,MATCH(D162,'8 LCI Data Compilation'!$C$156:$C$182,0),MATCH('4 SMM Input'!$E$3,'8 LCI Data Compilation'!$J$157:$O$157,0))","v":3.8653739057613614E-3},{"$f":"INDEX('8 LCI Data Compilation'!$P$156:$U$182,MATCH(D162,'8 LCI Data Compilation'!$C$156:$C$182,0),MATCH('4 SMM Input'!$E$3,'8 LCI Data Compilation'!$P$157:$U$157,0))","v":-0.25383413166268098},{"$f":"INDEX('8 LCI Data Compilation'!$V$156:$AA$182,MATCH(D162,'8 LCI Data Compilation'!$C$156:$C$182,0),MATCH('4 SMM Input'!$E$3,'8 LCI Data Compilation'!$V$157:$AA$157,0))","v":"NA"},{"$f":"INDEX('8 LCI Data Compilation'!$AB$156:$AG$182,MATCH(D162,'8 LCI Data Compilation'!$C$156:$C$182,0),MATCH('4 SMM Input'!$E$3,'8 LCI Data Compilation'!$AB$157:$AG$157,0))","v":"NA"},{"$f":"INDEX('8 LCI Data Compilation'!$AH$156:$AM$182,MATCH(D162,'8 LCI Data Compilation'!$C$156:$C$182,0),MATCH('4 SMM Input'!$E$3,'8 LCI Data Compilation'!$AH$157:$AM$157,0))","v":2.4424312645700379E-3},{"$f":"INDEX('8 LCI Data Compilation'!$AN$156:$AS$182,MATCH(D162,'8 LCI Data Compilation'!$C$156:$C$182,0),MATCH('4 SMM Input'!$E$3,'8 LCI Data Compilation'!$AN$157:$AS$157,0))","v":-2.7862245293130719}]
[null,null,9,"PET",{"$f":"INDEX('8 LCI Data Compilation'!$D$156:$I$182,MATCH(D163,'8 LCI Data Compilation'!$C$156:$C$182,0),MATCH('4 SMM Input'!$E$3,'8 LCI Data Compilation'!$D$157:$I$157,0))","v":"NA"},"NA",{"$f":"INDEX('8 LCI Data Compilation'!$J$156:$O$182,MATCH(D163,'8 LCI Data Compilation'!$C$156:$C$182,0),MATCH('4 SMM Input'!$E$3,'8 LCI Data Compilation'!$J$157:$O$157,0))","v":3.8653739057613614E-3},{"$f":"INDEX('8 LCI Data Compilation'!$P$156:$U$182,MATCH(D163,'8 LCI Data Compilation'!$C$156:$C$182,0),MATCH('4 SMM Input'!$E$3,'8 LCI Data Compilation'!$P$157:$U$157,0))","v":-0.77545329302768773},{"$f":"INDEX('8 LCI Data Compilation'!$V$156:$AA$182,MATCH(D163,'8 LCI Data Compilation'!$C$156:$C$182,0),MATCH('4 SMM Input'!$E$3,'8 LCI Data Compilation'!$V$157:$AA$157,0))","v":"NA"},{"$f":"INDEX('8 LCI Data Compilation'!$AB$156:$AG$182,MATCH(D163,'8 LCI Data Compilation'!$C$156:$C$182,0),MATCH('4 SMM Input'!$E$3,'8 LCI Data Compilation'!$AB$157:$AG$157,0))","v":"NA"},{"$f":"INDEX('8 LCI Data Compilation'!$AH$156:$AM$182,MATCH(D163,'8 LCI Data Compilation'!$C$156:$C$182,0),MATCH('4 SMM Input'!$E$3,'8 LCI Data Compilation'!$AH$157:$AM$157,0))","v":2.4424312645700379E-3},{"$f":"INDEX('8 LCI Data Compilation'!$AN$156:$AS$182,MATCH(D163,'8 LCI Data Compilation'!$C$156:$C$182,0),MATCH('4 SMM Input'!$E$3,'8 LCI Data Compilation'!$AN$157:$AS$157,0))","v":-5.3771336202221622}]
[null,null,10,"Mixed Plastic",{"$f":"INDEX('8 LCI Data Compilation'!$D$156:$I$182,MATCH(D164,'8 LCI Data Compilation'!$C$156:$C$182,0),MATCH('4 SMM Input'!$E$3,'8 LCI Data Compilation'!$D$157:$I$157,0))","v":"NA"},"NA",{"$f":"INDEX('8 LCI Data Compilation'!$J$156:$O$182,MATCH(D164,'8 LCI Data Compilation'!$C$156:$C$182,0),MATCH('4 SMM Input'!$E$3,'8 LCI Data Compilation'!$J$157:$O$157,0))","v":3.8653739057613614E-3},{"$f":"INDEX('8 LCI Data Compilation'!$P$156:$U$182,MATCH(D164,'8 LCI Data Compilation'!$C$156:$C$182,0),MATCH('4 SMM Input'!$E$3,'8 LCI Data Compilation'!$P$157:$U$157,0))","v":-0.51464371234518436},{"$f":"INDEX('8 LCI Data Compilation'!$V$156:$AA$182,MATCH(D164,'8 LCI Data Compilation'!$C$156:$C$182,0),MATCH('4 SMM Input'!$E$3,'8 LCI Data Compilation'!$V$157:$AA$157,0))","v":"NA"},{"$f":"INDEX('8 LCI Data Compilation'!$AB$156:$AG$182,MATCH(D164,'8 LCI Data Compilation'!$C$156:$C$182,0),MATCH('4 SMM Input'!$E$3,'8 LCI Data Compilation'!$AB$157:$AG$157,0))","v":"NA"},{"$f":"INDEX('8 LCI Data Compilation'!$AH$156:$AM$182,MATCH(D164,'8 LCI Data Compilation'!$C$156:$C$182,0),MATCH('4 SMM Input'!$E$3,'8 LCI Data Compilation'!$AH$157:$AM$157,0))","v":2.4424312645700379E-3},{"$f":"INDEX('8 LCI Data Compilation'!$AN$156:$AS$182,MATCH(D164,'8 LCI Data Compilation'!$C$156:$C$182,0),MATCH('4 SMM Input'!$E$3,'8 LCI Data Compilation'!$AN$157:$AS$157,0))","v":-4.0816790747676173}]
[null,"Glass",11,"Glass",{"$f":"INDEX('8 LCI Data Compilation'!$D$156:$I$182,MATCH(D165,'8 LCI Data Compilation'!$C$156:$C$182,0),MATCH('4 SMM Input'!$E$3,'8 LCI Data Compilation'!$D$157:$I$157,0))","v":"NA"},"NA",{"$f":"INDEX('8 LCI Data Compilation'!$J$156:$O$182,MATCH(D165,'8 LCI Data Compilation'!$C$156:$C$182,0),MATCH('4 SMM Input'!$E$3,'8 LCI Data Compilation'!$J$157:$O$157,0))","v":3.8653739057613614E-3},{"$f":"INDEX('8 LCI Data Compilation'!$P$156:$U$182,MATCH(D165,'8 LCI Data Compilation'!$C$156:$C$182,0),MATCH('4 SMM Input'!$E$3,'8 LCI Data Compilation'!$P$157:$U$157,0))","v":-1.8419991688148989E-2},{"$f":"INDEX('8 LCI Data Compilation'!$V$156:$AA$182,MATCH(D165,'8 LCI Data Compilation'!$C$156:$C$182,0),MATCH('4 SMM Input'!$E$3,'8 LCI Data Compilation'!$V$157:$AA$157,0))","v":"NA"},{"$f":"INDEX('8 LCI Data Compilation'!$AB$156:$AG$182,MATCH(D165,'8 LCI Data Compilation'!$C$156:$C$182,0),MATCH('4 SMM Input'!$E$3,'8 LCI Data Compilation'!$AB$157:$AG$157,0))","v":"NA"},{"$f":"INDEX('8 LCI Data Compilation'!$AH$156:$AM$182,MATCH(D165,'8 LCI Data Compilation'!$C$156:$C$182,0),MATCH('4 SMM Input'!$E$3,'8 LCI Data Compilation'!$AH$157:$AM$157,0))","v":2.4424312645700379E-3},{"$f":"INDEX('8 LCI Data Compilation'!$AN$156:$AS$182,MATCH(D165,'8 LCI Data Compilation'!$C$156:$C$182,0),MATCH('4 SMM Input'!$E$3,'8 LCI Data Compilation'!$AN$157:$AS$157,0))","v":0.15323919183501683}]
[null,"Metals",12,"Aluminum Cans",{"$f":"INDEX('8 LCI Data Compilation'!$D$156:$I$182,MATCH(D166,'8 LCI Data Compilation'!$C$156:$C$182,0),MATCH('4 SMM Input'!$E$3,'8 LCI Data Compilation'!$D$157:$I$157,0))","v":"NA"},"NA",{"$f":"INDEX('8 LCI Data Compilation'!$J$156:$O$182,MATCH(D166,'8 LCI Data Compilation'!$C$156:$C$182,0),MATCH('4 SMM Input'!$E$3,'8 LCI Data Compilation'!$J$157:$O$157,0))","v":3.8653739057613614E-3},{"$f":"INDEX('8 LCI Data Compilation'!$P$156:$U$182,MATCH(D166,'8 LCI Data Compilation'!$C$156:$C$182,0),MATCH('4 SMM Input'!$E$3,'8 LCI Data Compilation'!$P$157:$U$157,0))","v":-1.2793930898658434},{"$f":"INDEX('8 LCI Data Compilation'!$V$156:$AA$182,MATCH(D166,'8 LCI Data Compilation'!$C$156:$C$182,0),MATCH('4 SMM Input'!$E$3,'8 LCI Data Compilation'!$V$157:$AA$157,0))","v":"NA"},{"$f":"INDEX('8 LCI Data Compilation'!$AB$156:$AG$182,MATCH(D166,'8 LCI Data Compilation'!$C$156:$C$182,0),MATCH('4 SMM Input'!$E$3,'8 LCI Data Compilation'!$AB$157:$AG$157,0))","v":"NA"},{"$f":"INDEX('8 LCI Data Compilation'!$AH$156:$AM$182,MATCH(D166,'8 LCI Data Compilation'!$C$156:$C$182,0),MATCH('4 SMM Input'!$E$3,'8 LCI Data Compilation'!$AH$157:$AM$157,0))","v":2.4424312645700379E-3},{"$f":"INDEX('8 LCI Data Compilation'!$AN$156:$AS$182,MATCH(D166,'8 LCI Data Compilation'!$C$156:$C$182,0),MATCH('4 SMM Input'!$E$3,'8 LCI Data Compilation'!$AN$157:$AS$157,0))","v":0.22863492833619209}]
[null,null,13,"Steel/Tin Cans",{"$f":"INDEX('8 LCI Data Compilation'!$D$156:$I$182,MATCH(D167,'8 LCI Data Compilation'!$C$156:$C$182,0),MATCH('4 SMM Input'!$E$3,'8 LCI Data Compilation'!$D$157:$I$157,0))","v":"NA"},"NA",{"$f":"INDEX('8 LCI Data Compilation'!$J$156:$O$182,MATCH(D167,'8 LCI Data Compilation'!$C$156:$C$182,0),MATCH('4 SMM Input'!$E$3,'8 LCI Data Compilation'!$J$157:$O$157,0))","v":3.8653739057613614E-3},{"$f":"INDEX('8 LCI Data Compilation'!$P$156:$U$182,MATCH(D167,'8 LCI Data Compilation'!$C$156:$C$182,0),MATCH('4 SMM Input'!$E$3,'8 LCI Data Compilation'!$P$157:$U$157,0))","v":-4.518450225437963E-2},{"$f":"INDEX('8 LCI Data Compilation'!$V$156:$AA$182,MATCH(D167,'8 LCI Data Compilation'!$C$156:$C$182,0),MATCH('4 SMM Input'!$E$3,'8 LCI Data Compilation'!$V$157:$AA$157,0))","v":"NA"},{"$f":"INDEX('8 LCI Data Compilation'!$AB$156:$AG$182,MATCH(D167,'8 LCI Data Compilation'!$C$156:$C$182,0),MATCH('4 SMM Input'!$E$3,'8 LCI Data Compilation'!$AB$157:$AG$157,0))","v":"NA"},{"$f":"INDEX('8 LCI Data Compilation'!$AH$156:$AM$182,MATCH(D167,'8 LCI Data Compilation'!$C$156:$C$182,0),MATCH('4 SMM Input'!$E$3,'8 LCI Data Compilation'!$AH$157:$AM$157,0))","v":2.4424312645700379E-3},{"$f":"INDEX('8 LCI Data Compilation'!$AN$156:$AS$182,MATCH(D167,'8 LCI Data Compilation'!$C$156:$C$182,0),MATCH('4 SMM Input'!$E$3,'8 LCI Data Compilation'!$AN$157:$AS$157,0))","v":-1.130205571818182}]
[null,null,14,"Mixed Metals",{"$f":"INDEX('8 LCI Data Compilation'!$D$156:$I$182,MATCH(D168,'8 LCI Data Compilation'!$C$156:$C$182,0),MATCH('4 SMM Input'!$E$3,'8 LCI Data Compilation'!$D$157:$I$157,0))","v":"NA"},"NA",{"$f":"INDEX('8 LCI Data Compilation'!$J$156:$O$182,MATCH(D168,'8 LCI Data Compilation'!$C$156:$C$182,0),MATCH('4 SMM Input'!$E$3,'8 LCI Data Compilation'!$J$157:$O$157,0))","v":3.8653739057613614E-3},{"$f":"INDEX('8 LCI Data Compilation'!$P$156:$U$182,MATCH(D168,'8 LCI Data Compilation'!$C$156:$C$182,0),MATCH('4 SMM Input'!$E$3,'8 LCI Data Compilation'!$P$157:$U$157,0))","v":-0.661203776373534},{"$f":"INDEX('8 LCI Data Compilation'!$V$156:$AA$182,MATCH(D168,'8 LCI Data Compilation'!$C$156:$C$182,0),MATCH('4 SMM Input'!$E$3,'8 LCI Data Compilation'!$V$157:$AA$157,0))","v":"NA"},{"$f":"INDEX('8 LCI Data Compilation'!$AB$156:$AG$182,MATCH(D168,'8 LCI Data Compilation'!$C$156:$C$182,0),MATCH('4 SMM Input'!$E$3,'8 LCI Data Compilation'!$AB$157:$AG$157,0))","v":"NA"},{"$f":"INDEX('8 LCI Data Compilation'!$AH$156:$AM$182,MATCH(D168,'8 LCI Data Compilation'!$C$156:$C$182,0),MATCH('4 SMM Input'!$E$3,'8 LCI Data Compilation'!$AH$157:$AM$157,0))","v":2.4424312645700379E-3},{"$f":"INDEX('8 LCI Data Compilation'!$AN$156:$AS$182,MATCH(D168,'8 LCI Data Compilation'!$C$156:$C$182,0),MATCH('4 SMM Input'!$E$3,'8 LCI Data Compilation'!$AN$157:$AS$157,0))","v":-0.38356590174099492}]
[null,"Organic",15,"Yard Waste",{"$f":"INDEX('8 LCI Data Compilation'!$D$156:$I$182,MATCH(D169,'8 LCI Data Compilation'!$C$156:$C$182,0),MATCH('4 SMM Input'!$E$3,'8 LCI Data Compilation'!$D$157:$I$157,0))","v":"NA"},"NA",{"$f":"INDEX('8 LCI Data Compilation'!$J$156:$O$182,MATCH(D169,'8 LCI Data Compilation'!$C$156:$C$182,0),MATCH('4 SMM Input'!$E$3,'8 LCI Data Compilation'!$J$157:$O$157,0))","v":3.8653739057613614E-3},{"$f":"INDEX('8 LCI Data Compilation'!$P$156:$U$182,MATCH(D169,'8 LCI Data Compilation'!$C$156:$C$182,0),MATCH('4 SMM Input'!$E$3,'8 LCI Data Compilation'!$P$157:$U$157,0))","v":"NA"},{"$f":"INDEX('8 LCI Data Compilation'!$V$156:$AA$182,MATCH(D169,'8 LCI Data Compilation'!$C$156:$C$182,0),MATCH('4 SMM Input'!$E$3,'8 LCI Data Compilation'!$V$157:$AA$157,0))","v":7.9119643438703924E-2},{"$f":"INDEX('8 LCI Data Compilation'!$AB$156:$AG$182,MATCH(D169,'8 LCI Data Compilation'!$C$156:$C$182,0),MATCH('4 SMM Input'!$E$3,'8 LCI Data Compilation'!$AB$157:$AG$157,0))","v":"NA"},{"$f":"INDEX('8 LCI Data Compilation'!$AH$156:$AM$182,MATCH(D169,'8 LCI Data Compilation'!$C$156:$C$182,0),MATCH('4 SMM Input'!$E$3,'8 LCI Data Compilation'!$AH$157:$AM$157,0))","v":0.24909976420092064},{"$f":"INDEX('8 LCI Data Compilation'!$AN$156:$AS$182,MATCH(D169,'8 LCI Data Compilation'!$C$156:$C$182,0),MATCH('4 SMM Input'!$E$3,'8 LCI Data Compilation'!$AN$157:$AS$157,0))","v":-0.27063284687115763}]
[null,null,16,"Food Waste",{"$f":"INDEX('8 LCI Data Compilation'!$D$156:$I$182,MATCH(D170,'8 LCI Data Compilation'!$C$156:$C$182,0),MATCH('4 SMM Input'!$E$3,'8 LCI Data Compilation'!$D$157:$I$157,0))","v":"NA"},{"$f":"IFERROR(E170*-1,\"NA\")","v":"NA"},{"$f":"INDEX('8 LCI Data Compilation'!$J$156:$O$182,MATCH(D170,'8 LCI Data Compilation'!$C$156:$C$182,0),MATCH('4 SMM Input'!$E$3,'8 LCI Data Compilation'!$J$157:$O$157,0))","v":3.8653739057613614E-3},{"$f":"INDEX('8 LCI Data Compilation'!$P$156:$U$182,MATCH(D170,'8 LCI Data Compilation'!$C$156:$C$182,0),MATCH('4 SMM Input'!$E$3,'8 LCI Data Compilation'!$P$157:$U$157,0))","v":"NA"},{"$f":"INDEX('8 LCI Data Compilation'!$V$156:$AA$182,MATCH(D170,'8 LCI Data Compilation'!$C$156:$C$182,0),MATCH('4 SMM Input'!$E$3,'8 LCI Data Compilation'!$V$157:$AA$157,0))","v":1.9923780119248599E-2},{"$f":"INDEX('8 LCI Data Compilation'!$AB$156:$AG$182,MATCH(D170,'8 LCI Data Compilation'!$C$156:$C$182,0),MATCH('4 SMM Input'!$E$3,'8 LCI Data Compilation'!$AB$157:$AG$157,0))","v":"NA"},{"$f":"INDEX('8 LCI Data Compilation'!$AH$156:$AM$182,MATCH(D170,'8 LCI Data Compilation'!$C$156:$C$182,0),MATCH('4 SMM Input'!$E$3,'8 LCI Data Compilation'!$AH$157:$AM$157,0))","v":1.5484636784152621E-2},{"$f":"INDEX('8 LCI Data Compilation'!$AN$156:$AS$182,MATCH(D170,'8 LCI Data Compilation'!$C$156:$C$182,0),MATCH('4 SMM Input'!$E$3,'8 LCI Data Compilation'!$AN$157:$AS$157,0))","v":5.3849982981251363E-2}]
[null,"Other ",17,"Tires",{"$f":"INDEX('8 LCI Data Compilation'!$D$156:$I$182,MATCH(D171,'8 LCI Data Compilation'!$C$156:$C$182,0),MATCH('4 SMM Input'!$E$3,'8 LCI Data Compilation'!$D$157:$I$157,0))","v":"NA"},"NA",{"$f":"INDEX('8 LCI Data Compilation'!$J$156:$O$182,MATCH(D171,'8 LCI Data Compilation'!$C$156:$C$182,0),MATCH('4 SMM Input'!$E$3,'8 LCI Data Compilation'!$J$157:$O$157,0))","v":"NA"},{"$f":"INDEX('8 LCI Data Compilation'!$P$156:$U$182,MATCH(D171,'8 LCI Data Compilation'!$C$156:$C$182,0),MATCH('4 SMM Input'!$E$3,'8 LCI Data Compilation'!$P$157:$U$157,0))","v":"NA"},{"$f":"INDEX('8 LCI Data Compilation'!$V$156:$AA$182,MATCH(D171,'8 LCI Data Compilation'!$C$156:$C$182,0),MATCH('4 SMM Input'!$E$3,'8 LCI Data Compilation'!$V$157:$AA$157,0))","v":"NA"},{"$f":"INDEX('8 LCI Data Compilation'!$AB$156:$AG$182,MATCH(D171,'8 LCI Data Compilation'!$C$156:$C$182,0),MATCH('4 SMM Input'!$E$3,'8 LCI Data Compilation'!$AB$157:$AG$157,0))","v":"NA"},{"$f":"INDEX('8 LCI Data Compilation'!$AH$156:$AM$182,MATCH(D171,'8 LCI Data Compilation'!$C$156:$C$182,0),MATCH('4 SMM Input'!$E$3,'8 LCI Data Compilation'!$AH$157:$AM$157,0))","v":"NA"},{"$f":"INDEX('8 LCI Data Compilation'!$AN$156:$AS$182,MATCH(D171,'8 LCI Data Compilation'!$C$156:$C$182,0),MATCH('4 SMM Input'!$E$3,'8 LCI Data Compilation'!$AN$157:$AS$157,0))","v":"NA"}]
[null,null,18,"Clothing and Footwear",{"$f":"INDEX('8 LCI Data Compilation'!$D$156:$I$182,MATCH(D172,'8 LCI Data Compilation'!$C$156:$C$182,0),MATCH('4 SMM Input'!$E$3,'8 LCI Data Compilation'!$D$157:$I$157,0))","v":"NA"},{"$f":"IFERROR(E172*-1,\"NA\")","v":"NA"},{"$f":"INDEX('8 LCI Data Compilation'!$J$156:$O$182,MATCH(D172,'8 LCI Data Compilation'!$C$156:$C$182,0),MATCH('4 SMM Input'!$E$3,'8 LCI Data Compilation'!$J$157:$O$157,0))","v":"NA"},{"$f":"INDEX('8 LCI Data Compilation'!$P$156:$U$182,MATCH(D172,'8 LCI Data Compilation'!$C$156:$C$182,0),MATCH('4 SMM Input'!$E$3,'8 LCI Data Compilation'!$P$157:$U$157,0))","v":"NA"},{"$f":"INDEX('8 LCI Data Compilation'!$V$156:$AA$182,MATCH(D172,'8 LCI Data Compilation'!$C$156:$C$182,0),MATCH('4 SMM Input'!$E$3,'8 LCI Data Compilation'!$V$157:$AA$157,0))","v":"NA"},{"$f":"INDEX('8 LCI Data Compilation'!$AB$156:$AG$182,MATCH(D172,'8 LCI Data Compilation'!$C$156:$C$182,0),MATCH('4 SMM Input'!$E$3,'8 LCI Data Compilation'!$AB$157:$AG$157,0))","v":"NA"},{"$f":"INDEX('8 LCI Data Compilation'!$AH$156:$AM$182,MATCH(D172,'8 LCI Data Compilation'!$C$156:$C$182,0),MATCH('4 SMM Input'!$E$3,'8 LCI Data Compilation'!$AH$157:$AM$157,0))","v":"NA"},{"$f":"INDEX('8 LCI Data Compilation'!$AN$156:$AS$182,MATCH(D172,'8 LCI Data Compilation'!$C$156:$C$182,0),MATCH('4 SMM Input'!$E$3,'8 LCI Data Compilation'!$AN$157:$AS$157,0))","v":"NA"}]
[null,null,19,"Furniture",{"$f":"INDEX('8 LCI Data Compilation'!$D$156:$I$182,MATCH(D173,'8 LCI Data Compilation'!$C$156:$C$182,0),MATCH('4 SMM Input'!$E$3,'8 LCI Data Compilation'!$D$157:$I$157,0))","v":"NA"},{"$f":"IFERROR(E173*-1,\"NA\")","v":"NA"},{"$f":"INDEX('8 LCI Data Compilation'!$J$156:$O$182,MATCH(D173,'8 LCI Data Compilation'!$C$156:$C$182,0),MATCH('4 SMM Input'!$E$3,'8 LCI Data Compilation'!$J$157:$O$157,0))","v":"NA"},{"$f":"INDEX('8 LCI Data Compilation'!$P$156:$U$182,MATCH(D173,'8 LCI Data Compilation'!$C$156:$C$182,0),MATCH('4 SMM Input'!$E$3,'8 LCI Data Compilation'!$P$157:$U$157,0))","v":"NA"},{"$f":"INDEX('8 LCI Data Compilation'!$V$156:$AA$182,MATCH(D173,'8 LCI Data Compilation'!$C$156:$C$182,0),MATCH('4 SMM Input'!$E$3,'8 LCI Data Compilation'!$V$157:$AA$157,0))","v":"NA"},{"$f":"INDEX('8 LCI Data Compilation'!$AB$156:$AG$182,MATCH(D173,'8 LCI Data Compilation'!$C$156:$C$182,0),MATCH('4 SMM Input'!$E$3,'8 LCI Data Compilation'!$AB$157:$AG$157,0))","v":"NA"},{"$f":"INDEX('8 LCI Data Compilation'!$AH$156:$AM$182,MATCH(D173,'8 LCI Data Compilation'!$C$156:$C$182,0),MATCH('4 SMM Input'!$E$3,'8 LCI Data Compilation'!$AH$157:$AM$157,0))","v":"NA"},{"$f":"INDEX('8 LCI Data Compilation'!$AN$156:$AS$182,MATCH(D173,'8 LCI Data Compilation'!$C$156:$C$182,0),MATCH('4 SMM Input'!$E$3,'8 LCI Data Compilation'!$AN$157:$AS$157,0))","v":"NA"}]
[null,null,20,"Electronics",{"$f":"INDEX('8 LCI Data Compilation'!$D$156:$I$182,MATCH(D174,'8 LCI Data Compilation'!$C$156:$C$182,0),MATCH('4 SMM Input'!$E$3,'8 LCI Data Compilation'!$D$157:$I$157,0))","v":"NA"},{"$f":"IFERROR(E174*-1,\"NA\")","v":"NA"},{"$f":"INDEX('8 LCI Data Compilation'!$J$156:$O$182,MATCH(D174,'8 LCI Data Compilation'!$C$156:$C$182,0),MATCH('4 SMM Input'!$E$3,'8 LCI Data Compilation'!$J$157:$O$157,0))","v":"NA"},{"$f":"INDEX('8 LCI Data Compilation'!$P$156:$U$182,MATCH(D174,'8 LCI Data Compilation'!$C$156:$C$182,0),MATCH('4 SMM Input'!$E$3,'8 LCI Data Compilation'!$P$157:$U$157,0))","v":"NA"},{"$f":"INDEX('8 LCI Data Compilation'!$V$156:$AA$182,MATCH(D174,'8 LCI Data Compilation'!$C$156:$C$182,0),MATCH('4 SMM Input'!$E$3,'8 LCI Data Compilation'!$V$157:$AA$157,0))","v":"NA"},{"$f":"INDEX('8 LCI Data Compilation'!$AB$156:$AG$182,MATCH(D174,'8 LCI Data Compilation'!$C$156:$C$182,0),MATCH('4 SMM Input'!$E$3,'8 LCI Data Compilation'!$AB$157:$AG$157,0))","v":"NA"},{"$f":"INDEX('8 LCI Data Compilation'!$AH$156:$AM$182,MATCH(D174,'8 LCI Data Compilation'!$C$156:$C$182,0),MATCH('4 SMM Input'!$E$3,'8 LCI Data Compilation'!$AH$157:$AM$157,0))","v":"NA"},{"$f":"INDEX('8 LCI Data Compilation'!$AN$156:$AS$182,MATCH(D174,'8 LCI Data Compilation'!$C$156:$C$182,0),MATCH('4 SMM Input'!$E$3,'8 LCI Data Compilation'!$AN$157:$AS$157,0))","v":"NA"}]
[null,"C&D Debris",21,"Wood Products",{"$f":"INDEX('8 LCI Data Compilation'!$D$156:$I$182,MATCH(D175,'8 LCI Data Compilation'!$C$156:$C$182,0),MATCH('4 SMM Input'!$E$3,'8 LCI Data Compilation'!$D$157:$I$157,0))","v":"NA"},"NA",{"$f":"INDEX('8 LCI Data Compilation'!$J$156:$O$182,MATCH(D175,'8 LCI Data Compilation'!$C$156:$C$182,0),MATCH('4 SMM Input'!$E$3,'8 LCI Data Compilation'!$J$157:$O$157,0))","v":"NA"},{"$f":"INDEX('8 LCI Data Compilation'!$P$156:$U$182,MATCH(D175,'8 LCI Data Compilation'!$C$156:$C$182,0),MATCH('4 SMM Input'!$E$3,'8 LCI Data Compilation'!$P$157:$U$157,0))","v":"NA"},{"$f":"INDEX('8 LCI Data Compilation'!$V$156:$AA$182,MATCH(D175,'8 LCI Data Compilation'!$C$156:$C$182,0),MATCH('4 SMM Input'!$E$3,'8 LCI Data Compilation'!$V$157:$AA$157,0))","v":"NA"},{"$f":"INDEX('8 LCI Data Compilation'!$AB$156:$AG$182,MATCH(D175,'8 LCI Data Compilation'!$C$156:$C$182,0),MATCH('4 SMM Input'!$E$3,'8 LCI Data Compilation'!$AB$157:$AG$157,0))","v":"NA"},{"$f":"INDEX('8 LCI Data Compilation'!$AH$156:$AM$182,MATCH(D175,'8 LCI Data Compilation'!$C$156:$C$182,0),MATCH('4 SMM Input'!$E$3,'8 LCI Data Compilation'!$AH$157:$AM$157,0))","v":"NA"},{"$f":"INDEX('8 LCI Data Compilation'!$AN$156:$AS$182,MATCH(D175,'8 LCI Data Compilation'!$C$156:$C$182,0),MATCH('4 SMM Input'!$E$3,'8 LCI Data Compilation'!$AN$157:$AS$157,0))","v":"NA"}]
[null,null,22,"Asphalt Shingles",{"$f":"INDEX('8 LCI Data Compilation'!$D$156:$I$182,MATCH(D176,'8 LCI Data Compilation'!$C$156:$C$182,0),MATCH('4 SMM Input'!$E$3,'8 LCI Data Compilation'!$D$157:$I$157,0))","v":"NA"},"NA",{"$f":"INDEX('8 LCI Data Compilation'!$J$156:$O$182,MATCH(D176,'8 LCI Data Compilation'!$C$156:$C$182,0),MATCH('4 SMM Input'!$E$3,'8 LCI Data Compilation'!$J$157:$O$157,0))","v":"NA"},{"$f":"INDEX('8 LCI Data Compilation'!$P$156:$U$182,MATCH(D176,'8 LCI Data Compilation'!$C$156:$C$182,0),MATCH('4 SMM Input'!$E$3,'8 LCI Data Compilation'!$P$157:$U$157,0))","v":"NA"},{"$f":"INDEX('8 LCI Data Compilation'!$V$156:$AA$182,MATCH(D176,'8 LCI Data Compilation'!$C$156:$C$182,0),MATCH('4 SMM Input'!$E$3,'8 LCI Data Compilation'!$V$157:$AA$157,0))","v":"NA"},{"$f":"INDEX('8 LCI Data Compilation'!$AB$156:$AG$182,MATCH(D176,'8 LCI Data Compilation'!$C$156:$C$182,0),MATCH('4 SMM Input'!$E$3,'8 LCI Data Compilation'!$AB$157:$AG$157,0))","v":"NA"},{"$f":"INDEX('8 LCI Data Compilation'!$AH$156:$AM$182,MATCH(D176,'8 LCI Data Compilation'!$C$156:$C$182,0),MATCH('4 SMM Input'!$E$3,'8 LCI Data Compilation'!$AH$157:$AM$157,0))","v":"NA"},{"$f":"INDEX('8 LCI Data Compilation'!$AN$156:$AS$182,MATCH(D176,'8 LCI Data Compilation'!$C$156:$C$182,0),MATCH('4 SMM Input'!$E$3,'8 LCI Data Compilation'!$AN$157:$AS$157,0))","v":"NA"}]
[null,null,23,"Gypsum Drywall",{"$f":"INDEX('8 LCI Data Compilation'!$D$156:$I$182,MATCH(D177,'8 LCI Data Compilation'!$C$156:$C$182,0),MATCH('4 SMM Input'!$E$3,'8 LCI Data Compilation'!$D$157:$I$157,0))","v":"NA"},"NA",{"$f":"INDEX('8 LCI Data Compilation'!$J$156:$O$182,MATCH(D177,'8 LCI Data Compilation'!$C$156:$C$182,0),MATCH('4 SMM Input'!$E$3,'8 LCI Data Compilation'!$J$157:$O$157,0))","v":"NA"},{"$f":"INDEX('8 LCI Data Compilation'!$P$156:$U$182,MATCH(D177,'8 LCI Data Compilation'!$C$156:$C$182,0),MATCH('4 SMM Input'!$E$3,'8 LCI Data Compilation'!$P$157:$U$157,0))","v":"NA"},{"$f":"INDEX('8 LCI Data Compilation'!$V$156:$AA$182,MATCH(D177,'8 LCI Data Compilation'!$C$156:$C$182,0),MATCH('4 SMM Input'!$E$3,'8 LCI Data Compilation'!$V$157:$AA$157,0))","v":"NA"},{"$f":"INDEX('8 LCI Data Compilation'!$AB$156:$AG$182,MATCH(D177,'8 LCI Data Compilation'!$C$156:$C$182,0),MATCH('4 SMM Input'!$E$3,'8 LCI Data Compilation'!$AB$157:$AG$157,0))","v":"NA"},{"$f":"INDEX('8 LCI Data Compilation'!$AH$156:$AM$182,MATCH(D177,'8 LCI Data Compilation'!$C$156:$C$182,0),MATCH('4 SMM Input'!$E$3,'8 LCI Data Compilation'!$AH$157:$AM$157,0))","v":"NA"},{"$f":"INDEX('8 LCI Data Compilation'!$AN$156:$AS$182,MATCH(D177,'8 LCI Data Compilation'!$C$156:$C$182,0),MATCH('4 SMM Input'!$E$3,'8 LCI Data Compilation'!$AN$157:$AS$157,0))","v":"NA"}]
[null,null,24,"Concrete",{"$f":"INDEX('8 LCI Data Compilation'!$D$156:$I$182,MATCH(D178,'8 LCI Data Compilation'!$C$156:$C$182,0),MATCH('4 SMM Input'!$E$3,'8 LCI Data Compilation'!$D$157:$I$157,0))","v":"NA"},"NA",{"$f":"INDEX('8 LCI Data Compilation'!$J$156:$O$182,MATCH(D178,'8 LCI Data Compilation'!$C$156:$C$182,0),MATCH('4 SMM Input'!$E$3,'8 LCI Data Compilation'!$J$157:$O$157,0))","v":"NA"},{"$f":"INDEX('8 LCI Data Compilation'!$P$156:$U$182,MATCH(D178,'8 LCI Data Compilation'!$C$156:$C$182,0),MATCH('4 SMM Input'!$E$3,'8 LCI Data Compilation'!$P$157:$U$157,0))","v":"NA"},{"$f":"INDEX('8 LCI Data Compilation'!$V$156:$AA$182,MATCH(D178,'8 LCI Data Compilation'!$C$156:$C$182,0),MATCH('4 SMM Input'!$E$3,'8 LCI Data Compilation'!$V$157:$AA$157,0))","v":"NA"},{"$f":"INDEX('8 LCI Data Compilation'!$AB$156:$AG$182,MATCH(D178,'8 LCI Data Compilation'!$C$156:$C$182,0),MATCH('4 SMM Input'!$E$3,'8 LCI Data Compilation'!$AB$157:$AG$157,0))","v":"NA"},{"$f":"INDEX('8 LCI Data Compilation'!$AH$156:$AM$182,MATCH(D178,'8 LCI Data Compilation'!$C$156:$C$182,0),MATCH('4 SMM Input'!$E$3,'8 LCI Data Compilation'!$AH$157:$AM$157,0))","v":"NA"},{"$f":"INDEX('8 LCI Data Compilation'!$AN$156:$AS$182,MATCH(D178,'8 LCI Data Compilation'!$C$156:$C$182,0),MATCH('4 SMM Input'!$E$3,'8 LCI Data Compilation'!$AN$157:$AS$157,0))","v":"NA"}]
[null,null,25,"Reclaimed Asphalt Pavement",{"$f":"INDEX('8 LCI Data Compilation'!$D$156:$I$182,MATCH(D179,'8 LCI Data Compilation'!$C$156:$C$182,0),MATCH('4 SMM Input'!$E$3,'8 LCI Data Compilation'!$D$157:$I$157,0))","v":"NA"},"NA",{"$f":"INDEX('8 LCI Data Compilation'!$J$156:$O$182,MATCH(D179,'8 LCI Data Compilation'!$C$156:$C$182,0),MATCH('4 SMM Input'!$E$3,'8 LCI Data Compilation'!$J$157:$O$157,0))","v":"NA"},{"$f":"INDEX('8 LCI Data Compilation'!$P$156:$U$182,MATCH(D179,'8 LCI Data Compilation'!$C$156:$C$182,0),MATCH('4 SMM Input'!$E$3,'8 LCI Data Compilation'!$P$157:$U$157,0))","v":"NA"},{"$f":"INDEX('8 LCI Data Compilation'!$V$156:$AA$182,MATCH(D179,'8 LCI Data Compilation'!$C$156:$C$182,0),MATCH('4 SMM Input'!$E$3,'8 LCI Data Compilation'!$V$157:$AA$157,0))","v":"NA"},{"$f":"INDEX('8 LCI Data Compilation'!$AB$156:$AG$182,MATCH(D179,'8 LCI Data Compilation'!$C$156:$C$182,0),MATCH('4 SMM Input'!$E$3,'8 LCI Data Compilation'!$AB$157:$AG$157,0))","v":"NA"},{"$f":"INDEX('8 LCI Data Compilation'!$AH$156:$AM$182,MATCH(D179,'8 LCI Data Compilation'!$C$156:$C$182,0),MATCH('4 SMM Input'!$E$3,'8 LCI Data Compilation'!$AH$157:$AM$157,0))","v":"NA"},{"$f":"INDEX('8 LCI Data Compilation'!$AN$156:$AS$182,MATCH(D179,'8 LCI Data Compilation'!$C$156:$C$182,0),MATCH('4 SMM Input'!$E$3,'8 LCI Data Compilation'!$AN$157:$AS$157,0))","v":"NA"}]
[]
[]
[null,"All Units (kgSO2eq./ Short Ton)"]
[null,{"$f":"'5 SMM Results'!B186:M186","v":"Acidification Potential (kgSO2eq.): Increasing concentration of hydrogen ions within the environment due to addition of acids. The units are expressed as kgSO2eq. to allow for comparison of acids in the air relative to SO2.\n\n"}]
[null,"Material Category","Item No.","Material Type","Produced","Donated","Collection","Recycling","Composting","Anaerobic Digestion","Landfill","Combustion"]
[null,"MSW ",1,"Mixed MSW",{"$f":"INDEX('8 LCI Data Compilation'!$D$186:$I$212,MATCH(D185,'8 LCI Data Compilation'!$C$186:$C$212,0),MATCH('4 SMM Input'!$E$3,'8 LCI Data Compilation'!$D$187:$I$187,0))","v":"NA"},"NA",{"$f":"INDEX('8 LCI Data Compilation'!$J$186:$O$212,MATCH(D185,'8 LCI Data Compilation'!$C$186:$C$212,0),MATCH('4 SMM Input'!$E$3,'8 LCI Data Compilation'!$J$187:$O$187,0))","v":7.9577508127761168E-2},{"$f":"INDEX('8 LCI Data Compilation'!$P$186:$U$212,MATCH(D185,'8 LCI Data Compilation'!$C$186:$C$212,0),MATCH('4 SMM Input'!$E$3,'8 LCI Data Compilation'!$P$187:$U$187,0))","v":"NA"},{"$f":"INDEX('8 LCI Data Compilation'!$V$186:$AA$212,MATCH(D185,'8 LCI Data Compilation'!$C$186:$C$212,0),MATCH('4 SMM Input'!$E$3,'8 LCI Data Compilation'!$V$187:$AA$187,0))","v":"NA"},{"$f":"INDEX('8 LCI Data Compilation'!$AB$186:$AG$212,MATCH(D185,'8 LCI Data Compilation'!$C$186:$C$212,0),MATCH('4 SMM Input'!$E$3,'8 LCI Data Compilation'!$AB$187:$AG$187,0))","v":"NA"},{"$f":"INDEX('8 LCI Data Compilation'!$AH$186:$AM$212,MATCH(D185,'8 LCI Data Compilation'!$C$186:$C$212,0),MATCH('4 SMM Input'!$E$3,'8 LCI Data Compilation'!$AH$187:$AM$187,0))","v":-1.5207217067526422},{"$f":"INDEX('8 LCI Data Compilation'!$AN$186:$AS$212,MATCH(D185,'8 LCI Data Compilation'!$C$186:$C$212,0),MATCH('4 SMM Input'!$E$3,'8 LCI Data Compilation'!$AN$187:$AS$187,0))","v":-1.4699966383126566}]
[null,"Paper",2,"Newspaper",{"$f":"INDEX('8 LCI Data Compilation'!$D$186:$I$212,MATCH(D186,'8 LCI Data Compilation'!$C$186:$C$212,0),MATCH('4 SMM Input'!$E$3,'8 LCI Data Compilation'!$D$187:$I$187,0))","v":"NA"},"NA",{"$f":"INDEX('8 LCI Data Compilation'!$J$186:$O$212,MATCH(D186,'8 LCI Data Compilation'!$C$186:$C$212,0),MATCH('4 SMM Input'!$E$3,'8 LCI Data Compilation'!$J$187:$O$187,0))","v":7.9577508127761168E-2},{"$f":"INDEX('8 LCI Data Compilation'!$P$186:$U$212,MATCH(D186,'8 LCI Data Compilation'!$C$186:$C$212,0),MATCH('4 SMM Input'!$E$3,'8 LCI Data Compilation'!$P$187:$U$187,0))","v":-11.033396972185203},{"$f":"INDEX('8 LCI Data Compilation'!$V$186:$AA$212,MATCH(D186,'8 LCI Data Compilation'!$C$186:$C$212,0),MATCH('4 SMM Input'!$E$3,'8 LCI Data Compilation'!$V$187:$AA$187,0))","v":"NA"},{"$f":"INDEX('8 LCI Data Compilation'!$AB$186:$AG$212,MATCH(D186,'8 LCI Data Compilation'!$C$186:$C$212,0),MATCH('4 SMM Input'!$E$3,'8 LCI Data Compilation'!$AB$187:$AG$187,0))","v":"NA"},{"$f":"INDEX('8 LCI Data Compilation'!$AH$186:$AM$212,MATCH(D186,'8 LCI Data Compilation'!$C$186:$C$212,0),MATCH('4 SMM Input'!$E$3,'8 LCI Data Compilation'!$AH$187:$AM$187,0))","v":-0.50095465748707479},{"$f":"INDEX('8 LCI Data Compilation'!$AN$186:$AS$212,MATCH(D186,'8 LCI Data Compilation'!$C$186:$C$212,0),MATCH('4 SMM Input'!$E$3,'8 LCI Data Compilation'!$AN$187:$AS$187,0))","v":-8.8108431707655495}]
[null,null,3,"Corrugated Cardboard (OCC)",{"$f":"INDEX('8 LCI Data Compilation'!$D$186:$I$212,MATCH(D187,'8 LCI Data Compilation'!$C$186:$C$212,0),MATCH('4 SMM Input'!$E$3,'8 LCI Data Compilation'!$D$187:$I$187,0))","v":"NA"},"NA",{"$f":"INDEX('8 LCI Data Compilation'!$J$186:$O$212,MATCH(D187,'8 LCI Data Compilation'!$C$186:$C$212,0),MATCH('4 SMM Input'!$E$3,'8 LCI Data Compilation'!$J$187:$O$187,0))","v":7.9577508127761168E-2},{"$f":"INDEX('8 LCI Data Compilation'!$P$186:$U$212,MATCH(D187,'8 LCI Data Compilation'!$C$186:$C$212,0),MATCH('4 SMM Input'!$E$3,'8 LCI Data Compilation'!$P$187:$U$187,0))","v":-9.7643885268208805},{"$f":"INDEX('8 LCI Data Compilation'!$V$186:$AA$212,MATCH(D187,'8 LCI Data Compilation'!$C$186:$C$212,0),MATCH('4 SMM Input'!$E$3,'8 LCI Data Compilation'!$V$187:$AA$187,0))","v":"NA"},{"$f":"INDEX('8 LCI Data Compilation'!$AB$186:$AG$212,MATCH(D187,'8 LCI Data Compilation'!$C$186:$C$212,0),MATCH('4 SMM Input'!$E$3,'8 LCI Data Compilation'!$AB$187:$AG$187,0))","v":"NA"},{"$f":"INDEX('8 LCI Data Compilation'!$AH$186:$AM$212,MATCH(D187,'8 LCI Data Compilation'!$C$186:$C$212,0),MATCH('4 SMM Input'!$E$3,'8 LCI Data Compilation'!$AH$187:$AM$187,0))","v":-1.4416482253254028},{"$f":"INDEX('8 LCI Data Compilation'!$AN$186:$AS$212,MATCH(D187,'8 LCI Data Compilation'!$C$186:$C$212,0),MATCH('4 SMM Input'!$E$3,'8 LCI Data Compilation'!$AN$187:$AS$187,0))","v":-8.0072773242207784}]
[null,null,4,"High Grade Paper (Office Type Paper)",{"$f":"INDEX('8 LCI Data Compilation'!$D$186:$I$212,MATCH(D188,'8 LCI Data Compilation'!$C$186:$C$212,0),MATCH('4 SMM Input'!$E$3,'8 LCI Data Compilation'!$D$187:$I$187,0))","v":"NA"},"NA",{"$f":"INDEX('8 LCI Data Compilation'!$J$186:$O$212,MATCH(D188,'8 LCI Data Compilation'!$C$186:$C$212,0),MATCH('4 SMM Input'!$E$3,'8 LCI Data Compilation'!$J$187:$O$187,0))","v":7.9577508127761168E-2},{"$f":"INDEX('8 LCI Data Compilation'!$P$186:$U$212,MATCH(D188,'8 LCI Data Compilation'!$C$186:$C$212,0),MATCH('4 SMM Input'!$E$3,'8 LCI Data Compilation'!$P$187:$U$187,0))","v":0.16248569371827232},{"$f":"INDEX('8 LCI Data Compilation'!$V$186:$AA$212,MATCH(D188,'8 LCI Data Compilation'!$C$186:$C$212,0),MATCH('4 SMM Input'!$E$3,'8 LCI Data Compilation'!$V$187:$AA$187,0))","v":"NA"},{"$f":"INDEX('8 LCI Data Compilation'!$AB$186:$AG$212,MATCH(D188,'8 LCI Data Compilation'!$C$186:$C$212,0),MATCH('4 SMM Input'!$E$3,'8 LCI Data Compilation'!$AB$187:$AG$187,0))","v":"NA"},{"$f":"INDEX('8 LCI Data Compilation'!$AH$186:$AM$212,MATCH(D188,'8 LCI Data Compilation'!$C$186:$C$212,0),MATCH('4 SMM Input'!$E$3,'8 LCI Data Compilation'!$AH$187:$AM$187,0))","v":-1.9672188555170633},{"$f":"INDEX('8 LCI Data Compilation'!$AN$186:$AS$212,MATCH(D188,'8 LCI Data Compilation'!$C$186:$C$212,0),MATCH('4 SMM Input'!$E$3,'8 LCI Data Compilation'!$AN$187:$AS$187,0))","v":-7.4335850006060609}]
[null,null,5,"Magazines/third-class mail",{"$f":"INDEX('8 LCI Data Compilation'!$D$186:$I$212,MATCH(D189,'8 LCI Data Compilation'!$C$186:$C$212,0),MATCH('4 SMM Input'!$E$3,'8 LCI Data Compilation'!$D$187:$I$187,0))","v":"NA"},"NA",{"$f":"INDEX('8 LCI Data Compilation'!$J$186:$O$212,MATCH(D189,'8 LCI Data Compilation'!$C$186:$C$212,0),MATCH('4 SMM Input'!$E$3,'8 LCI Data Compilation'!$J$187:$O$187,0))","v":7.9577508127761168E-2},{"$f":"INDEX('8 LCI Data Compilation'!$P$186:$U$212,MATCH(D189,'8 LCI Data Compilation'!$C$186:$C$212,0),MATCH('4 SMM Input'!$E$3,'8 LCI Data Compilation'!$P$187:$U$187,0))","v":0.30035466690445434},{"$f":"INDEX('8 LCI Data Compilation'!$V$186:$AA$212,MATCH(D189,'8 LCI Data Compilation'!$C$186:$C$212,0),MATCH('4 SMM Input'!$E$3,'8 LCI Data Compilation'!$V$187:$AA$187,0))","v":"NA"},{"$f":"INDEX('8 LCI Data Compilation'!$AB$186:$AG$212,MATCH(D189,'8 LCI Data Compilation'!$C$186:$C$212,0),MATCH('4 SMM Input'!$E$3,'8 LCI Data Compilation'!$AB$187:$AG$187,0))","v":"NA"},{"$f":"INDEX('8 LCI Data Compilation'!$AH$186:$AM$212,MATCH(D189,'8 LCI Data Compilation'!$C$186:$C$212,0),MATCH('4 SMM Input'!$E$3,'8 LCI Data Compilation'!$AH$187:$AM$187,0))","v":-0.72625351010521799},{"$f":"INDEX('8 LCI Data Compilation'!$AN$186:$AS$212,MATCH(D189,'8 LCI Data Compilation'!$C$186:$C$212,0),MATCH('4 SMM Input'!$E$3,'8 LCI Data Compilation'!$AN$187:$AS$187,0))","v":-7.0089057851030923}]
[null,null,6,"Books",{"$f":"INDEX('8 LCI Data Compilation'!$D$186:$I$212,MATCH(D190,'8 LCI Data Compilation'!$C$186:$C$212,0),MATCH('4 SMM Input'!$E$3,'8 LCI Data Compilation'!$D$187:$I$187,0))","v":"NA"},"NA",{"$f":"INDEX('8 LCI Data Compilation'!$J$186:$O$212,MATCH(D190,'8 LCI Data Compilation'!$C$186:$C$212,0),MATCH('4 SMM Input'!$E$3,'8 LCI Data Compilation'!$J$187:$O$187,0))","v":7.9577508127761168E-2},{"$f":"INDEX('8 LCI Data Compilation'!$P$186:$U$212,MATCH(D190,'8 LCI Data Compilation'!$C$186:$C$212,0),MATCH('4 SMM Input'!$E$3,'8 LCI Data Compilation'!$P$187:$U$187,0))","v":"NA"},{"$f":"INDEX('8 LCI Data Compilation'!$V$186:$AA$212,MATCH(D190,'8 LCI Data Compilation'!$C$186:$C$212,0),MATCH('4 SMM Input'!$E$3,'8 LCI Data Compilation'!$V$187:$AA$187,0))","v":"NA"},{"$f":"INDEX('8 LCI Data Compilation'!$AB$186:$AG$212,MATCH(D190,'8 LCI Data Compilation'!$C$186:$C$212,0),MATCH('4 SMM Input'!$E$3,'8 LCI Data Compilation'!$AB$187:$AG$187,0))","v":"NA"},{"$f":"INDEX('8 LCI Data Compilation'!$AH$186:$AM$212,MATCH(D190,'8 LCI Data Compilation'!$C$186:$C$212,0),MATCH('4 SMM Input'!$E$3,'8 LCI Data Compilation'!$AH$187:$AM$187,0))","v":-0.49761653852619531},{"$f":"INDEX('8 LCI Data Compilation'!$AN$186:$AS$212,MATCH(D190,'8 LCI Data Compilation'!$C$186:$C$212,0),MATCH('4 SMM Input'!$E$3,'8 LCI Data Compilation'!$AN$187:$AS$187,0))","v":-6.8559870183403353}]
[null,null,7,"Mixed Paper",{"$f":"INDEX('8 LCI Data Compilation'!$D$186:$I$212,MATCH(D191,'8 LCI Data Compilation'!$C$186:$C$212,0),MATCH('4 SMM Input'!$E$3,'8 LCI Data Compilation'!$D$187:$I$187,0))","v":"NA"},"NA",{"$f":"INDEX('8 LCI Data Compilation'!$J$186:$O$212,MATCH(D191,'8 LCI Data Compilation'!$C$186:$C$212,0),MATCH('4 SMM Input'!$E$3,'8 LCI Data Compilation'!$J$187:$O$187,0))","v":7.9577508127761168E-2},{"$f":"INDEX('8 LCI Data Compilation'!$P$186:$U$212,MATCH(D191,'8 LCI Data Compilation'!$C$186:$C$212,0),MATCH('4 SMM Input'!$E$3,'8 LCI Data Compilation'!$P$187:$U$187,0))","v":-5.0837362845958394},{"$f":"INDEX('8 LCI Data Compilation'!$V$186:$AA$212,MATCH(D191,'8 LCI Data Compilation'!$C$186:$C$212,0),MATCH('4 SMM Input'!$E$3,'8 LCI Data Compilation'!$V$187:$AA$187,0))","v":"NA"},{"$f":"INDEX('8 LCI Data Compilation'!$AB$186:$AG$212,MATCH(D191,'8 LCI Data Compilation'!$C$186:$C$212,0),MATCH('4 SMM Input'!$E$3,'8 LCI Data Compilation'!$AB$187:$AG$187,0))","v":"NA"},{"$f":"INDEX('8 LCI Data Compilation'!$AH$186:$AM$212,MATCH(D191,'8 LCI Data Compilation'!$C$186:$C$212,0),MATCH('4 SMM Input'!$E$3,'8 LCI Data Compilation'!$AH$187:$AM$187,0))","v":-1.1590188121086897},{"$f":"INDEX('8 LCI Data Compilation'!$AN$186:$AS$212,MATCH(D191,'8 LCI Data Compilation'!$C$186:$C$212,0),MATCH('4 SMM Input'!$E$3,'8 LCI Data Compilation'!$AN$187:$AS$187,0))","v":-7.8151528201738705}]
[null,"Plastic",8,"HDPE",{"$f":"INDEX('8 LCI Data Compilation'!$D$186:$I$212,MATCH(D192,'8 LCI Data Compilation'!$C$186:$C$212,0),MATCH('4 SMM Input'!$E$3,'8 LCI Data Compilation'!$D$187:$I$187,0))","v":"NA"},"NA",{"$f":"INDEX('8 LCI Data Compilation'!$J$186:$O$212,MATCH(D192,'8 LCI Data Compilation'!$C$186:$C$212,0),MATCH('4 SMM Input'!$E$3,'8 LCI Data Compilation'!$J$187:$O$187,0))","v":7.9577508127761168E-2},{"$f":"INDEX('8 LCI Data Compilation'!$P$186:$U$212,MATCH(D192,'8 LCI Data Compilation'!$C$186:$C$212,0),MATCH('4 SMM Input'!$E$3,'8 LCI Data Compilation'!$P$187:$U$187,0))","v":-7.0623268988244536},{"$f":"INDEX('8 LCI Data Compilation'!$V$186:$AA$212,MATCH(D192,'8 LCI Data Compilation'!$C$186:$C$212,0),MATCH('4 SMM Input'!$E$3,'8 LCI Data Compilation'!$V$187:$AA$187,0))","v":"NA"},{"$f":"INDEX('8 LCI Data Compilation'!$AB$186:$AG$212,MATCH(D192,'8 LCI Data Compilation'!$C$186:$C$212,0),MATCH('4 SMM Input'!$E$3,'8 LCI Data Compilation'!$AB$187:$AG$187,0))","v":"NA"},{"$f":"INDEX('8 LCI Data Compilation'!$AH$186:$AM$212,MATCH(D192,'8 LCI Data Compilation'!$C$186:$C$212,0),MATCH('4 SMM Input'!$E$3,'8 LCI Data Compilation'!$AH$187:$AM$187,0))","v":5.2701197494852574E-2},{"$f":"INDEX('8 LCI Data Compilation'!$AN$186:$AS$212,MATCH(D192,'8 LCI Data Compilation'!$C$186:$C$212,0),MATCH('4 SMM Input'!$E$3,'8 LCI Data Compilation'!$AN$187:$AS$187,0))","v":-22.155271903442706}]
[null,null,9,"PET",{"$f":"INDEX('8 LCI Data Compilation'!$D$186:$I$212,MATCH(D193,'8 LCI Data Compilation'!$C$186:$C$212,0),MATCH('4 SMM Input'!$E$3,'8 LCI Data Compilation'!$D$187:$I$187,0))","v":"NA"},"NA",{"$f":"INDEX('8 LCI Data Compilation'!$J$186:$O$212,MATCH(D193,'8 LCI Data Compilation'!$C$186:$C$212,0),MATCH('4 SMM Input'!$E$3,'8 LCI Data Compilation'!$J$187:$O$187,0))","v":7.9577508127761168E-2},{"$f":"INDEX('8 LCI Data Compilation'!$P$186:$U$212,MATCH(D193,'8 LCI Data Compilation'!$C$186:$C$212,0),MATCH('4 SMM Input'!$E$3,'8 LCI Data Compilation'!$P$187:$U$187,0))","v":-28.301234931585356},{"$f":"INDEX('8 LCI Data Compilation'!$V$186:$AA$212,MATCH(D193,'8 LCI Data Compilation'!$C$186:$C$212,0),MATCH('4 SMM Input'!$E$3,'8 LCI Data Compilation'!$V$187:$AA$187,0))","v":"NA"},{"$f":"INDEX('8 LCI Data Compilation'!$AB$186:$AG$212,MATCH(D193,'8 LCI Data Compilation'!$C$186:$C$212,0),MATCH('4 SMM Input'!$E$3,'8 LCI Data Compilation'!$AB$187:$AG$187,0))","v":"NA"},{"$f":"INDEX('8 LCI Data Compilation'!$AH$186:$AM$212,MATCH(D193,'8 LCI Data Compilation'!$C$186:$C$212,0),MATCH('4 SMM Input'!$E$3,'8 LCI Data Compilation'!$AH$187:$AM$187,0))","v":5.2701197494852574E-2},{"$f":"INDEX('8 LCI Data Compilation'!$AN$186:$AS$212,MATCH(D193,'8 LCI Data Compilation'!$C$186:$C$212,0),MATCH('4 SMM Input'!$E$3,'8 LCI Data Compilation'!$AN$187:$AS$187,0))","v":-25.3161809943518}]
[null,null,10,"Mixed Plastic",{"$f":"INDEX('8 LCI Data Compilation'!$D$186:$I$212,MATCH(D194,'8 LCI Data Compilation'!$C$186:$C$212,0),MATCH('4 SMM Input'!$E$3,'8 LCI Data Compilation'!$D$187:$I$187,0))","v":"NA"},"NA",{"$f":"INDEX('8 LCI Data Compilation'!$J$186:$O$212,MATCH(D194,'8 LCI Data Compilation'!$C$186:$C$212,0),MATCH('4 SMM Input'!$E$3,'8 LCI Data Compilation'!$J$187:$O$187,0))","v":7.9577508127761168E-2},{"$f":"INDEX('8 LCI Data Compilation'!$P$186:$U$212,MATCH(D194,'8 LCI Data Compilation'!$C$186:$C$212,0),MATCH('4 SMM Input'!$E$3,'8 LCI Data Compilation'!$P$187:$U$187,0))","v":-17.681780915204904},{"$f":"INDEX('8 LCI Data Compilation'!$V$186:$AA$212,MATCH(D194,'8 LCI Data Compilation'!$C$186:$C$212,0),MATCH('4 SMM Input'!$E$3,'8 LCI Data Compilation'!$V$187:$AA$187,0))","v":"NA"},{"$f":"INDEX('8 LCI Data Compilation'!$AB$186:$AG$212,MATCH(D194,'8 LCI Data Compilation'!$C$186:$C$212,0),MATCH('4 SMM Input'!$E$3,'8 LCI Data Compilation'!$AB$187:$AG$187,0))","v":"NA"},{"$f":"INDEX('8 LCI Data Compilation'!$AH$186:$AM$212,MATCH(D194,'8 LCI Data Compilation'!$C$186:$C$212,0),MATCH('4 SMM Input'!$E$3,'8 LCI Data Compilation'!$AH$187:$AM$187,0))","v":5.2701197494852574E-2},{"$f":"INDEX('8 LCI Data Compilation'!$AN$186:$AS$212,MATCH(D194,'8 LCI Data Compilation'!$C$186:$C$212,0),MATCH('4 SMM Input'!$E$3,'8 LCI Data Compilation'!$AN$187:$AS$187,0))","v":-23.735726448897253}]
[null,"Glass",11,"Glass",{"$f":"INDEX('8 LCI Data Compilation'!$D$186:$I$212,MATCH(D195,'8 LCI Data Compilation'!$C$186:$C$212,0),MATCH('4 SMM Input'!$E$3,'8 LCI Data Compilation'!$D$187:$I$187,0))","v":"NA"},"NA",{"$f":"INDEX('8 LCI Data Compilation'!$J$186:$O$212,MATCH(D195,'8 LCI Data Compilation'!$C$186:$C$212,0),MATCH('4 SMM Input'!$E$3,'8 LCI Data Compilation'!$J$187:$O$187,0))","v":7.9577508127761168E-2},{"$f":"INDEX('8 LCI Data Compilation'!$P$186:$U$212,MATCH(D195,'8 LCI Data Compilation'!$C$186:$C$212,0),MATCH('4 SMM Input'!$E$3,'8 LCI Data Compilation'!$P$187:$U$187,0))","v":-1.519604171386306},{"$f":"INDEX('8 LCI Data Compilation'!$V$186:$AA$212,MATCH(D195,'8 LCI Data Compilation'!$C$186:$C$212,0),MATCH('4 SMM Input'!$E$3,'8 LCI Data Compilation'!$V$187:$AA$187,0))","v":"NA"},{"$f":"INDEX('8 LCI Data Compilation'!$AB$186:$AG$212,MATCH(D195,'8 LCI Data Compilation'!$C$186:$C$212,0),MATCH('4 SMM Input'!$E$3,'8 LCI Data Compilation'!$AB$187:$AG$187,0))","v":"NA"},{"$f":"INDEX('8 LCI Data Compilation'!$AH$186:$AM$212,MATCH(D195,'8 LCI Data Compilation'!$C$186:$C$212,0),MATCH('4 SMM Input'!$E$3,'8 LCI Data Compilation'!$AH$187:$AM$187,0))","v":5.2701197494852574E-2},{"$f":"INDEX('8 LCI Data Compilation'!$AN$186:$AS$212,MATCH(D195,'8 LCI Data Compilation'!$C$186:$C$212,0),MATCH('4 SMM Input'!$E$3,'8 LCI Data Compilation'!$AN$187:$AS$187,0))","v":0.10084893535353537}]
[null,"Metals",12,"Aluminum Cans",{"$f":"INDEX('8 LCI Data Compilation'!$D$186:$I$212,MATCH(D196,'8 LCI Data Compilation'!$C$186:$C$212,0),MATCH('4 SMM Input'!$E$3,'8 LCI Data Compilation'!$D$187:$I$187,0))","v":"NA"},"NA",{"$f":"INDEX('8 LCI Data Compilation'!$J$186:$O$212,MATCH(D196,'8 LCI Data Compilation'!$C$186:$C$212,0),MATCH('4 SMM Input'!$E$3,'8 LCI Data Compilation'!$J$187:$O$187,0))","v":7.9577508127761168E-2},{"$f":"INDEX('8 LCI Data Compilation'!$P$186:$U$212,MATCH(D196,'8 LCI Data Compilation'!$C$186:$C$212,0),MATCH('4 SMM Input'!$E$3,'8 LCI Data Compilation'!$P$187:$U$187,0))","v":-98.929885846138234},{"$f":"INDEX('8 LCI Data Compilation'!$V$186:$AA$212,MATCH(D196,'8 LCI Data Compilation'!$C$186:$C$212,0),MATCH('4 SMM Input'!$E$3,'8 LCI Data Compilation'!$V$187:$AA$187,0))","v":"NA"},{"$f":"INDEX('8 LCI Data Compilation'!$AB$186:$AG$212,MATCH(D196,'8 LCI Data Compilation'!$C$186:$C$212,0),MATCH('4 SMM Input'!$E$3,'8 LCI Data Compilation'!$AB$187:$AG$187,0))","v":"NA"},{"$f":"INDEX('8 LCI Data Compilation'!$AH$186:$AM$212,MATCH(D196,'8 LCI Data Compilation'!$C$186:$C$212,0),MATCH('4 SMM Input'!$E$3,'8 LCI Data Compilation'!$AH$187:$AM$187,0))","v":5.2701197494852574E-2},{"$f":"INDEX('8 LCI Data Compilation'!$AN$186:$AS$212,MATCH(D196,'8 LCI Data Compilation'!$C$186:$C$212,0),MATCH('4 SMM Input'!$E$3,'8 LCI Data Compilation'!$AN$187:$AS$187,0))","v":0.27617817581475129}]
[null,null,13,"Steel/Tin Cans",{"$f":"INDEX('8 LCI Data Compilation'!$D$186:$I$212,MATCH(D197,'8 LCI Data Compilation'!$C$186:$C$212,0),MATCH('4 SMM Input'!$E$3,'8 LCI Data Compilation'!$D$187:$I$187,0))","v":"NA"},"NA",{"$f":"INDEX('8 LCI Data Compilation'!$J$186:$O$212,MATCH(D197,'8 LCI Data Compilation'!$C$186:$C$212,0),MATCH('4 SMM Input'!$E$3,'8 LCI Data Compilation'!$J$187:$O$187,0))","v":7.9577508127761168E-2},{"$f":"INDEX('8 LCI Data Compilation'!$P$186:$U$212,MATCH(D197,'8 LCI Data Compilation'!$C$186:$C$212,0),MATCH('4 SMM Input'!$E$3,'8 LCI Data Compilation'!$P$187:$U$187,0))","v":-1.3212705635367266},{"$f":"INDEX('8 LCI Data Compilation'!$V$186:$AA$212,MATCH(D197,'8 LCI Data Compilation'!$C$186:$C$212,0),MATCH('4 SMM Input'!$E$3,'8 LCI Data Compilation'!$V$187:$AA$187,0))","v":"NA"},{"$f":"INDEX('8 LCI Data Compilation'!$AB$186:$AG$212,MATCH(D197,'8 LCI Data Compilation'!$C$186:$C$212,0),MATCH('4 SMM Input'!$E$3,'8 LCI Data Compilation'!$AB$187:$AG$187,0))","v":"NA"},{"$f":"INDEX('8 LCI Data Compilation'!$AH$186:$AM$212,MATCH(D197,'8 LCI Data Compilation'!$C$186:$C$212,0),MATCH('4 SMM Input'!$E$3,'8 LCI Data Compilation'!$AH$187:$AM$187,0))","v":5.2701197494852574E-2},{"$f":"INDEX('8 LCI Data Compilation'!$AN$186:$AS$212,MATCH(D197,'8 LCI Data Compilation'!$C$186:$C$212,0),MATCH('4 SMM Input'!$E$3,'8 LCI Data Compilation'!$AN$187:$AS$187,0))","v":-4.3986847999999998}]
[null,null,14,"Mixed Metals",{"$f":"INDEX('8 LCI Data Compilation'!$D$186:$I$212,MATCH(D198,'8 LCI Data Compilation'!$C$186:$C$212,0),MATCH('4 SMM Input'!$E$3,'8 LCI Data Compilation'!$D$187:$I$187,0))","v":"NA"},"NA",{"$f":"INDEX('8 LCI Data Compilation'!$J$186:$O$212,MATCH(D198,'8 LCI Data Compilation'!$C$186:$C$212,0),MATCH('4 SMM Input'!$E$3,'8 LCI Data Compilation'!$J$187:$O$187,0))","v":7.9577508127761168E-2},{"$f":"INDEX('8 LCI Data Compilation'!$P$186:$U$212,MATCH(D198,'8 LCI Data Compilation'!$C$186:$C$212,0),MATCH('4 SMM Input'!$E$3,'8 LCI Data Compilation'!$P$187:$U$187,0))","v":-50.092597891089405},{"$f":"INDEX('8 LCI Data Compilation'!$V$186:$AA$212,MATCH(D198,'8 LCI Data Compilation'!$C$186:$C$212,0),MATCH('4 SMM Input'!$E$3,'8 LCI Data Compilation'!$V$187:$AA$187,0))","v":"NA"},{"$f":"INDEX('8 LCI Data Compilation'!$AB$186:$AG$212,MATCH(D198,'8 LCI Data Compilation'!$C$186:$C$212,0),MATCH('4 SMM Input'!$E$3,'8 LCI Data Compilation'!$AB$187:$AG$187,0))","v":"NA"},{"$f":"INDEX('8 LCI Data Compilation'!$AH$186:$AM$212,MATCH(D198,'8 LCI Data Compilation'!$C$186:$C$212,0),MATCH('4 SMM Input'!$E$3,'8 LCI Data Compilation'!$AH$187:$AM$187,0))","v":5.2701197494852574E-2},{"$f":"INDEX('8 LCI Data Compilation'!$AN$186:$AS$212,MATCH(D198,'8 LCI Data Compilation'!$C$186:$C$212,0),MATCH('4 SMM Input'!$E$3,'8 LCI Data Compilation'!$AN$187:$AS$187,0))","v":-1.8288380348198974}]
[null,"Organic",15,"Yard Waste",{"$f":"INDEX('8 LCI Data Compilation'!$D$186:$I$212,MATCH(D199,'8 LCI Data Compilation'!$C$186:$C$212,0),MATCH('4 SMM Input'!$E$3,'8 LCI Data Compilation'!$D$187:$I$187,0))","v":"NA"},"NA",{"$f":"INDEX('8 LCI Data Compilation'!$J$186:$O$212,MATCH(D199,'8 LCI Data Compilation'!$C$186:$C$212,0),MATCH('4 SMM Input'!$E$3,'8 LCI Data Compilation'!$J$187:$O$187,0))","v":7.9577508127761168E-2},{"$f":"INDEX('8 LCI Data Compilation'!$P$186:$U$212,MATCH(D199,'8 LCI Data Compilation'!$C$186:$C$212,0),MATCH('4 SMM Input'!$E$3,'8 LCI Data Compilation'!$P$187:$U$187,0))","v":"NA"},{"$f":"INDEX('8 LCI Data Compilation'!$V$186:$AA$212,MATCH(D199,'8 LCI Data Compilation'!$C$186:$C$212,0),MATCH('4 SMM Input'!$E$3,'8 LCI Data Compilation'!$V$187:$AA$187,0))","v":0.23676656752724154},{"$f":"INDEX('8 LCI Data Compilation'!$AB$186:$AG$212,MATCH(D199,'8 LCI Data Compilation'!$C$186:$C$212,0),MATCH('4 SMM Input'!$E$3,'8 LCI Data Compilation'!$AB$187:$AG$187,0))","v":"NA"},{"$f":"INDEX('8 LCI Data Compilation'!$AH$186:$AM$212,MATCH(D199,'8 LCI Data Compilation'!$C$186:$C$212,0),MATCH('4 SMM Input'!$E$3,'8 LCI Data Compilation'!$AH$187:$AM$187,0))","v":-0.2529201573175312},{"$f":"INDEX('8 LCI Data Compilation'!$AN$186:$AS$212,MATCH(D199,'8 LCI Data Compilation'!$C$186:$C$212,0),MATCH('4 SMM Input'!$E$3,'8 LCI Data Compilation'!$AN$187:$AS$187,0))","v":-4.2881631552039012}]
[null,null,16,"Food Waste",{"$f":"INDEX('8 LCI Data Compilation'!$D$186:$I$212,MATCH(D200,'8 LCI Data Compilation'!$C$186:$C$212,0),MATCH('4 SMM Input'!$E$3,'8 LCI Data Compilation'!$D$187:$I$187,0))","v":"NA"},{"$f":"IFERROR(E200*-1,\"NA\")","v":"NA"},{"$f":"INDEX('8 LCI Data Compilation'!$J$186:$O$212,MATCH(D200,'8 LCI Data Compilation'!$C$186:$C$212,0),MATCH('4 SMM Input'!$E$3,'8 LCI Data Compilation'!$J$187:$O$187,0))","v":7.9577508127761168E-2},{"$f":"INDEX('8 LCI Data Compilation'!$P$186:$U$212,MATCH(D200,'8 LCI Data Compilation'!$C$186:$C$212,0),MATCH('4 SMM Input'!$E$3,'8 LCI Data Compilation'!$P$187:$U$187,0))","v":"NA"},{"$f":"INDEX('8 LCI Data Compilation'!$V$186:$AA$212,MATCH(D200,'8 LCI Data Compilation'!$C$186:$C$212,0),MATCH('4 SMM Input'!$E$3,'8 LCI Data Compilation'!$V$187:$AA$187,0))","v":0.24690849410058094},{"$f":"INDEX('8 LCI Data Compilation'!$AB$186:$AG$212,MATCH(D200,'8 LCI Data Compilation'!$C$186:$C$212,0),MATCH('4 SMM Input'!$E$3,'8 LCI Data Compilation'!$AB$187:$AG$187,0))","v":"NA"},{"$f":"INDEX('8 LCI Data Compilation'!$AH$186:$AM$212,MATCH(D200,'8 LCI Data Compilation'!$C$186:$C$212,0),MATCH('4 SMM Input'!$E$3,'8 LCI Data Compilation'!$AH$187:$AM$187,0))","v":-0.66069217972193983},{"$f":"INDEX('8 LCI Data Compilation'!$AN$186:$AS$212,MATCH(D200,'8 LCI Data Compilation'!$C$186:$C$212,0),MATCH('4 SMM Input'!$E$3,'8 LCI Data Compilation'!$AN$187:$AS$187,0))","v":-1.7268768457096142}]
[null,"Other ",17,"Tires",{"$f":"INDEX('8 LCI Data Compilation'!$D$186:$I$212,MATCH(D201,'8 LCI Data Compilation'!$C$186:$C$212,0),MATCH('4 SMM Input'!$E$3,'8 LCI Data Compilation'!$D$187:$I$187,0))","v":"NA"},"NA",{"$f":"INDEX('8 LCI Data Compilation'!$J$186:$O$212,MATCH(D201,'8 LCI Data Compilation'!$C$186:$C$212,0),MATCH('4 SMM Input'!$E$3,'8 LCI Data Compilation'!$J$187:$O$187,0))","v":"NA"},{"$f":"INDEX('8 LCI Data Compilation'!$P$186:$U$212,MATCH(D201,'8 LCI Data Compilation'!$C$186:$C$212,0),MATCH('4 SMM Input'!$E$3,'8 LCI Data Compilation'!$P$187:$U$187,0))","v":"NA"},{"$f":"INDEX('8 LCI Data Compilation'!$V$186:$AA$212,MATCH(D201,'8 LCI Data Compilation'!$C$186:$C$212,0),MATCH('4 SMM Input'!$E$3,'8 LCI Data Compilation'!$V$187:$AA$187,0))","v":"NA"},{"$f":"INDEX('8 LCI Data Compilation'!$AB$186:$AG$212,MATCH(D201,'8 LCI Data Compilation'!$C$186:$C$212,0),MATCH('4 SMM Input'!$E$3,'8 LCI Data Compilation'!$AB$187:$AG$187,0))","v":"NA"},{"$f":"INDEX('8 LCI Data Compilation'!$AH$186:$AM$212,MATCH(D201,'8 LCI Data Compilation'!$C$186:$C$212,0),MATCH('4 SMM Input'!$E$3,'8 LCI Data Compilation'!$AH$187:$AM$187,0))","v":"NA"},{"$f":"INDEX('8 LCI Data Compilation'!$AN$186:$AS$212,MATCH(D201,'8 LCI Data Compilation'!$C$186:$C$212,0),MATCH('4 SMM Input'!$E$3,'8 LCI Data Compilation'!$AN$187:$AS$187,0))","v":"NA"}]
[null,null,18,"Clothing and Footwear",{"$f":"INDEX('8 LCI Data Compilation'!$D$186:$I$212,MATCH(D202,'8 LCI Data Compilation'!$C$186:$C$212,0),MATCH('4 SMM Input'!$E$3,'8 LCI Data Compilation'!$D$187:$I$187,0))","v":"NA"},{"$f":"IFERROR(E202*-1,\"NA\")","v":"NA"},{"$f":"INDEX('8 LCI Data Compilation'!$J$186:$O$212,MATCH(D202,'8 LCI Data Compilation'!$C$186:$C$212,0),MATCH('4 SMM Input'!$E$3,'8 LCI Data Compilation'!$J$187:$O$187,0))","v":"NA"},{"$f":"INDEX('8 LCI Data Compilation'!$P$186:$U$212,MATCH(D202,'8 LCI Data Compilation'!$C$186:$C$212,0),MATCH('4 SMM Input'!$E$3,'8 LCI Data Compilation'!$P$187:$U$187,0))","v":"NA"},{"$f":"INDEX('8 LCI Data Compilation'!$V$186:$AA$212,MATCH(D202,'8 LCI Data Compilation'!$C$186:$C$212,0),MATCH('4 SMM Input'!$E$3,'8 LCI Data Compilation'!$V$187:$AA$187,0))","v":"NA"},{"$f":"INDEX('8 LCI Data Compilation'!$AB$186:$AG$212,MATCH(D202,'8 LCI Data Compilation'!$C$186:$C$212,0),MATCH('4 SMM Input'!$E$3,'8 LCI Data Compilation'!$AB$187:$AG$187,0))","v":"NA"},{"$f":"INDEX('8 LCI Data Compilation'!$AH$186:$AM$212,MATCH(D202,'8 LCI Data Compilation'!$C$186:$C$212,0),MATCH('4 SMM Input'!$E$3,'8 LCI Data Compilation'!$AH$187:$AM$187,0))","v":"NA"},{"$f":"INDEX('8 LCI Data Compilation'!$AN$186:$AS$212,MATCH(D202,'8 LCI Data Compilation'!$C$186:$C$212,0),MATCH('4 SMM Input'!$E$3,'8 LCI Data Compilation'!$AN$187:$AS$187,0))","v":"NA"}]
[null,null,19,"Furniture",{"$f":"INDEX('8 LCI Data Compilation'!$D$186:$I$212,MATCH(D203,'8 LCI Data Compilation'!$C$186:$C$212,0),MATCH('4 SMM Input'!$E$3,'8 LCI Data Compilation'!$D$187:$I$187,0))","v":"NA"},{"$f":"IFERROR(E203*-1,\"NA\")","v":"NA"},{"$f":"INDEX('8 LCI Data Compilation'!$J$186:$O$212,MATCH(D203,'8 LCI Data Compilation'!$C$186:$C$212,0),MATCH('4 SMM Input'!$E$3,'8 LCI Data Compilation'!$J$187:$O$187,0))","v":"NA"},{"$f":"INDEX('8 LCI Data Compilation'!$P$186:$U$212,MATCH(D203,'8 LCI Data Compilation'!$C$186:$C$212,0),MATCH('4 SMM Input'!$E$3,'8 LCI Data Compilation'!$P$187:$U$187,0))","v":"NA"},{"$f":"INDEX('8 LCI Data Compilation'!$V$186:$AA$212,MATCH(D203,'8 LCI Data Compilation'!$C$186:$C$212,0),MATCH('4 SMM Input'!$E$3,'8 LCI Data Compilation'!$V$187:$AA$187,0))","v":"NA"},{"$f":"INDEX('8 LCI Data Compilation'!$AB$186:$AG$212,MATCH(D203,'8 LCI Data Compilation'!$C$186:$C$212,0),MATCH('4 SMM Input'!$E$3,'8 LCI Data Compilation'!$AB$187:$AG$187,0))","v":"NA"},{"$f":"INDEX('8 LCI Data Compilation'!$AH$186:$AM$212,MATCH(D203,'8 LCI Data Compilation'!$C$186:$C$212,0),MATCH('4 SMM Input'!$E$3,'8 LCI Data Compilation'!$AH$187:$AM$187,0))","v":"NA"},{"$f":"INDEX('8 LCI Data Compilation'!$AN$186:$AS$212,MATCH(D203,'8 LCI Data Compilation'!$C$186:$C$212,0),MATCH('4 SMM Input'!$E$3,'8 LCI Data Compilation'!$AN$187:$AS$187,0))","v":"NA"}]
[null,null,20,"Electronics",{"$f":"INDEX('8 LCI Data Compilation'!$D$186:$I$212,MATCH(D204,'8 LCI Data Compilation'!$C$186:$C$212,0),MATCH('4 SMM Input'!$E$3,'8 LCI Data Compilation'!$D$187:$I$187,0))","v":"NA"},{"$f":"IFERROR(E204*-1,\"NA\")","v":"NA"},{"$f":"INDEX('8 LCI Data Compilation'!$J$186:$O$212,MATCH(D204,'8 LCI Data Compilation'!$C$186:$C$212,0),MATCH('4 SMM Input'!$E$3,'8 LCI Data Compilation'!$J$187:$O$187,0))","v":"NA"},{"$f":"INDEX('8 LCI Data Compilation'!$P$186:$U$212,MATCH(D204,'8 LCI Data Compilation'!$C$186:$C$212,0),MATCH('4 SMM Input'!$E$3,'8 LCI Data Compilation'!$P$187:$U$187,0))","v":"NA"},{"$f":"INDEX('8 LCI Data Compilation'!$V$186:$AA$212,MATCH(D204,'8 LCI Data Compilation'!$C$186:$C$212,0),MATCH('4 SMM Input'!$E$3,'8 LCI Data Compilation'!$V$187:$AA$187,0))","v":"NA"},{"$f":"INDEX('8 LCI Data Compilation'!$AB$186:$AG$212,MATCH(D204,'8 LCI Data Compilation'!$C$186:$C$212,0),MATCH('4 SMM Input'!$E$3,'8 LCI Data Compilation'!$AB$187:$AG$187,0))","v":"NA"},{"$f":"INDEX('8 LCI Data Compilation'!$AH$186:$AM$212,MATCH(D204,'8 LCI Data Compilation'!$C$186:$C$212,0),MATCH('4 SMM Input'!$E$3,'8 LCI Data Compilation'!$AH$187:$AM$187,0))","v":"NA"},{"$f":"INDEX('8 LCI Data Compilation'!$AN$186:$AS$212,MATCH(D204,'8 LCI Data Compilation'!$C$186:$C$212,0),MATCH('4 SMM Input'!$E$3,'8 LCI Data Compilation'!$AN$187:$AS$187,0))","v":"NA"}]
[null,"C&D Debris",21,"Wood Products",{"$f":"INDEX('8 LCI Data Compilation'!$D$186:$I$212,MATCH(D205,'8 LCI Data Compilation'!$C$186:$C$212,0),MATCH('4 SMM Input'!$E$3,'8 LCI Data Compilation'!$D$187:$I$187,0))","v":"NA"},"NA",{"$f":"INDEX('8 LCI Data Compilation'!$J$186:$O$212,MATCH(D205,'8 LCI Data Compilation'!$C$186:$C$212,0),MATCH('4 SMM Input'!$E$3,'8 LCI Data Compilation'!$J$187:$O$187,0))","v":"NA"},{"$f":"INDEX('8 LCI Data Compilation'!$P$186:$U$212,MATCH(D205,'8 LCI Data Compilation'!$C$186:$C$212,0),MATCH('4 SMM Input'!$E$3,'8 LCI Data Compilation'!$P$187:$U$187,0))","v":"NA"},{"$f":"INDEX('8 LCI Data Compilation'!$V$186:$AA$212,MATCH(D205,'8 LCI Data Compilation'!$C$186:$C$212,0),MATCH('4 SMM Input'!$E$3,'8 LCI Data Compilation'!$V$187:$AA$187,0))","v":"NA"},{"$f":"INDEX('8 LCI Data Compilation'!$AB$186:$AG$212,MATCH(D205,'8 LCI Data Compilation'!$C$186:$C$212,0),MATCH('4 SMM Input'!$E$3,'8 LCI Data Compilation'!$AB$187:$AG$187,0))","v":"NA"},{"$f":"INDEX('8 LCI Data Compilation'!$AH$186:$AM$212,MATCH(D205,'8 LCI Data Compilation'!$C$186:$C$212,0),MATCH('4 SMM Input'!$E$3,'8 LCI Data Compilation'!$AH$187:$AM$187,0))","v":"NA"},{"$f":"INDEX('8 LCI Data Compilation'!$AN$186:$AS$212,MATCH(D205,'8 LCI Data Compilation'!$C$186:$C$212,0),MATCH('4 SMM Input'!$E$3,'8 LCI Data Compilation'!$AN$187:$AS$187,0))","v":"NA"}]
[null,null,22,"Asphalt Shingles",{"$f":"INDEX('8 LCI Data Compilation'!$D$186:$I$212,MATCH(D206,'8 LCI Data Compilation'!$C$186:$C$212,0),MATCH('4 SMM Input'!$E$3,'8 LCI Data Compilation'!$D$187:$I$187,0))","v":"NA"},"NA",{"$f":"INDEX('8 LCI Data Compilation'!$J$186:$O$212,MATCH(D206,'8 LCI Data Compilation'!$C$186:$C$212,0),MATCH('4 SMM Input'!$E$3,'8 LCI Data Compilation'!$J$187:$O$187,0))","v":"NA"},{"$f":"INDEX('8 LCI Data Compilation'!$P$186:$U$212,MATCH(D206,'8 LCI Data Compilation'!$C$186:$C$212,0),MATCH('4 SMM Input'!$E$3,'8 LCI Data Compilation'!$P$187:$U$187,0))","v":"NA"},{"$f":"INDEX('8 LCI Data Compilation'!$V$186:$AA$212,MATCH(D206,'8 LCI Data Compilation'!$C$186:$C$212,0),MATCH('4 SMM Input'!$E$3,'8 LCI Data Compilation'!$V$187:$AA$187,0))","v":"NA"},{"$f":"INDEX('8 LCI Data Compilation'!$AB$186:$AG$212,MATCH(D206,'8 LCI Data Compilation'!$C$186:$C$212,0),MATCH('4 SMM Input'!$E$3,'8 LCI Data Compilation'!$AB$187:$AG$187,0))","v":"NA"},{"$f":"INDEX('8 LCI Data Compilation'!$AH$186:$AM$212,MATCH(D206,'8 LCI Data Compilation'!$C$186:$C$212,0),MATCH('4 SMM Input'!$E$3,'8 LCI Data Compilation'!$AH$187:$AM$187,0))","v":"NA"},{"$f":"INDEX('8 LCI Data Compilation'!$AN$186:$AS$212,MATCH(D206,'8 LCI Data Compilation'!$C$186:$C$212,0),MATCH('4 SMM Input'!$E$3,'8 LCI Data Compilation'!$AN$187:$AS$187,0))","v":"NA"}]
[null,null,23,"Gypsum Drywall",{"$f":"INDEX('8 LCI Data Compilation'!$D$186:$I$212,MATCH(D207,'8 LCI Data Compilation'!$C$186:$C$212,0),MATCH('4 SMM Input'!$E$3,'8 LCI Data Compilation'!$D$187:$I$187,0))","v":"NA"},"NA",{"$f":"INDEX('8 LCI Data Compilation'!$J$186:$O$212,MATCH(D207,'8 LCI Data Compilation'!$C$186:$C$212,0),MATCH('4 SMM Input'!$E$3,'8 LCI Data Compilation'!$J$187:$O$187,0))","v":"NA"},{"$f":"INDEX('8 LCI Data Compilation'!$P$186:$U$212,MATCH(D207,'8 LCI Data Compilation'!$C$186:$C$212,0),MATCH('4 SMM Input'!$E$3,'8 LCI Data Compilation'!$P$187:$U$187,0))","v":"NA"},{"$f":"INDEX('8 LCI Data Compilation'!$V$186:$AA$212,MATCH(D207,'8 LCI Data Compilation'!$C$186:$C$212,0),MATCH('4 SMM Input'!$E$3,'8 LCI Data Compilation'!$V$187:$AA$187,0))","v":"NA"},{"$f":"INDEX('8 LCI Data Compilation'!$AB$186:$AG$212,MATCH(D207,'8 LCI Data Compilation'!$C$186:$C$212,0),MATCH('4 SMM Input'!$E$3,'8 LCI Data Compilation'!$AB$187:$AG$187,0))","v":"NA"},{"$f":"INDEX('8 LCI Data Compilation'!$AH$186:$AM$212,MATCH(D207,'8 LCI Data Compilation'!$C$186:$C$212,0),MATCH('4 SMM Input'!$E$3,'8 LCI Data Compilation'!$AH$187:$AM$187,0))","v":"NA"},{"$f":"INDEX('8 LCI Data Compilation'!$AN$186:$AS$212,MATCH(D207,'8 LCI Data Compilation'!$C$186:$C$212,0),MATCH('4 SMM Input'!$E$3,'8 LCI Data Compilation'!$AN$187:$AS$187,0))","v":"NA"}]
[null,null,24,"Concrete",{"$f":"INDEX('8 LCI Data Compilation'!$D$186:$I$212,MATCH(D208,'8 LCI Data Compilation'!$C$186:$C$212,0),MATCH('4 SMM Input'!$E$3,'8 LCI Data Compilation'!$D$187:$I$187,0))","v":"NA"},"NA",{"$f":"INDEX('8 LCI Data Compilation'!$J$186:$O$212,MATCH(D208,'8 LCI Data Compilation'!$C$186:$C$212,0),MATCH('4 SMM Input'!$E$3,'8 LCI Data Compilation'!$J$187:$O$187,0))","v":"NA"},{"$f":"INDEX('8 LCI Data Compilation'!$P$186:$U$212,MATCH(D208,'8 LCI Data Compilation'!$C$186:$C$212,0),MATCH('4 SMM Input'!$E$3,'8 LCI Data Compilation'!$P$187:$U$187,0))","v":"NA"},{"$f":"INDEX('8 LCI Data Compilation'!$V$186:$AA$212,MATCH(D208,'8 LCI Data Compilation'!$C$186:$C$212,0),MATCH('4 SMM Input'!$E$3,'8 LCI Data Compilation'!$V$187:$AA$187,0))","v":"NA"},{"$f":"INDEX('8 LCI Data Compilation'!$AB$186:$AG$212,MATCH(D208,'8 LCI Data Compilation'!$C$186:$C$212,0),MATCH('4 SMM Input'!$E$3,'8 LCI Data Compilation'!$AB$187:$AG$187,0))","v":"NA"},{"$f":"INDEX('8 LCI Data Compilation'!$AH$186:$AM$212,MATCH(D208,'8 LCI Data Compilation'!$C$186:$C$212,0),MATCH('4 SMM Input'!$E$3,'8 LCI Data Compilation'!$AH$187:$AM$187,0))","v":"NA"},{"$f":"INDEX('8 LCI Data Compilation'!$AN$186:$AS$212,MATCH(D208,'8 LCI Data Compilation'!$C$186:$C$212,0),MATCH('4 SMM Input'!$E$3,'8 LCI Data Compilation'!$AN$187:$AS$187,0))","v":"NA"}]
[null,null,25,"Reclaimed Asphalt Pavement",{"$f":"INDEX('8 LCI Data Compilation'!$D$186:$I$212,MATCH(D209,'8 LCI Data Compilation'!$C$186:$C$212,0),MATCH('4 SMM Input'!$E$3,'8 LCI Data Compilation'!$D$187:$I$187,0))","v":"NA"},"NA",{"$f":"INDEX('8 LCI Data Compilation'!$J$186:$O$212,MATCH(D209,'8 LCI Data Compilation'!$C$186:$C$212,0),MATCH('4 SMM Input'!$E$3,'8 LCI Data Compilation'!$J$187:$O$187,0))","v":"NA"},{"$f":"INDEX('8 LCI Data Compilation'!$P$186:$U$212,MATCH(D209,'8 LCI Data Compilation'!$C$186:$C$212,0),MATCH('4 SMM Input'!$E$3,'8 LCI Data Compilation'!$P$187:$U$187,0))","v":"NA"},{"$f":"INDEX('8 LCI Data Compilation'!$V$186:$AA$212,MATCH(D209,'8 LCI Data Compilation'!$C$186:$C$212,0),MATCH('4 SMM Input'!$E$3,'8 LCI Data Compilation'!$V$187:$AA$187,0))","v":"NA"},{"$f":"INDEX('8 LCI Data Compilation'!$AB$186:$AG$212,MATCH(D209,'8 LCI Data Compilation'!$C$186:$C$212,0),MATCH('4 SMM Input'!$E$3,'8 LCI Data Compilation'!$AB$187:$AG$187,0))","v":"NA"},{"$f":"INDEX('8 LCI Data Compilation'!$AH$186:$AM$212,MATCH(D209,'8 LCI Data Compilation'!$C$186:$C$212,0),MATCH('4 SMM Input'!$E$3,'8 LCI Data Compilation'!$AH$187:$AM$187,0))","v":"NA"},{"$f":"INDEX('8 LCI Data Compilation'!$AN$186:$AS$212,MATCH(D209,'8 LCI Data Compilation'!$C$186:$C$212,0),MATCH('4 SMM Input'!$E$3,'8 LCI Data Compilation'!$AN$187:$AS$187,0))","v":"NA"}]
[]
[]
[null,"All Units (Jobs/ 10000 Short Ton)"]
[null,{"$f":"'5 SMM Results'!B216:M216","v":"Jobs Produced (Jobs): The number of jobs associated with each type of waste management. This includes both direct and indirect jobs."}]
[null,"Material Category","Item No.","Material Type","Produced","Donated","Collection","Recycling","Composting","Anaerobic Digestion","Landfill","Combustion"]
[null,"MSW ",1,"Mixed MSW",{"$f":"INDEX('8 LCI Data Compilation'!$D$216:$I$242,MATCH(D215,'8 LCI Data Compilation'!$C$216:$C$242,0),MATCH('4 SMM Input'!$E$3,'8 LCI Data Compilation'!$D$217:$I$217,0))","v":"NA"},"NA",{"$f":"INDEX('8 LCI Data Compilation'!$J$216:$O$242,MATCH(D215,'8 LCI Data Compilation'!$C$216:$C$242,0),MATCH('4 SMM Input'!$E$3,'8 LCI Data Compilation'!$J$217:$O$217,0))","v":"NA"},{"$f":"INDEX('8 LCI Data Compilation'!$P$216:$U$242,MATCH(D215,'8 LCI Data Compilation'!$C$216:$C$242,0),MATCH('4 SMM Input'!$E$3,'8 LCI Data Compilation'!$P$217:$U$217,0))","v":"NA"},{"$f":"INDEX('8 LCI Data Compilation'!$V$216:$AA$242,MATCH(D215,'8 LCI Data Compilation'!$C$216:$C$242,0),MATCH('4 SMM Input'!$E$3,'8 LCI Data Compilation'!$V$217:$AA$217,0))","v":"NA"},{"$f":"INDEX('8 LCI Data Compilation'!$AB$216:$AG$242,MATCH(D215,'8 LCI Data Compilation'!$C$216:$C$242,0),MATCH('4 SMM Input'!$E$3,'8 LCI Data Compilation'!$AB$217:$AG$217,0))","v":"NA"},{"$f":"INDEX('8 LCI Data Compilation'!$AH$216:$AM$242,MATCH(D215,'8 LCI Data Compilation'!$C$216:$C$242,0),MATCH('4 SMM Input'!$E$3,'8 LCI Data Compilation'!$AH$217:$AM$217,0))","v":"NA"},{"$f":"INDEX('8 LCI Data Compilation'!$AN$216:$AS$242,MATCH(D215,'8 LCI Data Compilation'!$C$216:$C$242,0),MATCH('4 SMM Input'!$E$3,'8 LCI Data Compilation'!$AN$217:$AS$217,0))","v":"NA"}]
[null,"Paper",2,"Newspaper",{"$f":"INDEX('8 LCI Data Compilation'!$D$216:$I$242,MATCH(D216,'8 LCI Data Compilation'!$C$216:$C$242,0),MATCH('4 SMM Input'!$E$3,'8 LCI Data Compilation'!$D$217:$I$217,0))","v":"NA"},"NA",{"$f":"INDEX('8 LCI Data Compilation'!$J$216:$O$242,MATCH(D216,'8 LCI Data Compilation'!$C$216:$C$242,0),MATCH('4 SMM Input'!$E$3,'8 LCI Data Compilation'!$J$217:$O$217,0))","v":"NA"},{"$f":"INDEX('8 LCI Data Compilation'!$P$216:$U$242,MATCH(D216,'8 LCI Data Compilation'!$C$216:$C$242,0),MATCH('4 SMM Input'!$E$3,'8 LCI Data Compilation'!$P$217:$U$217,0))","v":"NA"},{"$f":"INDEX('8 LCI Data Compilation'!$V$216:$AA$242,MATCH(D216,'8 LCI Data Compilation'!$C$216:$C$242,0),MATCH('4 SMM Input'!$E$3,'8 LCI Data Compilation'!$V$217:$AA$217,0))","v":"NA"},{"$f":"INDEX('8 LCI Data Compilation'!$AB$216:$AG$242,MATCH(D216,'8 LCI Data Compilation'!$C$216:$C$242,0),MATCH('4 SMM Input'!$E$3,'8 LCI Data Compilation'!$AB$217:$AG$217,0))","v":"NA"},{"$f":"INDEX('8 LCI Data Compilation'!$AH$216:$AM$242,MATCH(D216,'8 LCI Data Compilation'!$C$216:$C$242,0),MATCH('4 SMM Input'!$E$3,'8 LCI Data Compilation'!$AH$217:$AM$217,0))","v":"NA"},{"$f":"INDEX('8 LCI Data Compilation'!$AN$216:$AS$242,MATCH(D216,'8 LCI Data Compilation'!$C$216:$C$242,0),MATCH('4 SMM Input'!$E$3,'8 LCI Data Compilation'!$AN$217:$AS$217,0))","v":"NA"}]
[null,null,3,"Corrugated Cardboard (OCC)",{"$f":"INDEX('8 LCI Data Compilation'!$D$216:$I$242,MATCH(D217,'8 LCI Data Compilation'!$C$216:$C$242,0),MATCH('4 SMM Input'!$E$3,'8 LCI Data Compilation'!$D$217:$I$217,0))","v":"NA"},"NA",{"$f":"INDEX('8 LCI Data Compilation'!$J$216:$O$242,MATCH(D217,'8 LCI Data Compilation'!$C$216:$C$242,0),MATCH('4 SMM Input'!$E$3,'8 LCI Data Compilation'!$J$217:$O$217,0))","v":"NA"},{"$f":"INDEX('8 LCI Data Compilation'!$P$216:$U$242,MATCH(D217,'8 LCI Data Compilation'!$C$216:$C$242,0),MATCH('4 SMM Input'!$E$3,'8 LCI Data Compilation'!$P$217:$U$217,0))","v":"NA"},{"$f":"INDEX('8 LCI Data Compilation'!$V$216:$AA$242,MATCH(D217,'8 LCI Data Compilation'!$C$216:$C$242,0),MATCH('4 SMM Input'!$E$3,'8 LCI Data Compilation'!$V$217:$AA$217,0))","v":"NA"},{"$f":"INDEX('8 LCI Data Compilation'!$AB$216:$AG$242,MATCH(D217,'8 LCI Data Compilation'!$C$216:$C$242,0),MATCH('4 SMM Input'!$E$3,'8 LCI Data Compilation'!$AB$217:$AG$217,0))","v":"NA"},{"$f":"INDEX('8 LCI Data Compilation'!$AH$216:$AM$242,MATCH(D217,'8 LCI Data Compilation'!$C$216:$C$242,0),MATCH('4 SMM Input'!$E$3,'8 LCI Data Compilation'!$AH$217:$AM$217,0))","v":"NA"},{"$f":"INDEX('8 LCI Data Compilation'!$AN$216:$AS$242,MATCH(D217,'8 LCI Data Compilation'!$C$216:$C$242,0),MATCH('4 SMM Input'!$E$3,'8 LCI Data Compilation'!$AN$217:$AS$217,0))","v":"NA"}]
[null,null,4,"High Grade Paper (Office Type Paper)",{"$f":"INDEX('8 LCI Data Compilation'!$D$216:$I$242,MATCH(D218,'8 LCI Data Compilation'!$C$216:$C$242,0),MATCH('4 SMM Input'!$E$3,'8 LCI Data Compilation'!$D$217:$I$217,0))","v":"NA"},"NA",{"$f":"INDEX('8 LCI Data Compilation'!$J$216:$O$242,MATCH(D218,'8 LCI Data Compilation'!$C$216:$C$242,0),MATCH('4 SMM Input'!$E$3,'8 LCI Data Compilation'!$J$217:$O$217,0))","v":"NA"},{"$f":"INDEX('8 LCI Data Compilation'!$P$216:$U$242,MATCH(D218,'8 LCI Data Compilation'!$C$216:$C$242,0),MATCH('4 SMM Input'!$E$3,'8 LCI Data Compilation'!$P$217:$U$217,0))","v":"NA"},{"$f":"INDEX('8 LCI Data Compilation'!$V$216:$AA$242,MATCH(D218,'8 LCI Data Compilation'!$C$216:$C$242,0),MATCH('4 SMM Input'!$E$3,'8 LCI Data Compilation'!$V$217:$AA$217,0))","v":"NA"},{"$f":"INDEX('8 LCI Data Compilation'!$AB$216:$AG$242,MATCH(D218,'8 LCI Data Compilation'!$C$216:$C$242,0),MATCH('4 SMM Input'!$E$3,'8 LCI Data Compilation'!$AB$217:$AG$217,0))","v":"NA"},{"$f":"INDEX('8 LCI Data Compilation'!$AH$216:$AM$242,MATCH(D218,'8 LCI Data Compilation'!$C$216:$C$242,0),MATCH('4 SMM Input'!$E$3,'8 LCI Data Compilation'!$AH$217:$AM$217,0))","v":"NA"},{"$f":"INDEX('8 LCI Data Compilation'!$AN$216:$AS$242,MATCH(D218,'8 LCI Data Compilation'!$C$216:$C$242,0),MATCH('4 SMM Input'!$E$3,'8 LCI Data Compilation'!$AN$217:$AS$217,0))","v":"NA"}]
[null,null,5,"Magazines/third-class mail",{"$f":"INDEX('8 LCI Data Compilation'!$D$216:$I$242,MATCH(D219,'8 LCI Data Compilation'!$C$216:$C$242,0),MATCH('4 SMM Input'!$E$3,'8 LCI Data Compilation'!$D$217:$I$217,0))","v":"NA"},"NA",{"$f":"INDEX('8 LCI Data Compilation'!$J$216:$O$242,MATCH(D219,'8 LCI Data Compilation'!$C$216:$C$242,0),MATCH('4 SMM Input'!$E$3,'8 LCI Data Compilation'!$J$217:$O$217,0))","v":"NA"},{"$f":"INDEX('8 LCI Data Compilation'!$P$216:$U$242,MATCH(D219,'8 LCI Data Compilation'!$C$216:$C$242,0),MATCH('4 SMM Input'!$E$3,'8 LCI Data Compilation'!$P$217:$U$217,0))","v":"NA"},{"$f":"INDEX('8 LCI Data Compilation'!$V$216:$AA$242,MATCH(D219,'8 LCI Data Compilation'!$C$216:$C$242,0),MATCH('4 SMM Input'!$E$3,'8 LCI Data Compilation'!$V$217:$AA$217,0))","v":"NA"},{"$f":"INDEX('8 LCI Data Compilation'!$AB$216:$AG$242,MATCH(D219,'8 LCI Data Compilation'!$C$216:$C$242,0),MATCH('4 SMM Input'!$E$3,'8 LCI Data Compilation'!$AB$217:$AG$217,0))","v":"NA"},{"$f":"INDEX('8 LCI Data Compilation'!$AH$216:$AM$242,MATCH(D219,'8 LCI Data Compilation'!$C$216:$C$242,0),MATCH('4 SMM Input'!$E$3,'8 LCI Data Compilation'!$AH$217:$AM$217,0))","v":"NA"},{"$f":"INDEX('8 LCI Data Compilation'!$AN$216:$AS$242,MATCH(D219,'8 LCI Data Compilation'!$C$216:$C$242,0),MATCH('4 SMM Input'!$E$3,'8 LCI Data Compilation'!$AN$217:$AS$217,0))","v":"NA"}]
[null,null,6,"Books",{"$f":"INDEX('8 LCI Data Compilation'!$D$216:$I$242,MATCH(D220,'8 LCI Data Compilation'!$C$216:$C$242,0),MATCH('4 SMM Input'!$E$3,'8 LCI Data Compilation'!$D$217:$I$217,0))","v":"NA"},"NA",{"$f":"INDEX('8 LCI Data Compilation'!$J$216:$O$242,MATCH(D220,'8 LCI Data Compilation'!$C$216:$C$242,0),MATCH('4 SMM Input'!$E$3,'8 LCI Data Compilation'!$J$217:$O$217,0))","v":"NA"},{"$f":"INDEX('8 LCI Data Compilation'!$P$216:$U$242,MATCH(D220,'8 LCI Data Compilation'!$C$216:$C$242,0),MATCH('4 SMM Input'!$E$3,'8 LCI Data Compilation'!$P$217:$U$217,0))","v":"NA"},{"$f":"INDEX('8 LCI Data Compilation'!$V$216:$AA$242,MATCH(D220,'8 LCI Data Compilation'!$C$216:$C$242,0),MATCH('4 SMM Input'!$E$3,'8 LCI Data Compilation'!$V$217:$AA$217,0))","v":"NA"},{"$f":"INDEX('8 LCI Data Compilation'!$AB$216:$AG$242,MATCH(D220,'8 LCI Data Compilation'!$C$216:$C$242,0),MATCH('4 SMM Input'!$E$3,'8 LCI Data Compilation'!$AB$217:$AG$217,0))","v":"NA"},{"$f":"INDEX('8 LCI Data Compilation'!$AH$216:$AM$242,MATCH(D220,'8 LCI Data Compilation'!$C$216:$C$242,0),MATCH('4 SMM Input'!$E$3,'8 LCI Data Compilation'!$AH$217:$AM$217,0))","v":"NA"},{"$f":"INDEX('8 LCI Data Compilation'!$AN$216:$AS$242,MATCH(D220,'8 LCI Data Compilation'!$C$216:$C$242,0),MATCH('4 SMM Input'!$E$3,'8 LCI Data Compilation'!$AN$217:$AS$217,0))","v":"NA"}]
[null,null,7,"Mixed Paper",{"$f":"INDEX('8 LCI Data Compilation'!$D$216:$I$242,MATCH(D221,'8 LCI Data Compilation'!$C$216:$C$242,0),MATCH('4 SMM Input'!$E$3,'8 LCI Data Compilation'!$D$217:$I$217,0))","v":"NA"},"NA",{"$f":"INDEX('8 LCI Data Compilation'!$J$216:$O$242,MATCH(D221,'8 LCI Data Compilation'!$C$216:$C$242,0),MATCH('4 SMM Input'!$E$3,'8 LCI Data Compilation'!$J$217:$O$217,0))","v":"NA"},{"$f":"INDEX('8 LCI Data Compilation'!$P$216:$U$242,MATCH(D221,'8 LCI Data Compilation'!$C$216:$C$242,0),MATCH('4 SMM Input'!$E$3,'8 LCI Data Compilation'!$P$217:$U$217,0))","v":"NA"},{"$f":"INDEX('8 LCI Data Compilation'!$V$216:$AA$242,MATCH(D221,'8 LCI Data Compilation'!$C$216:$C$242,0),MATCH('4 SMM Input'!$E$3,'8 LCI Data Compilation'!$V$217:$AA$217,0))","v":"NA"},{"$f":"INDEX('8 LCI Data Compilation'!$AB$216:$AG$242,MATCH(D221,'8 LCI Data Compilation'!$C$216:$C$242,0),MATCH('4 SMM Input'!$E$3,'8 LCI Data Compilation'!$AB$217:$AG$217,0))","v":"NA"},{"$f":"INDEX('8 LCI Data Compilation'!$AH$216:$AM$242,MATCH(D221,'8 LCI Data Compilation'!$C$216:$C$242,0),MATCH('4 SMM Input'!$E$3,'8 LCI Data Compilation'!$AH$217:$AM$217,0))","v":"NA"},{"$f":"INDEX('8 LCI Data Compilation'!$AN$216:$AS$242,MATCH(D221,'8 LCI Data Compilation'!$C$216:$C$242,0),MATCH('4 SMM Input'!$E$3,'8 LCI Data Compilation'!$AN$217:$AS$217,0))","v":"NA"}]
[null,"Plastic",8,"HDPE",{"$f":"INDEX('8 LCI Data Compilation'!$D$216:$I$242,MATCH(D222,'8 LCI Data Compilation'!$C$216:$C$242,0),MATCH('4 SMM Input'!$E$3,'8 LCI Data Compilation'!$D$217:$I$217,0))","v":"NA"},"NA",{"$f":"INDEX('8 LCI Data Compilation'!$J$216:$O$242,MATCH(D222,'8 LCI Data Compilation'!$C$216:$C$242,0),MATCH('4 SMM Input'!$E$3,'8 LCI Data Compilation'!$J$217:$O$217,0))","v":"NA"},{"$f":"INDEX('8 LCI Data Compilation'!$P$216:$U$242,MATCH(D222,'8 LCI Data Compilation'!$C$216:$C$242,0),MATCH('4 SMM Input'!$E$3,'8 LCI Data Compilation'!$P$217:$U$217,0))","v":"NA"},{"$f":"INDEX('8 LCI Data Compilation'!$V$216:$AA$242,MATCH(D222,'8 LCI Data Compilation'!$C$216:$C$242,0),MATCH('4 SMM Input'!$E$3,'8 LCI Data Compilation'!$V$217:$AA$217,0))","v":"NA"},{"$f":"INDEX('8 LCI Data Compilation'!$AB$216:$AG$242,MATCH(D222,'8 LCI Data Compilation'!$C$216:$C$242,0),MATCH('4 SMM Input'!$E$3,'8 LCI Data Compilation'!$AB$217:$AG$217,0))","v":"NA"},{"$f":"INDEX('8 LCI Data Compilation'!$AH$216:$AM$242,MATCH(D222,'8 LCI Data Compilation'!$C$216:$C$242,0),MATCH('4 SMM Input'!$E$3,'8 LCI Data Compilation'!$AH$217:$AM$217,0))","v":"NA"},{"$f":"INDEX('8 LCI Data Compilation'!$AN$216:$AS$242,MATCH(D222,'8 LCI Data Compilation'!$C$216:$C$242,0),MATCH('4 SMM Input'!$E$3,'8 LCI Data Compilation'!$AN$217:$AS$217,0))","v":"NA"}]
[null,null,9,"PET",{"$f":"INDEX('8 LCI Data Compilation'!$D$216:$I$242,MATCH(D223,'8 LCI Data Compilation'!$C$216:$C$242,0),MATCH('4 SMM Input'!$E$3,'8 LCI Data Compilation'!$D$217:$I$217,0))","v":"NA"},"NA",{"$f":"INDEX('8 LCI Data Compilation'!$J$216:$O$242,MATCH(D223,'8 LCI Data Compilation'!$C$216:$C$242,0),MATCH('4 SMM Input'!$E$3,'8 LCI Data Compilation'!$J$217:$O$217,0))","v":"NA"},{"$f":"INDEX('8 LCI Data Compilation'!$P$216:$U$242,MATCH(D223,'8 LCI Data Compilation'!$C$216:$C$242,0),MATCH('4 SMM Input'!$E$3,'8 LCI Data Compilation'!$P$217:$U$217,0))","v":"NA"},{"$f":"INDEX('8 LCI Data Compilation'!$V$216:$AA$242,MATCH(D223,'8 LCI Data Compilation'!$C$216:$C$242,0),MATCH('4 SMM Input'!$E$3,'8 LCI Data Compilation'!$V$217:$AA$217,0))","v":"NA"},{"$f":"INDEX('8 LCI Data Compilation'!$AB$216:$AG$242,MATCH(D223,'8 LCI Data Compilation'!$C$216:$C$242,0),MATCH('4 SMM Input'!$E$3,'8 LCI Data Compilation'!$AB$217:$AG$217,0))","v":"NA"},{"$f":"INDEX('8 LCI Data Compilation'!$AH$216:$AM$242,MATCH(D223,'8 LCI Data Compilation'!$C$216:$C$242,0),MATCH('4 SMM Input'!$E$3,'8 LCI Data Compilation'!$AH$217:$AM$217,0))","v":"NA"},{"$f":"INDEX('8 LCI Data Compilation'!$AN$216:$AS$242,MATCH(D223,'8 LCI Data Compilation'!$C$216:$C$242,0),MATCH('4 SMM Input'!$E$3,'8 LCI Data Compilation'!$AN$217:$AS$217,0))","v":"NA"}]
[null,null,10,"Mixed Plastic",{"$f":"INDEX('8 LCI Data Compilation'!$D$216:$I$242,MATCH(D224,'8 LCI Data Compilation'!$C$216:$C$242,0),MATCH('4 SMM Input'!$E$3,'8 LCI Data Compilation'!$D$217:$I$217,0))","v":"NA"},"NA",{"$f":"INDEX('8 LCI Data Compilation'!$J$216:$O$242,MATCH(D224,'8 LCI Data Compilation'!$C$216:$C$242,0),MATCH('4 SMM Input'!$E$3,'8 LCI Data Compilation'!$J$217:$O$217,0))","v":"NA"},{"$f":"INDEX('8 LCI Data Compilation'!$P$216:$U$242,MATCH(D224,'8 LCI Data Compilation'!$C$216:$C$242,0),MATCH('4 SMM Input'!$E$3,'8 LCI Data Compilation'!$P$217:$U$217,0))","v":"NA"},{"$f":"INDEX('8 LCI Data Compilation'!$V$216:$AA$242,MATCH(D224,'8 LCI Data Compilation'!$C$216:$C$242,0),MATCH('4 SMM Input'!$E$3,'8 LCI Data Compilation'!$V$217:$AA$217,0))","v":"NA"},{"$f":"INDEX('8 LCI Data Compilation'!$AB$216:$AG$242,MATCH(D224,'8 LCI Data Compilation'!$C$216:$C$242,0),MATCH('4 SMM Input'!$E$3,'8 LCI Data Compilation'!$AB$217:$AG$217,0))","v":"NA"},{"$f":"INDEX('8 LCI Data Compilation'!$AH$216:$AM$242,MATCH(D224,'8 LCI Data Compilation'!$C$216:$C$242,0),MATCH('4 SMM Input'!$E$3,'8 LCI Data Compilation'!$AH$217:$AM$217,0))","v":"NA"},{"$f":"INDEX('8 LCI Data Compilation'!$AN$216:$AS$242,MATCH(D224,'8 LCI Data Compilation'!$C$216:$C$242,0),MATCH('4 SMM Input'!$E$3,'8 LCI Data Compilation'!$AN$217:$AS$217,0))","v":"NA"}]
[null,"Glass",11,"Glass",{"$f":"INDEX('8 LCI Data Compilation'!$D$216:$I$242,MATCH(D225,'8 LCI Data Compilation'!$C$216:$C$242,0),MATCH('4 SMM Input'!$E$3,'8 LCI Data Compilation'!$D$217:$I$217,0))","v":"NA"},"NA",{"$f":"INDEX('8 LCI Data Compilation'!$J$216:$O$242,MATCH(D225,'8 LCI Data Compilation'!$C$216:$C$242,0),MATCH('4 SMM Input'!$E$3,'8 LCI Data Compilation'!$J$217:$O$217,0))","v":"NA"},{"$f":"INDEX('8 LCI Data Compilation'!$P$216:$U$242,MATCH(D225,'8 LCI Data Compilation'!$C$216:$C$242,0),MATCH('4 SMM Input'!$E$3,'8 LCI Data Compilation'!$P$217:$U$217,0))","v":"NA"},{"$f":"INDEX('8 LCI Data Compilation'!$V$216:$AA$242,MATCH(D225,'8 LCI Data Compilation'!$C$216:$C$242,0),MATCH('4 SMM Input'!$E$3,'8 LCI Data Compilation'!$V$217:$AA$217,0))","v":"NA"},{"$f":"INDEX('8 LCI Data Compilation'!$AB$216:$AG$242,MATCH(D225,'8 LCI Data Compilation'!$C$216:$C$242,0),MATCH('4 SMM Input'!$E$3,'8 LCI Data Compilation'!$AB$217:$AG$217,0))","v":"NA"},{"$f":"INDEX('8 LCI Data Compilation'!$AH$216:$AM$242,MATCH(D225,'8 LCI Data Compilation'!$C$216:$C$242,0),MATCH('4 SMM Input'!$E$3,'8 LCI Data Compilation'!$AH$217:$AM$217,0))","v":"NA"},{"$f":"INDEX('8 LCI Data Compilation'!$AN$216:$AS$242,MATCH(D225,'8 LCI Data Compilation'!$C$216:$C$242,0),MATCH('4 SMM Input'!$E$3,'8 LCI Data Compilation'!$AN$217:$AS$217,0))","v":"NA"}]
[null,"Metals",12,"Aluminum Cans",{"$f":"INDEX('8 LCI Data Compilation'!$D$216:$I$242,MATCH(D226,'8 LCI Data Compilation'!$C$216:$C$242,0),MATCH('4 SMM Input'!$E$3,'8 LCI Data Compilation'!$D$217:$I$217,0))","v":"NA"},"NA",{"$f":"INDEX('8 LCI Data Compilation'!$J$216:$O$242,MATCH(D226,'8 LCI Data Compilation'!$C$216:$C$242,0),MATCH('4 SMM Input'!$E$3,'8 LCI Data Compilation'!$J$217:$O$217,0))","v":"NA"},{"$f":"INDEX('8 LCI Data Compilation'!$P$216:$U$242,MATCH(D226,'8 LCI Data Compilation'!$C$216:$C$242,0),MATCH('4 SMM Input'!$E$3,'8 LCI Data Compilation'!$P$217:$U$217,0))","v":"NA"},{"$f":"INDEX('8 LCI Data Compilation'!$V$216:$AA$242,MATCH(D226,'8 LCI Data Compilation'!$C$216:$C$242,0),MATCH('4 SMM Input'!$E$3,'8 LCI Data Compilation'!$V$217:$AA$217,0))","v":"NA"},{"$f":"INDEX('8 LCI Data Compilation'!$AB$216:$AG$242,MATCH(D226,'8 LCI Data Compilation'!$C$216:$C$242,0),MATCH('4 SMM Input'!$E$3,'8 LCI Data Compilation'!$AB$217:$AG$217,0))","v":"NA"},{"$f":"INDEX('8 LCI Data Compilation'!$AH$216:$AM$242,MATCH(D226,'8 LCI Data Compilation'!$C$216:$C$242,0),MATCH('4 SMM Input'!$E$3,'8 LCI Data Compilation'!$AH$217:$AM$217,0))","v":"NA"},{"$f":"INDEX('8 LCI Data Compilation'!$AN$216:$AS$242,MATCH(D226,'8 LCI Data Compilation'!$C$216:$C$242,0),MATCH('4 SMM Input'!$E$3,'8 LCI Data Compilation'!$AN$217:$AS$217,0))","v":"NA"}]
[null,null,13,"Steel/Tin Cans",{"$f":"INDEX('8 LCI Data Compilation'!$D$216:$I$242,MATCH(D227,'8 LCI Data Compilation'!$C$216:$C$242,0),MATCH('4 SMM Input'!$E$3,'8 LCI Data Compilation'!$D$217:$I$217,0))","v":"NA"},"NA",{"$f":"INDEX('8 LCI Data Compilation'!$J$216:$O$242,MATCH(D227,'8 LCI Data Compilation'!$C$216:$C$242,0),MATCH('4 SMM Input'!$E$3,'8 LCI Data Compilation'!$J$217:$O$217,0))","v":"NA"},{"$f":"INDEX('8 LCI Data Compilation'!$P$216:$U$242,MATCH(D227,'8 LCI Data Compilation'!$C$216:$C$242,0),MATCH('4 SMM Input'!$E$3,'8 LCI Data Compilation'!$P$217:$U$217,0))","v":"NA"},{"$f":"INDEX('8 LCI Data Compilation'!$V$216:$AA$242,MATCH(D227,'8 LCI Data Compilation'!$C$216:$C$242,0),MATCH('4 SMM Input'!$E$3,'8 LCI Data Compilation'!$V$217:$AA$217,0))","v":"NA"},{"$f":"INDEX('8 LCI Data Compilation'!$AB$216:$AG$242,MATCH(D227,'8 LCI Data Compilation'!$C$216:$C$242,0),MATCH('4 SMM Input'!$E$3,'8 LCI Data Compilation'!$AB$217:$AG$217,0))","v":"NA"},{"$f":"INDEX('8 LCI Data Compilation'!$AH$216:$AM$242,MATCH(D227,'8 LCI Data Compilation'!$C$216:$C$242,0),MATCH('4 SMM Input'!$E$3,'8 LCI Data Compilation'!$AH$217:$AM$217,0))","v":"NA"},{"$f":"INDEX('8 LCI Data Compilation'!$AN$216:$AS$242,MATCH(D227,'8 LCI Data Compilation'!$C$216:$C$242,0),MATCH('4 SMM Input'!$E$3,'8 LCI Data Compilation'!$AN$217:$AS$217,0))","v":"NA"}]
[null,null,14,"Mixed Metals",{"$f":"INDEX('8 LCI Data Compilation'!$D$216:$I$242,MATCH(D228,'8 LCI Data Compilation'!$C$216:$C$242,0),MATCH('4 SMM Input'!$E$3,'8 LCI Data Compilation'!$D$217:$I$217,0))","v":"NA"},"NA",{"$f":"INDEX('8 LCI Data Compilation'!$J$216:$O$242,MATCH(D228,'8 LCI Data Compilation'!$C$216:$C$242,0),MATCH('4 SMM Input'!$E$3,'8 LCI Data Compilation'!$J$217:$O$217,0))","v":"NA"},{"$f":"INDEX('8 LCI Data Compilation'!$P$216:$U$242,MATCH(D228,'8 LCI Data Compilation'!$C$216:$C$242,0),MATCH('4 SMM Input'!$E$3,'8 LCI Data Compilation'!$P$217:$U$217,0))","v":"NA"},{"$f":"INDEX('8 LCI Data Compilation'!$V$216:$AA$242,MATCH(D228,'8 LCI Data Compilation'!$C$216:$C$242,0),MATCH('4 SMM Input'!$E$3,'8 LCI Data Compilation'!$V$217:$AA$217,0))","v":"NA"},{"$f":"INDEX('8 LCI Data Compilation'!$AB$216:$AG$242,MATCH(D228,'8 LCI Data Compilation'!$C$216:$C$242,0),MATCH('4 SMM Input'!$E$3,'8 LCI Data Compilation'!$AB$217:$AG$217,0))","v":"NA"},{"$f":"INDEX('8 LCI Data Compilation'!$AH$216:$AM$242,MATCH(D228,'8 LCI Data Compilation'!$C$216:$C$242,0),MATCH('4 SMM Input'!$E$3,'8 LCI Data Compilation'!$AH$217:$AM$217,0))","v":"NA"},{"$f":"INDEX('8 LCI Data Compilation'!$AN$216:$AS$242,MATCH(D228,'8 LCI Data Compilation'!$C$216:$C$242,0),MATCH('4 SMM Input'!$E$3,'8 LCI Data Compilation'!$AN$217:$AS$217,0))","v":"NA"}]
[null,"Organic",15,"Yard Waste",{"$f":"INDEX('8 LCI Data Compilation'!$D$216:$I$242,MATCH(D229,'8 LCI Data Compilation'!$C$216:$C$242,0),MATCH('4 SMM Input'!$E$3,'8 LCI Data Compilation'!$D$217:$I$217,0))","v":"NA"},"NA",{"$f":"INDEX('8 LCI Data Compilation'!$J$216:$O$242,MATCH(D229,'8 LCI Data Compilation'!$C$216:$C$242,0),MATCH('4 SMM Input'!$E$3,'8 LCI Data Compilation'!$J$217:$O$217,0))","v":"NA"},{"$f":"INDEX('8 LCI Data Compilation'!$P$216:$U$242,MATCH(D229,'8 LCI Data Compilation'!$C$216:$C$242,0),MATCH('4 SMM Input'!$E$3,'8 LCI Data Compilation'!$P$217:$U$217,0))","v":"NA"},{"$f":"INDEX('8 LCI Data Compilation'!$V$216:$AA$242,MATCH(D229,'8 LCI Data Compilation'!$C$216:$C$242,0),MATCH('4 SMM Input'!$E$3,'8 LCI Data Compilation'!$V$217:$AA$217,0))","v":"NA"},{"$f":"INDEX('8 LCI Data Compilation'!$AB$216:$AG$242,MATCH(D229,'8 LCI Data Compilation'!$C$216:$C$242,0),MATCH('4 SMM Input'!$E$3,'8 LCI Data Compilation'!$AB$217:$AG$217,0))","v":"NA"},{"$f":"INDEX('8 LCI Data Compilation'!$AH$216:$AM$242,MATCH(D229,'8 LCI Data Compilation'!$C$216:$C$242,0),MATCH('4 SMM Input'!$E$3,'8 LCI Data Compilation'!$AH$217:$AM$217,0))","v":"NA"},{"$f":"INDEX('8 LCI Data Compilation'!$AN$216:$AS$242,MATCH(D229,'8 LCI Data Compilation'!$C$216:$C$242,0),MATCH('4 SMM Input'!$E$3,'8 LCI Data Compilation'!$AN$217:$AS$217,0))","v":"NA"}]
[null,null,16,"Food Waste",{"$f":"INDEX('8 LCI Data Compilation'!$D$216:$I$242,MATCH(D230,'8 LCI Data Compilation'!$C$216:$C$242,0),MATCH('4 SMM Input'!$E$3,'8 LCI Data Compilation'!$D$217:$I$217,0))","v":"NA"},"NA",{"$f":"INDEX('8 LCI Data Compilation'!$J$216:$O$242,MATCH(D230,'8 LCI Data Compilation'!$C$216:$C$242,0),MATCH('4 SMM Input'!$E$3,'8 LCI Data Compilation'!$J$217:$O$217,0))","v":"NA"},{"$f":"INDEX('8 LCI Data Compilation'!$P$216:$U$242,MATCH(D230,'8 LCI Data Compilation'!$C$216:$C$242,0),MATCH('4 SMM Input'!$E$3,'8 LCI Data Compilation'!$P$217:$U$217,0))","v":"NA"},{"$f":"INDEX('8 LCI Data Compilation'!$V$216:$AA$242,MATCH(D230,'8 LCI Data Compilation'!$C$216:$C$242,0),MATCH('4 SMM Input'!$E$3,'8 LCI Data Compilation'!$V$217:$AA$217,0))","v":"NA"},{"$f":"INDEX('8 LCI Data Compilation'!$AB$216:$AG$242,MATCH(D230,'8 LCI Data Compilation'!$C$216:$C$242,0),MATCH('4 SMM Input'!$E$3,'8 LCI Data Compilation'!$AB$217:$AG$217,0))","v":"NA"},{"$f":"INDEX('8 LCI Data Compilation'!$AH$216:$AM$242,MATCH(D230,'8 LCI Data Compilation'!$C$216:$C$242,0),MATCH('4 SMM Input'!$E$3,'8 LCI Data Compilation'!$AH$217:$AM$217,0))","v":"NA"},{"$f":"INDEX('8 LCI Data Compilation'!$AN$216:$AS$242,MATCH(D230,'8 LCI Data Compilation'!$C$216:$C$242,0),MATCH('4 SMM Input'!$E$3,'8 LCI Data Compilation'!$AN$217:$AS$217,0))","v":"NA"}]
[null,"Other ",17,"Tires",{"$f":"INDEX('8 LCI Data Compilation'!$D$216:$I$242,MATCH(D231,'8 LCI Data Compilation'!$C$216:$C$242,0),MATCH('4 SMM Input'!$E$3,'8 LCI Data Compilation'!$D$217:$I$217,0))","v":"NA"},"NA",{"$f":"INDEX('8 LCI Data Compilation'!$J$216:$O$242,MATCH(D231,'8 LCI Data Compilation'!$C$216:$C$242,0),MATCH('4 SMM Input'!$E$3,'8 LCI Data Compilation'!$J$217:$O$217,0))","v":"NA"},{"$f":"INDEX('8 LCI Data Compilation'!$P$216:$U$242,MATCH(D231,'8 LCI Data Compilation'!$C$216:$C$242,0),MATCH('4 SMM Input'!$E$3,'8 LCI Data Compilation'!$P$217:$U$217,0))","v":"NA"},{"$f":"INDEX('8 LCI Data Compilation'!$V$216:$AA$242,MATCH(D231,'8 LCI Data Compilation'!$C$216:$C$242,0),MATCH('4 SMM Input'!$E$3,'8 LCI Data Compilation'!$V$217:$AA$217,0))","v":"NA"},{"$f":"INDEX('8 LCI Data Compilation'!$AB$216:$AG$242,MATCH(D231,'8 LCI Data Compilation'!$C$216:$C$242,0),MATCH('4 SMM Input'!$E$3,'8 LCI Data Compilation'!$AB$217:$AG$217,0))","v":"NA"},{"$f":"INDEX('8 LCI Data Compilation'!$AH$216:$AM$242,MATCH(D231,'8 LCI Data Compilation'!$C$216:$C$242,0),MATCH('4 SMM Input'!$E$3,'8 LCI Data Compilation'!$AH$217:$AM$217,0))","v":"NA"},{"$f":"INDEX('8 LCI Data Compilation'!$AN$216:$AS$242,MATCH(D231,'8 LCI Data Compilation'!$C$216:$C$242,0),MATCH('4 SMM Input'!$E$3,'8 LCI Data Compilation'!$AN$217:$AS$217,0))","v":"NA"}]
[null,null,18,"Clothing and Footwear",{"$f":"INDEX('8 LCI Data Compilation'!$D$216:$I$242,MATCH(D232,'8 LCI Data Compilation'!$C$216:$C$242,0),MATCH('4 SMM Input'!$E$3,'8 LCI Data Compilation'!$D$217:$I$217,0))","v":"NA"},"NA",{"$f":"INDEX('8 LCI Data Compilation'!$J$216:$O$242,MATCH(D232,'8 LCI Data Compilation'!$C$216:$C$242,0),MATCH('4 SMM Input'!$E$3,'8 LCI Data Compilation'!$J$217:$O$217,0))","v":"NA"},{"$f":"INDEX('8 LCI Data Compilation'!$P$216:$U$242,MATCH(D232,'8 LCI Data Compilation'!$C$216:$C$242,0),MATCH('4 SMM Input'!$E$3,'8 LCI Data Compilation'!$P$217:$U$217,0))","v":"NA"},{"$f":"INDEX('8 LCI Data Compilation'!$V$216:$AA$242,MATCH(D232,'8 LCI Data Compilation'!$C$216:$C$242,0),MATCH('4 SMM Input'!$E$3,'8 LCI Data Compilation'!$V$217:$AA$217,0))","v":"NA"},{"$f":"INDEX('8 LCI Data Compilation'!$AB$216:$AG$242,MATCH(D232,'8 LCI Data Compilation'!$C$216:$C$242,0),MATCH('4 SMM Input'!$E$3,'8 LCI Data Compilation'!$AB$217:$AG$217,0))","v":"NA"},{"$f":"INDEX('8 LCI Data Compilation'!$AH$216:$AM$242,MATCH(D232,'8 LCI Data Compilation'!$C$216:$C$242,0),MATCH('4 SMM Input'!$E$3,'8 LCI Data Compilation'!$AH$217:$AM$217,0))","v":"NA"},{"$f":"INDEX('8 LCI Data Compilation'!$AN$216:$AS$242,MATCH(D232,'8 LCI Data Compilation'!$C$216:$C$242,0),MATCH('4 SMM Input'!$E$3,'8 LCI Data Compilation'!$AN$217:$AS$217,0))","v":"NA"}]
[null,null,19,"Furniture",{"$f":"INDEX('8 LCI Data Compilation'!$D$216:$I$242,MATCH(D233,'8 LCI Data Compilation'!$C$216:$C$242,0),MATCH('4 SMM Input'!$E$3,'8 LCI Data Compilation'!$D$217:$I$217,0))","v":"NA"},"NA",{"$f":"INDEX('8 LCI Data Compilation'!$J$216:$O$242,MATCH(D233,'8 LCI Data Compilation'!$C$216:$C$242,0),MATCH('4 SMM Input'!$E$3,'8 LCI Data Compilation'!$J$217:$O$217,0))","v":"NA"},{"$f":"INDEX('8 LCI Data Compilation'!$P$216:$U$242,MATCH(D233,'8 LCI Data Compilation'!$C$216:$C$242,0),MATCH('4 SMM Input'!$E$3,'8 LCI Data Compilation'!$P$217:$U$217,0))","v":"NA"},{"$f":"INDEX('8 LCI Data Compilation'!$V$216:$AA$242,MATCH(D233,'8 LCI Data Compilation'!$C$216:$C$242,0),MATCH('4 SMM Input'!$E$3,'8 LCI Data Compilation'!$V$217:$AA$217,0))","v":"NA"},{"$f":"INDEX('8 LCI Data Compilation'!$AB$216:$AG$242,MATCH(D233,'8 LCI Data Compilation'!$C$216:$C$242,0),MATCH('4 SMM Input'!$E$3,'8 LCI Data Compilation'!$AB$217:$AG$217,0))","v":"NA"},{"$f":"INDEX('8 LCI Data Compilation'!$AH$216:$AM$242,MATCH(D233,'8 LCI Data Compilation'!$C$216:$C$242,0),MATCH('4 SMM Input'!$E$3,'8 LCI Data Compilation'!$AH$217:$AM$217,0))","v":"NA"},{"$f":"INDEX('8 LCI Data Compilation'!$AN$216:$AS$242,MATCH(D233,'8 LCI Data Compilation'!$C$216:$C$242,0),MATCH('4 SMM Input'!$E$3,'8 LCI Data Compilation'!$AN$217:$AS$217,0))","v":"NA"}]
[null,null,20,"Electronics",{"$f":"INDEX('8 LCI Data Compilation'!$D$216:$I$242,MATCH(D234,'8 LCI Data Compilation'!$C$216:$C$242,0),MATCH('4 SMM Input'!$E$3,'8 LCI Data Compilation'!$D$217:$I$217,0))","v":"NA"},"NA",{"$f":"INDEX('8 LCI Data Compilation'!$J$216:$O$242,MATCH(D234,'8 LCI Data Compilation'!$C$216:$C$242,0),MATCH('4 SMM Input'!$E$3,'8 LCI Data Compilation'!$J$217:$O$217,0))","v":"NA"},{"$f":"INDEX('8 LCI Data Compilation'!$P$216:$U$242,MATCH(D234,'8 LCI Data Compilation'!$C$216:$C$242,0),MATCH('4 SMM Input'!$E$3,'8 LCI Data Compilation'!$P$217:$U$217,0))","v":"NA"},{"$f":"INDEX('8 LCI Data Compilation'!$V$216:$AA$242,MATCH(D234,'8 LCI Data Compilation'!$C$216:$C$242,0),MATCH('4 SMM Input'!$E$3,'8 LCI Data Compilation'!$V$217:$AA$217,0))","v":"NA"},{"$f":"INDEX('8 LCI Data Compilation'!$AB$216:$AG$242,MATCH(D234,'8 LCI Data Compilation'!$C$216:$C$242,0),MATCH('4 SMM Input'!$E$3,'8 LCI Data Compilation'!$AB$217:$AG$217,0))","v":"NA"},{"$f":"INDEX('8 LCI Data Compilation'!$AH$216:$AM$242,MATCH(D234,'8 LCI Data Compilation'!$C$216:$C$242,0),MATCH('4 SMM Input'!$E$3,'8 LCI Data Compilation'!$AH$217:$AM$217,0))","v":"NA"},{"$f":"INDEX('8 LCI Data Compilation'!$AN$216:$AS$242,MATCH(D234,'8 LCI Data Compilation'!$C$216:$C$242,0),MATCH('4 SMM Input'!$E$3,'8 LCI Data Compilation'!$AN$217:$AS$217,0))","v":"NA"}]
[null,"C&D Debris",21,"Wood Products",{"$f":"INDEX('8 LCI Data Compilation'!$D$216:$I$242,MATCH(D235,'8 LCI Data Compilation'!$C$216:$C$242,0),MATCH('4 SMM Input'!$E$3,'8 LCI Data Compilation'!$D$217:$I$217,0))","v":"NA"},"NA",{"$f":"INDEX('8 LCI Data Compilation'!$J$216:$O$242,MATCH(D235,'8 LCI Data Compilation'!$C$216:$C$242,0),MATCH('4 SMM Input'!$E$3,'8 LCI Data Compilation'!$J$217:$O$217,0))","v":"NA"},{"$f":"INDEX('8 LCI Data Compilation'!$P$216:$U$242,MATCH(D235,'8 LCI Data Compilation'!$C$216:$C$242,0),MATCH('4 SMM Input'!$E$3,'8 LCI Data Compilation'!$P$217:$U$217,0))","v":"NA"},{"$f":"INDEX('8 LCI Data Compilation'!$V$216:$AA$242,MATCH(D235,'8 LCI Data Compilation'!$C$216:$C$242,0),MATCH('4 SMM Input'!$E$3,'8 LCI Data Compilation'!$V$217:$AA$217,0))","v":"NA"},{"$f":"INDEX('8 LCI Data Compilation'!$AB$216:$AG$242,MATCH(D235,'8 LCI Data Compilation'!$C$216:$C$242,0),MATCH('4 SMM Input'!$E$3,'8 LCI Data Compilation'!$AB$217:$AG$217,0))","v":"NA"},{"$f":"INDEX('8 LCI Data Compilation'!$AH$216:$AM$242,MATCH(D235,'8 LCI Data Compilation'!$C$216:$C$242,0),MATCH('4 SMM Input'!$E$3,'8 LCI Data Compilation'!$AH$217:$AM$217,0))","v":"NA"},{"$f":"INDEX('8 LCI Data Compilation'!$AN$216:$AS$242,MATCH(D235,'8 LCI Data Compilation'!$C$216:$C$242,0),MATCH('4 SMM Input'!$E$3,'8 LCI Data Compilation'!$AN$217:$AS$217,0))","v":"NA"}]
[null,null,22,"Asphalt Shingles",{"$f":"INDEX('8 LCI Data Compilation'!$D$216:$I$242,MATCH(D236,'8 LCI Data Compilation'!$C$216:$C$242,0),MATCH('4 SMM Input'!$E$3,'8 LCI Data Compilation'!$D$217:$I$217,0))","v":"NA"},"NA",{"$f":"INDEX('8 LCI Data Compilation'!$J$216:$O$242,MATCH(D236,'8 LCI Data Compilation'!$C$216:$C$242,0),MATCH('4 SMM Input'!$E$3,'8 LCI Data Compilation'!$J$217:$O$217,0))","v":"NA"},{"$f":"INDEX('8 LCI Data Compilation'!$P$216:$U$242,MATCH(D236,'8 LCI Data Compilation'!$C$216:$C$242,0),MATCH('4 SMM Input'!$E$3,'8 LCI Data Compilation'!$P$217:$U$217,0))","v":"NA"},{"$f":"INDEX('8 LCI Data Compilation'!$V$216:$AA$242,MATCH(D236,'8 LCI Data Compilation'!$C$216:$C$242,0),MATCH('4 SMM Input'!$E$3,'8 LCI Data Compilation'!$V$217:$AA$217,0))","v":"NA"},{"$f":"INDEX('8 LCI Data Compilation'!$AB$216:$AG$242,MATCH(D236,'8 LCI Data Compilation'!$C$216:$C$242,0),MATCH('4 SMM Input'!$E$3,'8 LCI Data Compilation'!$AB$217:$AG$217,0))","v":"NA"},{"$f":"INDEX('8 LCI Data Compilation'!$AH$216:$AM$242,MATCH(D236,'8 LCI Data Compilation'!$C$216:$C$242,0),MATCH('4 SMM Input'!$E$3,'8 LCI Data Compilation'!$AH$217:$AM$217,0))","v":"NA"},{"$f":"INDEX('8 LCI Data Compilation'!$AN$216:$AS$242,MATCH(D236,'8 LCI Data Compilation'!$C$216:$C$242,0),MATCH('4 SMM Input'!$E$3,'8 LCI Data Compilation'!$AN$217:$AS$217,0))","v":"NA"}]
[null,null,23,"Gypsum Drywall",{"$f":"INDEX('8 LCI Data Compilation'!$D$216:$I$242,MATCH(D237,'8 LCI Data Compilation'!$C$216:$C$242,0),MATCH('4 SMM Input'!$E$3,'8 LCI Data Compilation'!$D$217:$I$217,0))","v":"NA"},"NA",{"$f":"INDEX('8 LCI Data Compilation'!$J$216:$O$242,MATCH(D237,'8 LCI Data Compilation'!$C$216:$C$242,0),MATCH('4 SMM Input'!$E$3,'8 LCI Data Compilation'!$J$217:$O$217,0))","v":"NA"},{"$f":"INDEX('8 LCI Data Compilation'!$P$216:$U$242,MATCH(D237,'8 LCI Data Compilation'!$C$216:$C$242,0),MATCH('4 SMM Input'!$E$3,'8 LCI Data Compilation'!$P$217:$U$217,0))","v":"NA"},{"$f":"INDEX('8 LCI Data Compilation'!$V$216:$AA$242,MATCH(D237,'8 LCI Data Compilation'!$C$216:$C$242,0),MATCH('4 SMM Input'!$E$3,'8 LCI Data Compilation'!$V$217:$AA$217,0))","v":"NA"},{"$f":"INDEX('8 LCI Data Compilation'!$AB$216:$AG$242,MATCH(D237,'8 LCI Data Compilation'!$C$216:$C$242,0),MATCH('4 SMM Input'!$E$3,'8 LCI Data Compilation'!$AB$217:$AG$217,0))","v":"NA"},{"$f":"INDEX('8 LCI Data Compilation'!$AH$216:$AM$242,MATCH(D237,'8 LCI Data Compilation'!$C$216:$C$242,0),MATCH('4 SMM Input'!$E$3,'8 LCI Data Compilation'!$AH$217:$AM$217,0))","v":"NA"},{"$f":"INDEX('8 LCI Data Compilation'!$AN$216:$AS$242,MATCH(D237,'8 LCI Data Compilation'!$C$216:$C$242,0),MATCH('4 SMM Input'!$E$3,'8 LCI Data Compilation'!$AN$217:$AS$217,0))","v":"NA"}]
[null,null,24,"Concrete",{"$f":"INDEX('8 LCI Data Compilation'!$D$216:$I$242,MATCH(D238,'8 LCI Data Compilation'!$C$216:$C$242,0),MATCH('4 SMM Input'!$E$3,'8 LCI Data Compilation'!$D$217:$I$217,0))","v":"NA"},"NA",{"$f":"INDEX('8 LCI Data Compilation'!$J$216:$O$242,MATCH(D238,'8 LCI Data Compilation'!$C$216:$C$242,0),MATCH('4 SMM Input'!$E$3,'8 LCI Data Compilation'!$J$217:$O$217,0))","v":"NA"},{"$f":"INDEX('8 LCI Data Compilation'!$P$216:$U$242,MATCH(D238,'8 LCI Data Compilation'!$C$216:$C$242,0),MATCH('4 SMM Input'!$E$3,'8 LCI Data Compilation'!$P$217:$U$217,0))","v":"NA"},{"$f":"INDEX('8 LCI Data Compilation'!$V$216:$AA$242,MATCH(D238,'8 LCI Data Compilation'!$C$216:$C$242,0),MATCH('4 SMM Input'!$E$3,'8 LCI Data Compilation'!$V$217:$AA$217,0))","v":"NA"},{"$f":"INDEX('8 LCI Data Compilation'!$AB$216:$AG$242,MATCH(D238,'8 LCI Data Compilation'!$C$216:$C$242,0),MATCH('4 SMM Input'!$E$3,'8 LCI Data Compilation'!$AB$217:$AG$217,0))","v":"NA"},{"$f":"INDEX('8 LCI Data Compilation'!$AH$216:$AM$242,MATCH(D238,'8 LCI Data Compilation'!$C$216:$C$242,0),MATCH('4 SMM Input'!$E$3,'8 LCI Data Compilation'!$AH$217:$AM$217,0))","v":"NA"},{"$f":"INDEX('8 LCI Data Compilation'!$AN$216:$AS$242,MATCH(D238,'8 LCI Data Compilation'!$C$216:$C$242,0),MATCH('4 SMM Input'!$E$3,'8 LCI Data Compilation'!$AN$217:$AS$217,0))","v":"NA"}]
[null,null,25,"Reclaimed Asphalt Pavement",{"$f":"INDEX('8 LCI Data Compilation'!$D$216:$I$242,MATCH(D239,'8 LCI Data Compilation'!$C$216:$C$242,0),MATCH('4 SMM Input'!$E$3,'8 LCI Data Compilation'!$D$217:$I$217,0))","v":"NA"},"NA",{"$f":"INDEX('8 LCI Data Compilation'!$J$216:$O$242,MATCH(D239,'8 LCI Data Compilation'!$C$216:$C$242,0),MATCH('4 SMM Input'!$E$3,'8 LCI Data Compilation'!$J$217:$O$217,0))","v":"NA"},{"$f":"INDEX('8 LCI Data Compilation'!$P$216:$U$242,MATCH(D239,'8 LCI Data Compilation'!$C$216:$C$242,0),MATCH('4 SMM Input'!$E$3,'8 LCI Data Compilation'!$P$217:$U$217,0))","v":"NA"},{"$f":"INDEX('8 LCI Data Compilation'!$V$216:$AA$242,MATCH(D239,'8 LCI Data Compilation'!$C$216:$C$242,0),MATCH('4 SMM Input'!$E$3,'8 LCI Data Compilation'!$V$217:$AA$217,0))","v":"NA"},{"$f":"INDEX('8 LCI Data Compilation'!$AB$216:$AG$242,MATCH(D239,'8 LCI Data Compilation'!$C$216:$C$242,0),MATCH('4 SMM Input'!$E$3,'8 LCI Data Compilation'!$AB$217:$AG$217,0))","v":"NA"},{"$f":"INDEX('8 LCI Data Compilation'!$AH$216:$AM$242,MATCH(D239,'8 LCI Data Compilation'!$C$216:$C$242,0),MATCH('4 SMM Input'!$E$3,'8 LCI Data Compilation'!$AH$217:$AM$217,0))","v":"NA"},{"$f":"INDEX('8 LCI Data Compilation'!$AN$216:$AS$242,MATCH(D239,'8 LCI Data Compilation'!$C$216:$C$242,0),MATCH('4 SMM Input'!$E$3,'8 LCI Data Compilation'!$AN$217:$AS$217,0))","v":"NA"}]
[]
[]
[null,"All Units (yd3/ Short Ton)"]
[null,{"$f":"'5 SMM Results'!B246:M246","v":"Landfill Space Use (yd3): The measure of space a material, when compacted, occupies in a landfill. "}]
[null,"Material Category","Item No.","Material Type","Produced","Donated","Collection","Recycling","Composting","Anaerobic Digestion","Landfill","Combustion"]
[null,"MSW ",1,"Mixed MSW",{"$f":"INDEX('8 LCI Data Compilation'!$D$246:$I$272,MATCH(D245,'8 LCI Data Compilation'!$C$246:$C$272,0),MATCH('4 SMM Input'!$E$3,'8 LCI Data Compilation'!$D$247:$I$247,0))","v":"NA"},"NA",{"$f":"INDEX('8 LCI Data Compilation'!$J$246:$O$272,MATCH(D245,'8 LCI Data Compilation'!$C$246:$C$272,0),MATCH('4 SMM Input'!$E$3,'8 LCI Data Compilation'!$J$247:$O$247,0))","v":"NA"},{"$f":"INDEX('8 LCI Data Compilation'!$P$246:$U$272,MATCH(D245,'8 LCI Data Compilation'!$C$246:$C$272,0),MATCH('4 SMM Input'!$E$3,'8 LCI Data Compilation'!$P$247:$U$247,0))","v":"NA"},{"$f":"INDEX('8 LCI Data Compilation'!$V$246:$AA$272,MATCH(D245,'8 LCI Data Compilation'!$C$246:$C$272,0),MATCH('4 SMM Input'!$E$3,'8 LCI Data Compilation'!$V$247:$AA$247,0))","v":"NA"},{"$f":"INDEX('8 LCI Data Compilation'!$AB$246:$AG$272,MATCH(D245,'8 LCI Data Compilation'!$C$246:$C$272,0),MATCH('4 SMM Input'!$E$3,'8 LCI Data Compilation'!$AB$247:$AG$247,0))","v":"NA"},{"$f":"INDEX('8 LCI Data Compilation'!$AH$246:$AM$272,MATCH(D245,'8 LCI Data Compilation'!$C$246:$C$272,0),MATCH('4 SMM Input'!$E$3,'8 LCI Data Compilation'!$AH$247:$AM$247,0))","v":"NA"},{"$f":"INDEX('8 LCI Data Compilation'!$AN$246:$AS$272,MATCH(D245,'8 LCI Data Compilation'!$C$246:$C$272,0),MATCH('4 SMM Input'!$E$3,'8 LCI Data Compilation'!$AN$247:$AS$247,0))","v":"NA"}]
[null,"Paper",2,"Newspaper",{"$f":"INDEX('8 LCI Data Compilation'!$D$246:$I$272,MATCH(D246,'8 LCI Data Compilation'!$C$246:$C$272,0),MATCH('4 SMM Input'!$E$3,'8 LCI Data Compilation'!$D$247:$I$247,0))","v":"NA"},"NA",{"$f":"INDEX('8 LCI Data Compilation'!$J$246:$O$272,MATCH(D246,'8 LCI Data Compilation'!$C$246:$C$272,0),MATCH('4 SMM Input'!$E$3,'8 LCI Data Compilation'!$J$247:$O$247,0))","v":"NA"},{"$f":"INDEX('8 LCI Data Compilation'!$P$246:$U$272,MATCH(D246,'8 LCI Data Compilation'!$C$246:$C$272,0),MATCH('4 SMM Input'!$E$3,'8 LCI Data Compilation'!$P$247:$U$247,0))","v":"NA"},{"$f":"INDEX('8 LCI Data Compilation'!$V$246:$AA$272,MATCH(D246,'8 LCI Data Compilation'!$C$246:$C$272,0),MATCH('4 SMM Input'!$E$3,'8 LCI Data Compilation'!$V$247:$AA$247,0))","v":"NA"},{"$f":"INDEX('8 LCI Data Compilation'!$AB$246:$AG$272,MATCH(D246,'8 LCI Data Compilation'!$C$246:$C$272,0),MATCH('4 SMM Input'!$E$3,'8 LCI Data Compilation'!$AB$247:$AG$247,0))","v":"NA"},{"$f":"INDEX('8 LCI Data Compilation'!$AH$246:$AM$272,MATCH(D246,'8 LCI Data Compilation'!$C$246:$C$272,0),MATCH('4 SMM Input'!$E$3,'8 LCI Data Compilation'!$AH$247:$AM$247,0))","v":"NA"},{"$f":"INDEX('8 LCI Data Compilation'!$AN$246:$AS$272,MATCH(D246,'8 LCI Data Compilation'!$C$246:$C$272,0),MATCH('4 SMM Input'!$E$3,'8 LCI Data Compilation'!$AN$247:$AS$247,0))","v":"NA"}]
[null,null,3,"Corrugated Cardboard (OCC)",{"$f":"INDEX('8 LCI Data Compilation'!$D$246:$I$272,MATCH(D247,'8 LCI Data Compilation'!$C$246:$C$272,0),MATCH('4 SMM Input'!$E$3,'8 LCI Data Compilation'!$D$247:$I$247,0))","v":"NA"},"NA",{"$f":"INDEX('8 LCI Data Compilation'!$J$246:$O$272,MATCH(D247,'8 LCI Data Compilation'!$C$246:$C$272,0),MATCH('4 SMM Input'!$E$3,'8 LCI Data Compilation'!$J$247:$O$247,0))","v":"NA"},{"$f":"INDEX('8 LCI Data Compilation'!$P$246:$U$272,MATCH(D247,'8 LCI Data Compilation'!$C$246:$C$272,0),MATCH('4 SMM Input'!$E$3,'8 LCI Data Compilation'!$P$247:$U$247,0))","v":"NA"},{"$f":"INDEX('8 LCI Data Compilation'!$V$246:$AA$272,MATCH(D247,'8 LCI Data Compilation'!$C$246:$C$272,0),MATCH('4 SMM Input'!$E$3,'8 LCI Data Compilation'!$V$247:$AA$247,0))","v":"NA"},{"$f":"INDEX('8 LCI Data Compilation'!$AB$246:$AG$272,MATCH(D247,'8 LCI Data Compilation'!$C$246:$C$272,0),MATCH('4 SMM Input'!$E$3,'8 LCI Data Compilation'!$AB$247:$AG$247,0))","v":"NA"},{"$f":"INDEX('8 LCI Data Compilation'!$AH$246:$AM$272,MATCH(D247,'8 LCI Data Compilation'!$C$246:$C$272,0),MATCH('4 SMM Input'!$E$3,'8 LCI Data Compilation'!$AH$247:$AM$247,0))","v":"NA"},{"$f":"INDEX('8 LCI Data Compilation'!$AN$246:$AS$272,MATCH(D247,'8 LCI Data Compilation'!$C$246:$C$272,0),MATCH('4 SMM Input'!$E$3,'8 LCI Data Compilation'!$AN$247:$AS$247,0))","v":"NA"}]
[null,null,4,"High Grade Paper (Office Type Paper)",{"$f":"INDEX('8 LCI Data Compilation'!$D$246:$I$272,MATCH(D248,'8 LCI Data Compilation'!$C$246:$C$272,0),MATCH('4 SMM Input'!$E$3,'8 LCI Data Compilation'!$D$247:$I$247,0))","v":"NA"},"NA",{"$f":"INDEX('8 LCI Data Compilation'!$J$246:$O$272,MATCH(D248,'8 LCI Data Compilation'!$C$246:$C$272,0),MATCH('4 SMM Input'!$E$3,'8 LCI Data Compilation'!$J$247:$O$247,0))","v":"NA"},{"$f":"INDEX('8 LCI Data Compilation'!$P$246:$U$272,MATCH(D248,'8 LCI Data Compilation'!$C$246:$C$272,0),MATCH('4 SMM Input'!$E$3,'8 LCI Data Compilation'!$P$247:$U$247,0))","v":"NA"},{"$f":"INDEX('8 LCI Data Compilation'!$V$246:$AA$272,MATCH(D248,'8 LCI Data Compilation'!$C$246:$C$272,0),MATCH('4 SMM Input'!$E$3,'8 LCI Data Compilation'!$V$247:$AA$247,0))","v":"NA"},{"$f":"INDEX('8 LCI Data Compilation'!$AB$246:$AG$272,MATCH(D248,'8 LCI Data Compilation'!$C$246:$C$272,0),MATCH('4 SMM Input'!$E$3,'8 LCI Data Compilation'!$AB$247:$AG$247,0))","v":"NA"},{"$f":"INDEX('8 LCI Data Compilation'!$AH$246:$AM$272,MATCH(D248,'8 LCI Data Compilation'!$C$246:$C$272,0),MATCH('4 SMM Input'!$E$3,'8 LCI Data Compilation'!$AH$247:$AM$247,0))","v":"NA"},{"$f":"INDEX('8 LCI Data Compilation'!$AN$246:$AS$272,MATCH(D248,'8 LCI Data Compilation'!$C$246:$C$272,0),MATCH('4 SMM Input'!$E$3,'8 LCI Data Compilation'!$AN$247:$AS$247,0))","v":"NA"}]
[null,null,5,"Magazines/third-class mail",{"$f":"INDEX('8 LCI Data Compilation'!$D$246:$I$272,MATCH(D249,'8 LCI Data Compilation'!$C$246:$C$272,0),MATCH('4 SMM Input'!$E$3,'8 LCI Data Compilation'!$D$247:$I$247,0))","v":"NA"},"NA",{"$f":"INDEX('8 LCI Data Compilation'!$J$246:$O$272,MATCH(D249,'8 LCI Data Compilation'!$C$246:$C$272,0),MATCH('4 SMM Input'!$E$3,'8 LCI Data Compilation'!$J$247:$O$247,0))","v":"NA"},{"$f":"INDEX('8 LCI Data Compilation'!$P$246:$U$272,MATCH(D249,'8 LCI Data Compilation'!$C$246:$C$272,0),MATCH('4 SMM Input'!$E$3,'8 LCI Data Compilation'!$P$247:$U$247,0))","v":"NA"},{"$f":"INDEX('8 LCI Data Compilation'!$V$246:$AA$272,MATCH(D249,'8 LCI Data Compilation'!$C$246:$C$272,0),MATCH('4 SMM Input'!$E$3,'8 LCI Data Compilation'!$V$247:$AA$247,0))","v":"NA"},{"$f":"INDEX('8 LCI Data Compilation'!$AB$246:$AG$272,MATCH(D249,'8 LCI Data Compilation'!$C$246:$C$272,0),MATCH('4 SMM Input'!$E$3,'8 LCI Data Compilation'!$AB$247:$AG$247,0))","v":"NA"},{"$f":"INDEX('8 LCI Data Compilation'!$AH$246:$AM$272,MATCH(D249,'8 LCI Data Compilation'!$C$246:$C$272,0),MATCH('4 SMM Input'!$E$3,'8 LCI Data Compilation'!$AH$247:$AM$247,0))","v":"NA"},{"$f":"INDEX('8 LCI Data Compilation'!$AN$246:$AS$272,MATCH(D249,'8 LCI Data Compilation'!$C$246:$C$272,0),MATCH('4 SMM Input'!$E$3,'8 LCI Data Compilation'!$AN$247:$AS$247,0))","v":"NA"}]
[null,null,6,"Books",{"$f":"INDEX('8 LCI Data Compilation'!$D$246:$I$272,MATCH(D250,'8 LCI Data Compilation'!$C$246:$C$272,0),MATCH('4 SMM Input'!$E$3,'8 LCI Data Compilation'!$D$247:$I$247,0))","v":"NA"},"NA",{"$f":"INDEX('8 LCI Data Compilation'!$J$246:$O$272,MATCH(D250,'8 LCI Data Compilation'!$C$246:$C$272,0),MATCH('4 SMM Input'!$E$3,'8 LCI Data Compilation'!$J$247:$O$247,0))","v":"NA"},{"$f":"INDEX('8 LCI Data Compilation'!$P$246:$U$272,MATCH(D250,'8 LCI Data Compilation'!$C$246:$C$272,0),MATCH('4 SMM Input'!$E$3,'8 LCI Data Compilation'!$P$247:$U$247,0))","v":"NA"},{"$f":"INDEX('8 LCI Data Compilation'!$V$246:$AA$272,MATCH(D250,'8 LCI Data Compilation'!$C$246:$C$272,0),MATCH('4 SMM Input'!$E$3,'8 LCI Data Compilation'!$V$247:$AA$247,0))","v":"NA"},{"$f":"INDEX('8 LCI Data Compilation'!$AB$246:$AG$272,MATCH(D250,'8 LCI Data Compilation'!$C$246:$C$272,0),MATCH('4 SMM Input'!$E$3,'8 LCI Data Compilation'!$AB$247:$AG$247,0))","v":"NA"},{"$f":"INDEX('8 LCI Data Compilation'!$AH$246:$AM$272,MATCH(D250,'8 LCI Data Compilation'!$C$246:$C$272,0),MATCH('4 SMM Input'!$E$3,'8 LCI Data Compilation'!$AH$247:$AM$247,0))","v":"NA"},{"$f":"INDEX('8 LCI Data Compilation'!$AN$246:$AS$272,MATCH(D250,'8 LCI Data Compilation'!$C$246:$C$272,0),MATCH('4 SMM Input'!$E$3,'8 LCI Data Compilation'!$AN$247:$AS$247,0))","v":"NA"}]
[null,null,7,"Mixed Paper",{"$f":"INDEX('8 LCI Data Compilation'!$D$246:$I$272,MATCH(D251,'8 LCI Data Compilation'!$C$246:$C$272,0),MATCH('4 SMM Input'!$E$3,'8 LCI Data Compilation'!$D$247:$I$247,0))","v":"NA"},"NA",{"$f":"INDEX('8 LCI Data Compilation'!$J$246:$O$272,MATCH(D251,'8 LCI Data Compilation'!$C$246:$C$272,0),MATCH('4 SMM Input'!$E$3,'8 LCI Data Compilation'!$J$247:$O$247,0))","v":"NA"},{"$f":"INDEX('8 LCI Data Compilation'!$P$246:$U$272,MATCH(D251,'8 LCI Data Compilation'!$C$246:$C$272,0),MATCH('4 SMM Input'!$E$3,'8 LCI Data Compilation'!$P$247:$U$247,0))","v":"NA"},{"$f":"INDEX('8 LCI Data Compilation'!$V$246:$AA$272,MATCH(D251,'8 LCI Data Compilation'!$C$246:$C$272,0),MATCH('4 SMM Input'!$E$3,'8 LCI Data Compilation'!$V$247:$AA$247,0))","v":"NA"},{"$f":"INDEX('8 LCI Data Compilation'!$AB$246:$AG$272,MATCH(D251,'8 LCI Data Compilation'!$C$246:$C$272,0),MATCH('4 SMM Input'!$E$3,'8 LCI Data Compilation'!$AB$247:$AG$247,0))","v":"NA"},{"$f":"INDEX('8 LCI Data Compilation'!$AH$246:$AM$272,MATCH(D251,'8 LCI Data Compilation'!$C$246:$C$272,0),MATCH('4 SMM Input'!$E$3,'8 LCI Data Compilation'!$AH$247:$AM$247,0))","v":"NA"},{"$f":"INDEX('8 LCI Data Compilation'!$AN$246:$AS$272,MATCH(D251,'8 LCI Data Compilation'!$C$246:$C$272,0),MATCH('4 SMM Input'!$E$3,'8 LCI Data Compilation'!$AN$247:$AS$247,0))","v":"NA"}]
[null,"Plastic",8,"HDPE",{"$f":"INDEX('8 LCI Data Compilation'!$D$246:$I$272,MATCH(D252,'8 LCI Data Compilation'!$C$246:$C$272,0),MATCH('4 SMM Input'!$E$3,'8 LCI Data Compilation'!$D$247:$I$247,0))","v":"NA"},"NA",{"$f":"INDEX('8 LCI Data Compilation'!$J$246:$O$272,MATCH(D252,'8 LCI Data Compilation'!$C$246:$C$272,0),MATCH('4 SMM Input'!$E$3,'8 LCI Data Compilation'!$J$247:$O$247,0))","v":"NA"},{"$f":"INDEX('8 LCI Data Compilation'!$P$246:$U$272,MATCH(D252,'8 LCI Data Compilation'!$C$246:$C$272,0),MATCH('4 SMM Input'!$E$3,'8 LCI Data Compilation'!$P$247:$U$247,0))","v":"NA"},{"$f":"INDEX('8 LCI Data Compilation'!$V$246:$AA$272,MATCH(D252,'8 LCI Data Compilation'!$C$246:$C$272,0),MATCH('4 SMM Input'!$E$3,'8 LCI Data Compilation'!$V$247:$AA$247,0))","v":"NA"},{"$f":"INDEX('8 LCI Data Compilation'!$AB$246:$AG$272,MATCH(D252,'8 LCI Data Compilation'!$C$246:$C$272,0),MATCH('4 SMM Input'!$E$3,'8 LCI Data Compilation'!$AB$247:$AG$247,0))","v":"NA"},{"$f":"INDEX('8 LCI Data Compilation'!$AH$246:$AM$272,MATCH(D252,'8 LCI Data Compilation'!$C$246:$C$272,0),MATCH('4 SMM Input'!$E$3,'8 LCI Data Compilation'!$AH$247:$AM$247,0))","v":"NA"},{"$f":"INDEX('8 LCI Data Compilation'!$AN$246:$AS$272,MATCH(D252,'8 LCI Data Compilation'!$C$246:$C$272,0),MATCH('4 SMM Input'!$E$3,'8 LCI Data Compilation'!$AN$247:$AS$247,0))","v":"NA"}]
[null,null,9,"PET",{"$f":"INDEX('8 LCI Data Compilation'!$D$246:$I$272,MATCH(D253,'8 LCI Data Compilation'!$C$246:$C$272,0),MATCH('4 SMM Input'!$E$3,'8 LCI Data Compilation'!$D$247:$I$247,0))","v":"NA"},"NA",{"$f":"INDEX('8 LCI Data Compilation'!$J$246:$O$272,MATCH(D253,'8 LCI Data Compilation'!$C$246:$C$272,0),MATCH('4 SMM Input'!$E$3,'8 LCI Data Compilation'!$J$247:$O$247,0))","v":"NA"},{"$f":"INDEX('8 LCI Data Compilation'!$P$246:$U$272,MATCH(D253,'8 LCI Data Compilation'!$C$246:$C$272,0),MATCH('4 SMM Input'!$E$3,'8 LCI Data Compilation'!$P$247:$U$247,0))","v":"NA"},{"$f":"INDEX('8 LCI Data Compilation'!$V$246:$AA$272,MATCH(D253,'8 LCI Data Compilation'!$C$246:$C$272,0),MATCH('4 SMM Input'!$E$3,'8 LCI Data Compilation'!$V$247:$AA$247,0))","v":"NA"},{"$f":"INDEX('8 LCI Data Compilation'!$AB$246:$AG$272,MATCH(D253,'8 LCI Data Compilation'!$C$246:$C$272,0),MATCH('4 SMM Input'!$E$3,'8 LCI Data Compilation'!$AB$247:$AG$247,0))","v":"NA"},{"$f":"INDEX('8 LCI Data Compilation'!$AH$246:$AM$272,MATCH(D253,'8 LCI Data Compilation'!$C$246:$C$272,0),MATCH('4 SMM Input'!$E$3,'8 LCI Data Compilation'!$AH$247:$AM$247,0))","v":"NA"},{"$f":"INDEX('8 LCI Data Compilation'!$AN$246:$AS$272,MATCH(D253,'8 LCI Data Compilation'!$C$246:$C$272,0),MATCH('4 SMM Input'!$E$3,'8 LCI Data Compilation'!$AN$247:$AS$247,0))","v":"NA"}]
[null,null,10,"Mixed Plastic",{"$f":"INDEX('8 LCI Data Compilation'!$D$246:$I$272,MATCH(D254,'8 LCI Data Compilation'!$C$246:$C$272,0),MATCH('4 SMM Input'!$E$3,'8 LCI Data Compilation'!$D$247:$I$247,0))","v":"NA"},"NA",{"$f":"INDEX('8 LCI Data Compilation'!$J$246:$O$272,MATCH(D254,'8 LCI Data Compilation'!$C$246:$C$272,0),MATCH('4 SMM Input'!$E$3,'8 LCI Data Compilation'!$J$247:$O$247,0))","v":"NA"},{"$f":"INDEX('8 LCI Data Compilation'!$P$246:$U$272,MATCH(D254,'8 LCI Data Compilation'!$C$246:$C$272,0),MATCH('4 SMM Input'!$E$3,'8 LCI Data Compilation'!$P$247:$U$247,0))","v":"NA"},{"$f":"INDEX('8 LCI Data Compilation'!$V$246:$AA$272,MATCH(D254,'8 LCI Data Compilation'!$C$246:$C$272,0),MATCH('4 SMM Input'!$E$3,'8 LCI Data Compilation'!$V$247:$AA$247,0))","v":"NA"},{"$f":"INDEX('8 LCI Data Compilation'!$AB$246:$AG$272,MATCH(D254,'8 LCI Data Compilation'!$C$246:$C$272,0),MATCH('4 SMM Input'!$E$3,'8 LCI Data Compilation'!$AB$247:$AG$247,0))","v":"NA"},{"$f":"INDEX('8 LCI Data Compilation'!$AH$246:$AM$272,MATCH(D254,'8 LCI Data Compilation'!$C$246:$C$272,0),MATCH('4 SMM Input'!$E$3,'8 LCI Data Compilation'!$AH$247:$AM$247,0))","v":"NA"},{"$f":"INDEX('8 LCI Data Compilation'!$AN$246:$AS$272,MATCH(D254,'8 LCI Data Compilation'!$C$246:$C$272,0),MATCH('4 SMM Input'!$E$3,'8 LCI Data Compilation'!$AN$247:$AS$247,0))","v":"NA"}]
[null,"Glass",11,"Glass",{"$f":"INDEX('8 LCI Data Compilation'!$D$246:$I$272,MATCH(D255,'8 LCI Data Compilation'!$C$246:$C$272,0),MATCH('4 SMM Input'!$E$3,'8 LCI Data Compilation'!$D$247:$I$247,0))","v":"NA"},"NA",{"$f":"INDEX('8 LCI Data Compilation'!$J$246:$O$272,MATCH(D255,'8 LCI Data Compilation'!$C$246:$C$272,0),MATCH('4 SMM Input'!$E$3,'8 LCI Data Compilation'!$J$247:$O$247,0))","v":"NA"},{"$f":"INDEX('8 LCI Data Compilation'!$P$246:$U$272,MATCH(D255,'8 LCI Data Compilation'!$C$246:$C$272,0),MATCH('4 SMM Input'!$E$3,'8 LCI Data Compilation'!$P$247:$U$247,0))","v":"NA"},{"$f":"INDEX('8 LCI Data Compilation'!$V$246:$AA$272,MATCH(D255,'8 LCI Data Compilation'!$C$246:$C$272,0),MATCH('4 SMM Input'!$E$3,'8 LCI Data Compilation'!$V$247:$AA$247,0))","v":"NA"},{"$f":"INDEX('8 LCI Data Compilation'!$AB$246:$AG$272,MATCH(D255,'8 LCI Data Compilation'!$C$246:$C$272,0),MATCH('4 SMM Input'!$E$3,'8 LCI Data Compilation'!$AB$247:$AG$247,0))","v":"NA"},{"$f":"INDEX('8 LCI Data Compilation'!$AH$246:$AM$272,MATCH(D255,'8 LCI Data Compilation'!$C$246:$C$272,0),MATCH('4 SMM Input'!$E$3,'8 LCI Data Compilation'!$AH$247:$AM$247,0))","v":"NA"},{"$f":"INDEX('8 LCI Data Compilation'!$AN$246:$AS$272,MATCH(D255,'8 LCI Data Compilation'!$C$246:$C$272,0),MATCH('4 SMM Input'!$E$3,'8 LCI Data Compilation'!$AN$247:$AS$247,0))","v":"NA"}]
[null,"Metals",12,"Aluminum Cans",{"$f":"INDEX('8 LCI Data Compilation'!$D$246:$I$272,MATCH(D256,'8 LCI Data Compilation'!$C$246:$C$272,0),MATCH('4 SMM Input'!$E$3,'8 LCI Data Compilation'!$D$247:$I$247,0))","v":"NA"},"NA",{"$f":"INDEX('8 LCI Data Compilation'!$J$246:$O$272,MATCH(D256,'8 LCI Data Compilation'!$C$246:$C$272,0),MATCH('4 SMM Input'!$E$3,'8 LCI Data Compilation'!$J$247:$O$247,0))","v":"NA"},{"$f":"INDEX('8 LCI Data Compilation'!$P$246:$U$272,MATCH(D256,'8 LCI Data Compilation'!$C$246:$C$272,0),MATCH('4 SMM Input'!$E$3,'8 LCI Data Compilation'!$P$247:$U$247,0))","v":"NA"},{"$f":"INDEX('8 LCI Data Compilation'!$V$246:$AA$272,MATCH(D256,'8 LCI Data Compilation'!$C$246:$C$272,0),MATCH('4 SMM Input'!$E$3,'8 LCI Data Compilation'!$V$247:$AA$247,0))","v":"NA"},{"$f":"INDEX('8 LCI Data Compilation'!$AB$246:$AG$272,MATCH(D256,'8 LCI Data Compilation'!$C$246:$C$272,0),MATCH('4 SMM Input'!$E$3,'8 LCI Data Compilation'!$AB$247:$AG$247,0))","v":"NA"},{"$f":"INDEX('8 LCI Data Compilation'!$AH$246:$AM$272,MATCH(D256,'8 LCI Data Compilation'!$C$246:$C$272,0),MATCH('4 SMM Input'!$E$3,'8 LCI Data Compilation'!$AH$247:$AM$247,0))","v":"NA"},{"$f":"INDEX('8 LCI Data Compilation'!$AN$246:$AS$272,MATCH(D256,'8 LCI Data Compilation'!$C$246:$C$272,0),MATCH('4 SMM Input'!$E$3,'8 LCI Data Compilation'!$AN$247:$AS$247,0))","v":"NA"}]
[null,null,13,"Steel/Tin Cans",{"$f":"INDEX('8 LCI Data Compilation'!$D$246:$I$272,MATCH(D257,'8 LCI Data Compilation'!$C$246:$C$272,0),MATCH('4 SMM Input'!$E$3,'8 LCI Data Compilation'!$D$247:$I$247,0))","v":"NA"},"NA",{"$f":"INDEX('8 LCI Data Compilation'!$J$246:$O$272,MATCH(D257,'8 LCI Data Compilation'!$C$246:$C$272,0),MATCH('4 SMM Input'!$E$3,'8 LCI Data Compilation'!$J$247:$O$247,0))","v":"NA"},{"$f":"INDEX('8 LCI Data Compilation'!$P$246:$U$272,MATCH(D257,'8 LCI Data Compilation'!$C$246:$C$272,0),MATCH('4 SMM Input'!$E$3,'8 LCI Data Compilation'!$P$247:$U$247,0))","v":"NA"},{"$f":"INDEX('8 LCI Data Compilation'!$V$246:$AA$272,MATCH(D257,'8 LCI Data Compilation'!$C$246:$C$272,0),MATCH('4 SMM Input'!$E$3,'8 LCI Data Compilation'!$V$247:$AA$247,0))","v":"NA"},{"$f":"INDEX('8 LCI Data Compilation'!$AB$246:$AG$272,MATCH(D257,'8 LCI Data Compilation'!$C$246:$C$272,0),MATCH('4 SMM Input'!$E$3,'8 LCI Data Compilation'!$AB$247:$AG$247,0))","v":"NA"},{"$f":"INDEX('8 LCI Data Compilation'!$AH$246:$AM$272,MATCH(D257,'8 LCI Data Compilation'!$C$246:$C$272,0),MATCH('4 SMM Input'!$E$3,'8 LCI Data Compilation'!$AH$247:$AM$247,0))","v":"NA"},{"$f":"INDEX('8 LCI Data Compilation'!$AN$246:$AS$272,MATCH(D257,'8 LCI Data Compilation'!$C$246:$C$272,0),MATCH('4 SMM Input'!$E$3,'8 LCI Data Compilation'!$AN$247:$AS$247,0))","v":"NA"}]
[null,null,14,"Mixed Metals",{"$f":"INDEX('8 LCI Data Compilation'!$D$246:$I$272,MATCH(D258,'8 LCI Data Compilation'!$C$246:$C$272,0),MATCH('4 SMM Input'!$E$3,'8 LCI Data Compilation'!$D$247:$I$247,0))","v":"NA"},"NA",{"$f":"INDEX('8 LCI Data Compilation'!$J$246:$O$272,MATCH(D258,'8 LCI Data Compilation'!$C$246:$C$272,0),MATCH('4 SMM Input'!$E$3,'8 LCI Data Compilation'!$J$247:$O$247,0))","v":"NA"},{"$f":"INDEX('8 LCI Data Compilation'!$P$246:$U$272,MATCH(D258,'8 LCI Data Compilation'!$C$246:$C$272,0),MATCH('4 SMM Input'!$E$3,'8 LCI Data Compilation'!$P$247:$U$247,0))","v":"NA"},{"$f":"INDEX('8 LCI Data Compilation'!$V$246:$AA$272,MATCH(D258,'8 LCI Data Compilation'!$C$246:$C$272,0),MATCH('4 SMM Input'!$E$3,'8 LCI Data Compilation'!$V$247:$AA$247,0))","v":"NA"},{"$f":"INDEX('8 LCI Data Compilation'!$AB$246:$AG$272,MATCH(D258,'8 LCI Data Compilation'!$C$246:$C$272,0),MATCH('4 SMM Input'!$E$3,'8 LCI Data Compilation'!$AB$247:$AG$247,0))","v":"NA"},{"$f":"INDEX('8 LCI Data Compilation'!$AH$246:$AM$272,MATCH(D258,'8 LCI Data Compilation'!$C$246:$C$272,0),MATCH('4 SMM Input'!$E$3,'8 LCI Data Compilation'!$AH$247:$AM$247,0))","v":"NA"},{"$f":"INDEX('8 LCI Data Compilation'!$AN$246:$AS$272,MATCH(D258,'8 LCI Data Compilation'!$C$246:$C$272,0),MATCH('4 SMM Input'!$E$3,'8 LCI Data Compilation'!$AN$247:$AS$247,0))","v":"NA"}]
[null,"Organic",15,"Yard Waste",{"$f":"INDEX('8 LCI Data Compilation'!$D$246:$I$272,MATCH(D259,'8 LCI Data Compilation'!$C$246:$C$272,0),MATCH('4 SMM Input'!$E$3,'8 LCI Data Compilation'!$D$247:$I$247,0))","v":"NA"},"NA",{"$f":"INDEX('8 LCI Data Compilation'!$J$246:$O$272,MATCH(D259,'8 LCI Data Compilation'!$C$246:$C$272,0),MATCH('4 SMM Input'!$E$3,'8 LCI Data Compilation'!$J$247:$O$247,0))","v":"NA"},{"$f":"INDEX('8 LCI Data Compilation'!$P$246:$U$272,MATCH(D259,'8 LCI Data Compilation'!$C$246:$C$272,0),MATCH('4 SMM Input'!$E$3,'8 LCI Data Compilation'!$P$247:$U$247,0))","v":"NA"},{"$f":"INDEX('8 LCI Data Compilation'!$V$246:$AA$272,MATCH(D259,'8 LCI Data Compilation'!$C$246:$C$272,0),MATCH('4 SMM Input'!$E$3,'8 LCI Data Compilation'!$V$247:$AA$247,0))","v":"NA"},{"$f":"INDEX('8 LCI Data Compilation'!$AB$246:$AG$272,MATCH(D259,'8 LCI Data Compilation'!$C$246:$C$272,0),MATCH('4 SMM Input'!$E$3,'8 LCI Data Compilation'!$AB$247:$AG$247,0))","v":"NA"},{"$f":"INDEX('8 LCI Data Compilation'!$AH$246:$AM$272,MATCH(D259,'8 LCI Data Compilation'!$C$246:$C$272,0),MATCH('4 SMM Input'!$E$3,'8 LCI Data Compilation'!$AH$247:$AM$247,0))","v":"NA"},{"$f":"INDEX('8 LCI Data Compilation'!$AN$246:$AS$272,MATCH(D259,'8 LCI Data Compilation'!$C$246:$C$272,0),MATCH('4 SMM Input'!$E$3,'8 LCI Data Compilation'!$AN$247:$AS$247,0))","v":"NA"}]
[null,null,16,"Food Waste",{"$f":"INDEX('8 LCI Data Compilation'!$D$246:$I$272,MATCH(D260,'8 LCI Data Compilation'!$C$246:$C$272,0),MATCH('4 SMM Input'!$E$3,'8 LCI Data Compilation'!$D$247:$I$247,0))","v":"NA"},"NA",{"$f":"INDEX('8 LCI Data Compilation'!$J$246:$O$272,MATCH(D260,'8 LCI Data Compilation'!$C$246:$C$272,0),MATCH('4 SMM Input'!$E$3,'8 LCI Data Compilation'!$J$247:$O$247,0))","v":"NA"},{"$f":"INDEX('8 LCI Data Compilation'!$P$246:$U$272,MATCH(D260,'8 LCI Data Compilation'!$C$246:$C$272,0),MATCH('4 SMM Input'!$E$3,'8 LCI Data Compilation'!$P$247:$U$247,0))","v":"NA"},{"$f":"INDEX('8 LCI Data Compilation'!$V$246:$AA$272,MATCH(D260,'8 LCI Data Compilation'!$C$246:$C$272,0),MATCH('4 SMM Input'!$E$3,'8 LCI Data Compilation'!$V$247:$AA$247,0))","v":"NA"},{"$f":"INDEX('8 LCI Data Compilation'!$AB$246:$AG$272,MATCH(D260,'8 LCI Data Compilation'!$C$246:$C$272,0),MATCH('4 SMM Input'!$E$3,'8 LCI Data Compilation'!$AB$247:$AG$247,0))","v":"NA"},{"$f":"INDEX('8 LCI Data Compilation'!$AH$246:$AM$272,MATCH(D260,'8 LCI Data Compilation'!$C$246:$C$272,0),MATCH('4 SMM Input'!$E$3,'8 LCI Data Compilation'!$AH$247:$AM$247,0))","v":"NA"},{"$f":"INDEX('8 LCI Data Compilation'!$AN$246:$AS$272,MATCH(D260,'8 LCI Data Compilation'!$C$246:$C$272,0),MATCH('4 SMM Input'!$E$3,'8 LCI Data Compilation'!$AN$247:$AS$247,0))","v":"NA"}]
[null,"Other ",17,"Tires",{"$f":"INDEX('8 LCI Data Compilation'!$D$246:$I$272,MATCH(D261,'8 LCI Data Compilation'!$C$246:$C$272,0),MATCH('4 SMM Input'!$E$3,'8 LCI Data Compilation'!$D$247:$I$247,0))","v":"NA"},"NA",{"$f":"INDEX('8 LCI Data Compilation'!$J$246:$O$272,MATCH(D261,'8 LCI Data Compilation'!$C$246:$C$272,0),MATCH('4 SMM Input'!$E$3,'8 LCI Data Compilation'!$J$247:$O$247,0))","v":"NA"},{"$f":"INDEX('8 LCI Data Compilation'!$P$246:$U$272,MATCH(D261,'8 LCI Data Compilation'!$C$246:$C$272,0),MATCH('4 SMM Input'!$E$3,'8 LCI Data Compilation'!$P$247:$U$247,0))","v":"NA"},{"$f":"INDEX('8 LCI Data Compilation'!$V$246:$AA$272,MATCH(D261,'8 LCI Data Compilation'!$C$246:$C$272,0),MATCH('4 SMM Input'!$E$3,'8 LCI Data Compilation'!$V$247:$AA$247,0))","v":"NA"},{"$f":"INDEX('8 LCI Data Compilation'!$AB$246:$AG$272,MATCH(D261,'8 LCI Data Compilation'!$C$246:$C$272,0),MATCH('4 SMM Input'!$E$3,'8 LCI Data Compilation'!$AB$247:$AG$247,0))","v":"NA"},{"$f":"INDEX('8 LCI Data Compilation'!$AH$246:$AM$272,MATCH(D261,'8 LCI Data Compilation'!$C$246:$C$272,0),MATCH('4 SMM Input'!$E$3,'8 LCI Data Compilation'!$AH$247:$AM$247,0))","v":"NA"},{"$f":"INDEX('8 LCI Data Compilation'!$AN$246:$AS$272,MATCH(D261,'8 LCI Data Compilation'!$C$246:$C$272,0),MATCH('4 SMM Input'!$E$3,'8 LCI Data Compilation'!$AN$247:$AS$247,0))","v":"NA"}]
[null,null,18,"Clothing and Footwear",{"$f":"INDEX('8 LCI Data Compilation'!$D$246:$I$272,MATCH(D262,'8 LCI Data Compilation'!$C$246:$C$272,0),MATCH('4 SMM Input'!$E$3,'8 LCI Data Compilation'!$D$247:$I$247,0))","v":"NA"},"NA",{"$f":"INDEX('8 LCI Data Compilation'!$J$246:$O$272,MATCH(D262,'8 LCI Data Compilation'!$C$246:$C$272,0),MATCH('4 SMM Input'!$E$3,'8 LCI Data Compilation'!$J$247:$O$247,0))","v":"NA"},{"$f":"INDEX('8 LCI Data Compilation'!$P$246:$U$272,MATCH(D262,'8 LCI Data Compilation'!$C$246:$C$272,0),MATCH('4 SMM Input'!$E$3,'8 LCI Data Compilation'!$P$247:$U$247,0))","v":"NA"},{"$f":"INDEX('8 LCI Data Compilation'!$V$246:$AA$272,MATCH(D262,'8 LCI Data Compilation'!$C$246:$C$272,0),MATCH('4 SMM Input'!$E$3,'8 LCI Data Compilation'!$V$247:$AA$247,0))","v":"NA"},{"$f":"INDEX('8 LCI Data Compilation'!$AB$246:$AG$272,MATCH(D262,'8 LCI Data Compilation'!$C$246:$C$272,0),MATCH('4 SMM Input'!$E$3,'8 LCI Data Compilation'!$AB$247:$AG$247,0))","v":"NA"},{"$f":"INDEX('8 LCI Data Compilation'!$AH$246:$AM$272,MATCH(D262,'8 LCI Data Compilation'!$C$246:$C$272,0),MATCH('4 SMM Input'!$E$3,'8 LCI Data Compilation'!$AH$247:$AM$247,0))","v":"NA"},{"$f":"INDEX('8 LCI Data Compilation'!$AN$246:$AS$272,MATCH(D262,'8 LCI Data Compilation'!$C$246:$C$272,0),MATCH('4 SMM Input'!$E$3,'8 LCI Data Compilation'!$AN$247:$AS$247,0))","v":"NA"}]
[null,null,19,"Furniture",{"$f":"INDEX('8 LCI Data Compilation'!$D$246:$I$272,MATCH(D263,'8 LCI Data Compilation'!$C$246:$C$272,0),MATCH('4 SMM Input'!$E$3,'8 LCI Data Compilation'!$D$247:$I$247,0))","v":"NA"},"NA",{"$f":"INDEX('8 LCI Data Compilation'!$J$246:$O$272,MATCH(D263,'8 LCI Data Compilation'!$C$246:$C$272,0),MATCH('4 SMM Input'!$E$3,'8 LCI Data Compilation'!$J$247:$O$247,0))","v":"NA"},{"$f":"INDEX('8 LCI Data Compilation'!$P$246:$U$272,MATCH(D263,'8 LCI Data Compilation'!$C$246:$C$272,0),MATCH('4 SMM Input'!$E$3,'8 LCI Data Compilation'!$P$247:$U$247,0))","v":"NA"},{"$f":"INDEX('8 LCI Data Compilation'!$V$246:$AA$272,MATCH(D263,'8 LCI Data Compilation'!$C$246:$C$272,0),MATCH('4 SMM Input'!$E$3,'8 LCI Data Compilation'!$V$247:$AA$247,0))","v":"NA"},{"$f":"INDEX('8 LCI Data Compilation'!$AB$246:$AG$272,MATCH(D263,'8 LCI Data Compilation'!$C$246:$C$272,0),MATCH('4 SMM Input'!$E$3,'8 LCI Data Compilation'!$AB$247:$AG$247,0))","v":"NA"},{"$f":"INDEX('8 LCI Data Compilation'!$AH$246:$AM$272,MATCH(D263,'8 LCI Data Compilation'!$C$246:$C$272,0),MATCH('4 SMM Input'!$E$3,'8 LCI Data Compilation'!$AH$247:$AM$247,0))","v":"NA"},{"$f":"INDEX('8 LCI Data Compilation'!$AN$246:$AS$272,MATCH(D263,'8 LCI Data Compilation'!$C$246:$C$272,0),MATCH('4 SMM Input'!$E$3,'8 LCI Data Compilation'!$AN$247:$AS$247,0))","v":"NA"}]
[null,null,20,"Electronics",{"$f":"INDEX('8 LCI Data Compilation'!$D$246:$I$272,MATCH(D264,'8 LCI Data Compilation'!$C$246:$C$272,0),MATCH('4 SMM Input'!$E$3,'8 LCI Data Compilation'!$D$247:$I$247,0))","v":"NA"},"NA",{"$f":"INDEX('8 LCI Data Compilation'!$J$246:$O$272,MATCH(D264,'8 LCI Data Compilation'!$C$246:$C$272,0),MATCH('4 SMM Input'!$E$3,'8 LCI Data Compilation'!$J$247:$O$247,0))","v":"NA"},{"$f":"INDEX('8 LCI Data Compilation'!$P$246:$U$272,MATCH(D264,'8 LCI Data Compilation'!$C$246:$C$272,0),MATCH('4 SMM Input'!$E$3,'8 LCI Data Compilation'!$P$247:$U$247,0))","v":"NA"},{"$f":"INDEX('8 LCI Data Compilation'!$V$246:$AA$272,MATCH(D264,'8 LCI Data Compilation'!$C$246:$C$272,0),MATCH('4 SMM Input'!$E$3,'8 LCI Data Compilation'!$V$247:$AA$247,0))","v":"NA"},{"$f":"INDEX('8 LCI Data Compilation'!$AB$246:$AG$272,MATCH(D264,'8 LCI Data Compilation'!$C$246:$C$272,0),MATCH('4 SMM Input'!$E$3,'8 LCI Data Compilation'!$AB$247:$AG$247,0))","v":"NA"},{"$f":"INDEX('8 LCI Data Compilation'!$AH$246:$AM$272,MATCH(D264,'8 LCI Data Compilation'!$C$246:$C$272,0),MATCH('4 SMM Input'!$E$3,'8 LCI Data Compilation'!$AH$247:$AM$247,0))","v":"NA"},{"$f":"INDEX('8 LCI Data Compilation'!$AN$246:$AS$272,MATCH(D264,'8 LCI Data Compilation'!$C$246:$C$272,0),MATCH('4 SMM Input'!$E$3,'8 LCI Data Compilation'!$AN$247:$AS$247,0))","v":"NA"}]
[null,"C&D Debris",21,"Wood Products",{"$f":"INDEX('8 LCI Data Compilation'!$D$246:$I$272,MATCH(D265,'8 LCI Data Compilation'!$C$246:$C$272,0),MATCH('4 SMM Input'!$E$3,'8 LCI Data Compilation'!$D$247:$I$247,0))","v":"NA"},"NA",{"$f":"INDEX('8 LCI Data Compilation'!$J$246:$O$272,MATCH(D265,'8 LCI Data Compilation'!$C$246:$C$272,0),MATCH('4 SMM Input'!$E$3,'8 LCI Data Compilation'!$J$247:$O$247,0))","v":"NA"},{"$f":"INDEX('8 LCI Data Compilation'!$P$246:$U$272,MATCH(D265,'8 LCI Data Compilation'!$C$246:$C$272,0),MATCH('4 SMM Input'!$E$3,'8 LCI Data Compilation'!$P$247:$U$247,0))","v":"NA"},{"$f":"INDEX('8 LCI Data Compilation'!$V$246:$AA$272,MATCH(D265,'8 LCI Data Compilation'!$C$246:$C$272,0),MATCH('4 SMM Input'!$E$3,'8 LCI Data Compilation'!$V$247:$AA$247,0))","v":"NA"},{"$f":"INDEX('8 LCI Data Compilation'!$AB$246:$AG$272,MATCH(D265,'8 LCI Data Compilation'!$C$246:$C$272,0),MATCH('4 SMM Input'!$E$3,'8 LCI Data Compilation'!$AB$247:$AG$247,0))","v":"NA"},{"$f":"INDEX('8 LCI Data Compilation'!$AH$246:$AM$272,MATCH(D265,'8 LCI Data Compilation'!$C$246:$C$272,0),MATCH('4 SMM Input'!$E$3,'8 LCI Data Compilation'!$AH$247:$AM$247,0))","v":"NA"},{"$f":"INDEX('8 LCI Data Compilation'!$AN$246:$AS$272,MATCH(D265,'8 LCI Data Compilation'!$C$246:$C$272,0),MATCH('4 SMM Input'!$E$3,'8 LCI Data Compilation'!$AN$247:$AS$247,0))","v":"NA"}]
[null,null,22,"Asphalt Shingles",{"$f":"INDEX('8 LCI Data Compilation'!$D$246:$I$272,MATCH(D266,'8 LCI Data Compilation'!$C$246:$C$272,0),MATCH('4 SMM Input'!$E$3,'8 LCI Data Compilation'!$D$247:$I$247,0))","v":"NA"},"NA",{"$f":"INDEX('8 LCI Data Compilation'!$J$246:$O$272,MATCH(D266,'8 LCI Data Compilation'!$C$246:$C$272,0),MATCH('4 SMM Input'!$E$3,'8 LCI Data Compilation'!$J$247:$O$247,0))","v":"NA"},{"$f":"INDEX('8 LCI Data Compilation'!$P$246:$U$272,MATCH(D266,'8 LCI Data Compilation'!$C$246:$C$272,0),MATCH('4 SMM Input'!$E$3,'8 LCI Data Compilation'!$P$247:$U$247,0))","v":"NA"},{"$f":"INDEX('8 LCI Data Compilation'!$V$246:$AA$272,MATCH(D266,'8 LCI Data Compilation'!$C$246:$C$272,0),MATCH('4 SMM Input'!$E$3,'8 LCI Data Compilation'!$V$247:$AA$247,0))","v":"NA"},{"$f":"INDEX('8 LCI Data Compilation'!$AB$246:$AG$272,MATCH(D266,'8 LCI Data Compilation'!$C$246:$C$272,0),MATCH('4 SMM Input'!$E$3,'8 LCI Data Compilation'!$AB$247:$AG$247,0))","v":"NA"},{"$f":"INDEX('8 LCI Data Compilation'!$AH$246:$AM$272,MATCH(D266,'8 LCI Data Compilation'!$C$246:$C$272,0),MATCH('4 SMM Input'!$E$3,'8 LCI Data Compilation'!$AH$247:$AM$247,0))","v":"NA"},{"$f":"INDEX('8 LCI Data Compilation'!$AN$246:$AS$272,MATCH(D266,'8 LCI Data Compilation'!$C$246:$C$272,0),MATCH('4 SMM Input'!$E$3,'8 LCI Data Compilation'!$AN$247:$AS$247,0))","v":"NA"}]
[null,null,23,"Gypsum Drywall",{"$f":"INDEX('8 LCI Data Compilation'!$D$246:$I$272,MATCH(D267,'8 LCI Data Compilation'!$C$246:$C$272,0),MATCH('4 SMM Input'!$E$3,'8 LCI Data Compilation'!$D$247:$I$247,0))","v":"NA"},"NA",{"$f":"INDEX('8 LCI Data Compilation'!$J$246:$O$272,MATCH(D267,'8 LCI Data Compilation'!$C$246:$C$272,0),MATCH('4 SMM Input'!$E$3,'8 LCI Data Compilation'!$J$247:$O$247,0))","v":"NA"},{"$f":"INDEX('8 LCI Data Compilation'!$P$246:$U$272,MATCH(D267,'8 LCI Data Compilation'!$C$246:$C$272,0),MATCH('4 SMM Input'!$E$3,'8 LCI Data Compilation'!$P$247:$U$247,0))","v":"NA"},{"$f":"INDEX('8 LCI Data Compilation'!$V$246:$AA$272,MATCH(D267,'8 LCI Data Compilation'!$C$246:$C$272,0),MATCH('4 SMM Input'!$E$3,'8 LCI Data Compilation'!$V$247:$AA$247,0))","v":"NA"},{"$f":"INDEX('8 LCI Data Compilation'!$AB$246:$AG$272,MATCH(D267,'8 LCI Data Compilation'!$C$246:$C$272,0),MATCH('4 SMM Input'!$E$3,'8 LCI Data Compilation'!$AB$247:$AG$247,0))","v":"NA"},{"$f":"INDEX('8 LCI Data Compilation'!$AH$246:$AM$272,MATCH(D267,'8 LCI Data Compilation'!$C$246:$C$272,0),MATCH('4 SMM Input'!$E$3,'8 LCI Data Compilation'!$AH$247:$AM$247,0))","v":"NA"},{"$f":"INDEX('8 LCI Data Compilation'!$AN$246:$AS$272,MATCH(D267,'8 LCI Data Compilation'!$C$246:$C$272,0),MATCH('4 SMM Input'!$E$3,'8 LCI Data Compilation'!$AN$247:$AS$247,0))","v":"NA"}]
[null,null,24,"Concrete",{"$f":"INDEX('8 LCI Data Compilation'!$D$246:$I$272,MATCH(D268,'8 LCI Data Compilation'!$C$246:$C$272,0),MATCH('4 SMM Input'!$E$3,'8 LCI Data Compilation'!$D$247:$I$247,0))","v":"NA"},"NA",{"$f":"INDEX('8 LCI Data Compilation'!$J$246:$O$272,MATCH(D268,'8 LCI Data Compilation'!$C$246:$C$272,0),MATCH('4 SMM Input'!$E$3,'8 LCI Data Compilation'!$J$247:$O$247,0))","v":"NA"},{"$f":"INDEX('8 LCI Data Compilation'!$P$246:$U$272,MATCH(D268,'8 LCI Data Compilation'!$C$246:$C$272,0),MATCH('4 SMM Input'!$E$3,'8 LCI Data Compilation'!$P$247:$U$247,0))","v":"NA"},{"$f":"INDEX('8 LCI Data Compilation'!$V$246:$AA$272,MATCH(D268,'8 LCI Data Compilation'!$C$246:$C$272,0),MATCH('4 SMM Input'!$E$3,'8 LCI Data Compilation'!$V$247:$AA$247,0))","v":"NA"},{"$f":"INDEX('8 LCI Data Compilation'!$AB$246:$AG$272,MATCH(D268,'8 LCI Data Compilation'!$C$246:$C$272,0),MATCH('4 SMM Input'!$E$3,'8 LCI Data Compilation'!$AB$247:$AG$247,0))","v":"NA"},{"$f":"INDEX('8 LCI Data Compilation'!$AH$246:$AM$272,MATCH(D268,'8 LCI Data Compilation'!$C$246:$C$272,0),MATCH('4 SMM Input'!$E$3,'8 LCI Data Compilation'!$AH$247:$AM$247,0))","v":"NA"},{"$f":"INDEX('8 LCI Data Compilation'!$AN$246:$AS$272,MATCH(D268,'8 LCI Data Compilation'!$C$246:$C$272,0),MATCH('4 SMM Input'!$E$3,'8 LCI Data Compilation'!$AN$247:$AS$247,0))","v":"NA"}]
[null,null,25,"Reclaimed Asphalt Pavement",{"$f":"INDEX('8 LCI Data Compilation'!$D$246:$I$272,MATCH(D269,'8 LCI Data Compilation'!$C$246:$C$272,0),MATCH('4 SMM Input'!$E$3,'8 LCI Data Compilation'!$D$247:$I$247,0))","v":"NA"},"NA",{"$f":"INDEX('8 LCI Data Compilation'!$J$246:$O$272,MATCH(D269,'8 LCI Data Compilation'!$C$246:$C$272,0),MATCH('4 SMM Input'!$E$3,'8 LCI Data Compilation'!$J$247:$O$247,0))","v":"NA"},{"$f":"INDEX('8 LCI Data Compilation'!$P$246:$U$272,MATCH(D269,'8 LCI Data Compilation'!$C$246:$C$272,0),MATCH('4 SMM Input'!$E$3,'8 LCI Data Compilation'!$P$247:$U$247,0))","v":"NA"},{"$f":"INDEX('8 LCI Data Compilation'!$V$246:$AA$272,MATCH(D269,'8 LCI Data Compilation'!$C$246:$C$272,0),MATCH('4 SMM Input'!$E$3,'8 LCI Data Compilation'!$V$247:$AA$247,0))","v":"NA"},{"$f":"INDEX('8 LCI Data Compilation'!$AB$246:$AG$272,MATCH(D269,'8 LCI Data Compilation'!$C$246:$C$272,0),MATCH('4 SMM Input'!$E$3,'8 LCI Data Compilation'!$AB$247:$AG$247,0))","v":"NA"},{"$f":"INDEX('8 LCI Data Compilation'!$AH$246:$AM$272,MATCH(D269,'8 LCI Data Compilation'!$C$246:$C$272,0),MATCH('4 SMM Input'!$E$3,'8 LCI Data Compilation'!$AH$247:$AM$247,0))","v":"NA"},{"$f":"INDEX('8 LCI Data Compilation'!$AN$246:$AS$272,MATCH(D269,'8 LCI Data Compilation'!$C$246:$C$272,0),MATCH('4 SMM Input'!$E$3,'8 LCI Data Compilation'!$AN$247:$AS$247,0))","v":"NA"}]

{"sheet":"7 Mass Data for SMM","index":7,"n_rows":101,"n_cols":21,"rows_kept":101,"cut":false,"hidden":true,"merged":[[5,1,10,1],[11,1,13,1],[34,5,34,6],[38,5,38,6],[49,5,49,6],[48,5,48,6],[35,5,35,6],[36,5,36,6],[37,5,37,6],[39,5,39,6],[40,5,40,6],[41,5,41,6],[42,5,42,6],[43,5,43,6],[47,5,47,6],[44,5,44,6],[73,6,73,16],[15,1,17,1],[18,1,19,1],[20,1,23,1],[24,1,28,1],[51,5,51,6],[52,5,52,6],[53,5,53,6],[50,5,50,6],[46,5,46,6],[45,5,45,6]]}
[]
[]
[null,"Mass estimates (tons)"]
[null,"Material Category","Item No.","Material Type","Source Reduced/ Generated","Donated","Collection","Recycling","Composting","Anaerobic Digestion","Landfill","Combustion","Does the total collection mass equal the management mass?"]
[null,"MSW ",1,"Mixed MSW",{"$f":"'3 2019 WasteCalc Results'!H22*(1-SUM(R52:S52))","v":8299.3115911857985},null,{"$f":"'3 2019 WasteCalc Results'!F22*(1-SUM(R52:S52))-F23","v":47575.089879421132},{"$f":"'3 2019 WasteCalc Results'!C22*(1-SUM(R52:S52))-F23","v":206.29829169344555},null,null,{"$f":"'3 2019 WasteCalc Results'!D22*(1-SUM(R52:S52))","v":47368.791587727683},{"$f":"'3 2019 WasteCalc Results'!E22*(1-SUM(R52:S52))","v":0},{"$f":"SUM(F5,H5:L5)=G5","v":true}]
[null,"Paper",2,"Newspaper",{"$f":"'3 2019 WasteCalc Results'!H6","v":-6689.1464067848483},null,{"$f":"'3 2019 WasteCalc Results'!F6","v":3327.8535932151512},{"$f":"'3 2019 WasteCalc Results'!C6","v":3043},null,null,{"$f":"'3 2019 WasteCalc Results'!D6","v":284.85359321515125},{"$f":"'3 2019 WasteCalc Results'!E6","v":0},{"$f":"SUM(F6,H6:L6)=G6","v":true}]
[null,null,3,"Corrugated Cardboard (OCC)",{"$f":"'3 2019 WasteCalc Results'!H11","v":-6874.7607515051204},null,{"$f":"'3 2019 WasteCalc Results'!F11","v":39385.23924849488},{"$f":"'3 2019 WasteCalc Results'!C11","v":27363},null,null,{"$f":"'3 2019 WasteCalc Results'!D11","v":12022.23924849488},{"$f":"'3 2019 WasteCalc Results'!E11","v":0},{"$f":"SUM(F7,H7:L7)=G7","v":true}]
[null,null,4,"High Grade Paper (Office Type Paper)",{"$f":"'3 2019 WasteCalc Results'!H12","v":-520.18669368272413},null,{"$f":"'3 2019 WasteCalc Results'!F12","v":3966.8133063172759},{"$f":"'3 2019 WasteCalc Results'!C12","v":2657},null,null,{"$f":"'3 2019 WasteCalc Results'!D12","v":1309.8133063172759},{"$f":"'3 2019 WasteCalc Results'!E12","v":0},true]
[null,null,5,"Magazines/third-class mail",{"$f":"'3 2019 WasteCalc Results'!H18*$K$48","v":1370.726046325206},null,{"$f":"'3 2019 WasteCalc Results'!F18*$K$48","v":9125.8660463252054},{"$f":"'3 2019 WasteCalc Results'!C18*$K$48","v":227.47},null,null,{"$f":"'3 2019 WasteCalc Results'!D18*$K$48","v":8898.396046325206},{"$f":"'3 2019 WasteCalc Results'!E18*$K$48","v":0},true]
[null,null,6,"Books",{"$f":"'3 2019 WasteCalc Results'!H18*$L$48","v":119.19356924567008},{"$f":"'2 2019 WasteCalc Input'!E78","v":100},{"$f":"'3 2019 WasteCalc Results'!F18*$L$48+'2 2019 WasteCalc Input'!E78","v":893.55356924567013},{"$f":"'3 2019 WasteCalc Results'!C18*$L$48-F10+F10","v":19.78},null,null,{"$f":"'3 2019 WasteCalc Results'!D18*$L$48","v":773.77356924567005},{"$f":"'3 2019 WasteCalc Results'!E18*$L$48","v":0},{"$f":"SUM(F10,H10:L10)=G10","v":true}]
[null,null,7,"Mixed Paper",{"$f":"'3 2019 WasteCalc Results'!H18-E9-E10","v":4469.7588467126279},null,{"$f":"'3 2019 WasteCalc Results'!F18-G9-G10","v":29658.25884671263},{"$f":"'3 2019 WasteCalc Results'!C18-H9-H10-F10","v":641.75},null,null,{"$f":"'3 2019 WasteCalc Results'!D18-K9-K10","v":29016.508846712626},{"$f":"'3 2019 WasteCalc Results'!E18-L9-L10","v":0},true]
[null,"Plastic",8,"HDPE",{"$f":"'3 2019 WasteCalc Results'!H9*$I$39","v":368.15684777242933},null,{"$f":"'3 2019 WasteCalc Results'!F9*$I$39","v":1315.8815268023866},{"$f":"'3 2019 WasteCalc Results'!C9*$I$39","v":401.84736091298151},null,null,{"$f":"'3 2019 WasteCalc Results'!D9*$I$39","v":914.03416588940513},{"$f":"'3 2019 WasteCalc Results'!E9*$I$39","v":0},true]
[null,null,9,"PET",{"$f":"'3 2019 WasteCalc Results'!H9*$J$39","v":605.7222099199214},null,{"$f":"'3 2019 WasteCalc Results'!F9*$J$39","v":2164.9975308899639},{"$f":"'3 2019 WasteCalc Results'!C9*$J$39","v":661.15263908701854},null,null,{"$f":"'3 2019 WasteCalc Results'!D9*$J$39","v":1503.8448918029455},{"$f":"'3 2019 WasteCalc Results'!E9*$J$39","v":0},true]
[null,null,10,"Mixed Plastic",{"$f":"'3 2019 WasteCalc Results'!H14","v":-3013.5833681139411},null,{"$f":"'3 2019 WasteCalc Results'!F14","v":22728.416631886059},{"$f":"'3 2019 WasteCalc Results'!C14","v":965},null,null,{"$f":"'3 2019 WasteCalc Results'!D14","v":21763.416631886059},{"$f":"'3 2019 WasteCalc Results'!E14","v":0},true]
[null,"Glass",11,"Glass",{"$f":"'3 2019 WasteCalc Results'!H7","v":-582.45401542310447},null,{"$f":"'3 2019 WasteCalc Results'!F7","v":7103.5459845768955},{"$f":"'3 2019 WasteCalc Results'!C7","v":4072},null,null,{"$f":"'3 2019 WasteCalc Results'!D7","v":3031.5459845768955},{"$f":"'3 2019 WasteCalc Results'!E7","v":0},true]
[null,"Metals",12,"Aluminum Cans",{"$f":"'3 2019 WasteCalc Results'!H8","v":33.915103848048147},null,{"$f":"'3 2019 WasteCalc Results'!F8","v":1034.9151038480481},{"$f":"'3 2019 WasteCalc Results'!C8","v":413},null,null,{"$f":"'3 2019 WasteCalc Results'!D8","v":621.91510384804815},{"$f":"'3 2019 WasteCalc Results'!E8","v":0},true,null,"Method for breaking up C&D debris for current year:"]
[null,null,13,"Steel/Tin Cans",{"$f":"'3 2019 WasteCalc Results'!H10","v":114.14903310312411},null,{"$f":"'3 2019 WasteCalc Results'!F10","v":1288.1490331031241},{"$f":"'3 2019 WasteCalc Results'!C10","v":334},null,null,{"$f":"'3 2019 WasteCalc Results'!D10","v":954.14903310312411},{"$f":"'3 2019 WasteCalc Results'!E10","v":0},true,null,"Collected C&D",{"$f":"'3 2019 WasteCalc Results'!F20","v":190541.87}]
[null,null,14,"Mixed Metals",{"$f":"SUM('3 2019 WasteCalc Results'!H15,'3 2019 WasteCalc Results'!H17)","v":991.7422791871943},null,{"$f":"SUM('3 2019 WasteCalc Results'!F15,'3 2019 WasteCalc Results'!F17)","v":17996.742279187194},{"$f":"SUM('3 2019 WasteCalc Results'!C15,'3 2019 WasteCalc Results'!C17)","v":15367},null,null,{"$f":"SUM('3 2019 WasteCalc Results'!D15,'3 2019 WasteCalc Results'!D17)","v":2629.7422791871941},{"$f":"SUM('3 2019 WasteCalc Results'!E15,'3 2019 WasteCalc Results'!E17)","v":0},true,null,"Recycled C&D",{"$f":"'3 2019 WasteCalc Results'!C20","v":104770}]
[null,"Organic",15,"Yard Waste",{"$f":"'3 2019 WasteCalc Results'!H13","v":83551.837321788364},null,{"$f":"'3 2019 WasteCalc Results'!F13-G30","v":143808.83732178836},null,{"$f":"IF(OR('4 SMM Input'!E5=\"composted\",'4 SMM Input'!E5=\"mulched\"),'3 2019 WasteCalc Results'!C13,0)","v":47826},{"$f":"IF('4 SMM Input'!E5=\"anaerobically digested\",'3 2019 WasteCalc Results'!C13,0)","v":0},{"$f":"'3 2019 WasteCalc Results'!D13+IF(OR('4 SMM Input'!E5=\"landfill alternative cover\",'4 SMM Input'!E5=\"land applied for beneficial use\"),'3 2019 WasteCalc Results'!C13,0)","v":1611.8373217883636},{"$f":"'3 2019 WasteCalc Results'!E13","v":94371},true,null,"Landfilled C&D",{"$f":"'3 2019 WasteCalc Results'!D20","v":85771.87}]
[null,null,16,"Food Waste",{"$f":"'3 2019 WasteCalc Results'!H21","v":2304.4178382476639},{"$f":"'2 2019 WasteCalc Input'!E77","v":700},{"$f":"'3 2019 WasteCalc Results'!F21","v":26877.417838247664},null,{"$f":"IF('4 SMM Input'!E4=\"composted\",'3 2019 WasteCalc Results'!C21-F20,0)","v":623},{"$f":"IF('4 SMM Input'!E4=\"anaerobically digested\",'3 2019 WasteCalc Results'!C21-F20,0)","v":0},{"$f":"'3 2019 WasteCalc Results'!D21","v":25554.417838247664},{"$f":"'3 2019 WasteCalc Results'!E21","v":0},true,null,"Amount of Mixed C&D in Recycled",{"$f":"'2 2019 WasteCalc Input'!E51","v":90470}]
[null,"Other ",17,"Tires",{"$f":"'3 2019 WasteCalc Results'!H23","v":2729.6353981391212},null,{"$f":"'3 2019 WasteCalc Results'!F23","v":2729.6353981391212},{"$f":"'3 2019 WasteCalc Results'!C23","v":2042},null,null,{"$f":"'3 2019 WasteCalc Results'!D23","v":687.63539813912121},{"$f":"'3 2019 WasteCalc Results'!E23","v":0},true,null,"Amount of Mixed C&D in Landfilled",{"$f":"P19","v":85771.87}]
[null,null,18,"Clothing and Footwear",{"$f":"'3 2019 WasteCalc Results'!H19","v":3169.0378374000265},{"$f":"'2 2019 WasteCalc Input'!E74","v":500},{"$f":"'3 2019 WasteCalc Results'!F19","v":9037.0378374000265},{"$f":"'3 2019 WasteCalc Results'!C19-F22","v":3625},null,null,{"$f":"'3 2019 WasteCalc Results'!D19","v":4912.0378374000265},{"$f":"'3 2019 WasteCalc Results'!E19","v":0},true]
[null,null,19,"Furniture",{"$f":"'3 2019 WasteCalc Results'!H22*$S$52","v":161.01135861033242},{"$f":"'2 2019 WasteCalc Input'!E75","v":400},{"$f":"'3 2019 WasteCalc Results'!F22*$S$52+'2 2019 WasteCalc Input'!E75","v":1330.7439919646072},{"$f":"'3 2019 WasteCalc Results'!C22*$S$52+F23-F23","v":11.762531216729201},null,null,{"$f":"'3 2019 WasteCalc Results'!D22*$S$52","v":918.98146074787792},{"$f":"'3 2019 WasteCalc Results'!E22*$S$52","v":0},true,null,"Category","Recycled Directly","Recycled in Mixed C&D","Total Recycled","Total Landfilled","Total Collected","Comp."]
[null,null,20,"Electronics",{"$f":"('3 2019 WasteCalc Results'!H22*$R$52)+'3 2019 WasteCalc Results'!H16","v":3504.6459540240821},{"$f":"'2 2019 WasteCalc Input'!E76","v":300},{"$f":"('3 2019 WasteCalc Results'!F22*$R$52)+'3 2019 WasteCalc Results'!F16","v":4934.1350324344721},{"$f":"('3 2019 WasteCalc Results'!C22*$R$52)+'3 2019 WasteCalc Results'!C16-F24","v":2428.9391770898251},null,null,{"$f":"('3 2019 WasteCalc Results'!D22*$R$52)+'3 2019 WasteCalc Results'!D16","v":2205.1958553446466},{"$f":"('3 2019 WasteCalc Results'!E22*$R$52)+'3 2019 WasteCalc Results'!E16","v":0},true,null,"Wood Products",{"$f":"'2 2019 WasteCalc Input'!E46","v":3000},{"$f":"P20*M50","v":22255.620000000003},{"$f":"P24+Q24","v":25255.620000000003},{"$f":"P21*M50","v":21099.880020000001},{"$f":"R24+S24","v":46355.500020000007},{"$f":"T24/$T$29","v":0.24328248704602304}]
[null,"C&D Debris",21,"Wood Products",{"$f":"'3 2019 WasteCalc Results'!$H$20*U24","v":19993.409723692948},null,{"$f":"T24","v":46355.500020000007},{"$f":"R24","v":25255.620000000003},null,null,{"$f":"S24","v":21099.880020000001},{"$f":"'3 2019 WasteCalc Results'!E20*$M$50","v":0},true,null,"Asphalt Shingles",{"$f":"'2 2019 WasteCalc Input'!E47","v":200},{"$f":"P20*N50","v":19541.52},{"$f":"P25+Q25","v":19741.52},{"$f":"P21*N50","v":18526.72392},{"$f":"R25+S25","v":38268.243920000001},{"$f":"T25/$T$29","v":0.20083902776854243}]
[null,null,22,"Asphalt Shingles",{"$f":"'3 2019 WasteCalc Results'!$H$20*U25","v":16505.326871000743},null,{"$f":"T25","v":38268.243920000001},{"$f":"R25","v":19741.52},null,null,{"$f":"S25","v":18526.72392},{"$f":"'3 2019 WasteCalc Results'!E20*$N$50","v":0},true,null,"Gypsum Drywall",{"$f":"'2 2019 WasteCalc Input'!E48","v":100},{"$f":"P20*O50","v":10494.519999999999},10594.519999999999,{"$f":"P21* O50","v":9949.5369199999986},20544.056919999995,0.1078191209102755]
[null,null,23,"Gypsum Drywall",{"$f":"'3 2019 WasteCalc Results'!$H$20*U26","v":8860.7769781625429},null,20544.056919999995,10594.519999999999,null,null,9949.5369199999986,{"$f":"'3 2019 WasteCalc Results'!E20*$O$50","v":0},true,null,"Concrete",{"$f":"'2 2019 WasteCalc Input'!E49","v":5000},{"$f":"P20*P50","v":30397.919999999998},35397.919999999998,{"$f":"P21*P50","v":28819.348319999994},64217.268319999988,0.33702444675283177]
[null,null,24,"Concrete",{"$f":"'3 2019 WasteCalc Results'!$H$20*U27","v":27697.299269863142},null,64217.268319999988,35397.919999999998,null,null,28819.348319999994,{"$f":"'3 2019 WasteCalc Results'!E20*$P$50","v":0},true,null,"Reclaimed Asphalt Pavement",{"$f":"'2 2019 WasteCalc Input'!E50","v":6000},{"$f":"P20*Q50","v":7780.4199999999992},13780.419999999998,{"$f":"P21*Q50","v":7376.3808199999994},21156.800819999997,0.11103491752232723]
[null,null,25,"Reclaimed Asphalt Pavement",{"$f":"'3 2019 WasteCalc Results'!$H$20*U28","v":9125.0571572806184},null,21156.800819999997,13780.419999999998,null,null,7376.3808199999994,{"$f":"'3 2019 WasteCalc Results'!E20*$Q$50","v":0},true,null,"Total C&D Debris",{"$f":"SUM(P24:P28)","v":14300},90469.999999999985,{"$f":"SUM(R24:R28)","v":104769.99999999999},{"$f":"SUM(S24:S28)","v":85771.87},190541.87]
[null,null,null,"Process Fuel",null,null,{"$f":"H30","v":0},{"$f":"'3 2019 WasteCalc Results'!C24","v":0},null,null,null,null,true]
[null,"Total",null,null,{"$f":"SUMIF(E5:E30,\"<>#value!\")","v":176294.99999999985},{"$f":"SUMIF(F5:F30,\"<>#value!\")","v":2000},{"$f":"SUMIF(G5:G30,\"<>#value!\")","v":566824.99999999988},{"$f":"SUMIF(H5:H30,\"<>#value!\")","v":169250},{"$f":"SUMIF(I5:I30,\"<>#value!\")","v":48449},{"$f":"SUMIF(J5:J30,\"<>#value!\")","v":0},{"$f":"SUMIF(K5:K30,\"<>#value!\")","v":252754.99999999985},{"$f":"SUMIF(L5:L30,\"<>#value!\")","v":94371}]
[null,null,null,null,{"$f":"E31='3 2019 WasteCalc Results'!H25","v":true},{"$f":"F31=SUM('2 2019 WasteCalc Input'!E74:E78)","v":true},{"$f":"'3 2019 WasteCalc Results'!F25=G31","v":true},{"$f":"IF(OR('4 SMM Input'!E5=\"landfill alternative cover\",'4 SMM Input'!E5=\"land applied for beneficial use\"),(H31+F31+I31+J31+'3 2019 WasteCalc Results'!C13)='3 2019 WasteCalc Results'!C25,(H31+F31+I31+J31)='3 2019 WasteCalc Results'!C25)","v":true},null,null,{"$f":"IF(OR('4 SMM Input'!E5=\"landfill alternative cover\", '4 SMM Input'!E5=\"land applied for beneficial use\"),K31-'3 2019 WasteCalc Results'!C13='3 2019 WasteCalc Results'!D25,K31='3 2019 WasteCalc Results'!D25)","v":true},{"$f":"L31='3 2019 WasteCalc Results'!E25","v":true}]
[null,null,null,null,null,null,null,{"$f":"H31+I31+F31","v":219699},{"$f":"H33-'2 2019 WasteCalc Input'!E43","v":0}]
[null,"Assumptions used for SMM material categories"]
[null,null,null,"Original FDEP Categories","Does the material have a new category? (Y-Yes, N-No)","New Categories",null,"Notes","% HDPE of plastic bottles","% PET of plastic bottles","% Magazine/ third class mail of  other paper","% Books  of other paper","% Wood products of C&D debris","% Asphalt shingles of C&D debris","% Gypsum drywall of C&D debris","% Concrete of C&D debris","% Asphalt pavement of C&D debris","% Electronics of Miscellaneous","% Furniture of Miscellaneous"]
[null,null,null,"Newspaper","N"]
[null,null,null,"Glass","N"]
[null,null,null,"Aluminum Cans","N"]
[null,null,null,"Plastic Bottles","Y","HDPE and PET",null,"Category broken apart using assumptions",{"$f":"O83/(N83+O83)","v":0.37803138373751788},{"$f":"N83/(O83+N83)","v":0.62196861626248212}]
[null,null,null,"Steel Cans","N"]
[null,null,null,"Corrugated Boxes","N"]
[null,null,null,"Office Paper","N"]
[null,null,null,"Yard Trash","N"]
[null,null,null,"Other Plastics","Y","Mixed plastics",null,"Only name change"]
[null,null,null,"Ferrous Metals","Y","Mixed metals",null,"Sum of the ferrous and nonferrous categories"]
[null,null,null,"White Goods","Y","Electronics",null,"Included in electronics along with the portion from miscellaneous"]
[null,null,null,"Non Ferrous Metals","Y","Mixed metals",null,"Sum of the ferrous and nonferrous categories"]
[null,null,null,"Other Paper","Y","Mixed paper,  magazines/third-class mail, and books",null,"Category broken apart using assumptions",null,null,{"$f":"0.1+0.13","v":0.23},0.02]
[null,null,null,"Textiles","Y","Clothing and footwear",null,"Only name change"]
[null,null,null,"C&D Debris","Y","Wood products, asphalt shingles, gypsum drywall, concrete, asphalt pavement",null,"Category broken apart using assumptions",null,null,null,null,{"$f":"L90","v":0.24600000000000002},{"$f":"L91","v":0.216},{"$f":"L92","v":0.11599999999999999},{"$f":"L93","v":0.33599999999999997},{"$f":"L94","v":8.5999999999999993E-2}]
[null,null,null,"Food Waste","N"]
[null,null,null,"Miscellaneous","Y","Mixed MSW, electronics, and furniture",null,"Category broken apart using assumptions",null,null,null,null,null,null,null,null,null,{"$f":"E58","v":2.6675869432795644E-2},{"$f":"E66","v":1.852367120744753E-2}]
[null,null,null,"Tires","N"]
[null,null,null,"Process Fuel","N"]
[]
[]
[null,null,null,"Miscellenous Composition (From averaging 67 county data)"]
[null,null,null,"E-waste",2.6675869432795644E-2]
[null,null,null,"Oils",0.10932655257792299]
[null,null,null,"Paints",5.1500827923336469E-3]
[null,null,null,"Hazardous Wastes",0.18719307072040858]
[null,null,null,"Ash",0.43579312837684575]
[null,null,null,"Animal Waste",2.6284921635641882E-2]
[null,null,null,"Wood",5.3446985642054941E-3]
[null,null,null,"Organics",3.1029159224317024E-2]
[null,null,null,"Furniture",1.852367120744753E-2]
[null,null,null,"Oil Filters",2.4541872795754093E-3]
[null,null,null,"Misc. ",4.210320175158642E-3]
[null,null,null,"Soil",9.0136870412481709E-2]
[]
[]
[]
[null,null,null,"Residential single family recyclables composition "]
[null,null,null,null,null,null,"Recyclables Composition"]
[null,null,null,"Location","Year","Recyclables Composition Data Source","Newspaper","Mixed Paper Nondurable Goods","Glass Packaging","Steel Packaging","Aluminum Packaging","Corrugated Boxes","Other Paper & Paperboard Pkg","PET Bottles and Jars","HDPE Bottles","Mixed Plastics Packaging","All other garbage"]
[null,null,null,"Sarasota County ",2015,"Find document in Recyclables Composition Folder and used Exhibit C. ",{"$f":"TRANSPOSE('[16]Table 8'!$J$2:$J$12)","v":0.17199999999999999},0.29499999999999998,0.218,2.4E-2,1.4999999999999999E-2,0.09,2E-3,5.3999999999999999E-2,2.6000000000000002E-2,2.1000000000000001E-2,8.1000000000000003E-2]
[null,null,null,"Lee County",2018,"Find document in Recyclables Composition Folder and used the only table shown. ",{"$f":"TRANSPOSE('[17]Table 2'!$I$3:$I$13)","v":7.0000000000000007E-2},0.184,0.13200000000000001,0.02,2.0999999999999998E-2,0.25900000000000001,3.0000000000000001E-3,5.6000000000000001E-2,3.4000000000000002E-2,5.3000000000000005E-2,0.16700000000000001]
[null,null,null,"Brevard County",2016,"Find document in Recyclables Composition Folder and used Table 3.",0.10199999999999999,0.23,0.19400000000000001,1.9E-2,1.6E-2,8.6999999999999994E-2,null,3.7999999999999999E-2,2.1999999999999999E-2,0.01,0.28199999999999997]
[null,null,null,"Pasco County",2014,"Find document in Recyclables Composition Folder and used Table 3.",{"$f":"TRANSPOSE('[18]Table 2'!$J$2:$J$12)","v":1.2E-2},1.4999999999999999E-2,0.42299999999999999,0.08,4.1000000000000002E-2,1.0999999999999999E-2,3.0000000000000001E-3,0.156,9.8000000000000004E-2,0.12300000000000001,3.7999999999999999E-2]
[null,null,null,"Polk County",2015,"Find document in Recyclables Composition Folder and used Table 2.",0.16300000000000001,0.24099999999999999,0.10100000000000001,{"$f":"0.023+0.009+0.006","v":3.7999999999999999E-2},{"$f":"0.011+0.001","v":1.2E-2},0.16600000000000001,3.0000000000000001E-3,4.7E-2,{"$f":"0.017+0.002","v":1.9000000000000003E-2},{"$f":"0.009+0.002+0.022+0.023+0.008+0.022","v":8.5999999999999993E-2},{"$f":"0.087+0.019+0.004","v":0.11}]
[null,null,null,"Santa Rosa County",2017,"Find document in Recyclables Composition Folder and used Table 1.",{"$f":"TRANSPOSE('[19]Table 2'!$F$2:$F$12)","v":0.04},0.19,0.04,0.03,0.01,0.22,0,0.04,0.03,0.02,0.38]
[null,null,null,"Okaloosa County",2014,"Find document in Recyclables Composition Folder and used Table 3.5. ",{"$f":"TRANSPOSE('[20]Table 11'!$I$4:$I$14)","v":0.14299999999999999},0.23500000000000001,0.192,0.03,2.1999999999999999E-2,0.14699999999999999,4.0000000000000001E-3,4.4999999999999998E-2,3.5999999999999997E-2,7.2000000000000008E-2,7.400000000000001E-2]
[null,null,null,"Average",null,null,{"$f":"IFERROR(AVERAGEIF(G76:G82,\"<>0\"),0)","v":0.1002857142857143},0.19857142857142859,0.18571428571428572,3.4428571428571433E-2,1.9571428571428569E-2,0.13999999999999999,3.0000000000000001E-3,6.2285714285714278E-2,3.785714285714286E-2,5.5000000000000007E-2,{"$f":"1-SUM(G83:P83)","v":0.16328571428571426}]
[]
[]
[]
[]
[]
[]
[null,null,null,null,null,null,null,null,"Asphalt",0.05,"Wood Products",{"$f":"J93+J96+(J97+J98)/5","v":0.24600000000000002}]
[null,null,null,null,null,null,null,null,"Concrete",0.13,"Asphalt Shingles",{"$f":"J94+(J97+J98)/5","v":0.216}]
[null,null,null,null,null,null,null,null,"Fines",0.08,"Gypsum Drywall",{"$f":"J95+(J97+J98)/5","v":0.11599999999999999}]
[null,null,null,null,null,null,null,null,"Wood",0.2,"Concrete",{"$f":"J91+J99+J92+(J97+J98)/5","v":0.33599999999999997}]
[null,null,null,null,null,null,null,null,"Roofing",0.18,"RAP",{"$f":"J90+(J97+J98)/5","v":8.5999999999999993E-2}]
[null,null,null,null,null,null,null,null,"Gypsum",0.08,null,{"$f":"SUM(L90:L94)","v":1}]
[null,null,null,null,null,null,null,null,"Organics",0.01]
[null,null,null,null,null,null,null,null,"Metal",0.03]
[null,null,null,null,null,null,null,null,"Other Materials",0.15]
[null,null,null,null,null,null,null,null,"Other Aggregates",0.09]
[null,null,null,null,null,null,null,null,null,{"$f":"SUM(J90:J99)","v":1}]
[null,null,null,null,null,null,null,null,null,{"$f":"1=J100","v":true}]

{"sheet":"8 LCI Data Compilation","index":8,"n_rows":272,"n_cols":45,"rows_kept":272,"cut":false,"hidden":true,"merged":[[5,3,5,8],[35,3,35,8],[65,3,65,8],[95,3,95,8],[125,3,125,8],[155,3,155,8],[248,0,253,0],[254,0,256,0],[258,0,260,0],[188,0,193,0],[194,0,196,0],[198,0,200,0],[201,0,202,0],[203,0,206,0],[207,0,211,0],[8,0,13,0],[14,0,16,0],[18,0,20,0],[21,0,22,0],[23,0,26,0],[27,0,31,0],[261,0,262,0],[263,0,266,0],[267,0,271,0],[245,9,245,14],[245,15,245,20],[245,21,245,26],[245,3,245,8],[245,27,245,32],[245,33,245,38],[245,39,245,44],[218,0,223,0],[224,0,226,0],[228,0,230,0],[231,0,232,0],[233,0,236,0],[237,0,241,0],[215,9,215,14],[215,15,215,20],[215,21,215,26],[215,27,215,32],[215,33,215,38],[215,39,215,44],[215,3,215,8],[185,9,185,14],[185,15,185,20],[185,21,185,26],[185,27,185,32],[185,33,185,38],[185,39,185,44],[158,0,163,0],[164,0,166,0],[168,0,170,0],[171,0,172,0],[173,0,176,0],[177,0,181,0],[185,3,185,8],[155,9,155,14],[155,15,155,20],[155,21,155,26],[155,27,155,32],[155,33,155,38],[155,39,155,44],[128,0,133,0],[134,0,136,0],[138,0,140,0],[141,0,142,0],[143,0,146,0],[147,0,151,0],[125,9,125,14],[125,15,125,20],[125,21,125,26],[125,27,125,32],[125,33,125,38],[125,39,125,44],[98,0,103,0],[104,0,106,0],[108,0,110,0],[111,0,112,0],[113,0,116,0],[117,0,121,0],[95,9,95,14],[95,15,95,20],[95,21,95,26],[95,27,95,32],[95,33,95,38],[95,39,95,44],[68,0,73,0],[74,0,76,0],[78,0,80,0],[81,0,82,0],[83,0,86,0],[87,0,91,0],[65,27,65,32],[65,33,65,38],[65,39,65,44],[38,0,43,0],[44,0,46,0],[48,0,50,0],[51,0,52,0],[53,0,56,0],[57,0,61,0],[65,9,65,14],[65,15,65,20],[65,21,65,26],[5,9,5,14],[5,15,5,20],[5,21,5,26],[5,27,5,32],[5,33,5,38],[5,39,5,44],[35,9,35,14],[35,15,35,20],[35,21,35,26],[35,27,35,32],[35,33,35,38],[35,39,35,44]]}
[null,"Key"]
[null,null,"Created during HC19/20 Project"]
[null,null,"Created during HC18/19 Project"]
[]
["Climate change (tCO2eq./ton)"]
["Material Category","Item No.","Material Type","Produced",null,null,null,null,null,"Collection",null,null,null,null,null,"Recycling",null,null,null,null,null,"Composting",null,null,null,null,null,"Anaerobic Digestion",null,null,null,null,null,"Landfill",null,null,null,null,null,"Combustion"]
[null,null,null,"MSWDST (FL)","SWOLF (FL)","SWOLF (US)","WARM (FL)","WARM (US)","Literature","MSWDST (FL)","SWOLF (FL)","SWOLF (US)","WARM (FL)","WARM (US)","Literature","MSWDST (FL)","SWOLF (FL)","SWOLF (US)","WARM (FL)","WARM (US)","Literature","MSWDST (FL)","SWOLF (FL)","SWOLF (US)","WARM (FL)","WARM (US)","Literature","MSWDST (FL)","SWOLF (FL)","SWOLF (US)","WARM (FL)","WARM (US)","Literature","MSWDST (FL)","SWOLF (FL)","SWOLF (US)","WARM (FL)","WARM (US)","Literature","MSWDST (FL)","SWOLF (FL)","SWOLF (US)","WARM (FL)","WARM (US)","Literature"]
["MSW ",1,"Mixed MSW","NA",{"$f":"IFERROR('[22]Data Compilation'!E6*-1,\"NA\")","v":"NA"},{"$f":"IFERROR('[22]Data Compilation'!J6*-1, \"NA\")","v":"NA"},{"$f":"'[23]Data Compilation'!E6","v":"NA"},{"$f":"'[23]Data Compilation'!J6","v":"NA"},"NA",{"$f":"'[24]Data Compilation'!$E$6","v":5.6523794652499999E-3},{"$f":"'[25]Data Compilation'!$E$6","v":3.6049276556026591E-2},{"$f":"'[25]Data Compilation'!$O$6","v":7.2978995611940281E-2},{"$f":"'[26]Data Compilation'!E6","v":3.2840871745754008E-3},{"$f":"'[26]Data Compilation'!O6","v":3.2840871745754008E-3},"NA",{"$f":"'[24]Data Compilation'!F6","v":"NA"},{"$f":"'[25]Data Compilation'!F6","v":"NA"},{"$f":"'[25]Data Compilation'!P6","v":"NA"},{"$f":"'[26]Data Compilation'!F6","v":"NA"},{"$f":"'[26]Data Compilation'!P6","v":"NA"},"NA",{"$f":"'[24]Data Compilation'!G6","v":"NA"},{"$f":"'[25]Data Compilation'!G6","v":"NA"},{"$f":"'[25]Data Compilation'!Q6","v":"NA"},{"$f":"'[26]Data Compilation'!G6","v":"NA"},{"$f":"'[26]Data Compilation'!Q6","v":"NA"},"NA","NA",{"$f":"'[25]Data Compilation'!H6","v":"NA"},{"$f":"'[25]Data Compilation'!R6","v":"NA"},{"$f":"'[26]Data Compilation'!H6","v":"NA"},{"$f":"'[26]Data Compilation'!R6","v":"NA"},"NA",{"$f":"'[24]Data Compilation'!I6","v":-0.18362829068322495},{"$f":"'[25]Data Compilation'!I6","v":9.3103722536521383E-3},{"$f":"'[25]Data Compilation'!S6","v":9.8098959752534395E-3},{"$f":"'[26]Data Compilation'!I6","v":0.15093598039428027},{"$f":"'[26]Data Compilation'!S6","v":0.1477314546651165},"NA",{"$f":"'[24]Data Compilation'!J6","v":-0.26833714216560911},{"$f":"'[25]Data Compilation'!J6","v":-0.16483703745609174},{"$f":"'[25]Data Compilation'!T6","v":-0.1632860958591954},{"$f":"'[26]Data Compilation'!J6","v":1.8041929031616326E-2},{"$f":"'[26]Data Compilation'!T6","v":5.8701356300666563E-3},"NA"]
["Paper",2,"Newspaper","NA",{"$f":"IFERROR('[22]Data Compilation'!E7*-1,\"NA\")","v":2.7545753020880723},{"$f":"IFERROR('[22]Data Compilation'!J7*-1, \"NA\")","v":2.7430323348158687},{"$f":"'[23]Data Compilation'!E7","v":5.7361945463513155},{"$f":"'[23]Data Compilation'!J7","v":5.7361945463513155},"NA",{"$f":"'[24]Data Compilation'!$E$6","v":5.6523794652499999E-3},{"$f":"'[25]Data Compilation'!$E$6","v":3.6049276556026591E-2},{"$f":"'[25]Data Compilation'!$O$6","v":7.2978995611940281E-2},{"$f":"'[26]Data Compilation'!E7","v":3.2840871745754008E-3},{"$f":"'[26]Data Compilation'!O7","v":3.2840871745754008E-3},"NA",{"$f":"'[24]Data Compilation'!F7","v":-0.83036313364831904},{"$f":"'[25]Data Compilation'!F7","v":-1.0010268222488126},{"$f":"'[25]Data Compilation'!P7","v":-0.99651752497981172},{"$f":"'[26]Data Compilation'!F7","v":-2.7115556153855049},{"$f":"'[26]Data Compilation'!P7","v":-2.7115556153855049},"NA",{"$f":"'[24]Data Compilation'!G7","v":"NA"},{"$f":"'[25]Data Compilation'!G7","v":-0.15691901068712613},{"$f":"'[25]Data Compilation'!Q7","v":-0.15692602245436316},{"$f":"'[26]Data Compilation'!G7","v":"NA"},{"$f":"'[26]Data Compilation'!Q7","v":"NA"},"NA","NA",{"$f":"'[25]Data Compilation'!H7","v":-8.7708547737966672E-2},{"$f":"'[25]Data Compilation'!R7","v":-8.7705895169337134E-2},{"$f":"'[26]Data Compilation'!H7","v":"NA"},{"$f":"'[26]Data Compilation'!R7","v":"NA"},"NA",{"$f":"'[24]Data Compilation'!I7","v":-1.35371471055},{"$f":"'[25]Data Compilation'!I7","v":-0.88453170321645624},{"$f":"'[25]Data Compilation'!S7","v":-0.88398425852172258},{"$f":"'[26]Data Compilation'!I7","v":-0.94945179037045091},{"$f":"'[26]Data Compilation'!S7","v":-0.95149446468326171},"NA",{"$f":"'[24]Data Compilation'!J7","v":-1.1779576014114832},{"$f":"'[25]Data Compilation'!J7","v":-0.66537930262601186},{"$f":"'[25]Data Compilation'!T7","v":-0.66072520718901295},{"$f":"'[26]Data Compilation'!J7","v":-0.54181962457286181},{"$f":"'[26]Data Compilation'!T7","v":-0.56117277608132565},"NA"]
[null,3,"Corrugated Cardboard (OCC)","NA",{"$f":"IFERROR('[22]Data Compilation'!E8*-1,\"NA\")","v":0.4964774406887108},{"$f":"IFERROR('[22]Data Compilation'!J8*-1, \"NA\")","v":0.49459822331154507},{"$f":"'[23]Data Compilation'!E8","v":8.0859459600167067},{"$f":"'[23]Data Compilation'!J8","v":8.0859459600167067},"NA",{"$f":"'[24]Data Compilation'!$E$6","v":5.6523794652499999E-3},{"$f":"'[25]Data Compilation'!$E$6","v":3.6049276556026591E-2},{"$f":"'[25]Data Compilation'!$O$6","v":7.2978995611940281E-2},{"$f":"'[26]Data Compilation'!E8","v":3.2840871745754008E-3},{"$f":"'[26]Data Compilation'!O8","v":3.2840871745754008E-3},"NA",{"$f":"'[24]Data Compilation'!F8","v":0.19056110027016565},{"$f":"'[25]Data Compilation'!F8","v":5.852992558199395E-2},{"$f":"'[25]Data Compilation'!P8","v":5.7290340439935757E-2},{"$f":"'[26]Data Compilation'!F8","v":-3.1386209958535667},{"$f":"'[26]Data Compilation'!P8","v":-3.1386209958535667},"NA",{"$f":"'[24]Data Compilation'!G8","v":"NA"},{"$f":"'[25]Data Compilation'!G8","v":-0.14172426008925443},{"$f":"'[25]Data Compilation'!Q8","v":-0.14173128025410944},{"$f":"'[26]Data Compilation'!G8","v":"NA"},{"$f":"'[26]Data Compilation'!Q8","v":"NA"},"NA","NA",{"$f":"'[25]Data Compilation'!H8","v":-0.16500766398520481},{"$f":"'[25]Data Compilation'!R8","v":-0.1640521396952489},{"$f":"'[26]Data Compilation'!H8","v":"NA"},{"$f":"'[26]Data Compilation'!R8","v":"NA"},"NA",{"$f":"'[24]Data Compilation'!I8","v":-0.7743346457000001},{"$f":"'[25]Data Compilation'!I8","v":4.0809996392622751E-3},{"$f":"'[25]Data Compilation'!S8","v":5.1705038022233727E-3},{"$f":"'[26]Data Compilation'!I8","v":-4.9242390859961217E-2},{"$f":"'[26]Data Compilation'!S8","v":-5.3986044274546154E-2},"NA",{"$f":"'[24]Data Compilation'!J8","v":-1.0776788530909092},{"$f":"'[25]Data Compilation'!J8","v":-0.53934723134414275},{"$f":"'[25]Data Compilation'!T8","v":-0.53544940453674283},{"$f":"'[26]Data Compilation'!J8","v":-0.47516920146990071},{"$f":"'[26]Data Compilation'!T8","v":-0.49231438965532348},"NA"]
[null,4,"High Grade Paper (Office Type Paper)","NA",{"$f":"IFERROR('[22]Data Compilation'!E9*-1,\"NA\")","v":1.8742204004698311},{"$f":"IFERROR('[22]Data Compilation'!J9*-1, \"NA\")","v":1.8716162624427188},{"$f":"'[23]Data Compilation'!E9","v":8.2333664207396726},{"$f":"'[23]Data Compilation'!J9","v":8.2333664207396726},"NA",{"$f":"'[24]Data Compilation'!$E$6","v":5.6523794652499999E-3},{"$f":"'[25]Data Compilation'!$E$6","v":3.6049276556026591E-2},{"$f":"'[25]Data Compilation'!$O$6","v":7.2978995611940281E-2},{"$f":"'[26]Data Compilation'!E9","v":3.2840871745754008E-3},{"$f":"'[26]Data Compilation'!O9","v":3.2840871745754008E-3},"NA",{"$f":"'[24]Data Compilation'!F9","v":0.35253980183259448},{"$f":"'[25]Data Compilation'!F9","v":0.37467660998851227},{"$f":"'[25]Data Compilation'!P9","v":0.46324204675790809},{"$f":"'[26]Data Compilation'!F9","v":-2.8670299771641523},{"$f":"'[26]Data Compilation'!P9","v":-2.8670299771641523},"NA",{"$f":"'[24]Data Compilation'!G9","v":"NA"},{"$f":"'[25]Data Compilation'!G9","v":-0.13342237681833136},{"$f":"'[25]Data Compilation'!Q9","v":-0.13343017934463738},{"$f":"'[26]Data Compilation'!G9","v":"NA"},{"$f":"'[26]Data Compilation'!Q9","v":"NA"},"NA","NA",{"$f":"'[25]Data Compilation'!H9","v":-0.28382367111483592},{"$f":"'[25]Data Compilation'!R9","v":-0.28215628558907824},{"$f":"'[26]Data Compilation'!H9","v":"NA"},{"$f":"'[26]Data Compilation'!R9","v":"NA"},"NA",{"$f":"'[24]Data Compilation'!I9","v":0.10978402094999992},{"$f":"'[25]Data Compilation'!I9","v":0.82619432615508825},{"$f":"'[25]Data Compilation'!S9","v":0.82815928272582584},{"$f":"'[26]Data Compilation'!I9","v":0.76452778635901009},{"$f":"'[26]Data Compilation'!S9","v":0.75706053717187982},"NA",{"$f":"'[24]Data Compilation'!J9","v":-0.98663037827272737},{"$f":"'[25]Data Compilation'!J9","v":-0.4662343099355683},{"$f":"'[25]Data Compilation'!T9","v":-0.46264887197957477},{"$f":"'[26]Data Compilation'!J9","v":-0.45731247289876559},{"$f":"'[26]Data Compilation'!T9","v":-0.47386611192487305},"NA"]
[null,5,"Magazines/third-class mail","NA",{"$f":"IFERROR('[22]Data Compilation'!E10*-1,\"NA\")","v":2.9790076109485866},{"$f":"IFERROR('[22]Data Compilation'!J10*-1, \"NA\")","v":2.9710111785484208},{"$f":"'[23]Data Compilation'!E10","v":8.8646805374254853},{"$f":"'[23]Data Compilation'!J10","v":8.8646805374254853},"NA",{"$f":"'[24]Data Compilation'!$E$6","v":5.6523794652499999E-3},{"$f":"'[25]Data Compilation'!$E$6","v":3.6049276556026591E-2},{"$f":"'[25]Data Compilation'!$O$6","v":7.2978995611940281E-2},{"$f":"'[26]Data Compilation'!E10","v":3.2840871745754008E-3},{"$f":"'[26]Data Compilation'!O10","v":3.2840871745754008E-3},"NA",{"$f":"'[24]Data Compilation'!F10","v":5.6597239962511106E-2},{"$f":"'[25]Data Compilation'!F10","v":-0.51229930260056811},{"$f":"'[25]Data Compilation'!P10","v":-0.51003232028394507},{"$f":"'[26]Data Compilation'!F10","v":-3.0729840267711448},{"$f":"'[26]Data Compilation'!P10","v":-3.0729840267711448},"NA",{"$f":"'[24]Data Compilation'!G10","v":"NA"},{"$f":"'[25]Data Compilation'!G10","v":-0.11931985329517533},{"$f":"'[25]Data Compilation'!Q10","v":-0.11932728579453646},{"$f":"'[26]Data Compilation'!G10","v":"NA"},{"$f":"'[26]Data Compilation'!Q10","v":"NA"},"NA","NA",{"$f":"'[25]Data Compilation'!H10","v":-0.12665700694544582},{"$f":"'[25]Data Compilation'!R10","v":-0.12581380741738304},{"$f":"'[26]Data Compilation'!H10","v":"NA"},{"$f":"'[26]Data Compilation'!R10","v":"NA"},"NA",{"$f":"'[24]Data Compilation'!I10","v":-0.46836317409999983},{"$f":"'[25]Data Compilation'!I10","v":-0.5267487504238314},{"$f":"'[25]Data Compilation'!S10","v":-0.52622291635134555},{"$f":"'[26]Data Compilation'!I10","v":-0.50280956566694912},{"$f":"'[26]Data Compilation'!S10","v":-0.50487683920283133},"NA",{"$f":"'[24]Data Compilation'!J10","v":-0.88806206127007192},{"$f":"'[25]Data Compilation'!J10","v":-0.50119441011630683},{"$f":"'[25]Data Compilation'!T10","v":-0.49763761066111961},{"$f":"'[26]Data Compilation'!J10","v":-0.34399940517576005},{"$f":"'[26]Data Compilation'!T10","v":-0.35679926311682963},"NA"]
[null,6,"Books","NA",{"$f":"IFERROR('[22]Data Compilation'!E11*-1,\"NA\")","v":"NA"},{"$f":"IFERROR('[22]Data Compilation'!J11*-1, \"NA\")","v":"NA"},{"$f":"'[23]Data Compilation'!E11","v":9.3243945475523589},{"$f":"'[23]Data Compilation'!J11","v":9.3243945475523589},"NA",{"$f":"J8","v":5.6523794652499999E-3},{"$f":"K8","v":3.6049276556026591E-2},7.2978995611940281E-2,3.2840871745754008E-3,3.2840871745754008E-3,"NA","NA","NA","NA",{"$f":"'[27]Analysis Results (MTCO2E)'!$G$14","v":-2.7115556153855049},{"$f":"'[28]Analysis Results (MTCO2E)'!$G$14","v":-2.7115556153855049},"NA","NA","NA","NA","NA","NA","NA","NA","NA","NA","NA","NA","NA",{"$f":"[29]Cost_LCI!$AA$17","v":9.629542936885245E-2},"NA","NA",{"$f":"'[27]Analysis Results (MTCO2E)'!$H$17","v":0.76452778635901009},{"$f":"'[28]Analysis Results (MTCO2E)'!$H$15","v":0.75706053717187982},"NA",{"$f":"[30]Cost_LCI!$AJ$17","v":-0.96838381357607717},"NA","NA",{"$f":"'[27]Analysis Results (MTCO2E)'!$I$15","v":-0.45731247289876559},{"$f":"'[28]Analysis Results (MTCO2E)'!$I$15","v":-0.47386611192487305},"NA"]
[null,7,"Mixed Paper","NA",{"$f":"IFERROR('[22]Data Compilation'!E12*-1,\"NA\")","v":2.7545753020880723},{"$f":"IFERROR('[22]Data Compilation'!J12*-1, \"NA\")","v":2.7430323348158687},{"$f":"'[23]Data Compilation'!E12","v":7.6137884790743078},{"$f":"'[23]Data Compilation'!J12","v":7.6137884790743078},"NA",{"$f":"'[24]Data Compilation'!$E$6","v":5.6523794652499999E-3},{"$f":"'[25]Data Compilation'!$E$6","v":3.6049276556026591E-2},{"$f":"'[25]Data Compilation'!$O$6","v":7.2978995611940281E-2},{"$f":"'[26]Data Compilation'!E11","v":3.2840871745754008E-3},{"$f":"'[26]Data Compilation'!O11","v":3.2840871745754008E-3},"NA",{"$f":"'[24]Data Compilation'!F11","v":-5.7666247895761941E-2},{"$f":"'[25]Data Compilation'!F11","v":-1.0010268234494908},{"$f":"'[25]Data Compilation'!P11","v":-0.99651752618049017},{"$f":"'[26]Data Compilation'!F11","v":-3.5488076862392783},{"$f":"'[26]Data Compilation'!P11","v":-3.5488076862392783},"NA",{"$f":"'[24]Data Compilation'!G11","v":"NA"},{"$f":"'[25]Data Compilation'!G11","v":-0.12899592748606425},{"$f":"'[25]Data Compilation'!Q11","v":-0.12900299239538862},{"$f":"'[26]Data Compilation'!G11","v":"NA"},{"$f":"'[26]Data Compilation'!Q11","v":"NA"},"NA","NA",{"$f":"'[25]Data Compilation'!H11","v":-0.11586212742505039},{"$f":"'[25]Data Compilation'!R11","v":-0.11527786354391283},{"$f":"'[26]Data Compilation'!H11","v":"NA"},{"$f":"'[26]Data Compilation'!R11","v":"NA"},"NA",{"$f":"'[24]Data Compilation'!I11","v":-0.62165712735},{"$f":"'[25]Data Compilation'!I11","v":-0.29154043563050636},{"$f":"'[25]Data Compilation'!S11","v":-0.29050619595293048},{"$f":"'[26]Data Compilation'!I11","v":-0.13896643872356859},{"$f":"'[26]Data Compilation'!S11","v":-0.1433966630195572},"NA",{"$f":"'[24]Data Compilation'!J11","v":-1.0325822235112978},{"$f":"'[25]Data Compilation'!J11","v":-0.54187158832556259},{"$f":"'[25]Data Compilation'!T11","v":-0.53792032678243673},{"$f":"'[26]Data Compilation'!J11","v":-0.47710037359685309},{"$f":"'[26]Data Compilation'!T11","v":-0.49430953672839451},"NA"]
["Plastic",8,"HDPE","NA",{"$f":"E16","v":2.4567427876236265},{"$f":"F16","v":2.4552929463237367},{"$f":"'[23]Data Compilation'!E13","v":1.5187460809806346},{"$f":"'[23]Data Compilation'!J13","v":1.5187460809806346},"NA",{"$f":"'[24]Data Compilation'!$E$6","v":5.6523794652499999E-3},{"$f":"'[25]Data Compilation'!$E$6","v":3.6049276556026591E-2},{"$f":"'[25]Data Compilation'!$O$6","v":7.2978995611940281E-2},{"$f":"'[26]Data Compilation'!E12","v":3.2840871745754008E-3},{"$f":"'[26]Data Compilation'!O12","v":3.2840871745754008E-3},"NA",{"$f":"'[24]Data Compilation'!F12","v":-1.1393799087790071},{"$f":"Q16","v":-1.9402684686939922},{"$f":"R16","v":-1.9398180891119046},{"$f":"'[26]Data Compilation'!F12","v":-0.85632741162658887},{"$f":"'[26]Data Compilation'!P12","v":-0.85632741162658887},"NA",{"$f":"'[24]Data Compilation'!G12","v":"NA"},{"$f":"'[25]Data Compilation'!G12","v":"NA"},{"$f":"'[25]Data Compilation'!Q12","v":"NA"},{"$f":"'[26]Data Compilation'!G12","v":"NA"},{"$f":"'[26]Data Compilation'!Q12","v":"NA"},"NA","NA",{"$f":"'[25]Data Compilation'!H12","v":"NA"},{"$f":"'[25]Data Compilation'!R12","v":"NA"},{"$f":"'[26]Data Compilation'!H12","v":"NA"},{"$f":"'[26]Data Compilation'!R12","v":"NA"},"NA",{"$f":"'[24]Data Compilation'!I12","v":3.8994511335499996E-3},{"$f":"'[25]Data Compilation'!I12","v":8.7150936526763284E-2},{"$f":"'[25]Data Compilation'!S12","v":8.7147728284949905E-2},{"$f":"'[26]Data Compilation'!I12","v":1.6970431966621305E-2},{"$f":"'[26]Data Compilation'!S12","v":1.6970431966621305E-2},"NA",{"$f":"'[24]Data Compilation'!J12","v":2.8834981714394838},{"$f":"'[25]Data Compilation'!J12","v":0.77681629156963039},{"$f":"'[25]Data Compilation'!T12","v":0.78721156224416911},{"$f":"'[26]Data Compilation'!J12","v":1.3312856656968082},{"$f":"'[26]Data Compilation'!T12","v":1.2826350074708144},"NA"]
[null,9,"PET","NA",{"$f":"IFERROR('[22]Data Compilation'!E14*-1,\"NA\")","v":2.4567427876236265},{"$f":"IFERROR('[22]Data Compilation'!J14*-1, \"NA\")","v":2.4552929463237367},{"$f":"'[23]Data Compilation'!E14","v":2.2131778939431932},{"$f":"'[23]Data Compilation'!J14","v":2.2131778939431932},"NA",{"$f":"'[24]Data Compilation'!$E$6","v":5.6523794652499999E-3},{"$f":"'[25]Data Compilation'!$E$6","v":3.6049276556026591E-2},{"$f":"'[25]Data Compilation'!$O$6","v":7.2978995611940281E-2},{"$f":"'[26]Data Compilation'!E13","v":3.2840871745754008E-3},{"$f":"'[26]Data Compilation'!O13","v":3.2840871745754008E-3},"NA",{"$f":"'[24]Data Compilation'!F13","v":-1.4807401747301159},{"$f":"'[25]Data Compilation'!F13","v":-1.9402684686939922},{"$f":"'[25]Data Compilation'!P13","v":-1.9398180891119046},{"$f":"'[26]Data Compilation'!F13","v":-1.1515485451217407},{"$f":"'[26]Data Compilation'!P13","v":-1.1515485451217407},"NA",{"$f":"'[24]Data Compilation'!G13","v":"NA"},{"$f":"'[25]Data Compilation'!G13","v":"NA"},{"$f":"'[25]Data Compilation'!Q13","v":"NA"},{"$f":"'[26]Data Compilation'!G13","v":"NA"},{"$f":"'[26]Data Compilation'!Q13","v":"NA"},"NA","NA",{"$f":"'[25]Data Compilation'!H13","v":"NA"},{"$f":"'[25]Data Compilation'!R13","v":"NA"},{"$f":"'[26]Data Compilation'!H13","v":"NA"},{"$f":"'[26]Data Compilation'!R13","v":"NA"},"NA",{"$f":"'[24]Data Compilation'!I13","v":3.8994511335499996E-3},{"$f":"'[25]Data Compilation'!I13","v":8.7150936526763284E-2},{"$f":"'[25]Data Compilation'!S13","v":8.7150936526763284E-2},{"$f":"'[26]Data Compilation'!I13","v":1.6970431966621305E-2},{"$f":"'[26]Data Compilation'!S13","v":1.6970431966621305E-2},"NA",{"$f":"'[24]Data Compilation'!J13","v":1.3016799896213018},{"$f":"'[25]Data Compilation'!J13","v":0.37182130207457093},{"$f":"'[25]Data Compilation'!T13","v":0.38221657274910892},{"$f":"'[26]Data Compilation'!J13","v":1.264186472123944},{"$f":"'[26]Data Compilation'!T13","v":1.2383822701126588},"NA"]
[null,10,"Mixed Plastic","NA",{"$f":"IFERROR('[22]Data Compilation'!E15*-1,\"NA\")","v":"NA"},{"$f":"IFERROR('[22]Data Compilation'!J15*-1, \"NA\")","v":"NA"},{"$f":"'[23]Data Compilation'!E15","v":1.9371857631503815},{"$f":"'[23]Data Compilation'!J15","v":1.9371857631503815},"NA",{"$f":"'[24]Data Compilation'!$E$6","v":5.6523794652499999E-3},{"$f":"'[25]Data Compilation'!$E$6","v":3.6049276556026591E-2},{"$f":"'[25]Data Compilation'!$O$6","v":7.2978995611940281E-2},{"$f":"'[26]Data Compilation'!E14","v":3.2840871745754008E-3},{"$f":"'[26]Data Compilation'!O14","v":3.2840871745754008E-3},"NA",{"$f":"'[24]Data Compilation'!F14","v":-1.3100600417545616},{"$f":"'[25]Data Compilation'!F14","v":"NA"},{"$f":"'[25]Data Compilation'!P14","v":"NA"},{"$f":"'[26]Data Compilation'!F14","v":-1.034217068989052},{"$f":"'[26]Data Compilation'!P14","v":-1.034217068989052},"NA",{"$f":"'[24]Data Compilation'!G14","v":"NA"},{"$f":"'[25]Data Compilation'!G14","v":"NA"},{"$f":"'[25]Data Compilation'!Q14","v":"NA"},{"$f":"'[26]Data Compilation'!G14","v":"NA"},{"$f":"'[26]Data Compilation'!Q14","v":"NA"},"NA","NA",{"$f":"'[25]Data Compilation'!H14","v":"NA"},{"$f":"'[25]Data Compilation'!R14","v":"NA"},{"$f":"'[26]Data Compilation'!H14","v":"NA"},{"$f":"'[26]Data Compilation'!R14","v":"NA"},"NA",{"$f":"'[24]Data Compilation'!I14","v":3.8994511335499996E-3},{"$f":"'[25]Data Compilation'!I14","v":8.7150936530090414E-2},{"$f":"'[25]Data Compilation'!S14","v":8.7150936530090414E-2},{"$f":"'[26]Data Compilation'!I14","v":1.6970431966621305E-2},{"$f":"'[26]Data Compilation'!S14","v":1.6970431966621305E-2},"NA",{"$f":"'[24]Data Compilation'!J14","v":2.0925890805303928},{"$f":"'[25]Data Compilation'!J14","v":0.63418919636007931},{"$f":"'[25]Data Compilation'!T14","v":0.64511975650549647},{"$f":"'[26]Data Compilation'!J14","v":1.2908541003388003},{"$f":"'[26]Data Compilation'!T14","v":1.2559698964985924},"NA"]
["Glass",11,"Glass","NA",{"$f":"IFERROR('[22]Data Compilation'!E16*-1,\"NA\")","v":0.68166865897300744},{"$f":"IFERROR('[22]Data Compilation'!J16*-1, \"NA\")","v":0.68131902416722656},{"$f":"'[23]Data Compilation'!E16","v":0.603361267430084},{"$f":"'[23]Data Compilation'!J16","v":0.603361267430084},"NA",{"$f":"'[24]Data Compilation'!$E$6","v":5.6523794652499999E-3},{"$f":"'[25]Data Compilation'!$E$6","v":3.6049276556026591E-2},{"$f":"'[25]Data Compilation'!$O$6","v":7.2978995611940281E-2},{"$f":"'[26]Data Compilation'!E15","v":3.2840871745754008E-3},{"$f":"'[26]Data Compilation'!O15","v":3.2840871745754008E-3},"NA",{"$f":"'[24]Data Compilation'!F15","v":-0.29978614753866939},{"$f":"'[25]Data Compilation'!F15","v":-0.27759446020272766},{"$f":"'[25]Data Compilation'!P15","v":-0.27745620220314104},{"$f":"'[26]Data Compilation'!F15","v":-0.27937426363383433},{"$f":"'[26]Data Compilation'!P15","v":-0.27937426363383433},"NA",{"$f":"'[24]Data Compilation'!G15","v":"NA"},{"$f":"'[25]Data Compilation'!G15","v":"NA"},{"$f":"'[25]Data Compilation'!Q15","v":"NA"},{"$f":"'[26]Data Compilation'!G15","v":"NA"},{"$f":"'[26]Data Compilation'!Q15","v":"NA"},"NA","NA",{"$f":"'[25]Data Compilation'!H15","v":"NA"},{"$f":"'[25]Data Compilation'!R15","v":"NA"},{"$f":"'[26]Data Compilation'!H15","v":"NA"},{"$f":"'[26]Data Compilation'!R15","v":"NA"},"NA",{"$f":"'[24]Data Compilation'!I15","v":3.8994511335499996E-3},{"$f":"'[25]Data Compilation'!I15","v":8.7150936527268616E-2},{"$f":"'[25]Data Compilation'!S15","v":8.7150936527268616E-2},{"$f":"'[26]Data Compilation'!I15","v":1.6970431966621305E-2},{"$f":"'[26]Data Compilation'!S15","v":1.6970431966621305E-2},"NA",{"$f":"'[24]Data Compilation'!J15","v":1.352578962962963E-2},{"$f":"'[25]Data Compilation'!J15","v":3.872069409257705E-2},{"$f":"'[25]Data Compilation'!T15","v":3.8616674828179445E-2},{"$f":"'[26]Data Compilation'!J15","v":2.2984175240886615E-2},{"$f":"'[26]Data Compilation'!T15","v":2.3556249530759448E-2},"NA"]
["Metals",12,"Aluminum Cans","NA",{"$f":"IFERROR('[22]Data Compilation'!E17*-1,\"NA\")","v":18.152968439772657},{"$f":"IFERROR('[22]Data Compilation'!J17*-1, \"NA\")","v":18.064862699240862},{"$f":"'[23]Data Compilation'!E17","v":10.987815120812538},{"$f":"'[23]Data Compilation'!J17","v":10.987815120812538},"NA",{"$f":"'[24]Data Compilation'!$E$6","v":5.6523794652499999E-3},{"$f":"'[25]Data Compilation'!$E$6","v":3.6049276556026591E-2},{"$f":"'[25]Data Compilation'!$O$6","v":7.2978995611940281E-2},{"$f":"'[26]Data Compilation'!E16","v":3.2840871745754008E-3},{"$f":"'[26]Data Compilation'!O16","v":3.2840871745754008E-3},"NA",{"$f":"'[24]Data Compilation'!F16","v":-9.8571386785077415},{"$f":"'[25]Data Compilation'!F16","v":-15.849043392872252},{"$f":"'[25]Data Compilation'!P16","v":-15.771469129552488},{"$f":"'[26]Data Compilation'!F16","v":-9.1306622492801957},{"$f":"'[26]Data Compilation'!P16","v":-9.1306622492801957},"NA",{"$f":"'[24]Data Compilation'!G16","v":"NA"},{"$f":"'[25]Data Compilation'!G16","v":"NA"},{"$f":"'[25]Data Compilation'!Q16","v":"NA"},{"$f":"'[26]Data Compilation'!G16","v":"NA"},{"$f":"'[26]Data Compilation'!Q16","v":"NA"},"NA","NA",{"$f":"'[25]Data Compilation'!H16","v":"NA"},{"$f":"'[25]Data Compilation'!R16","v":"NA"},{"$f":"'[26]Data Compilation'!H16","v":"NA"},{"$f":"'[26]Data Compilation'!R16","v":"NA"},"NA",{"$f":"'[24]Data Compilation'!I16","v":3.8994511335499996E-3},{"$f":"'[25]Data Compilation'!I16","v":8.7150936527419842E-2},{"$f":"'[25]Data Compilation'!S16","v":8.7150936527419842E-2},{"$f":"'[26]Data Compilation'!I16","v":1.6970431966621305E-2},{"$f":"'[26]Data Compilation'!S16","v":1.6970431966621305E-2},"NA",{"$f":"'[24]Data Compilation'!J16","v":2.6869406603773585E-2},{"$f":"'[25]Data Compilation'!J16","v":-7.8288869230439264},{"$f":"'[25]Data Compilation'!T16","v":-7.7904805204301235},{"$f":"'[26]Data Compilation'!J16","v":3.0332623212547156E-2},{"$f":"'[26]Data Compilation'!T16","v":3.1148133370450977E-2},"NA"]
[null,13,"Steel/Tin Cans","NA",{"$f":"IFERROR('[22]Data Compilation'!E18*-1,\"NA\")","v":4.4840279946689447},{"$f":"IFERROR('[22]Data Compilation'!J18*-1, \"NA\")","v":4.4724850273967398},{"$f":"'[23]Data Compilation'!E18","v":3.6387866232686901},{"$f":"'[23]Data Compilation'!J18","v":3.6387866232686901},"NA",{"$f":"'[24]Data Compilation'!$E$6","v":5.6523794652499999E-3},{"$f":"'[25]Data Compilation'!$E$6","v":3.6049276556026591E-2},{"$f":"'[25]Data Compilation'!$O$6","v":7.2978995611940281E-2},{"$f":"'[26]Data Compilation'!E17","v":3.2840871745754008E-3},{"$f":"'[26]Data Compilation'!O17","v":3.2840871745754008E-3},"NA",{"$f":"'[24]Data Compilation'!F17","v":-0.85213328115645415},{"$f":"'[25]Data Compilation'!F17","v":-1.9629666766764895},{"$f":"'[25]Data Compilation'!P17","v":-1.9585166612557252},{"$f":"'[26]Data Compilation'!F17","v":-1.8353595051858644},{"$f":"'[26]Data Compilation'!P17","v":-1.8353595051858644},"NA",{"$f":"'[24]Data Compilation'!G17","v":"NA"},{"$f":"'[25]Data Compilation'!G17","v":"NA"},{"$f":"'[25]Data Compilation'!Q17","v":"NA"},{"$f":"'[26]Data Compilation'!G17","v":"NA"},{"$f":"'[26]Data Compilation'!Q17","v":"NA"},"NA","NA",{"$f":"'[25]Data Compilation'!H17","v":"NA"},{"$f":"'[25]Data Compilation'!R17","v":"NA"},{"$f":"'[26]Data Compilation'!H17","v":"NA"},{"$f":"'[26]Data Compilation'!R17","v":"NA"},"NA",{"$f":"'[24]Data Compilation'!I17","v":3.8994511335499996E-3},{"$f":"'[25]Data Compilation'!I17","v":8.7150936526524767E-2},{"$f":"'[25]Data Compilation'!S17","v":8.7150936526524767E-2},{"$f":"'[26]Data Compilation'!I17","v":1.6970431966621305E-2},{"$f":"'[26]Data Compilation'!S17","v":1.6970431966621305E-2},"NA",{"$f":"'[24]Data Compilation'!J17","v":-1.8339302636363637},{"$f":"'[25]Data Compilation'!J17","v":-1.6599396816458578},{"$f":"'[25]Data Compilation'!T17","v":-1.6561783836729462},{"$f":"'[26]Data Compilation'!J17","v":-1.594743455437986},{"$f":"'[26]Data Compilation'!T17","v":-1.594232240115121},"NA"]
[null,14,"Mixed Metals","NA",{"$f":"IFERROR('[22]Data Compilation'!E19*-1,\"NA\")","v":11.318498217220801},{"$f":"IFERROR('[22]Data Compilation'!J19*-1, \"NA\")","v":11.268673863318801},{"$f":"'[23]Data Compilation'!E19","v":6.2167180857578943},{"$f":"'[23]Data Compilation'!J19","v":6.2167180857578943},"NA",{"$f":"'[24]Data Compilation'!$E$6","v":5.6523794652499999E-3},{"$f":"'[25]Data Compilation'!$E$6","v":3.6049276556026591E-2},{"$f":"'[25]Data Compilation'!$O$6","v":7.2978995611940281E-2},{"$f":"'[26]Data Compilation'!E18","v":3.2840871745754008E-3},{"$f":"'[26]Data Compilation'!O18","v":3.2840871745754008E-3},"NA",{"$f":"'[24]Data Compilation'!F18","v":-5.350996838426112},{"$f":"'[25]Data Compilation'!F18","v":-8.9060050347743704},{"$f":"'[25]Data Compilation'!P18","v":-8.8648267616723011},{"$f":"'[26]Data Compilation'!F18","v":-4.3944447609676454},{"$f":"'[26]Data Compilation'!P18","v":-4.3944447609676454},"NA",{"$f":"'[24]Data Compilation'!G18","v":"NA"},{"$f":"'[25]Data Compilation'!G18","v":"NA"},{"$f":"'[25]Data Compilation'!Q18","v":"NA"},{"$f":"'[26]Data Compilation'!G18","v":"NA"},{"$f":"'[26]Data Compilation'!Q18","v":"NA"},"NA","NA",{"$f":"'[25]Data Compilation'!H18","v":"NA"},{"$f":"'[25]Data Compilation'!R18","v":"NA"},{"$f":"'[26]Data Compilation'!H18","v":"NA"},{"$f":"'[26]Data Compilation'!R18","v":"NA"},"NA",{"$f":"'[24]Data Compilation'!I18","v":3.8994511335499996E-3},{"$f":"'[25]Data Compilation'!I18","v":8.7150936526972311E-2},{"$f":"'[25]Data Compilation'!S18","v":8.7150936526972311E-2},{"$f":"'[26]Data Compilation'!I18","v":1.6970431966621305E-2},{"$f":"'[26]Data Compilation'!S18","v":1.6970431966621305E-2},"NA",{"$f":"'[24]Data Compilation'!J18","v":-0.87954379215265865},{"$f":"'[25]Data Compilation'!J18","v":-8.5701902571971793},{"$f":"'[25]Data Compilation'!T18","v":-8.5303770068852494},{"$f":"'[26]Data Compilation'!J18","v":-1.0246905901521968},{"$f":"'[26]Data Compilation'!T18","v":-1.0240726326620668},"NA"]
["Organic",15,"Yard Waste","NA",{"$f":"IFERROR('[22]Data Compilation'!E20*-1,\"NA\")","v":"NA"},{"$f":"IFERROR('[22]Data Compilation'!J20*-1, \"NA\")","v":"NA"},{"$f":"'[23]Data Compilation'!E20","v":"NA"},{"$f":"'[23]Data Compilation'!J20","v":"NA"},"NA",{"$f":"'[24]Data Compilation'!$E$6","v":5.6523794652499999E-3},{"$f":"'[25]Data Compilation'!$E$6","v":3.6049276556026591E-2},{"$f":"'[25]Data Compilation'!$O$6","v":7.2978995611940281E-2},{"$f":"'[26]Data Compilation'!E19","v":3.2840871745754008E-3},{"$f":"'[26]Data Compilation'!O19","v":3.2840871745754008E-3},"NA",{"$f":"'[24]Data Compilation'!F19","v":"NA"},{"$f":"'[25]Data Compilation'!F19","v":"NA"},{"$f":"'[25]Data Compilation'!P19","v":"NA"},{"$f":"'[26]Data Compilation'!F19","v":"NA"},{"$f":"'[26]Data Compilation'!P19","v":"NA"},"NA",{"$f":"'[24]Data Compilation'!G19","v":1.9043663297750004E-2},{"$f":"'[25]Data Compilation'!G19","v":1.6979406644713309E-2},{"$f":"'[25]Data Compilation'!Q19","v":1.7266259562846234E-2},{"$f":"'[26]Data Compilation'!G19","v":-0.14959610677060464},{"$f":"'[26]Data Compilation'!Q19","v":-0.14959610677060464},"NA","NA",{"$f":"'[25]Data Compilation'!H19","v":4.9445359056835302E-2},{"$f":"'[25]Data Compilation'!R19","v":4.968284469615037E-2},{"$f":"'[26]Data Compilation'!H19","v":-9.11655008172539E-2},{"$f":"'[26]Data Compilation'!R19","v":-9.2445019749421584E-2},"NA",{"$f":"'[24]Data Compilation'!I19","v":-0.25086782708333333},{"$f":"'[25]Data Compilation'!I19","v":-0.24549966288923172},{"$f":"'[25]Data Compilation'!S19","v":-0.18412474716692379},{"$f":"'[26]Data Compilation'!I19","v":-0.24037186742546091},{"$f":"'[26]Data Compilation'!S19","v":-0.24156468447125093},"NA",{"$f":"'[24]Data Compilation'!J19","v":-0.60627324189184673},{"$f":"'[25]Data Compilation'!J19","v":-0.25169734926371917},{"$f":"'[25]Data Compilation'!T19","v":-0.24980482244937433},{"$f":"'[26]Data Compilation'!J19","v":-0.16337455403234402},{"$f":"'[26]Data Compilation'!T19","v":-0.17019075833721181},"NA"]
[null,16,"Food Waste","NA",{"$f":"IFERROR('[22]Data Compilation'!E21*-1,\"NA\")","v":"NA"},{"$f":"IFERROR('[22]Data Compilation'!J21*-1, \"NA\")","v":"NA"},{"$f":"'[23]Data Compilation'!E21","v":3.6597480795437827},{"$f":"'[23]Data Compilation'!J21","v":3.6597480795437827},"NA",{"$f":"'[24]Data Compilation'!$E$6","v":5.6523794652499999E-3},{"$f":"'[25]Data Compilation'!$E$6","v":3.6049276556026591E-2},{"$f":"'[25]Data Compilation'!$O$6","v":7.2978995611940281E-2},{"$f":"'[26]Data Compilation'!E20","v":3.2840871745754008E-3},{"$f":"'[26]Data Compilation'!O20","v":3.2840871745754008E-3},"NA",{"$f":"'[24]Data Compilation'!F20","v":"NA"},{"$f":"'[25]Data Compilation'!F20","v":"NA"},{"$f":"'[25]Data Compilation'!P20","v":"NA"},{"$f":"'[26]Data Compilation'!F20","v":"NA"},{"$f":"'[26]Data Compilation'!P20","v":"NA"},"NA",{"$f":"'[24]Data Compilation'!G20","v":1.8868411700250002E-2},{"$f":"'[25]Data Compilation'!G20","v":4.0363225098273177E-2},{"$f":"'[25]Data Compilation'!Q20","v":4.0357306219219319E-2},{"$f":"'[26]Data Compilation'!G20","v":-0.17929610677060465},{"$f":"'[26]Data Compilation'!Q20","v":-0.17929610677060465},"NA","NA",{"$f":"'[25]Data Compilation'!H20","v":-6.8677589789535615E-2},{"$f":"'[25]Data Compilation'!R20","v":-6.6640869642747708E-2},{"$f":"'[26]Data Compilation'!H20","v":-4.0445298184888283E-2},{"$f":"'[26]Data Compilation'!R20","v":-4.4951155276587572E-2},"NA",{"$f":"'[24]Data Compilation'!I20","v":0.39266351735000005},{"$f":"'[25]Data Compilation'!I20","v":0.42350171390758817},{"$f":"'[25]Data Compilation'!S20","v":0.42350171390758817},{"$f":"'[26]Data Compilation'!I20","v":0.40678919399670072},{"$f":"'[26]Data Compilation'!S20","v":0.40410388564946637},"NA",{"$f":"'[24]Data Compilation'!J20","v":-0.26515437630041422},{"$f":"'[25]Data Compilation'!J20","v":-0.22987806701526176},{"$f":"'[25]Data Compilation'!T20","v":-0.22780344885375914},{"$f":"'[26]Data Compilation'!J20","v":-0.13177622775420372},{"$f":"'[26]Data Compilation'!T20","v":-0.13754565782653827},"NA"]
["Other ",17,"Tires","NA",{"$f":"IFERROR('[22]Data Compilation'!E22*-1,\"NA\")","v":"NA"},{"$f":"IFERROR('[22]Data Compilation'!J22*-1, \"NA\")","v":"NA"},{"$f":"'[23]Data Compilation'!E22","v":4.4559988339399652},{"$f":"'[23]Data Compilation'!J22","v":4.4559988339399652},"NA","NA",{"$f":"'[25]Data Compilation'!$E$6","v":3.6049276556026591E-2},{"$f":"'[25]Data Compilation'!$O$6","v":7.2978995611940281E-2},{"$f":"'[26]Data Compilation'!E21","v":3.2840871745754008E-3},{"$f":"'[26]Data Compilation'!O21","v":3.2840871745754008E-3},"NA",{"$f":"'[24]Data Compilation'!F21","v":"NA"},{"$f":"'[25]Data Compilation'!F21","v":"NA"},{"$f":"'[25]Data Compilation'!P21","v":"NA"},{"$f":"'[26]Data Compilation'!F21","v":-0.37958757123316839},{"$f":"'[26]Data Compilation'!P21","v":-0.37958757123316839},"NA",{"$f":"'[24]Data Compilation'!G21","v":"NA"},{"$f":"'[25]Data Compilation'!G21","v":"NA"},{"$f":"'[25]Data Compilation'!Q21","v":"NA"},{"$f":"'[26]Data Compilation'!G21","v":"NA"},{"$f":"'[26]Data Compilation'!Q21","v":"NA"},"NA","NA",{"$f":"'[25]Data Compilation'!H21","v":"NA"},{"$f":"'[25]Data Compilation'!R21","v":"NA"},{"$f":"'[26]Data Compilation'!H21","v":"NA"},{"$f":"'[26]Data Compilation'!R21","v":"NA"},"NA",{"$f":"'[24]Data Compilation'!I21","v":"NA"},{"$f":"'[25]Data Compilation'!I21","v":-0.87016692646460836},{"$f":"'[25]Data Compilation'!S21","v":-0.87016692646460836},{"$f":"'[26]Data Compilation'!I21","v":1.6970431966621305E-2},{"$f":"'[26]Data Compilation'!S21","v":1.6970431966621305E-2},"NA",{"$f":"'[24]Data Compilation'!J21","v":"NA"},{"$f":"'[25]Data Compilation'!J21","v":-0.13624915144289854},{"$f":"'[25]Data Compilation'!T21","v":-0.12877454529481827},{"$f":"'[26]Data Compilation'!J21","v":0.49652612982409394},{"$f":"'[26]Data Compilation'!T21","v":0.49652612982409394},"NA"]
[null,18,"Clothing and Footwear","NA",{"$f":"IFERROR('[22]Data Compilation'!E23*-1,\"NA\")","v":"NA"},{"$f":"IFERROR('[22]Data Compilation'!J23*-1, \"NA\")","v":"NA"},{"$f":"'[23]Data Compilation'!E23","v":"NA"},{"$f":"'[23]Data Compilation'!J23","v":"NA"},{"$f":"'[31]Summary Table'!N3","v":0.56898853357394175},"NA",{"$f":"'[25]Data Compilation'!$E$6","v":3.6049276556026591E-2},{"$f":"'[25]Data Compilation'!$O$6","v":7.2978995611940281E-2},{"$f":"'[26]Data Compilation'!E22","v":3.2840871745754008E-3},{"$f":"'[26]Data Compilation'!O22","v":3.2840871745754008E-3},"NA",{"$f":"'[24]Data Compilation'!F22","v":"NA"},{"$f":"'[25]Data Compilation'!F22","v":"NA"},{"$f":"'[25]Data Compilation'!P22","v":"NA"},{"$f":"'[26]Data Compilation'!F22","v":-2.3849143050914119},{"$f":"'[26]Data Compilation'!P22","v":-2.3849143050914119},"NA",{"$f":"'[24]Data Compilation'!G22","v":"NA"},{"$f":"'[25]Data Compilation'!G22","v":0.16149562377138804},{"$f":"'[25]Data Compilation'!Q22","v":0.16148685739228999},{"$f":"'[26]Data Compilation'!G22","v":"NA"},{"$f":"'[26]Data Compilation'!Q22","v":"NA"},"NA","NA",{"$f":"'[25]Data Compilation'!H22","v":0.2281937661635903},{"$f":"'[25]Data Compilation'!R22","v":0.22832409008895341},{"$f":"'[26]Data Compilation'!H22","v":"NA"},{"$f":"'[26]Data Compilation'!R22","v":"NA"},"NA",{"$f":"'[24]Data Compilation'!I22","v":"NA"},{"$f":"'[25]Data Compilation'!I22","v":0.33588525613628861},{"$f":"'[25]Data Compilation'!S22","v":0.33588525613628861},{"$f":"'[26]Data Compilation'!I22","v":1.6970431966621305E-2},{"$f":"'[26]Data Compilation'!S22","v":1.6970431966621305E-2},"NA",{"$f":"'[24]Data Compilation'!J22","v":"NA"},{"$f":"'[25]Data Compilation'!J22","v":-0.39876200518030469},{"$f":"'[25]Data Compilation'!T22","v":-0.39284907211101805},{"$f":"'[26]Data Compilation'!J22","v":1.1132842488709052},{"$f":"'[26]Data Compilation'!T22","v":1.0947831229005498},"NA"]
[null,19,"Furniture","NA",{"$f":"IFERROR('[22]Data Compilation'!E24*-1,\"NA\")","v":"NA"},{"$f":"IFERROR('[22]Data Compilation'!J24*-1, \"NA\")","v":"NA"},{"$f":"'[23]Data Compilation'!E24","v":"NA"},{"$f":"'[23]Data Compilation'!J24","v":"NA"},{"$f":"'[31]Summary Table'!N4","v":1.9495500797377441},"NA","NA","NA",{"$f":"M8","v":3.2840871745754008E-3},3.2840871745754008E-3,"NA","NA","NA","NA","NA","NA",{"$f":"[32]Summary!$F$7","v":-2.4114607208678298},"NA","NA","NA","NA","NA","NA","NA","NA","NA","NA","NA","NA","NA","NA","NA","NA","NA",{"$f":"[32]Summary!$F$8","v":-0.35280729538723243},"NA","NA","NA","NA","NA",{"$f":"[32]Summary!$F$9","v":-1.0704611377977802}]
[null,20,"Electronics","NA",{"$f":"IFERROR('[22]Data Compilation'!E25*-1,\"NA\")","v":"NA"},{"$f":"IFERROR('[22]Data Compilation'!J25*-1, \"NA\")","v":"NA"},{"$f":"'[23]Data Compilation'!E25","v":18.571046148730112},{"$f":"'[23]Data Compilation'!J25","v":18.571046148730112},{"$f":"'[31]Summary Table'!N5","v":25.590050474989546},"NA",{"$f":"'[25]Data Compilation'!$E$6","v":3.6049276556026591E-2},{"$f":"'[25]Data Compilation'!$O$6","v":7.2978995611940281E-2},{"$f":"'[26]Data Compilation'!E23","v":3.2840871745754008E-3},{"$f":"'[26]Data Compilation'!O23","v":3.2840871745754008E-3},"NA",{"$f":"'[24]Data Compilation'!F23","v":"NA"},{"$f":"'[25]Data Compilation'!F23","v":"NA"},{"$f":"'[25]Data Compilation'!P23","v":"NA"},{"$f":"'[26]Data Compilation'!F23","v":-0.79238385255470334},{"$f":"'[26]Data Compilation'!P23","v":-0.79238385255470334},"NA",{"$f":"'[24]Data Compilation'!G23","v":"NA"},{"$f":"'[25]Data Compilation'!G23","v":"NA"},{"$f":"'[25]Data Compilation'!Q23","v":"NA"},{"$f":"'[26]Data Compilation'!G23","v":"NA"},{"$f":"'[26]Data Compilation'!Q23","v":"NA"},"NA","NA",{"$f":"'[25]Data Compilation'!H23","v":"NA"},{"$f":"'[25]Data Compilation'!R23","v":"NA"},{"$f":"'[26]Data Compilation'!H23","v":"NA"},{"$f":"'[26]Data Compilation'!R23","v":"NA"},"NA",{"$f":"'[24]Data Compilation'!I23","v":"NA"},{"$f":"'[25]Data Compilation'!I23","v":8.7150936530153489E-2},{"$f":"'[25]Data Compilation'!S23","v":8.7150936530153489E-2},{"$f":"'[26]Data Compilation'!I23","v":1.6970431966621305E-2},{"$f":"'[26]Data Compilation'!S23","v":1.6970431966621305E-2},"NA",{"$f":"'[24]Data Compilation'!J23","v":"NA"},{"$f":"'[25]Data Compilation'!J23","v":2.4936028746908399E-2},{"$f":"'[25]Data Compilation'!T23","v":3.0375520052081627E-2},{"$f":"'[26]Data Compilation'!J23","v":0.38733401462759198},{"$f":"'[26]Data Compilation'!T23","v":0.3836013313177834},"NA"]
["C&D Debris",21,"Wood Products","NA",{"$f":"IFERROR('[22]Data Compilation'!E26*-1,\"NA\")","v":"NA"},{"$f":"IFERROR('[22]Data Compilation'!J26*-1, \"NA\")","v":"NA"},{"$f":"'[23]Data Compilation'!E26","v":2.1326894497655569},{"$f":"'[23]Data Compilation'!J26","v":2.1326894497655569},"NA","NA","NA","NA",{"$f":"'[26]Data Compilation'!E24","v":3.2840871745754008E-3},{"$f":"'[26]Data Compilation'!O24","v":3.2840871745754008E-3},"NA",{"$f":"'[24]Data Compilation'!F24","v":"NA"},{"$f":"'[25]Data Compilation'!F24","v":"NA"},{"$f":"'[25]Data Compilation'!P24","v":"NA"},{"$f":"'[26]Data Compilation'!F24","v":-2.4712546591129998},{"$f":"'[26]Data Compilation'!P24","v":-2.4712546591129998},"NA",{"$f":"'[24]Data Compilation'!G24","v":"NA"},{"$f":"'[25]Data Compilation'!G24","v":-0.27423915850728536},{"$f":"'[25]Data Compilation'!Q24","v":-0.27424763039786026},{"$f":"'[26]Data Compilation'!G24","v":"NA"},{"$f":"'[26]Data Compilation'!Q24","v":"NA"},"NA","NA",{"$f":"'[25]Data Compilation'!H24","v":-0.15348747695313372},{"$f":"'[25]Data Compilation'!R24","v":-0.15397671843283176},{"$f":"'[26]Data Compilation'!H24","v":"NA"},{"$f":"'[26]Data Compilation'!R24","v":"NA"},"NA",{"$f":"'[24]Data Compilation'!I24","v":"NA"},{"$f":"'[25]Data Compilation'!I24","v":-1.0490568710113148},{"$f":"'[25]Data Compilation'!S24","v":-1.0490568710113148},{"$f":"'[26]Data Compilation'!I24","v":-1.0333634559008911},{"$f":"'[26]Data Compilation'!S24","v":-1.0336771662470399},"NA",{"$f":"'[24]Data Compilation'!J24","v":"NA"},{"$f":"'[25]Data Compilation'!J24","v":-0.69444937191507883},{"$f":"'[25]Data Compilation'!T24","v":-0.6894683870878362},{"$f":"'[26]Data Compilation'!J24","v":-0.56753919247367368},{"$f":"'[26]Data Compilation'!T24","v":-0.58774436952024611},"NA"]
[null,22,"Asphalt Shingles","NA",{"$f":"IFERROR('[22]Data Compilation'!E27*-1,\"NA\")","v":"NA"},{"$f":"IFERROR('[22]Data Compilation'!J27*-1, \"NA\")","v":"NA"},{"$f":"'[23]Data Compilation'!E27","v":0.18994168948972495},{"$f":"'[23]Data Compilation'!J27","v":0.18994168948972495},"NA","NA","NA","NA",{"$f":"'[26]Data Compilation'!E25","v":3.2840871745754008E-3},{"$f":"'[26]Data Compilation'!O25","v":3.2840871745754008E-3},"NA",{"$f":"'[24]Data Compilation'!F25","v":"NA"},{"$f":"'[25]Data Compilation'!F25","v":"NA"},{"$f":"'[25]Data Compilation'!P25","v":"NA"},{"$f":"'[26]Data Compilation'!F25","v":-9.3159433591508398E-2},{"$f":"'[26]Data Compilation'!P25","v":-9.3159433591508398E-2},"NA",{"$f":"'[24]Data Compilation'!G25","v":"NA"},{"$f":"'[25]Data Compilation'!G25","v":"NA"},{"$f":"'[25]Data Compilation'!Q25","v":"NA"},{"$f":"'[26]Data Compilation'!G25","v":"NA"},{"$f":"'[26]Data Compilation'!Q25","v":"NA"},"NA","NA",{"$f":"'[25]Data Compilation'!H25","v":"NA"},{"$f":"'[25]Data Compilation'!R25","v":"NA"},{"$f":"'[26]Data Compilation'!H25","v":"NA"},{"$f":"'[26]Data Compilation'!R25","v":"NA"},"NA",{"$f":"'[24]Data Compilation'!I25","v":"NA"},{"$f":"'[25]Data Compilation'!I25","v":"NA"},{"$f":"'[25]Data Compilation'!S25","v":"NA"},{"$f":"'[26]Data Compilation'!I25","v":1.6970431966621305E-2},{"$f":"'[26]Data Compilation'!S25","v":1.6970431966621305E-2},"NA",{"$f":"'[24]Data Compilation'!J25","v":"NA"},{"$f":"'[25]Data Compilation'!J25","v":"NA"},{"$f":"'[25]Data Compilation'!T25","v":"NA"},{"$f":"'[26]Data Compilation'!J25","v":-0.35790067749251542},{"$f":"'[26]Data Compilation'!T25","v":-0.35790067749251542},"NA"]
[null,23,"Gypsum Drywall","NA",{"$f":"IFERROR('[22]Data Compilation'!E28*-1,\"NA\")","v":"NA"},{"$f":"IFERROR('[22]Data Compilation'!J28*-1, \"NA\")","v":"NA"},{"$f":"'[23]Data Compilation'!E28","v":0.21543021258138986},{"$f":"'[23]Data Compilation'!J28","v":0.21543021258138986},"NA","NA","NA","NA",{"$f":"'[26]Data Compilation'!E26","v":3.2840871745754008E-3},{"$f":"'[26]Data Compilation'!O26","v":3.2840871745754008E-3},"NA",{"$f":"'[24]Data Compilation'!F26","v":"NA"},{"$f":"'[25]Data Compilation'!F26","v":"NA"},{"$f":"'[25]Data Compilation'!P26","v":"NA"},{"$f":"'[26]Data Compilation'!F26","v":2.2802569094122808E-2},{"$f":"'[26]Data Compilation'!P26","v":2.2802569094122808E-2},"NA",{"$f":"'[24]Data Compilation'!G26","v":"NA"},{"$f":"'[25]Data Compilation'!G26","v":"NA"},{"$f":"'[25]Data Compilation'!Q26","v":"NA"},{"$f":"'[26]Data Compilation'!G26","v":"NA"},{"$f":"'[26]Data Compilation'!Q26","v":"NA"},"NA","NA",{"$f":"'[25]Data Compilation'!H26","v":"NA"},{"$f":"'[25]Data Compilation'!R26","v":"NA"},{"$f":"'[26]Data Compilation'!H26","v":"NA"},{"$f":"'[26]Data Compilation'!R26","v":"NA"},"NA",{"$f":"'[24]Data Compilation'!I26","v":"NA"},{"$f":"'[25]Data Compilation'!I26","v":"NA"},{"$f":"'[25]Data Compilation'!S26","v":"NA"},{"$f":"'[26]Data Compilation'!I26","v":-6.4325416533912036E-2},{"$f":"'[26]Data Compilation'!S26","v":-6.4325416533912036E-2},"NA",{"$f":"'[24]Data Compilation'!J26","v":"NA"},{"$f":"'[25]Data Compilation'!J26","v":"NA"},{"$f":"'[25]Data Compilation'!T26","v":"NA"},{"$f":"'[26]Data Compilation'!J26","v":"NA"},{"$f":"'[26]Data Compilation'!T26","v":"NA"},"NA"]
[null,24,"Concrete","NA",{"$f":"IFERROR('[22]Data Compilation'!E29*-1,\"NA\")","v":"NA"},{"$f":"IFERROR('[22]Data Compilation'!J29*-1, \"NA\")","v":"NA"},{"$f":"'[23]Data Compilation'!E29","v":0.26681148164878588},{"$f":"'[23]Data Compilation'!J29","v":0.26681148164878588},"NA","NA","NA","NA",{"$f":"'[26]Data Compilation'!E27","v":3.2840871745754008E-3},{"$f":"'[26]Data Compilation'!O27","v":3.2840871745754008E-3},"NA",{"$f":"'[24]Data Compilation'!F27","v":"NA"},{"$f":"'[25]Data Compilation'!F27","v":"NA"},{"$f":"'[25]Data Compilation'!P27","v":"NA"},{"$f":"'[26]Data Compilation'!F27","v":-1.1275647843673769E-2},{"$f":"'[26]Data Compilation'!P27","v":-1.1275647843673769E-2},"NA",{"$f":"'[24]Data Compilation'!G27","v":"NA"},{"$f":"'[25]Data Compilation'!G27","v":"NA"},{"$f":"'[25]Data Compilation'!Q27","v":"NA"},{"$f":"'[26]Data Compilation'!G27","v":"NA"},{"$f":"'[26]Data Compilation'!Q27","v":"NA"},"NA","NA",{"$f":"'[25]Data Compilation'!H27","v":"NA"},{"$f":"'[25]Data Compilation'!R27","v":"NA"},{"$f":"'[26]Data Compilation'!H27","v":"NA"},{"$f":"'[26]Data Compilation'!R27","v":"NA"},"NA",{"$f":"'[24]Data Compilation'!I27","v":"NA"},{"$f":"'[25]Data Compilation'!I27","v":"NA"},{"$f":"'[25]Data Compilation'!S27","v":"NA"},{"$f":"'[26]Data Compilation'!I27","v":1.6970431966621305E-2},{"$f":"'[26]Data Compilation'!S27","v":1.6970431966621305E-2},"NA",{"$f":"'[24]Data Compilation'!J27","v":"NA"},{"$f":"'[25]Data Compilation'!J27","v":"NA"},{"$f":"'[25]Data Compilation'!T27","v":"NA"},{"$f":"'[26]Data Compilation'!J27","v":"NA"},{"$f":"'[26]Data Compilation'!T27","v":"NA"},"NA"]
[null,25,"Reclaimed Asphalt Pavement","NA",{"$f":"IFERROR('[22]Data Compilation'!E30*-1,\"NA\")","v":"NA"},{"$f":"IFERROR('[22]Data Compilation'!J30*-1, \"NA\")","v":"NA"},{"$f":"'[23]Data Compilation'!E30","v":0.11093650882302269},{"$f":"'[23]Data Compilation'!J30","v":0.11093650882302269},"NA","NA","NA","NA",{"$f":"'[26]Data Compilation'!E28","v":3.2840871745754008E-3},{"$f":"'[26]Data Compilation'!O28","v":3.2840871745754008E-3},"NA",{"$f":"'[24]Data Compilation'!F28","v":"NA"},{"$f":"'[25]Data Compilation'!F28","v":"NA"},{"$f":"'[25]Data Compilation'!P28","v":"NA"},{"$f":"'[26]Data Compilation'!F28","v":-8.4213918105350366E-2},{"$f":"'[26]Data Compilation'!P28","v":-8.4213918105350366E-2},"NA",{"$f":"'[24]Data Compilation'!G28","v":"NA"},{"$f":"'[25]Data Compilation'!G28","v":"NA"},{"$f":"'[25]Data Compilation'!Q28","v":"NA"},{"$f":"'[26]Data Compilation'!G28","v":"NA"},{"$f":"'[26]Data Compilation'!Q28","v":"NA"},"NA","NA",{"$f":"'[25]Data Compilation'!H28","v":"NA"},{"$f":"'[25]Data Compilation'!R28","v":"NA"},{"$f":"'[26]Data Compilation'!H28","v":"NA"},{"$f":"'[26]Data Compilation'!R28","v":"NA"},"NA",{"$f":"'[24]Data Compilation'!I28","v":"NA"},{"$f":"'[25]Data Compilation'!I28","v":"NA"},{"$f":"'[25]Data Compilation'!S28","v":"NA"},{"$f":"'[26]Data Compilation'!I28","v":1.6970431966621305E-2},{"$f":"'[26]Data Compilation'!S28","v":1.6970431966621305E-2},"NA",{"$f":"'[24]Data Compilation'!J28","v":"NA"},{"$f":"'[25]Data Compilation'!J28","v":"NA"},{"$f":"'[25]Data Compilation'!T28","v":"NA"},{"$f":"'[26]Data Compilation'!J28","v":"NA"},{"$f":"'[26]Data Compilation'!T28","v":"NA"},"NA"]
[]
[]
["Energy use (MJ/ton)"]
["Material Category","Item No.","Material Type","Produced",null,null,null,null,null,"Collection",null,null,null,null,null,"Recycling",null,null,null,null,null,"Composting",null,null,null,null,null,"Anaerobic Digestion",null,null,null,null,null,"Landfill",null,null,null,null,null,"Combustion"]
[null,null,null,"MSWDST (FL)","SWOLF (FL)","SWOLF (US)","WARM (FL)","WARM (US)","Literature","MSWDST (FL)","SWOLF (FL)","SWOLF (US)","WARM (FL)","WARM (US)","Literature","MSWDST (FL)","SWOLF (FL)","SWOLF (US)","WARM (FL)","WARM (US)","Literature","MSWDST (FL)","SWOLF (FL)","SWOLF (US)","WARM (FL)","WARM (US)","Literature","MSWDST (FL)","SWOLF (FL)","SWOLF (US)","WARM (FL)","WARM (US)","Literature","MSWDST (FL)","SWOLF (FL)","SWOLF (US)","WARM (FL)","WARM (US)","Literature","MSWDST (FL)","SWOLF (FL)","SWOLF (US)","WARM (FL)","WARM (US)","Literature"]
["MSW ",1,"Mixed MSW","NA",{"$f":"IFERROR('[22]Data Compilation'!E34*-1,\"NA\")","v":"NA"},{"$f":"IFERROR('[22]Data Compilation'!J34*-1,\"NA\")","v":"NA"},{"$f":"'[23]Data Compilation'!E34","v":"NA"},{"$f":"'[23]Data Compilation'!J34","v":"NA"},"NA",{"$f":"'[24]Data Compilation'!E32","v":321.312464207},{"$f":"'[25]Data Compilation'!$E$32","v":2276.9021912500143},{"$f":"'[25]Data Compilation'!$O$32","v":4518.1008230119833},{"$f":"'[26]Data Compilation'!E32","v":44.927639717635216},{"$f":"'[26]Data Compilation'!O32","v":44.927639717635216},"NA",{"$f":"'[24]Data Compilation'!F32","v":"NA"},{"$f":"'[25]Data Compilation'!F32","v":"NA"},{"$f":"'[25]Data Compilation'!P32","v":"NA"},{"$f":"'[26]Data Compilation'!F32","v":"NA"},{"$f":"'[26]Data Compilation'!P32","v":"NA"},"NA",{"$f":"'[24]Data Compilation'!G32","v":"NA"},{"$f":"'[25]Data Compilation'!G32","v":"NA"},{"$f":"'[25]Data Compilation'!Q32","v":"NA"},{"$f":"'[26]Data Compilation'!G32","v":"NA"},{"$f":"'[26]Data Compilation'!Q32","v":"NA"},"NA","NA",{"$f":"'[25]Data Compilation'!H32","v":"NA"},{"$f":"'[25]Data Compilation'!R32","v":"NA"},{"$f":"'[26]Data Compilation'!H32","v":"NA"},{"$f":"'[26]Data Compilation'!R32","v":"NA"},"NA",{"$f":"'[24]Data Compilation'!I32","v":-1177.3464173554999},{"$f":"'[25]Data Compilation'!I32","v":1390.1188151003901},{"$f":"'[25]Data Compilation'!S32","v":1369.8622112765429},{"$f":"'[26]Data Compilation'!I32","v":-136.09520368202652},{"$f":"'[26]Data Compilation'!S32","v":-148.49137737767512},"NA",{"$f":"'[24]Data Compilation'!J32","v":-2076.103770137518},{"$f":"'[25]Data Compilation'!J32","v":-2235.0189239300898},{"$f":"'[25]Data Compilation'!T32","v":-2297.9124525527941},{"$f":"'[26]Data Compilation'!J32","v":-4964.2015930779544},{"$f":"'[26]Data Compilation'!T32","v":-5014.1209727797896},"NA"]
["Paper",2,"Newspaper","NA",{"$f":"IFERROR('[22]Data Compilation'!E35*-1,\"NA\")","v":36883.93490825683},{"$f":"IFERROR('[22]Data Compilation'!J35*-1,\"NA\")","v":37352.023419118967},{"$f":"'[23]Data Compilation'!E35","v":42940.091043553359},{"$f":"'[23]Data Compilation'!J35","v":42940.091043553359},"NA",{"$f":"'[24]Data Compilation'!E33","v":321.312464207},{"$f":"'[25]Data Compilation'!$E$32","v":2276.9021912500143},{"$f":"'[25]Data Compilation'!$O$32","v":4518.1008230119833},{"$f":"'[26]Data Compilation'!E33","v":44.927639717635216},{"$f":"'[26]Data Compilation'!O33","v":44.927639717635216},"NA",{"$f":"'[24]Data Compilation'!F33","v":-17820.02097847591},{"$f":"'[25]Data Compilation'!F33","v":-13209.002369839172},{"$f":"'[25]Data Compilation'!P33","v":-13391.862651247387},{"$f":"'[26]Data Compilation'!F33","v":-17437.605879383726},{"$f":"'[26]Data Compilation'!P33","v":-17437.605879383726},"NA",{"$f":"'[24]Data Compilation'!G33","v":"NA"},{"$f":"'[25]Data Compilation'!G33","v":208.58427967008524},{"$f":"'[25]Data Compilation'!Q33","v":208.8686197021587},{"$f":"'[26]Data Compilation'!G33","v":"NA"},{"$f":"'[26]Data Compilation'!Q33","v":"NA"},"NA","NA",{"$f":"'[25]Data Compilation'!H33","v":480.08181483405394},{"$f":"'[25]Data Compilation'!R33","v":479.97424830713811},{"$f":"'[26]Data Compilation'!H33","v":"NA"},{"$f":"'[26]Data Compilation'!R33","v":"NA"},"NA",{"$f":"'[24]Data Compilation'!I33","v":-25.417254631300004},{"$f":"'[25]Data Compilation'!I33","v":1314.0003402513682},{"$f":"'[25]Data Compilation'!S33","v":1291.8004530045303},{"$f":"'[26]Data Compilation'!I33","v":-0.42466868962521637},{"$f":"'[26]Data Compilation'!S33","v":-8.3264138230148941},"NA",{"$f":"'[24]Data Compilation'!J33","v":-8986.7077939852516},{"$f":"'[25]Data Compilation'!J33","v":-7164.1211016386987},{"$f":"'[25]Data Compilation'!T33","v":-7352.8532145470472},{"$f":"'[26]Data Compilation'!J33","v":-7866.5732255605435},{"$f":"'[26]Data Compilation'!T33","v":-7945.9450392864619},"NA"]
[null,3,"Corrugated Cardboard (OCC)","NA",{"$f":"IFERROR('[22]Data Compilation'!E36*-1,\"NA\")","v":6522.4218540504189},{"$f":"IFERROR('[22]Data Compilation'!J36*-1,\"NA\")","v":6598.6275681376383},{"$f":"'[23]Data Compilation'!E36","v":28671.873782503113},{"$f":"'[23]Data Compilation'!J36","v":28671.873782503113},"NA",{"$f":"'[24]Data Compilation'!E34","v":321.312464207},{"$f":"'[25]Data Compilation'!$E$32","v":2276.9021912500143},{"$f":"'[25]Data Compilation'!$O$32","v":4518.1008230119833},{"$f":"'[26]Data Compilation'!E34","v":44.927639717635216},{"$f":"'[26]Data Compilation'!O34","v":44.927639717635216},"NA",{"$f":"'[24]Data Compilation'!F34","v":-13171.053500144924},{"$f":"'[25]Data Compilation'!F34","v":442.7401606810634},{"$f":"'[25]Data Compilation'!P34","v":493.0076135421665},{"$f":"'[26]Data Compilation'!F34","v":-15978.852630766243},{"$f":"'[26]Data Compilation'!P34","v":-15978.852630766243},"NA",{"$f":"'[24]Data Compilation'!G34","v":"NA"},{"$f":"'[25]Data Compilation'!G34","v":210.20202694116912},{"$f":"'[25]Data Compilation'!Q34","v":210.48670751207345},{"$f":"'[26]Data Compilation'!G34","v":"NA"},{"$f":"'[26]Data Compilation'!Q34","v":"NA"},"NA","NA",{"$f":"'[25]Data Compilation'!H34","v":-1098.4322968354065},{"$f":"'[25]Data Compilation'!R34","v":-1137.1805607289552},{"$f":"'[26]Data Compilation'!H34","v":"NA"},{"$f":"'[26]Data Compilation'!R34","v":"NA"},"NA",{"$f":"'[24]Data Compilation'!I34","v":-1064.6472694619999},{"$f":"'[25]Data Compilation'!I34","v":452.98420655817955},{"$f":"'[25]Data Compilation'!S34","v":408.80281288422566},{"$f":"'[26]Data Compilation'!I34","v":-315.82066045184598},{"$f":"'[26]Data Compilation'!S34","v":-334.17069307726535},"NA",{"$f":"'[24]Data Compilation'!J34","v":-8198.5211437518265},{"$f":"'[25]Data Compilation'!J34","v":-5962.8511868481128},{"$f":"'[25]Data Compilation'!T34","v":-6120.9152186389565},{"$f":"'[26]Data Compilation'!J34","v":-6974.216930420982},{"$f":"'[26]Data Compilation'!T34","v":-7044.5333686689874},"NA"]
[null,4,"High Grade Paper (Office Type Paper)","NA",{"$f":"IFERROR('[22]Data Compilation'!E37*-1,\"NA\")","v":11796.219133111106},{"$f":"IFERROR('[22]Data Compilation'!J37*-1,\"NA\")","v":11901.821710199327},{"$f":"'[23]Data Compilation'!E37","v":39343.949268578981},{"$f":"'[23]Data Compilation'!J37","v":39343.949268578981},"NA",{"$f":"'[24]Data Compilation'!E35","v":321.312464207},{"$f":"'[25]Data Compilation'!$E$32","v":2276.9021912500143},{"$f":"'[25]Data Compilation'!$O$32","v":4518.1008230119833},{"$f":"'[26]Data Compilation'!E35","v":44.927639717635216},{"$f":"'[26]Data Compilation'!O35","v":44.927639717635216},"NA",{"$f":"'[24]Data Compilation'!F35","v":-11257.445947455399},{"$f":"'[25]Data Compilation'!F35","v":1918.837249002713},{"$f":"'[25]Data Compilation'!P35","v":2982.0562134812121},{"$f":"'[26]Data Compilation'!F35","v":-10680.421919153741},{"$f":"'[26]Data Compilation'!P35","v":-10680.421919153741},"NA",{"$f":"'[24]Data Compilation'!G35","v":"NA"},{"$f":"'[25]Data Compilation'!G35","v":210.33728233966903},{"$f":"'[25]Data Compilation'!Q35","v":210.6536891034965},{"$f":"'[26]Data Compilation'!G35","v":"NA"},{"$f":"'[26]Data Compilation'!Q35","v":"NA"},"NA","NA",{"$f":"'[25]Data Compilation'!H35","v":-2202.0174511289947},{"$f":"'[25]Data Compilation'!R35","v":-2269.6329948085295},{"$f":"'[26]Data Compilation'!H35","v":"NA"},{"$f":"'[26]Data Compilation'!R35","v":"NA"},"NA",{"$f":"'[24]Data Compilation'!I35","v":-1640.132279982},{"$f":"'[25]Data Compilation'!I35","v":-937.59899165622767},{"$f":"'[25]Data Compilation'!S35","v":-1017.2815874234353},{"$f":"'[26]Data Compilation'!I35","v":-633.8576231507086},{"$f":"'[26]Data Compilation'!S35","v":-662.74343208959112},"NA",{"$f":"'[24]Data Compilation'!J35","v":-7498.7934868019138},{"$f":"'[25]Data Compilation'!J35","v":-5466.647438306306},{"$f":"'[25]Data Compilation'!T35","v":-5612.0435287596511},{"$f":"'[26]Data Compilation'!J35","v":-6735.1402162876693},{"$f":"'[26]Data Compilation'!T35","v":-6803.0305726821653},"NA"]
[null,5,"Magazines/third-class mail","NA",{"$f":"IFERROR('[22]Data Compilation'!E38*-1,\"NA\")","v":28523.012053649829},{"$f":"IFERROR('[22]Data Compilation'!J38*-1,\"NA\")","v":28847.282065522442},{"$f":"'[23]Data Compilation'!E38","v":35099.043654139256},{"$f":"'[23]Data Compilation'!J38","v":35099.043654139256},"NA",{"$f":"'[24]Data Compilation'!E36","v":321.312464207},{"$f":"'[25]Data Compilation'!$E$32","v":2276.9021912500143},{"$f":"'[25]Data Compilation'!$O$32","v":4518.1008230119833},{"$f":"'[26]Data Compilation'!E36","v":44.927639717635216},{"$f":"'[26]Data Compilation'!O36","v":44.927639717635216},"NA",{"$f":"'[24]Data Compilation'!F36","v":-282.98942535829781},{"$f":"'[25]Data Compilation'!F36","v":-6658.5360050263498},{"$f":"'[25]Data Compilation'!P36","v":-6750.4662991799178},{"$f":"'[26]Data Compilation'!F36","v":-768.28998913582097},{"$f":"'[26]Data Compilation'!P36","v":-768.28998913582097},"NA",{"$f":"'[24]Data Compilation'!G36","v":"NA"},{"$f":"'[25]Data Compilation'!G36","v":191.45746180208681},{"$f":"'[25]Data Compilation'!Q36","v":191.75886329408621},{"$f":"'[26]Data Compilation'!G36","v":"NA"},{"$f":"'[26]Data Compilation'!Q36","v":"NA"},"NA","NA",{"$f":"'[25]Data Compilation'!H36","v":-859.59115014953204},{"$f":"'[25]Data Compilation'!R36","v":-893.78443876786901},{"$f":"'[26]Data Compilation'!H36","v":"NA"},{"$f":"'[26]Data Compilation'!R36","v":"NA"},"NA",{"$f":"'[24]Data Compilation'!I36","v":-274.45839293383},{"$f":"'[25]Data Compilation'!I36","v":1348.3270601712784},{"$f":"'[25]Data Compilation'!S36","v":1327.0035233244603},{"$f":"'[26]Data Compilation'!I36","v":-3.2971442123331958},{"$f":"'[26]Data Compilation'!S36","v":-11.294047340304184},"NA",{"$f":"'[24]Data Compilation'!J36","v":-6787.4952168463224},{"$f":"'[25]Data Compilation'!J36","v":-5421.1575580214358},{"$f":"'[25]Data Compilation'!T36","v":-5565.3923046989976},{"$f":"'[26]Data Compilation'!J36","v":-5218.0361290713472},{"$f":"'[26]Data Compilation'!T36","v":-5270.5313487657977},"NA"]
[null,6,"Books","NA",{"$f":"IFERROR('[22]Data Compilation'!E39*-1,\"NA\")","v":"NA"},{"$f":"IFERROR('[22]Data Compilation'!J39*-1,\"NA\")","v":"NA"},{"$f":"'[23]Data Compilation'!E39","v":37627.046912655889},{"$f":"'[23]Data Compilation'!J39","v":37627.046912655889},"NA",{"$f":"J38","v":321.312464207},{"$f":"K38","v":2276.9021912500143},4518.1008230119833,44.927639717635216,44.927639717635216,"NA","NA","NA","NA",{"$f":"CONVERT('[27]Analysis Results (energy)'!$G$17*10^6,\"BTU\",\"MJ\")","v":-1128.6784295053967},{"$f":"CONVERT('[28]Analysis Results (energy)'!$G$17*10^6,\"BTU\",\"MJ\")","v":-1128.6784295053967},"NA","NA","NA","NA","NA","NA","NA","NA","NA","NA","NA","NA","NA",{"$f":"[29]Cost_LCI!$AA$22","v":-25.309809797824045},"NA","NA",{"$f":"CONVERT('[27]Analysis Results (energy)'!$H$17*10^6,\"BTU\",\"MJ\")","v":-633.89118012602614},{"$f":"CONVERT('[28]Analysis Results (energy)'!$H$17*10^6,\"BTU\",\"MJ\")","v":-662.77851830482325},"NA",{"$f":"[30]Cost_LCI!$AJ$22","v":-7378.4647469959627},"NA","NA",{"$f":"CONVERT('[27]Analysis Results (energy)'!$I$17*10^6,\"BTU\",\"MJ\")","v":-6735.4967804840171},{"$f":"CONVERT('[28]Analysis Results (energy)'!$I$17*10^6,\"BTU\",\"MJ\")","v":-6803.3907310531831},"NA"]
[null,7,"Mixed Paper","NA",{"$f":"IFERROR('[22]Data Compilation'!E40*-1,\"NA\")","v":36883.93490825683},{"$f":"IFERROR('[22]Data Compilation'!J40*-1,\"NA\")","v":37352.023419118967},{"$f":"'[23]Data Compilation'!E40","v":34744.834612101236},{"$f":"'[23]Data Compilation'!J40","v":34744.834612101236},"NA",{"$f":"'[24]Data Compilation'!E37","v":321.312464207},{"$f":"'[25]Data Compilation'!$E$32","v":2276.9021912500143},{"$f":"'[25]Data Compilation'!$O$32","v":4518.1008230119833},{"$f":"'[26]Data Compilation'!E37","v":44.927639717635216},{"$f":"'[26]Data Compilation'!O37","v":44.927639717635216},"NA",{"$f":"'[24]Data Compilation'!F37","v":-10632.877462858632},{"$f":"'[25]Data Compilation'!F37","v":-13209.002387025725},{"$f":"'[25]Data Compilation'!P37","v":-13391.862668433943},{"$f":"'[26]Data Compilation'!F37","v":-21740.076240189694},{"$f":"'[26]Data Compilation'!P37","v":-21740.076240189694},"NA",{"$f":"'[24]Data Compilation'!G37","v":"NA"},{"$f":"'[25]Data Compilation'!G37","v":187.29365352274471},{"$f":"'[25]Data Compilation'!Q37","v":187.58014856401383},{"$f":"'[26]Data Compilation'!G37","v":"NA"},{"$f":"'[26]Data Compilation'!Q37","v":"NA"},"NA","NA",{"$f":"'[25]Data Compilation'!H37","v":-490.06728527077223},{"$f":"'[25]Data Compilation'!R37","v":-513.76025811066597},{"$f":"'[26]Data Compilation'!H37","v":"NA"},{"$f":"'[26]Data Compilation'!R37","v":"NA"},"NA",{"$f":"'[24]Data Compilation'!I37","v":-751.1637992522825},{"$f":"'[25]Data Compilation'!I37","v":540.76712688733562},{"$f":"'[25]Data Compilation'!S37","v":498.82680953784944},{"$f":"'[26]Data Compilation'!I37","v":-279.22123336189907},{"$f":"'[26]Data Compilation'!S37","v":-296.35881768021505},"NA",{"$f":"'[24]Data Compilation'!J37","v":-7867.8794103463279},{"$f":"'[25]Data Compilation'!J37","v":-6047.7278271193163},{"$f":"'[25]Data Compilation'!T37","v":-6207.9587355272697},{"$f":"'[26]Data Compilation'!J37","v":-7000.0726343198439},{"$f":"'[26]Data Compilation'!T37","v":-7070.6514488275616},"NA"]
["Plastic",8,"HDPE","NA",{"$f":"E46","v":31350.677840609325},{"$f":"F46","v":31409.471566611333},{"$f":"'[23]Data Compilation'!E41","v":70674.722267742749},{"$f":"'[23]Data Compilation'!J41","v":70674.722267742749},"NA",{"$f":"'[24]Data Compilation'!E38","v":321.312464207},{"$f":"'[25]Data Compilation'!$E$32","v":2276.9021912500143},{"$f":"'[25]Data Compilation'!$O$32","v":4518.1008230119833},{"$f":"'[26]Data Compilation'!E38","v":44.927639717635216},{"$f":"'[26]Data Compilation'!O38","v":44.927639717635216},"NA",{"$f":"'[24]Data Compilation'!F38","v":-20396.505658891179},{"$f":"Q46","v":-24690.024825898414},{"$f":"R46","v":-24708.288544657233},{"$f":"'[26]Data Compilation'!F38","v":-53043.504441404526},{"$f":"'[26]Data Compilation'!P38","v":-53043.504441404526},"NA",{"$f":"'[24]Data Compilation'!G38","v":"NA"},{"$f":"'[25]Data Compilation'!G38","v":"NA"},{"$f":"'[25]Data Compilation'!Q38","v":"NA"},{"$f":"'[26]Data Compilation'!G38","v":"NA"},{"$f":"'[26]Data Compilation'!Q38","v":"NA"},"NA","NA",{"$f":"'[25]Data Compilation'!H38","v":"NA"},{"$f":"'[25]Data Compilation'!R38","v":"NA"},{"$f":"'[26]Data Compilation'!H38","v":"NA"},{"$f":"'[26]Data Compilation'!R38","v":"NA"},"NA",{"$f":"'[24]Data Compilation'!I38","v":551.50646841499997},{"$f":"'[25]Data Compilation'!I38","v":2188.6665929276251},{"$f":"'[25]Data Compilation'!S38","v":2188.7966930221246},{"$f":"'[26]Data Compilation'!I38","v":238.10042404914716},{"$f":"'[26]Data Compilation'!S38","v":238.10042404914716},"NA",{"$f":"'[24]Data Compilation'!J38","v":-22515.883726867785},{"$f":"'[25]Data Compilation'!J38","v":-16283.501198187487},{"$f":"'[25]Data Compilation'!T38","v":-16705.048505331833},{"$f":"'[26]Data Compilation'!J38","v":-19707.265631298833},{"$f":"'[26]Data Compilation'!T38","v":-19906.793391967069},"NA"]
[null,9,"PET","NA",{"$f":"IFERROR('[22]Data Compilation'!E42*-1,\"NA\")","v":31350.677840609325},{"$f":"IFERROR('[22]Data Compilation'!J42*-1,\"NA\")","v":31409.471566611333},{"$f":"'[23]Data Compilation'!E42","v":53947.783780756625},{"$f":"'[23]Data Compilation'!J42","v":53947.783780756625},"NA",{"$f":"'[24]Data Compilation'!E39","v":321.312464207},{"$f":"'[25]Data Compilation'!$E$32","v":2276.9021912500143},{"$f":"'[25]Data Compilation'!$O$32","v":4518.1008230119833},{"$f":"'[26]Data Compilation'!E39","v":44.927639717635216},{"$f":"'[26]Data Compilation'!O39","v":44.927639717635216},"NA",{"$f":"'[24]Data Compilation'!F39","v":-24098.241440185448},{"$f":"'[25]Data Compilation'!F39","v":-24690.024825898414},{"$f":"'[25]Data Compilation'!P39","v":-24708.288544657233},{"$f":"'[26]Data Compilation'!F39","v":-33721.541784263478},{"$f":"'[26]Data Compilation'!P39","v":-33721.541784263478},"NA",{"$f":"'[24]Data Compilation'!G39","v":"NA"},{"$f":"'[25]Data Compilation'!G39","v":"NA"},{"$f":"'[25]Data Compilation'!Q39","v":"NA"},{"$f":"'[26]Data Compilation'!G39","v":"NA"},{"$f":"'[26]Data Compilation'!Q39","v":"NA"},"NA","NA",{"$f":"'[25]Data Compilation'!H39","v":"NA"},{"$f":"'[25]Data Compilation'!R39","v":"NA"},{"$f":"'[26]Data Compilation'!H39","v":"NA"},{"$f":"'[26]Data Compilation'!R39","v":"NA"},"NA",{"$f":"'[24]Data Compilation'!I39","v":551.50646841499997},{"$f":"'[25]Data Compilation'!I39","v":2188.6665929276251},{"$f":"'[25]Data Compilation'!S39","v":2188.6665929276251},{"$f":"'[26]Data Compilation'!I39","v":238.10042404914716},{"$f":"'[26]Data Compilation'!S39","v":238.10042404914716},"NA",{"$f":"'[24]Data Compilation'!J39","v":-22515.883726867785},{"$f":"'[25]Data Compilation'!J39","v":-16283.501198187487},{"$f":"'[25]Data Compilation'!T39","v":-16705.048505331833},{"$f":"'[26]Data Compilation'!J39","v":-10473.788420841513},{"$f":"'[26]Data Compilation'!T39","v":-10579.617505809403},"NA"]
[null,10,"Mixed Plastic","NA",{"$f":"IFERROR('[22]Data Compilation'!E43*-1,\"NA\")","v":"NA"},{"$f":"IFERROR('[22]Data Compilation'!J43*-1,\"NA\")","v":"NA"},{"$f":"'[23]Data Compilation'!E43","v":60595.669589687008},{"$f":"'[23]Data Compilation'!J43","v":60595.669589687008},"NA",{"$f":"'[24]Data Compilation'!E40","v":321.312464207},{"$f":"'[25]Data Compilation'!$E$32","v":2276.9021912500143},{"$f":"'[25]Data Compilation'!$O$32","v":4518.1008230119833},{"$f":"'[26]Data Compilation'!E40","v":44.927639717635216},{"$f":"'[26]Data Compilation'!O40","v":44.927639717635216},"NA",{"$f":"'[24]Data Compilation'!F40","v":-22247.373549538315},{"$f":"'[25]Data Compilation'!F40","v":"NA"},{"$f":"'[25]Data Compilation'!P40","v":"NA"},{"$f":"'[26]Data Compilation'!F40","v":-41400.783353127226},{"$f":"'[26]Data Compilation'!P40","v":-41400.783353127226},"NA",{"$f":"'[24]Data Compilation'!G40","v":"NA"},{"$f":"'[25]Data Compilation'!G40","v":"NA"},{"$f":"'[25]Data Compilation'!Q40","v":"NA"},{"$f":"'[26]Data Compilation'!G40","v":"NA"},{"$f":"'[26]Data Compilation'!Q40","v":"NA"},"NA","NA",{"$f":"'[25]Data Compilation'!H40","v":"NA"},{"$f":"'[25]Data Compilation'!R40","v":"NA"},{"$f":"'[26]Data Compilation'!H40","v":"NA"},{"$f":"'[26]Data Compilation'!R40","v":"NA"},"NA",{"$f":"'[24]Data Compilation'!I40","v":551.50646841499997},{"$f":"'[25]Data Compilation'!I40","v":2188.6665929794817},{"$f":"'[25]Data Compilation'!S40","v":2188.6665929794817},{"$f":"'[26]Data Compilation'!I40","v":238.10042404914716},{"$f":"'[26]Data Compilation'!S40","v":238.10042404914716},"NA",{"$f":"'[24]Data Compilation'!J40","v":-22515.883726867785},{"$f":"'[25]Data Compilation'!J40","v":-17133.764070244615},{"$f":"'[25]Data Compilation'!T40","v":-17577.01834799668},{"$f":"'[26]Data Compilation'!J40","v":-14143.503722433525},{"$f":"'[26]Data Compilation'!T40","v":-14286.572024666937},"NA"]
["Glass",11,"Glass","NA",{"$f":"IFERROR('[22]Data Compilation'!E44*-1,\"NA\")","v":8014.5913144928572},{"$f":"IFERROR('[22]Data Compilation'!J44*-1,\"NA\")","v":8028.7696476479568},{"$f":"'[23]Data Compilation'!E44","v":7873.8840663469819},{"$f":"'[23]Data Compilation'!J44","v":7873.8840663469819},"NA",{"$f":"'[24]Data Compilation'!E41","v":321.312464207},{"$f":"'[25]Data Compilation'!$E$32","v":2276.9021912500143},{"$f":"'[25]Data Compilation'!$O$32","v":4518.1008230119833},{"$f":"'[26]Data Compilation'!E41","v":44.927639717635216},{"$f":"'[26]Data Compilation'!O41","v":44.927639717635216},"NA",{"$f":"'[24]Data Compilation'!F41","v":-2018.6451696297986},{"$f":"'[25]Data Compilation'!F41","v":-1830.2762029379651},{"$f":"'[25]Data Compilation'!P41","v":-1835.8828186040409},{"$f":"'[26]Data Compilation'!F41","v":-2287.2349995003874},{"$f":"'[26]Data Compilation'!P41","v":-2287.2349995003874},"NA",{"$f":"'[24]Data Compilation'!G41","v":"NA"},{"$f":"'[25]Data Compilation'!G41","v":"NA"},{"$f":"'[25]Data Compilation'!Q41","v":"NA"},{"$f":"'[26]Data Compilation'!G41","v":"NA"},{"$f":"'[26]Data Compilation'!Q41","v":"NA"},"NA","NA",{"$f":"'[25]Data Compilation'!H41","v":"NA"},{"$f":"'[25]Data Compilation'!R41","v":"NA"},{"$f":"'[26]Data Compilation'!H41","v":"NA"},{"$f":"'[26]Data Compilation'!R41","v":"NA"},"NA",{"$f":"'[24]Data Compilation'!I41","v":551.50646841499997},{"$f":"'[25]Data Compilation'!I41","v":2188.6665929355013},{"$f":"'[25]Data Compilation'!S41","v":2188.6665929355013},{"$f":"'[26]Data Compilation'!I41","v":238.10042404914716},{"$f":"'[26]Data Compilation'!S41","v":238.10042404914716},"NA",{"$f":"'[24]Data Compilation'!J41","v":76.86632504710964},{"$f":"'[25]Data Compilation'!J41","v":393.74897018232991},{"$f":"'[25]Data Compilation'!T41","v":397.96714228874225},{"$f":"'[26]Data Compilation'!J41","v":186.27823609029983},{"$f":"'[26]Data Compilation'!T41","v":188.62444693628606},"NA"]
["Metals",12,"Aluminum Cans","NA",{"$f":"IFERROR('[22]Data Compilation'!E45*-1,\"NA\")","v":187709.62560477416},{"$f":"IFERROR('[22]Data Compilation'!J45*-1,\"NA\")","v":191282.47510797306},{"$f":"'[23]Data Compilation'!E45","v":211609.50668221945},{"$f":"'[23]Data Compilation'!J45","v":211609.50668221945},"NA",{"$f":"'[24]Data Compilation'!E42","v":321.312464207},{"$f":"'[25]Data Compilation'!$E$32","v":2276.9021912500143},{"$f":"'[25]Data Compilation'!$O$32","v":4518.1008230119833},{"$f":"'[26]Data Compilation'!E42","v":44.927639717635216},{"$f":"'[26]Data Compilation'!O42","v":44.927639717635216},"NA",{"$f":"'[24]Data Compilation'!F42","v":-212962.81113847348},{"$f":"'[25]Data Compilation'!F42","v":-162264.69628986664},{"$f":"'[25]Data Compilation'!P42","v":-165410.47506080841},{"$f":"'[26]Data Compilation'!F42","v":-161211.403081508},{"$f":"'[26]Data Compilation'!P42","v":-161211.403081508},"NA",{"$f":"'[24]Data Compilation'!G42","v":"NA"},{"$f":"'[25]Data Compilation'!G42","v":"NA"},{"$f":"'[25]Data Compilation'!Q42","v":"NA"},{"$f":"'[26]Data Compilation'!G42","v":"NA"},{"$f":"'[26]Data Compilation'!Q42","v":"NA"},"NA","NA",{"$f":"'[25]Data Compilation'!H42","v":"NA"},{"$f":"'[25]Data Compilation'!R42","v":"NA"},{"$f":"'[26]Data Compilation'!H42","v":"NA"},{"$f":"'[26]Data Compilation'!R42","v":"NA"},"NA",{"$f":"'[24]Data Compilation'!I42","v":551.50646841499997},{"$f":"'[25]Data Compilation'!I42","v":2188.6665929378582},{"$f":"'[25]Data Compilation'!S42","v":2188.6665929378582},{"$f":"'[26]Data Compilation'!I42","v":238.10042404914716},{"$f":"'[26]Data Compilation'!S42","v":238.10042404914716},"NA",{"$f":"'[24]Data Compilation'!J42","v":178.4872189231653},{"$f":"'[25]Data Compilation'!J42","v":-80166.128649026912},{"$f":"'[25]Data Compilation'!T42","v":-81723.578772822657},{"$f":"'[26]Data Compilation'!J42","v":284.66371515750626},{"$f":"'[26]Data Compilation'!T42","v":288.0083135975292},"NA"]
[null,13,"Steel/Tin Cans","NA",{"$f":"IFERROR('[22]Data Compilation'!E46*-1,\"NA\")","v":36883.93490901067},{"$f":"IFERROR('[22]Data Compilation'!J46*-1,\"NA\")","v":37352.023419872807},{"$f":"'[23]Data Compilation'!E46","v":38554.636885940505},{"$f":"'[23]Data Compilation'!J46","v":38554.636885940505},"NA",{"$f":"'[24]Data Compilation'!E43","v":321.312464207},{"$f":"'[25]Data Compilation'!$E$32","v":2276.9021912500143},{"$f":"'[25]Data Compilation'!$O$32","v":4518.1008230119833},{"$f":"'[26]Data Compilation'!E43","v":44.927639717635216},{"$f":"'[26]Data Compilation'!O43","v":44.927639717635216},"NA",{"$f":"'[24]Data Compilation'!F43","v":-10816.449618090121},{"$f":"'[25]Data Compilation'!F43","v":-13111.477915058573},{"$f":"'[25]Data Compilation'!P43","v":-13291.934208704617},{"$f":"'[26]Data Compilation'!F43","v":-21109.26974503302},{"$f":"'[26]Data Compilation'!P43","v":-21109.26974503302},"NA",{"$f":"'[24]Data Compilation'!G43","v":"NA"},{"$f":"'[25]Data Compilation'!G43","v":"NA"},{"$f":"'[25]Data Compilation'!Q43","v":"NA"},{"$f":"'[26]Data Compilation'!G43","v":"NA"},{"$f":"'[26]Data Compilation'!Q43","v":"NA"},"NA","NA",{"$f":"'[25]Data Compilation'!H43","v":"NA"},{"$f":"'[25]Data Compilation'!R43","v":"NA"},{"$f":"'[26]Data Compilation'!H43","v":"NA"},{"$f":"'[26]Data Compilation'!R43","v":"NA"},"NA",{"$f":"'[24]Data Compilation'!I43","v":551.50646841499997},{"$f":"'[25]Data Compilation'!I43","v":2188.6665929239075},{"$f":"'[25]Data Compilation'!S43","v":2188.6665929239075},{"$f":"'[26]Data Compilation'!I43","v":238.10042404914716},{"$f":"'[26]Data Compilation'!S43","v":238.10042404914716},"NA",{"$f":"'[24]Data Compilation'!J43","v":-10357.7710476758},{"$f":"'[25]Data Compilation'!J43","v":-10990.259469137831},{"$f":"'[25]Data Compilation'!T43","v":-11142.787006081338},{"$f":"'[26]Data Compilation'!J43","v":-18417.067870564671},{"$f":"'[26]Data Compilation'!T43","v":-18414.971256617191},"NA"]
[null,14,"Mixed Metals","NA",{"$f":"IFERROR('[22]Data Compilation'!E47*-1,\"NA\")","v":112296.78025689241},{"$f":"IFERROR('[22]Data Compilation'!J47*-1,\"NA\")","v":114317.24926392293},{"$f":"'[23]Data Compilation'!E47","v":99259.748280446729},{"$f":"'[23]Data Compilation'!J47","v":99259.748280446729},"NA",{"$f":"'[24]Data Compilation'!E44","v":321.312464207},{"$f":"'[25]Data Compilation'!$E$32","v":2276.9021912500143},{"$f":"'[25]Data Compilation'!$O$32","v":4518.1008230119833},{"$f":"'[26]Data Compilation'!E44","v":44.927639717635216},{"$f":"'[26]Data Compilation'!O44","v":44.927639717635216},"NA",{"$f":"'[24]Data Compilation'!F44","v":-111847.08780357937},{"$f":"'[25]Data Compilation'!F44","v":-87688.08710246261},{"$f":"'[25]Data Compilation'!P44","v":-89348.826589890392},{"$f":"'[26]Data Compilation'!F44","v":-70255.044266204874},{"$f":"'[26]Data Compilation'!P44","v":-70255.044266204874},"NA",{"$f":"'[24]Data Compilation'!G44","v":"NA"},{"$f":"'[25]Data Compilation'!G44","v":"NA"},{"$f":"'[25]Data Compilation'!Q44","v":"NA"},{"$f":"'[26]Data Compilation'!G44","v":"NA"},{"$f":"'[26]Data Compilation'!Q44","v":"NA"},"NA","NA",{"$f":"'[25]Data Compilation'!H44","v":"NA"},{"$f":"'[25]Data Compilation'!R44","v":"NA"},{"$f":"'[26]Data Compilation'!H44","v":"NA"},{"$f":"'[26]Data Compilation'!R44","v":"NA"},"NA",{"$f":"'[24]Data Compilation'!I44","v":551.50646841499997},{"$f":"'[25]Data Compilation'!I44","v":2188.6665929308829},{"$f":"'[25]Data Compilation'!S44","v":2188.6665929308829},{"$f":"'[26]Data Compilation'!I44","v":238.10042404914716},{"$f":"'[26]Data Compilation'!S44","v":238.10042404914716},"NA",{"$f":"'[24]Data Compilation'!J44","v":-4907.0692947888483},{"$f":"'[25]Data Compilation'!J44","v":-84542.693275188998},{"$f":"'[25]Data Compilation'!T44","v":-86157.193655517214},{"$f":"'[26]Data Compilation'!J44","v":-11856.774591803487},{"$f":"'[26]Data Compilation'!T44","v":-11854.240203191086},"NA"]
["Organic",15,"Yard Waste","NA",{"$f":"IFERROR('[22]Data Compilation'!E48*-1,\"NA\")","v":"NA"},{"$f":"IFERROR('[22]Data Compilation'!J48*-1,\"NA\")","v":"NA"},{"$f":"'[23]Data Compilation'!E48","v":"NA"},{"$f":"'[23]Data Compilation'!J48","v":"NA"},"NA",{"$f":"'[24]Data Compilation'!E45","v":321.312464207},{"$f":"'[25]Data Compilation'!$E$32","v":2276.9021912500143},{"$f":"'[25]Data Compilation'!$O$32","v":4518.1008230119833},{"$f":"'[26]Data Compilation'!E45","v":44.927639717635216},{"$f":"'[26]Data Compilation'!O45","v":44.927639717635216},"NA",{"$f":"'[24]Data Compilation'!F45","v":"NA"},{"$f":"'[25]Data Compilation'!F45","v":"NA"},{"$f":"'[25]Data Compilation'!P45","v":"NA"},{"$f":"IFERROR('[26]Data Compilation'!F45,\"NA\")","v":"NA"},{"$f":"IFERROR('[26]Data Compilation'!P45,\"NA\")","v":"NA"},"NA",{"$f":"'[24]Data Compilation'!G45","v":306.92533894400003},{"$f":"'[25]Data Compilation'!G45","v":-73.366058238014773},{"$f":"'[25]Data Compilation'!Q45","v":-69.708559698898981},{"$f":"'[26]Data Compilation'!G45","v":571.19236028236469},{"$f":"'[26]Data Compilation'!Q45","v":571.19236028236469},"NA","NA",{"$f":"'[25]Data Compilation'!H45","v":-129.7222646246145},{"$f":"'[25]Data Compilation'!R45","v":-139.35274322137994},{"$f":"'[26]Data Compilation'!H45","v":-216.11762695870991},{"$f":"'[26]Data Compilation'!R45","v":-221.36677220355168},"NA",{"$f":"'[24]Data Compilation'!I45","v":244.26141557626667},{"$f":"'[25]Data Compilation'!I45","v":1965.6296030425717},{"$f":"'[25]Data Compilation'!S45","v":1965.6296030425719},{"$f":"'[26]Data Compilation'!I45","v":98.814001988082325},{"$f":"'[26]Data Compilation'!S45","v":94.199788049284521},"NA",{"$f":"'[24]Data Compilation'!J45","v":-4658.9329825659215},{"$f":"'[25]Data Compilation'!J45","v":-2777.5986753197267},{"$f":"'[25]Data Compilation'!T45","v":-2854.3441115150149},{"$f":"'[26]Data Compilation'!J45","v":-2799.7210535994141},{"$f":"'[26]Data Compilation'!T45","v":-2827.6759062324418},"NA"]
[null,16,"Food Waste","NA",{"$f":"IFERROR('[22]Data Compilation'!E49*-1,\"NA\")","v":"NA"},{"$f":"IFERROR('[22]Data Compilation'!J49*-1,\"NA\")","v":"NA"},{"$f":"'[23]Data Compilation'!E49","v":15360.603353936001},{"$f":"'[23]Data Compilation'!J49","v":15360.603353936001},"NA",{"$f":"'[24]Data Compilation'!E46","v":321.312464207},{"$f":"'[25]Data Compilation'!$E$32","v":2276.9021912500143},{"$f":"'[25]Data Compilation'!$O$32","v":4518.1008230119833},{"$f":"'[26]Data Compilation'!E46","v":44.927639717635216},{"$f":"'[26]Data Compilation'!O46","v":44.927639717635216},"NA",{"$f":"'[24]Data Compilation'!F46","v":"NA"},{"$f":"'[25]Data Compilation'!F46","v":"NA"},{"$f":"'[25]Data Compilation'!P46","v":"NA"},{"$f":"IFERROR('[26]Data Compilation'!F46,\"NA\")","v":"NA"},{"$f":"IFERROR('[26]Data Compilation'!P46,\"NA\")","v":"NA"},"NA",{"$f":"'[24]Data Compilation'!G46","v":306.92533894400003},{"$f":"'[25]Data Compilation'!G46","v":-33.326851122896279},{"$f":"'[25]Data Compilation'!Q46","v":-33.086829712720302},{"$f":"'[26]Data Compilation'!G46","v":571.19236028236469},{"$f":"'[26]Data Compilation'!Q46","v":571.19236028236469},"NA","NA",{"$f":"'[25]Data Compilation'!H46","v":-3141.2357443669835},{"$f":"'[25]Data Compilation'!R46","v":-3223.8284848704125},{"$f":"'[26]Data Compilation'!H46","v":-1547.006477224432},{"$f":"'[26]Data Compilation'!R46","v":-1565.4914700855857},"NA",{"$f":"'[24]Data Compilation'!I46","v":-229.23486252380005},{"$f":"'[25]Data Compilation'!I46","v":1041.1947500845479},{"$f":"'[25]Data Compilation'!S46","v":1041.1947500845479},{"$f":"'[26]Data Compilation'!I46","v":-75.465678260578358},{"$f":"'[26]Data Compilation'!S46","v":-85.853346050463244},"NA",{"$f":"'[24]Data Compilation'!J46","v":-2066.9266384213902},{"$f":"'[25]Data Compilation'!J46","v":-2704.4765411026274},{"$f":"'[25]Data Compilation'!T46","v":-2796.2787345438287},{"$f":"'[26]Data Compilation'!J46","v":-2376.6634936104269},{"$f":"'[26]Data Compilation'!T46","v":-2400.3252795890971},"NA"]
["Other ",17,"Tires","NA",{"$f":"IFERROR('[22]Data Compilation'!E50*-1,\"NA\")","v":"NA"},{"$f":"IFERROR('[22]Data Compilation'!J50*-1,\"NA\")","v":"NA"},{"$f":"'[23]Data Compilation'!E50","v":78419.112260596085},{"$f":"'[23]Data Compilation'!J50","v":78419.112260596085},"NA","NA",{"$f":"'[25]Data Compilation'!$E$32","v":2276.9021912500143},{"$f":"'[25]Data Compilation'!$O$32","v":4518.1008230119833},{"$f":"'[26]Data Compilation'!E47","v":44.927639717635216},{"$f":"'[26]Data Compilation'!O47","v":44.927639717635216},"NA",{"$f":"'[24]Data Compilation'!F47","v":"NA"},{"$f":"'[25]Data Compilation'!F47","v":"NA"},{"$f":"'[25]Data Compilation'!P47","v":"NA"},{"$f":"'[26]Data Compilation'!F47","v":-3845.6355688274848},{"$f":"'[26]Data Compilation'!P47","v":-3845.6355688274848},"NA",{"$f":"'[24]Data Compilation'!G47","v":"NA"},{"$f":"'[25]Data Compilation'!G47","v":"NA"},{"$f":"'[25]Data Compilation'!Q47","v":"NA"},{"$f":"'[26]Data Compilation'!G47","v":"NA"},{"$f":"'[26]Data Compilation'!Q47","v":"NA"},"NA","NA",{"$f":"'[25]Data Compilation'!H47","v":"NA"},{"$f":"'[25]Data Compilation'!R47","v":"NA"},{"$f":"'[26]Data Compilation'!H47","v":"NA"},{"$f":"'[26]Data Compilation'!R47","v":"NA"},"NA",{"$f":"'[24]Data Compilation'!I47","v":"NA"},{"$f":"'[25]Data Compilation'!I47","v":2188.6665929709811},{"$f":"'[25]Data Compilation'!S47","v":2188.6665929709811},{"$f":"'[26]Data Compilation'!I47","v":238.10042404914716},{"$f":"'[26]Data Compilation'!S47","v":238.10042404914716},"NA",{"$f":"'[24]Data Compilation'!J47","v":"NA"},{"$f":"'[25]Data Compilation'!J47","v":-11644.268140573133},{"$f":"'[25]Data Compilation'!T47","v":-11947.377140072836},{"$f":"'[26]Data Compilation'!J47","v":-30416.815609861194},{"$f":"'[26]Data Compilation'!T47","v":-30416.815609861194},"NA"]
[null,18,"Clothing and Footwear","NA",{"$f":"IFERROR('[22]Data Compilation'!E51*-1,\"NA\")","v":"NA"},{"$f":"IFERROR('[22]Data Compilation'!J51*-1,\"NA\")","v":"NA"},{"$f":"'[23]Data Compilation'!E51","v":"NA"},{"$f":"'[23]Data Compilation'!J51","v":"NA"},{"$f":"'[31]Summary Table'!O3","v":11229.63504683139},"NA",{"$f":"'[25]Data Compilation'!$E$32","v":2276.9021912500143},{"$f":"'[25]Data Compilation'!$O$32","v":4518.1008230119833},{"$f":"'[26]Data Compilation'!E48","v":44.927639717635216},{"$f":"'[26]Data Compilation'!O48","v":44.927639717635216},"NA",{"$f":"'[24]Data Compilation'!F48","v":"NA"},{"$f":"'[25]Data Compilation'!F48","v":"NA"},{"$f":"'[25]Data Compilation'!P48","v":"NA"},{"$f":"'[26]Data Compilation'!F48","v":-22689.813372597779},{"$f":"'[26]Data Compilation'!P48","v":-22689.813372597779},"NA",{"$f":"'[24]Data Compilation'!G48","v":"NA"},{"$f":"'[25]Data Compilation'!G48","v":-541.75399715875142},{"$f":"'[25]Data Compilation'!Q48","v":-541.39850439498082},{"$f":"'[26]Data Compilation'!G48","v":"NA"},{"$f":"'[26]Data Compilation'!Q48","v":"NA"},"NA","NA",{"$f":"'[25]Data Compilation'!H48","v":334.382723237498},{"$f":"'[25]Data Compilation'!R48","v":329.09784884477875},{"$f":"'[26]Data Compilation'!H48","v":"NA"},{"$f":"'[26]Data Compilation'!R48","v":"NA"},"NA",{"$f":"'[24]Data Compilation'!I48","v":"NA"},{"$f":"'[25]Data Compilation'!I48","v":1136.4827103975572},{"$f":"'[25]Data Compilation'!S48","v":1136.4827103975572},{"$f":"'[26]Data Compilation'!I48","v":238.10042404914716},{"$f":"'[26]Data Compilation'!S48","v":238.10042404914716},"NA",{"$f":"'[24]Data Compilation'!J48","v":"NA"},{"$f":"'[25]Data Compilation'!J48","v":-9163.6801420381744},{"$f":"'[25]Data Compilation'!T48","v":-9403.4604316258028},{"$f":"'[26]Data Compilation'!J48","v":-7522.224048825321},{"$f":"'[26]Data Compilation'!T48","v":-7598.1015059721112},"NA"]
[null,19,"Furniture","NA",{"$f":"IFERROR('[22]Data Compilation'!E52*-1,\"NA\")","v":"NA"},{"$f":"IFERROR('[22]Data Compilation'!J52*-1,\"NA\")","v":"NA"},{"$f":"'[23]Data Compilation'!E52","v":"NA"},{"$f":"'[23]Data Compilation'!J52","v":"NA"},{"$f":"'[31]Summary Table'!O4","v":24612.240207642466},"NA","NA","NA",{"$f":"M38","v":44.927639717635216},44.927639717635216,"NA","NA","NA","NA","NA","NA",{"$f":"[32]Summary!$F$10","v":-23208.436223416589},"NA","NA","NA","NA","NA","NA","NA","NA","NA","NA","NA","NA","NA","NA","NA","NA","NA",{"$f":"[32]Summary!$F$11","v":1150.3462588009875},"NA","NA","NA","NA","NA",{"$f":"[32]Summary!$F$12","v":-13585.768740597539}]
[null,20,"Electronics","NA",{"$f":"IFERROR('[22]Data Compilation'!E53*-1,\"NA\")","v":"NA"},{"$f":"IFERROR('[22]Data Compilation'!J53*-1,\"NA\")","v":"NA"},{"$f":"'[23]Data Compilation'!E53","v":126223.53701692156},{"$f":"'[23]Data Compilation'!J53","v":126223.53701692156},{"$f":"'[31]Summary Table'!O5","v":122005.44442661772},"NA",{"$f":"'[25]Data Compilation'!$E$32","v":2276.9021912500143},{"$f":"'[25]Data Compilation'!$O$32","v":4518.1008230119833},{"$f":"'[26]Data Compilation'!E49","v":44.927639717635216},{"$f":"'[26]Data Compilation'!O49","v":44.927639717635216},"NA",{"$f":"'[24]Data Compilation'!F49","v":"NA"},{"$f":"'[25]Data Compilation'!F49","v":"NA"},{"$f":"'[25]Data Compilation'!P49","v":"NA"},{"$f":"'[26]Data Compilation'!F49","v":-12578.8045664371},{"$f":"'[26]Data Compilation'!P49","v":-12578.8045664371},"NA",{"$f":"'[24]Data Compilation'!G49","v":"NA"},{"$f":"'[25]Data Compilation'!G49","v":"NA"},{"$f":"'[25]Data Compilation'!Q49","v":"NA"},{"$f":"'[26]Data Compilation'!G49","v":"NA"},{"$f":"'[26]Data Compilation'!Q49","v":"NA"},"NA","NA",{"$f":"'[25]Data Compilation'!H49","v":"NA"},{"$f":"'[25]Data Compilation'!R49","v":"NA"},{"$f":"'[26]Data Compilation'!H49","v":"NA"},{"$f":"'[26]Data Compilation'!R49","v":"NA"},"NA",{"$f":"'[24]Data Compilation'!I49","v":"NA"},{"$f":"'[25]Data Compilation'!I49","v":2188.6665929804649},{"$f":"'[25]Data Compilation'!S49","v":2188.6665929804649},{"$f":"'[26]Data Compilation'!I49","v":238.10042404914716},{"$f":"'[26]Data Compilation'!S49","v":238.10042404914716},"NA",{"$f":"'[24]Data Compilation'!J49","v":"NA"},{"$f":"'[25]Data Compilation'!J49","v":228.43020665202931},{"$f":"'[25]Data Compilation'!T49","v":293.75159213170343},{"$f":"'[26]Data Compilation'!J49","v":-5812.0351174260595},{"$f":"'[26]Data Compilation'!T49","v":-5827.3437272012898},"NA"]
["C&D Debris",21,"Wood Products","NA",{"$f":"IFERROR('[22]Data Compilation'!E54*-1,\"NA\")","v":"NA"},{"$f":"IFERROR('[22]Data Compilation'!J54*-1,\"NA\")","v":"NA"},{"$f":"'[23]Data Compilation'!E54","v":7725.1108548209431},{"$f":"'[23]Data Compilation'!J54","v":7725.1108548209431},"NA","NA","NA","NA",{"$f":"'[26]Data Compilation'!E50","v":44.927639717635216},{"$f":"'[26]Data Compilation'!O50","v":44.927639717635216},"NA",{"$f":"'[24]Data Compilation'!F50","v":"NA"},{"$f":"'[25]Data Compilation'!F50","v":"NA"},{"$f":"'[25]Data Compilation'!P50","v":"NA"},{"$f":"'[26]Data Compilation'!F50","v":575.3503262823649},{"$f":"'[26]Data Compilation'!P50","v":575.3503262823649},"NA",{"$f":"'[24]Data Compilation'!G50","v":"NA"},{"$f":"'[25]Data Compilation'!G50","v":48.41419136284366},{"$f":"'[25]Data Compilation'!Q50","v":48.757742076445027},{"$f":"'[26]Data Compilation'!G50","v":"NA"},{"$f":"'[26]Data Compilation'!Q50","v":"NA"},"NA","NA",{"$f":"'[25]Data Compilation'!H50","v":1293.0506848184887},{"$f":"'[25]Data Compilation'!R50","v":1312.8903248593429},{"$f":"'[26]Data Compilation'!H50","v":"NA"},{"$f":"'[26]Data Compilation'!R50","v":"NA"},"NA",{"$f":"'[24]Data Compilation'!I50","v":"NA"},{"$f":"'[25]Data Compilation'!I50","v":2012.6038880879116},{"$f":"'[25]Data Compilation'!S50","v":2012.6038880879116},{"$f":"'[26]Data Compilation'!I50","v":201.46815774073261},{"$f":"'[26]Data Compilation'!S50","v":200.25462155171391},"NA",{"$f":"'[24]Data Compilation'!J50","v":"NA"},{"$f":"'[25]Data Compilation'!J50","v":-7683.3577519587279},{"$f":"'[25]Data Compilation'!T50","v":-7885.3458296712179},{"$f":"'[26]Data Compilation'!J50","v":-8210.9224022957678},{"$f":"'[26]Data Compilation'!T50","v":-8293.7885726008135},"NA"]
[null,22,"Asphalt Shingles","NA",{"$f":"IFERROR('[22]Data Compilation'!E55*-1,\"NA\")","v":"NA"},{"$f":"IFERROR('[22]Data Compilation'!J55*-1,\"NA\")","v":"NA"},{"$f":"'[23]Data Compilation'!E55","v":3279.257751535089},{"$f":"'[23]Data Compilation'!J55","v":3279.257751535089},"NA","NA","NA","NA",{"$f":"'[26]Data Compilation'!E51","v":44.927639717635216},{"$f":"'[26]Data Compilation'!O51","v":44.927639717635216},"NA",{"$f":"'[24]Data Compilation'!F51","v":"NA"},{"$f":"'[25]Data Compilation'!F51","v":"NA"},{"$f":"'[25]Data Compilation'!P51","v":"NA"},{"$f":"'[26]Data Compilation'!F51","v":-2591.7602555383892},{"$f":"'[26]Data Compilation'!P51","v":-2591.7602555383892},"NA",{"$f":"'[24]Data Compilation'!G51","v":"NA"},{"$f":"'[25]Data Compilation'!G51","v":"NA"},{"$f":"'[25]Data Compilation'!Q51","v":"NA"},{"$f":"'[26]Data Compilation'!G51","v":"NA"},{"$f":"'[26]Data Compilation'!Q51","v":"NA"},"NA","NA",{"$f":"'[25]Data Compilation'!H51","v":"NA"},{"$f":"'[25]Data Compilation'!R51","v":"NA"},{"$f":"'[26]Data Compilation'!H51","v":"NA"},{"$f":"'[26]Data Compilation'!R51","v":"NA"},"NA",{"$f":"'[24]Data Compilation'!I51","v":"NA"},{"$f":"'[25]Data Compilation'!I51","v":"NA"},{"$f":"'[25]Data Compilation'!S51","v":"NA"},{"$f":"'[26]Data Compilation'!I51","v":238.10042404914716},{"$f":"'[26]Data Compilation'!S51","v":238.10042404914716},"NA",{"$f":"'[24]Data Compilation'!J51","v":"NA"},{"$f":"'[25]Data Compilation'!J51","v":"NA"},{"$f":"'[25]Data Compilation'!T51","v":"NA"},{"$f":"'[26]Data Compilation'!J51","v":-9328.9276397176345},{"$f":"'[26]Data Compilation'!T51","v":-9328.9276397176345},"NA"]
[null,23,"Gypsum Drywall","NA",{"$f":"IFERROR('[22]Data Compilation'!E56*-1,\"NA\")","v":"NA"},{"$f":"IFERROR('[22]Data Compilation'!J56*-1,\"NA\")","v":"NA"},{"$f":"'[23]Data Compilation'!E56","v":3754.7039409454001},{"$f":"'[23]Data Compilation'!J56","v":3754.7039409454001},"NA","NA","NA","NA",{"$f":"'[26]Data Compilation'!E52","v":44.927639717635216},{"$f":"'[26]Data Compilation'!O52","v":44.927639717635216},"NA",{"$f":"'[24]Data Compilation'!F52","v":"NA"},{"$f":"'[25]Data Compilation'!F52","v":"NA"},{"$f":"'[25]Data Compilation'!P52","v":"NA"},{"$f":"'[26]Data Compilation'!F52","v":-2783.8704744041784},{"$f":"'[26]Data Compilation'!P52","v":-2783.8704744041784},"NA",{"$f":"'[24]Data Compilation'!G52","v":"NA"},{"$f":"'[25]Data Compilation'!G52","v":"NA"},{"$f":"'[25]Data Compilation'!Q52","v":"NA"},{"$f":"'[26]Data Compilation'!G52","v":"NA"},{"$f":"'[26]Data Compilation'!Q52","v":"NA"},"NA","NA",{"$f":"'[25]Data Compilation'!H52","v":"NA"},{"$f":"'[25]Data Compilation'!R52","v":"NA"},{"$f":"'[26]Data Compilation'!H52","v":"NA"},{"$f":"'[26]Data Compilation'!R52","v":"NA"},"NA",{"$f":"'[24]Data Compilation'!I52","v":"NA"},{"$f":"'[25]Data Compilation'!I52","v":"NA"},{"$f":"'[25]Data Compilation'!S52","v":"NA"},{"$f":"'[26]Data Compilation'!I52","v":238.10042404914716},{"$f":"'[26]Data Compilation'!S52","v":238.10042404914716},"NA",{"$f":"'[24]Data Compilation'!J52","v":"NA"},{"$f":"'[25]Data Compilation'!J52","v":"NA"},{"$f":"'[25]Data Compilation'!T52","v":"NA"},{"$f":"IFERROR('[26]Data Compilation'!J52,\"NA\")","v":"NA"},{"$f":"'[26]Data Compilation'!T52","v":"NA"},"NA"]
[null,24,"Concrete","NA",{"$f":"IFERROR('[22]Data Compilation'!E57*-1,\"NA\")","v":"NA"},{"$f":"IFERROR('[22]Data Compilation'!J57*-1,\"NA\")","v":"NA"},{"$f":"'[23]Data Compilation'!E57","v":5413.9969090204468},{"$f":"'[23]Data Compilation'!J57","v":5413.9969090204468},"NA","NA","NA","NA",{"$f":"'[26]Data Compilation'!E53","v":44.927639717635216},{"$f":"'[26]Data Compilation'!O53","v":44.927639717635216},"NA",{"$f":"'[24]Data Compilation'!F53","v":"NA"},{"$f":"'[25]Data Compilation'!F53","v":"NA"},{"$f":"'[25]Data Compilation'!P53","v":"NA"},{"$f":"'[26]Data Compilation'!F53","v":-157.62497175421427},{"$f":"'[26]Data Compilation'!P53","v":-157.62497175421427},"NA",{"$f":"'[24]Data Compilation'!G53","v":"NA"},{"$f":"'[25]Data Compilation'!G53","v":"NA"},{"$f":"'[25]Data Compilation'!Q53","v":"NA"},{"$f":"'[26]Data Compilation'!G53","v":"NA"},{"$f":"'[26]Data Compilation'!Q53","v":"NA"},"NA","NA",{"$f":"'[25]Data Compilation'!H53","v":"NA"},{"$f":"'[25]Data Compilation'!R53","v":"NA"},{"$f":"'[26]Data Compilation'!H53","v":"NA"},{"$f":"'[26]Data Compilation'!R53","v":"NA"},"NA",{"$f":"'[24]Data Compilation'!I53","v":"NA"},{"$f":"'[25]Data Compilation'!I53","v":"NA"},{"$f":"'[25]Data Compilation'!S53","v":"NA"},{"$f":"'[26]Data Compilation'!I53","v":238.10042404914716},{"$f":"'[26]Data Compilation'!S53","v":238.10042404914716},"NA",{"$f":"'[24]Data Compilation'!J53","v":"NA"},{"$f":"'[25]Data Compilation'!J53","v":"NA"},{"$f":"'[25]Data Compilation'!T53","v":"NA"},{"$f":"IFERROR('[26]Data Compilation'!J53,\"NA\")","v":"NA"},{"$f":"'[26]Data Compilation'!T53","v":"NA"},"NA"]
[null,25,"Reclaimed Asphalt Pavement","NA",{"$f":"IFERROR('[22]Data Compilation'!E58*-1,\"NA\")","v":"NA"},{"$f":"IFERROR('[22]Data Compilation'!J58*-1,\"NA\")","v":"NA"},{"$f":"'[23]Data Compilation'!E58","v":1767.8541231547151},{"$f":"'[23]Data Compilation'!J58","v":1767.8541231547151},"NA","NA","NA","NA",{"$f":"'[26]Data Compilation'!E54","v":44.927639717635216},{"$f":"'[26]Data Compilation'!O54","v":44.927639717635216},"NA",{"$f":"'[24]Data Compilation'!F54","v":"NA"},{"$f":"'[25]Data Compilation'!F54","v":"NA"},{"$f":"'[25]Data Compilation'!P54","v":"NA"},{"$f":"'[26]Data Compilation'!F54","v":-1329.2986055992289},{"$f":"'[26]Data Compilation'!P54","v":-1329.2986055992289},"NA",{"$f":"'[24]Data Compilation'!G54","v":"NA"},{"$f":"'[25]Data Compilation'!G54","v":"NA"},{"$f":"'[25]Data Compilation'!Q54","v":"NA"},{"$f":"'[26]Data Compilation'!G54","v":"NA"},{"$f":"'[26]Data Compilation'!Q54","v":"NA"},"NA","NA",{"$f":"'[25]Data Compilation'!H54","v":"NA"},{"$f":"'[25]Data Compilation'!R54","v":"NA"},{"$f":"'[26]Data Compilation'!H54","v":"NA"},{"$f":"'[26]Data Compilation'!R54","v":"NA"},"NA",{"$f":"'[24]Data Compilation'!I54","v":"NA"},{"$f":"'[25]Data Compilation'!I54","v":"NA"},{"$f":"'[25]Data Compilation'!S54","v":"NA"},{"$f":"'[26]Data Compilation'!I54","v":238.10042404914716},{"$f":"'[26]Data Compilation'!S54","v":238.10042404914716},"NA",{"$f":"'[24]Data Compilation'!J54","v":"NA"},{"$f":"'[25]Data Compilation'!J54","v":"NA"},{"$f":"'[25]Data Compilation'!T54","v":"NA"},{"$f":"IFERROR('[26]Data Compilation'!J54,\"NA\")","v":"NA"},{"$f":"'[26]Data Compilation'!T54","v":"NA"},"NA"]
[]
[]
["Water use (Gallons/ton)"]
["Material Category","Item No.","Material Type","Produced",null,null,null,null,null,"Collection",null,null,null,null,null,"Recycling",null,null,null,null,null,"Composting",null,null,null,null,null,"Anaerobic Digestion",null,null,null,null,null,"Landfill",null,null,null,null,null,"Combustion"]
[null,null,null,"MSWDST (FL)","SWOLF (FL)","SWOLF (US)","WARM (FL)","WARM (US)","Literature","MSWDST (FL)","SWOLF (FL)","SWOLF (US)","WARM (FL)","WARM (US)","Literature","MSWDST (FL)","SWOLF (FL)","SWOLF (US)","WARM (FL)","WARM (US)","Literature","MSWDST (FL)","SWOLF (FL)","SWOLF (US)","WARM (FL)","WARM (US)","Literature","MSWDST (FL)","SWOLF (FL)","SWOLF (US)","WARM (FL)","WARM (US)","Literature","MSWDST (FL)","SWOLF (FL)","SWOLF (US)","WARM (FL)","WARM (US)","Literature","MSWDST (FL)","SWOLF (FL)","SWOLF (US)","WARM (FL)","WARM (US)","Literature"]
["MSW ",1,"Mixed MSW","NA",{"$f":"IFERROR('[22]Data Compilation'!E62*-1,\"NA\")","v":"NA"},{"$f":"IFERROR('[22]Data Compilation'!J62*-1,\"NA\")","v":"NA"},"NA","NA","NA","NA",{"$f":"'[25]Data Compilation'!$E$58","v":13.101524068622728},{"$f":"'[25]Data Compilation'!$O$58","v":26.198761669897205},"NA","NA","NA","NA",{"$f":"'[25]Data Compilation'!F58","v":"NA"},{"$f":"'[25]Data Compilation'!P58","v":"NA"},"NA","NA","NA","NA",{"$f":"'[25]Data Compilation'!G58","v":"NA"},{"$f":"'[25]Data Compilation'!Q58","v":"NA"},"NA","NA","NA","NA",{"$f":"'[25]Data Compilation'!H58","v":"NA"},{"$f":"'[25]Data Compilation'!R58","v":"NA"},"NA","NA","NA","NA",{"$f":"'[25]Data Compilation'!I58","v":-22.238912048235687},{"$f":"'[25]Data Compilation'!S58","v":-16.877172660657529},"NA","NA","NA","NA",{"$f":"'[25]Data Compilation'!J58","v":-158.3336923139195},{"$f":"'[25]Data Compilation'!T58","v":-141.68634547470614},"NA","NA","NA"]
["Paper",2,"Newspaper","NA",{"$f":"IFERROR('[22]Data Compilation'!E63*-1,\"NA\")","v":1588.920730905505},{"$f":"IFERROR('[22]Data Compilation'!J63*-1,\"NA\")","v":1465.021945729696},"NA","NA","NA","NA",{"$f":"'[25]Data Compilation'!$E$58","v":13.101524068622728},{"$f":"'[25]Data Compilation'!$O$58","v":26.198761669897205},"NA","NA","NA","NA",{"$f":"'[25]Data Compilation'!F59","v":-590.88523042256872},{"$f":"'[25]Data Compilation'!P59","v":-542.48377172909295},"NA","NA","NA","NA",{"$f":"'[25]Data Compilation'!G59","v":-10.72877162193808},{"$f":"'[25]Data Compilation'!Q59","v":-10.80403385062611},"NA","NA","NA","NA",{"$f":"'[25]Data Compilation'!H59","v":4.784526278223872},{"$f":"'[25]Data Compilation'!R59","v":4.8129981627097953},"NA","NA","NA","NA",{"$f":"'[25]Data Compilation'!I59","v":-27.280808145480467},{"$f":"'[25]Data Compilation'!S59","v":-21.404699253473808},"NA","NA","NA","NA",{"$f":"'[25]Data Compilation'!J59","v":-484.82497157769382},{"$f":"'[25]Data Compilation'!T59","v":-434.86929231964234},"NA","NA","NA"]
[null,3,"Corrugated Cardboard (OCC)","NA",{"$f":"IFERROR('[22]Data Compilation'!E64*-1,\"NA\")","v":261.89456826927881},{"$f":"IFERROR('[22]Data Compilation'!J64*-1,\"NA\")","v":241.72360662471471},"NA","NA","NA","NA",{"$f":"'[25]Data Compilation'!$E$58","v":13.101524068622728},{"$f":"'[25]Data Compilation'!$O$58","v":26.198761669897205},"NA","NA","NA","NA",{"$f":"'[25]Data Compilation'!F60","v":104.85000836402034},{"$f":"'[25]Data Compilation'!P60","v":91.544669312006633},"NA","NA","NA","NA",{"$f":"'[25]Data Compilation'!G60","v":-7.3867225276055546},{"$f":"'[25]Data Compilation'!Q60","v":-7.4620748938348358},"NA","NA","NA","NA",{"$f":"'[25]Data Compilation'!H60","v":-96.113747923426132},{"$f":"'[25]Data Compilation'!R60","v":-85.857433759166994},"NA","NA","NA","NA",{"$f":"'[25]Data Compilation'!I60","v":-84.312358015316903},{"$f":"'[25]Data Compilation'!S60","v":-72.617943654462579},"NA","NA","NA","NA",{"$f":"'[25]Data Compilation'!J60","v":-405.25588636065953},{"$f":"'[25]Data Compilation'!T60","v":-363.41777014027741},"NA","NA","NA"]
[null,4,"High Grade Paper (Office Type Paper)","NA",{"$f":"IFERROR('[22]Data Compilation'!E65*-1,\"NA\")","v":404.28612972923253},{"$f":"IFERROR('[22]Data Compilation'!J65*-1,\"NA\")","v":376.33408495768532},"NA","NA","NA","NA",{"$f":"'[25]Data Compilation'!$E$58","v":13.101524068622728},{"$f":"'[25]Data Compilation'!$O$58","v":26.198761669897205},"NA","NA","NA","NA",{"$f":"'[25]Data Compilation'!F61","v":32.659787638144806},{"$f":"'[25]Data Compilation'!P61","v":94.325726731076017},"NA","NA","NA","NA",{"$f":"'[25]Data Compilation'!G61","v":-5.760943816872869},{"$f":"'[25]Data Compilation'!Q61","v":-5.8446938187420185},"NA","NA","NA","NA",{"$f":"'[25]Data Compilation'!H61","v":-170.65906947819741},{"$f":"'[25]Data Compilation'!R61","v":-152.76184806281537},"NA","NA","NA","NA",{"$f":"'[25]Data Compilation'!I61","v":-176.42108946573268},{"$f":"'[25]Data Compilation'!S61","v":-155.32982876157976},"NA","NA","NA","NA",{"$f":"'[25]Data Compilation'!J61","v":-372.38860327418411},{"$f":"'[25]Data Compilation'!T61","v":-333.90357627939181},"NA","NA","NA"]
[null,5,"Magazines/third-class mail","NA",{"$f":"IFERROR('[22]Data Compilation'!E66*-1,\"NA\")","v":1139.888075021003},{"$f":"IFERROR('[22]Data Compilation'!J66*-1,\"NA\")","v":1054.0567426818193},"NA","NA","NA","NA",{"$f":"'[25]Data Compilation'!$E$58","v":13.101524068622728},{"$f":"'[25]Data Compilation'!$O$58","v":26.198761669897205},"NA","NA","NA","NA",{"$f":"'[25]Data Compilation'!F62","v":-297.30486256752692},{"$f":"'[25]Data Compilation'!P62","v":-272.97174713706409},"NA","NA","NA","NA",{"$f":"'[25]Data Compilation'!G62","v":-19.101344461747622},{"$f":"'[25]Data Compilation'!Q62","v":-19.181122704200355},"NA","NA","NA","NA",{"$f":"'[25]Data Compilation'!H62","v":-83.654471782136454},{"$f":"'[25]Data Compilation'!R62","v":-74.603818278219407},"NA","NA","NA","NA",{"$f":"'[25]Data Compilation'!I62","v":-25.007094958237964},{"$f":"'[25]Data Compilation'!S62","v":-19.362948072200673},"NA","NA","NA","NA",{"$f":"'[25]Data Compilation'!J62","v":-369.3754684938242},{"$f":"'[25]Data Compilation'!T62","v":-331.19783866784127},"NA","NA","NA"]
[null,6,"Books","NA",{"$f":"IFERROR('[22]Data Compilation'!E67*-1,\"NA\")","v":"NA"},{"$f":"IFERROR('[22]Data Compilation'!J67*-1,\"NA\")","v":"NA"},"NA","NA","NA",{"$f":"J68","v":"NA"},{"$f":"K68","v":13.101524068622728},26.198761669897205,"NA","NA","NA","NA","NA","NA","NA","NA","NA","NA","NA","NA","NA","NA","NA","NA","NA","NA","NA","NA","NA","NA","NA","NA","NA","NA","NA","NA","NA","NA","NA","NA","NA"]
[null,7,"Mixed Paper","NA",{"$f":"IFERROR('[22]Data Compilation'!E68*-1,\"NA\")","v":1588.920730905505},{"$f":"IFERROR('[22]Data Compilation'!J68*-1,\"NA\")","v":1465.021945729696},"NA","NA","NA","NA",{"$f":"'[25]Data Compilation'!$E$58","v":13.101524068622728},{"$f":"'[25]Data Compilation'!$O$58","v":26.198761669897205},"NA","NA","NA","NA",{"$f":"'[25]Data Compilation'!F63","v":-590.88523076889885},{"$f":"'[25]Data Compilation'!P63","v":-542.48377207542308},"NA","NA","NA","NA",{"$f":"'[25]Data Compilation'!G63","v":-18.985475611256383},{"$f":"'[25]Data Compilation'!Q63","v":-19.06130825134138},"NA","NA","NA","NA",{"$f":"'[25]Data Compilation'!H63","v":-56.8689874341825},{"$f":"'[25]Data Compilation'!R63","v":-50.597672321877042},"NA","NA","NA","NA",{"$f":"'[25]Data Compilation'!I63","v":-78.497832844428629},{"$f":"'[25]Data Compilation'!S63","v":-67.396611069259563},"NA","NA","NA","NA",{"$f":"'[25]Data Compilation'!J63","v":-410.8779006475911},{"$f":"'[25]Data Compilation'!T63","v":-368.46623183137325},"NA","NA","NA"]
["Plastic",8,"HDPE","NA",{"$f":"E76","v":572.06629835527212},{"$f":"F76","v":556.50413210130569},"NA","NA","NA","NA",{"$f":"'[25]Data Compilation'!$E$58","v":13.101524068622728},{"$f":"'[25]Data Compilation'!$O$58","v":26.198761669897205},"NA","NA","NA","NA",{"$f":"Q76","v":-386.37995294969966},{"$f":"R76","v":-381.54571217151312},"NA","NA","NA","NA",{"$f":"'[25]Data Compilation'!G64","v":"NA"},{"$f":"'[25]Data Compilation'!Q64","v":"NA"},"NA","NA","NA","NA",{"$f":"'[25]Data Compilation'!H64","v":"NA"},{"$f":"'[25]Data Compilation'!R64","v":"NA"},"NA","NA","NA","NA",{"$f":"'[25]Data Compilation'!I64","v":30.654885750013477},{"$f":"'[25]Data Compilation'!S64","v":30.620449434475585},"NA","NA","NA","NA",{"$f":"'[25]Data Compilation'!J64","v":-1088.8696771793934},{"$f":"'[25]Data Compilation'!T64","v":-977.2899266892116},"NA","NA","NA"]
[null,9,"PET","NA",{"$f":"IFERROR('[22]Data Compilation'!E70*-1,\"NA\")","v":572.06629835527212},{"$f":"IFERROR('[22]Data Compilation'!J70*-1,\"NA\")","v":556.50413210130569},"NA","NA","NA","NA",{"$f":"'[25]Data Compilation'!$E$58","v":13.101524068622728},{"$f":"'[25]Data Compilation'!$O$58","v":26.198761669897205},"NA","NA","NA","NA",{"$f":"'[25]Data Compilation'!F65","v":-386.37995294969966},{"$f":"'[25]Data Compilation'!P65","v":-381.54571217151312},"NA","NA","NA","NA",{"$f":"'[25]Data Compilation'!G65","v":"NA"},{"$f":"'[25]Data Compilation'!Q65","v":"NA"},"NA","NA","NA","NA",{"$f":"'[25]Data Compilation'!H65","v":"NA"},{"$f":"'[25]Data Compilation'!R65","v":"NA"},"NA","NA","NA","NA",{"$f":"'[25]Data Compilation'!I65","v":30.654885750013477},{"$f":"'[25]Data Compilation'!S65","v":30.654885750013477},"NA","NA","NA","NA",{"$f":"'[25]Data Compilation'!J65","v":-1088.8696771793934},{"$f":"'[25]Data Compilation'!T65","v":-977.2899266892116},"NA","NA","NA"]
[null,10,"Mixed Plastic","NA",{"$f":"IFERROR('[22]Data Compilation'!E71*-1,\"NA\")","v":"NA"},{"$f":"IFERROR('[22]Data Compilation'!J71*-1,\"NA\")","v":"NA"},"NA","NA","NA","NA",{"$f":"'[25]Data Compilation'!$E$58","v":13.101524068622728},{"$f":"'[25]Data Compilation'!$O$58","v":26.198761669897205},"NA","NA","NA","NA",{"$f":"'[25]Data Compilation'!F66","v":"NA"},{"$f":"'[25]Data Compilation'!P66","v":"NA"},"NA","NA","NA","NA",{"$f":"'[25]Data Compilation'!G66","v":"NA"},{"$f":"'[25]Data Compilation'!Q66","v":"NA"},"NA","NA","NA","NA",{"$f":"'[25]Data Compilation'!H66","v":"NA"},{"$f":"'[25]Data Compilation'!R66","v":"NA"},"NA","NA","NA","NA",{"$f":"'[25]Data Compilation'!I66","v":30.654885750869301},{"$f":"'[25]Data Compilation'!S66","v":30.654885750869301},"NA","NA","NA","NA",{"$f":"'[25]Data Compilation'!J66","v":-1145.1889423938396},{"$f":"'[25]Data Compilation'!T66","v":-1027.8635535772885},"NA","NA","NA"]
["Glass",11,"Glass","NA",{"$f":"IFERROR('[22]Data Compilation'!E72*-1,\"NA\")","v":190.96406274263791},{"$f":"IFERROR('[22]Data Compilation'!J72*-1,\"NA\")","v":187.21118649600834},"NA","NA","NA","NA",{"$f":"'[25]Data Compilation'!$E$58","v":13.101524068622728},{"$f":"'[25]Data Compilation'!$O$58","v":26.198761669897205},"NA","NA","NA","NA",{"$f":"'[25]Data Compilation'!F67","v":-48.145356402504007},{"$f":"'[25]Data Compilation'!P67","v":-46.661336064780016},"NA","NA","NA","NA",{"$f":"'[25]Data Compilation'!G67","v":"NA"},{"$f":"'[25]Data Compilation'!Q67","v":"NA"},"NA","NA","NA","NA",{"$f":"'[25]Data Compilation'!H67","v":"NA"},{"$f":"'[25]Data Compilation'!R67","v":"NA"},"NA","NA","NA","NA",{"$f":"'[25]Data Compilation'!I67","v":30.65488575014346},{"$f":"'[25]Data Compilation'!S67","v":30.65488575014346},"NA","NA","NA","NA",{"$f":"'[25]Data Compilation'!J67","v":15.789253751896505},{"$f":"'[25]Data Compilation'!T67","v":14.672741836907624},"NA","NA","NA"]
["Metals",12,"Aluminum Cans","NA",{"$f":"IFERROR('[22]Data Compilation'!E73*-1,\"NA\")","v":10073.178239759896},{"$f":"IFERROR('[22]Data Compilation'!J73*-1,\"NA\")","v":9127.4773674034786},"NA","NA","NA","NA",{"$f":"'[25]Data Compilation'!$E$58","v":13.101524068622728},{"$f":"'[25]Data Compilation'!$O$58","v":26.198761669897205},"NA","NA","NA","NA",{"$f":"'[25]Data Compilation'!F68","v":-8797.2354735973968},{"$f":"'[25]Data Compilation'!P68","v":-7964.5763522836378},"NA","NA","NA","NA",{"$f":"'[25]Data Compilation'!G68","v":"NA"},{"$f":"'[25]Data Compilation'!Q68","v":"NA"},"NA","NA","NA","NA",{"$f":"'[25]Data Compilation'!H68","v":"NA"},{"$f":"'[25]Data Compilation'!R68","v":"NA"},"NA","NA","NA","NA",{"$f":"'[25]Data Compilation'!I68","v":30.654885750182359},{"$f":"'[25]Data Compilation'!S68","v":30.654885750182359},"NA","NA","NA","NA",{"$f":"'[25]Data Compilation'!J68","v":-4352.1910312675009},{"$f":"'[25]Data Compilation'!T68","v":-3939.9481032050471},"NA","NA","NA"]
[null,13,"Steel/Tin Cans","NA",{"$f":"IFERROR('[22]Data Compilation'!E74*-1,\"NA\")","v":1588.9207309206956},{"$f":"IFERROR('[22]Data Compilation'!J74*-1,\"NA\")","v":1465.0219457448868},"NA","NA","NA","NA",{"$f":"'[25]Data Compilation'!$E$58","v":13.101524068622728},{"$f":"'[25]Data Compilation'!$O$58","v":26.198761669897205},"NA","NA","NA","NA",{"$f":"'[25]Data Compilation'!F69","v":-583.99721883021027},{"$f":"'[25]Data Compilation'!P69","v":-536.23207390303958},"NA","NA","NA","NA",{"$f":"'[25]Data Compilation'!G69","v":"NA"},{"$f":"'[25]Data Compilation'!Q69","v":"NA"},"NA","NA","NA","NA",{"$f":"'[25]Data Compilation'!H69","v":"NA"},{"$f":"'[25]Data Compilation'!R69","v":"NA"},"NA","NA","NA","NA",{"$f":"'[25]Data Compilation'!I69","v":30.654885749952125},{"$f":"'[25]Data Compilation'!S69","v":30.654885749952125},"NA","NA","NA","NA",{"$f":"'[25]Data Compilation'!J69","v":-491.81373611826649},{"$f":"'[25]Data Compilation'!T69","v":-451.44107989059643},"NA","NA","NA"]
[null,14,"Mixed Metals","NA",{"$f":"IFERROR('[22]Data Compilation'!E75*-1,\"NA\")","v":5831.0494853402961},{"$f":"IFERROR('[22]Data Compilation'!J75*-1,\"NA\")","v":5296.2496565741831},"NA","NA","NA","NA",{"$f":"'[25]Data Compilation'!$E$58","v":13.101524068622728},{"$f":"'[25]Data Compilation'!$O$58","v":26.198761669897205},"NA","NA","NA","NA",{"$f":"'[25]Data Compilation'!F70","v":-4690.6163462138038},{"$f":"'[25]Data Compilation'!P70","v":-4250.3562925698898},"NA","NA","NA","NA",{"$f":"'[25]Data Compilation'!G70","v":"NA"},{"$f":"'[25]Data Compilation'!Q70","v":"NA"},"NA","NA","NA","NA",{"$f":"'[25]Data Compilation'!H70","v":"NA"},{"$f":"'[25]Data Compilation'!R70","v":"NA"},"NA","NA","NA","NA",{"$f":"'[25]Data Compilation'!I70","v":30.654885750067244},{"$f":"'[25]Data Compilation'!S70","v":30.654885750067244},"NA","NA","NA","NA",{"$f":"'[25]Data Compilation'!J70","v":-4543.8193830981036},{"$f":"'[25]Data Compilation'!T70","v":-4116.475769344117},"NA","NA","NA"]
["Organic",15,"Yard Waste","NA",{"$f":"IFERROR('[22]Data Compilation'!E76*-1,\"NA\")","v":"NA"},{"$f":"IFERROR('[22]Data Compilation'!J76*-1,\"NA\")","v":"NA"},"NA","NA","NA","NA",{"$f":"'[25]Data Compilation'!$E$58","v":13.101524068622728},{"$f":"'[25]Data Compilation'!$O$58","v":26.198761669897205},"NA","NA","NA","NA",{"$f":"'[25]Data Compilation'!F71","v":"NA"},{"$f":"'[25]Data Compilation'!P71","v":"NA"},"NA","NA","NA","NA",{"$f":"'[25]Data Compilation'!G71","v":-138.69879594898245},{"$f":"'[25]Data Compilation'!Q71","v":-138.53991062969632},"NA","NA","NA","NA",{"$f":"'[25]Data Compilation'!H71","v":-22.414535269166972},{"$f":"'[25]Data Compilation'!R71","v":-19.865434893677744},"NA","NA","NA","NA",{"$f":"'[25]Data Compilation'!I71","v":15.881471544533886},{"$f":"'[25]Data Compilation'!S71","v":15.881471544533886},"NA","NA","NA","NA",{"$f":"'[25]Data Compilation'!J71","v":-194.27280470314022},{"$f":"'[25]Data Compilation'!T71","v":-173.95898350964322},"NA","NA","NA"]
[null,16,"Food Waste","NA",{"$f":"IFERROR('[22]Data Compilation'!E77*-1,\"NA\")","v":"NA"},{"$f":"IFERROR('[22]Data Compilation'!J77*-1,\"NA\")","v":"NA"},"NA","NA","NA","NA",{"$f":"'[25]Data Compilation'!$E$58","v":13.101524068622728},{"$f":"'[25]Data Compilation'!$O$58","v":26.198761669897205},"NA","NA","NA","NA",{"$f":"'[25]Data Compilation'!F72","v":"NA"},{"$f":"'[25]Data Compilation'!P72","v":"NA"},"NA","NA","NA","NA",{"$f":"'[25]Data Compilation'!G72","v":-73.219990095213177},{"$f":"'[25]Data Compilation'!Q72","v":-73.283521586473711},"NA","NA","NA","NA",{"$f":"'[25]Data Compilation'!H72","v":-213.25660225176171},{"$f":"'[25]Data Compilation'!R72","v":-191.39505261904799},"NA","NA","NA","NA",{"$f":"'[25]Data Compilation'!I72","v":-45.350770561667098},{"$f":"'[25]Data Compilation'!S72","v":-45.350770561667098},"NA","NA","NA","NA",{"$f":"'[25]Data Compilation'!J72","v":-189.42937920966193},{"$f":"'[25]Data Compilation'!T72","v":-169.78541938076273},"NA","NA","NA"]
["Other ",17,"Tires","NA",{"$f":"IFERROR('[22]Data Compilation'!E78*-1,\"NA\")","v":"NA"},{"$f":"IFERROR('[22]Data Compilation'!J78*-1,\"NA\")","v":"NA"},"NA","NA","NA","NA",{"$f":"'[25]Data Compilation'!$E$58","v":13.101524068622728},{"$f":"'[25]Data Compilation'!$O$58","v":26.198761669897205},"NA","NA","NA","NA",{"$f":"'[25]Data Compilation'!F73","v":"NA"},{"$f":"'[25]Data Compilation'!P73","v":"NA"},"NA","NA","NA","NA",{"$f":"'[25]Data Compilation'!G73","v":"NA"},{"$f":"'[25]Data Compilation'!Q73","v":"NA"},"NA","NA","NA","NA",{"$f":"'[25]Data Compilation'!H73","v":"NA"},{"$f":"'[25]Data Compilation'!R73","v":"NA"},"NA","NA","NA","NA",{"$f":"'[25]Data Compilation'!I73","v":30.654885750729004},{"$f":"'[25]Data Compilation'!S73","v":30.654885750729004},"NA","NA","NA","NA",{"$f":"'[25]Data Compilation'!J73","v":-781.57859633681028},{"$f":"'[25]Data Compilation'!T73","v":-701.34839212885322},"NA","NA","NA"]
[null,18,"Clothing and Footwear","NA",{"$f":"IFERROR('[22]Data Compilation'!E79*-1,\"NA\")","v":"NA"},{"$f":"IFERROR('[22]Data Compilation'!J79*-1,\"NA\")","v":"NA"},"NA","NA",{"$f":"'[31]Summary Table'!P3","v":295307.73861765425},"NA",{"$f":"'[25]Data Compilation'!$E$58","v":13.101524068622728},{"$f":"'[25]Data Compilation'!$O$58","v":26.198761669897205},"NA","NA","NA","NA",{"$f":"'[25]Data Compilation'!F74","v":"NA"},{"$f":"'[25]Data Compilation'!P74","v":"NA"},"NA","NA","NA","NA",{"$f":"'[25]Data Compilation'!G74","v":-292.05329031069948},{"$f":"'[25]Data Compilation'!Q74","v":-292.14738602240334},"NA","NA","NA","NA",{"$f":"'[25]Data Compilation'!H74","v":-7.9917895458806694},{"$f":"'[25]Data Compilation'!R74","v":-6.5929312063357557},"NA","NA","NA","NA",{"$f":"'[25]Data Compilation'!I74","v":-39.039130223134663},{"$f":"'[25]Data Compilation'!S74","v":-39.039130223134663},"NA","NA","NA","NA",{"$f":"'[25]Data Compilation'!J74","v":-617.270712307694},{"$f":"'[25]Data Compilation'!T74","v":-553.80304348093102},"NA","NA","NA"]
[null,19,"Furniture","NA",{"$f":"IFERROR('[22]Data Compilation'!E80*-1,\"NA\")","v":"NA"},{"$f":"IFERROR('[22]Data Compilation'!J80*-1,\"NA\")","v":"NA"},"NA","NA",{"$f":"'[31]Summary Table'!P4","v":439.08029454707986},{"$f":"J68","v":"NA"},"NA","NA","NA","NA","NA","NA","NA","NA","NA","NA",{"$f":"[32]Summary!$F$13","v":-990.84631003537891},"NA","NA","NA","NA","NA","NA","NA","NA","NA","NA","NA","NA","NA","NA","NA","NA","NA",{"$f":"[32]Summary!$F$14","v":20.74504985632171},"NA","NA","NA","NA","NA",{"$f":"[32]Summary!$F$15","v":-878.14189509038374}]
[null,20,"Electronics","NA",{"$f":"IFERROR('[22]Data Compilation'!E81*-1,\"NA\")","v":"NA"},{"$f":"IFERROR('[22]Data Compilation'!J81*-1,\"NA\")","v":"NA"},"NA","NA",{"$f":"'[31]Summary Table'!P5","v":"NA"},"NA",{"$f":"'[25]Data Compilation'!$E$58","v":13.101524068622728},{"$f":"'[25]Data Compilation'!$O$58","v":26.198761669897205},"NA","NA","NA","NA",{"$f":"'[25]Data Compilation'!F75","v":"NA"},{"$f":"'[25]Data Compilation'!P75","v":"NA"},"NA","NA","NA","NA",{"$f":"'[25]Data Compilation'!G75","v":"NA"},{"$f":"'[25]Data Compilation'!Q75","v":"NA"},"NA","NA","NA","NA",{"$f":"'[25]Data Compilation'!H75","v":"NA"},{"$f":"'[25]Data Compilation'!R75","v":"NA"},"NA","NA","NA","NA",{"$f":"'[25]Data Compilation'!I75","v":30.654885750885523},{"$f":"'[25]Data Compilation'!S75","v":30.654885750885523},"NA","NA","NA","NA",{"$f":"'[25]Data Compilation'!J75","v":4.8442950804505092},{"$f":"'[25]Data Compilation'!T75","v":8.6283267762385876},"NA","NA","NA"]
["C&D Debris",21,"Wood Products","NA",{"$f":"IFERROR('[22]Data Compilation'!E82*-1,\"NA\")","v":"NA"},{"$f":"IFERROR('[22]Data Compilation'!J82*-1,\"NA\")","v":"NA"},"NA","NA","NA","NA","NA","NA","NA","NA","NA","NA",{"$f":"'[25]Data Compilation'!F76","v":"NA"},{"$f":"'[25]Data Compilation'!P76","v":"NA"},"NA","NA","NA","NA",{"$f":"'[25]Data Compilation'!G76","v":-84.72020693990757},{"$f":"'[25]Data Compilation'!Q76","v":-84.811141699197208},"NA","NA","NA","NA",{"$f":"'[25]Data Compilation'!H76","v":56.900479537490696},{"$f":"'[25]Data Compilation'!R76","v":51.649106683113736},"NA","NA","NA","NA",{"$f":"'[25]Data Compilation'!I76","v":18.992934889718903},{"$f":"'[25]Data Compilation'!S76","v":18.992934889718903},"NA","NA","NA","NA",{"$f":"'[25]Data Compilation'!J76","v":-519.21789590514538},{"$f":"'[25]Data Compilation'!T76","v":-465.75348294085154},"NA","NA","NA"]
[null,22,"Asphalt Shingles","NA",{"$f":"IFERROR('[22]Data Compilation'!E83*-1,\"NA\")","v":"NA"},{"$f":"IFERROR('[22]Data Compilation'!J83*-1,\"NA\")","v":"NA"},"NA","NA","NA","NA","NA","NA","NA","NA","NA","NA",{"$f":"'[25]Data Compilation'!F77","v":"NA"},{"$f":"'[25]Data Compilation'!P77","v":"NA"},"NA","NA","NA","NA",{"$f":"'[25]Data Compilation'!G77","v":"NA"},{"$f":"'[25]Data Compilation'!Q77","v":"NA"},"NA","NA","NA","NA",{"$f":"'[25]Data Compilation'!H77","v":"NA"},{"$f":"'[25]Data Compilation'!R77","v":"NA"},"NA","NA","NA","NA",{"$f":"'[25]Data Compilation'!I77","v":"NA"},{"$f":"'[25]Data Compilation'!S77","v":"NA"},"NA","NA","NA","NA",{"$f":"'[25]Data Compilation'!J77","v":"NA"},{"$f":"'[25]Data Compilation'!T77","v":"NA"},"NA","NA","NA"]
[null,23,"Gypsum Drywall","NA",{"$f":"IFERROR('[22]Data Compilation'!E84*-1,\"NA\")","v":"NA"},{"$f":"IFERROR('[22]Data Compilation'!J84*-1,\"NA\")","v":"NA"},"NA","NA","NA","NA","NA","NA","NA","NA","NA","NA",{"$f":"'[25]Data Compilation'!F78","v":"NA"},{"$f":"'[25]Data Compilation'!P78","v":"NA"},"NA","NA","NA","NA",{"$f":"'[25]Data Compilation'!G78","v":"NA"},{"$f":"'[25]Data Compilation'!Q78","v":"NA"},"NA","NA","NA","NA",{"$f":"'[25]Data Compilation'!H78","v":"NA"},{"$f":"'[25]Data Compilation'!R78","v":"NA"},"NA","NA","NA","NA",{"$f":"'[25]Data Compilation'!I78","v":"NA"},{"$f":"'[25]Data Compilation'!S78","v":"NA"},"NA","NA","NA","NA",{"$f":"'[25]Data Compilation'!J78","v":"NA"},{"$f":"'[25]Data Compilation'!T78","v":"NA"},"NA","NA","NA"]
[null,24,"Concrete","NA",{"$f":"IFERROR('[22]Data Compilation'!E85*-1,\"NA\")","v":"NA"},{"$f":"IFERROR('[22]Data Compilation'!J85*-1,\"NA\")","v":"NA"},"NA","NA","NA","NA","NA","NA","NA","NA","NA","NA",{"$f":"'[25]Data Compilation'!F79","v":"NA"},{"$f":"'[25]Data Compilation'!P79","v":"NA"},"NA","NA","NA","NA",{"$f":"'[25]Data Compilation'!G79","v":"NA"},{"$f":"'[25]Data Compilation'!Q79","v":"NA"},"NA","NA","NA","NA",{"$f":"'[25]Data Compilation'!H79","v":"NA"},{"$f":"'[25]Data Compilation'!R79","v":"NA"},"NA","NA","NA","NA",{"$f":"'[25]Data Compilation'!I79","v":"NA"},{"$f":"'[25]Data Compilation'!S79","v":"NA"},"NA","NA","NA","NA",{"$f":"'[25]Data Compilation'!J79","v":"NA"},{"$f":"'[25]Data Compilation'!T79","v":"NA"},"NA","NA","NA"]
[null,25,"Reclaimed Asphalt Pavement","NA",{"$f":"IFERROR('[22]Data Compilation'!E86*-1,\"NA\")","v":"NA"},{"$f":"IFERROR('[22]Data Compilation'!J86*-1,\"NA\")","v":"NA"},"NA","NA","NA","NA","NA","NA","NA","NA","NA","NA",{"$f":"'[25]Data Compilation'!F80","v":"NA"},{"$f":"'[25]Data Compilation'!P80","v":"NA"},"NA","NA","NA","NA",{"$f":"'[25]Data Compilation'!G80","v":"NA"},{"$f":"'[25]Data Compilation'!Q80","v":"NA"},"NA","NA","NA","NA",{"$f":"'[25]Data Compilation'!H80","v":"NA"},{"$f":"'[25]Data Compilation'!R80","v":"NA"},"NA","NA","NA","NA",{"$f":"'[25]Data Compilation'!I80","v":"NA"},{"$f":"'[25]Data Compilation'!S80","v":"NA"},"NA","NA","NA","NA",{"$f":"'[25]Data Compilation'!J80","v":"NA"},{"$f":"'[25]Data Compilation'!T80","v":"NA"},"NA","NA","NA"]
[]
[]
["Human toxicity (CTUh/ton)"]
["Material Category","Item No.","Material Type","Produced",null,null,null,null,null,"Collection",null,null,null,null,null,"Recycling",null,null,null,null,null,"Composting",null,null,null,null,null,"Anaerobic Digestion",null,null,null,null,null,"Landfill",null,null,null,null,null,"Combustion"]
[null,null,null,"MSWDST (FL)","SWOLF (FL)","SWOLF (US)","WARM (FL)","WARM (US)","Literature","MSWDST (FL)","SWOLF (FL)","SWOLF (US)","WARM (FL)","WARM (US)","Literature","MSWDST (FL)","SWOLF (FL)","SWOLF (US)","WARM (FL)","WARM (US)","Literature","MSWDST (FL)","SWOLF (FL)","SWOLF (US)","WARM (FL)","WARM (US)","Literature","MSWDST (FL)","SWOLF (FL)","SWOLF (US)","WARM (FL)","WARM (US)","Literature","MSWDST (FL)","SWOLF (FL)","SWOLF (US)","WARM (FL)","WARM (US)","Literature","MSWDST (FL)","SWOLF (FL)","SWOLF (US)","WARM (FL)","WARM (US)","Literature"]
["MSW ",1,"Mixed MSW","NA",{"$f":"IFERROR('[22]Data Compilation'!E90*-1,\"NA\")","v":"NA"},{"$f":"IFERROR('[22]Data Compilation'!J90*-1,\"NA\")","v":"NA"},"NA","NA","NA",{"$f":"'[24]Data Compilation'!E58","v":1.2875388083724344E-9},{"$f":"'[25]Data Compilation'!$E$84","v":1.7467516912957791E-5},{"$f":"'[25]Data Compilation'!$O$84","v":3.6270235196502116E-5},"NA","NA","NA",{"$f":"'[24]Data Compilation'!F58","v":"NA"},{"$f":"'[25]Data Compilation'!F84","v":"NA"},{"$f":"'[25]Data Compilation'!P84","v":"NA"},"NA","NA","NA",{"$f":"'[24]Data Compilation'!G58","v":"NA"},{"$f":"'[25]Data Compilation'!G84","v":"NA"},{"$f":"'[25]Data Compilation'!Q84","v":"NA"},"NA","NA","NA","NA",{"$f":"'[25]Data Compilation'!H84","v":"NA"},{"$f":"'[25]Data Compilation'!R84","v":"NA"},"NA","NA","NA",{"$f":"'[24]Data Compilation'!I58","v":-7.9276355266216439E-7},{"$f":"'[25]Data Compilation'!I84","v":6.7818382630146948E-6},{"$f":"'[25]Data Compilation'!S84","v":7.5393718416509389E-6},"NA","NA","NA",{"$f":"'[24]Data Compilation'!J58","v":-1.715538630481352E-4},{"$f":"'[25]Data Compilation'!J84","v":-4.1685567981245768E-5},{"$f":"'[25]Data Compilation'!T84","v":-3.9333546871244664E-5},"NA","NA","NA"]
["Paper",2,"Newspaper","NA",{"$f":"IFERROR('[22]Data Compilation'!E91*-1,\"NA\")","v":7.9614454738317604E-4},{"$f":"IFERROR('[22]Data Compilation'!J91*-1,\"NA\")","v":7.7863950222183196E-4},"NA","NA","NA",{"$f":"'[24]Data Compilation'!E59","v":1.2875388083724344E-9},{"$f":"'[25]Data Compilation'!$E$84","v":1.7467516912957791E-5},{"$f":"'[25]Data Compilation'!$O$84","v":3.6270235196502116E-5},"NA","NA","NA",{"$f":"'[24]Data Compilation'!F59","v":-2.5004545214512853E-6},{"$f":"'[25]Data Compilation'!F85","v":-2.8371100526682432E-4},{"$f":"'[25]Data Compilation'!P85","v":-2.7687260310572167E-4},"NA","NA","NA",{"$f":"'[24]Data Compilation'!G59","v":"NA"},{"$f":"'[25]Data Compilation'!G85","v":4.0699012704301843E-7},{"$f":"'[25]Data Compilation'!Q85","v":3.9635669984469654E-7},"NA","NA","NA","NA",{"$f":"'[25]Data Compilation'!H85","v":6.9117431247612789E-6},{"$f":"'[25]Data Compilation'!R85","v":6.915765776178299E-6},"NA","NA","NA",{"$f":"'[24]Data Compilation'!I59","v":-2.8139705058281808E-7},{"$f":"'[25]Data Compilation'!I85","v":5.4015053642197367E-6},{"$f":"'[25]Data Compilation'!S85","v":6.2317116602830534E-6},"NA","NA","NA",{"$f":"'[24]Data Compilation'!J59","v":-1.3849837242339714E-3},{"$f":"'[25]Data Compilation'!J85","v":-1.3180966391067552E-4},{"$f":"'[25]Data Compilation'!T85","v":-1.2475167363065013E-4},"NA","NA","NA"]
[null,3,"Corrugated Cardboard (OCC)","NA",{"$f":"IFERROR('[22]Data Compilation'!E92*-1,\"NA\")","v":1.458721564533633E-3},{"$f":"IFERROR('[22]Data Compilation'!J92*-1,\"NA\")","v":1.4558717093551921E-3},"NA","NA","NA",{"$f":"'[24]Data Compilation'!E60","v":1.2875388083724344E-9},{"$f":"'[25]Data Compilation'!$E$84","v":1.7467516912957791E-5},{"$f":"'[25]Data Compilation'!$O$84","v":3.6270235196502116E-5},"NA","NA","NA",{"$f":"'[24]Data Compilation'!F60","v":-5.0294987462131721E-6},{"$f":"'[25]Data Compilation'!F86","v":-1.2345663630567529E-3},{"$f":"'[25]Data Compilation'!P86","v":-1.2364462084536389E-3},"NA","NA","NA",{"$f":"'[24]Data Compilation'!G60","v":"NA"},{"$f":"'[25]Data Compilation'!G86","v":4.4220657226983721E-7},{"$f":"'[25]Data Compilation'!Q86","v":4.315604099851462E-7},"NA","NA","NA","NA",{"$f":"'[25]Data Compilation'!H86","v":-1.8715894486502072E-5},{"$f":"'[25]Data Compilation'!R86","v":-1.7266830701255651E-5},"NA","NA","NA",{"$f":"'[24]Data Compilation'!I60","v":-7.574861038002341E-7},{"$f":"'[25]Data Compilation'!I86","v":-9.9980223954304976E-6},{"$f":"'[25]Data Compilation'!S86","v":-8.3457765624164972E-6},"NA","NA","NA",{"$f":"'[24]Data Compilation'!J60","v":-1.2684603510855518E-3},{"$f":"'[25]Data Compilation'!J86","v":-1.0999709253760885E-4},{"$f":"'[25]Data Compilation'!T86","v":-1.0408599249845879E-4},"NA","NA","NA"]
[null,4,"High Grade Paper (Office Type Paper)","NA",{"$f":"IFERROR('[22]Data Compilation'!E93*-1,\"NA\")","v":2.2485194177032349E-4},{"$f":"IFERROR('[22]Data Compilation'!J93*-1,\"NA\")","v":2.2090273592957572E-4},"NA","NA","NA",{"$f":"'[24]Data Compilation'!E61","v":1.2875388083724344E-9},{"$f":"'[25]Data Compilation'!$E$84","v":1.7467516912957791E-5},{"$f":"'[25]Data Compilation'!$O$84","v":3.6270235196502116E-5},"NA","NA","NA",{"$f":"'[24]Data Compilation'!F61","v":2.1609306681583935E-7},{"$f":"'[25]Data Compilation'!F87","v":3.726058691976321E-5},{"$f":"'[25]Data Compilation'!P87","v":5.4999868968045618E-5},"NA","NA","NA",{"$f":"'[24]Data Compilation'!G61","v":"NA"},{"$f":"'[25]Data Compilation'!G87","v":3.6087517644347639E-7},{"$f":"'[25]Data Compilation'!Q87","v":3.4904255384833293E-7},"NA","NA","NA","NA",{"$f":"'[25]Data Compilation'!H87","v":-4.2637738045308149E-5},{"$f":"'[25]Data Compilation'!R87","v":-4.0109128352369767E-5},"NA","NA","NA",{"$f":"'[24]Data Compilation'!I61","v":-1.0219789181980739E-6},{"$f":"'[25]Data Compilation'!I87","v":-3.4952973186809127E-5},{"$f":"'[25]Data Compilation'!S87","v":-3.1973093516383053E-5},"NA","NA","NA",{"$f":"'[24]Data Compilation'!J61","v":-1.1600367216401514E-3},{"$f":"'[25]Data Compilation'!J87","v":-1.0111304083714987E-4},{"$f":"'[25]Data Compilation'!T87","v":-9.5675682152611898E-5},"NA","NA","NA"]
[null,5,"Magazines/third-class mail","NA",{"$f":"IFERROR('[22]Data Compilation'!E94*-1,\"NA\")","v":5.9018871857085956E-4},{"$f":"IFERROR('[22]Data Compilation'!J94*-1,\"NA\")","v":5.780620351112614E-4},"NA","NA","NA",{"$f":"'[24]Data Compilation'!E62","v":1.2875388083724344E-9},{"$f":"'[25]Data Compilation'!$E$84","v":1.7467516912957791E-5},{"$f":"'[25]Data Compilation'!$O$84","v":3.6270235196502116E-5},"NA","NA","NA",{"$f":"'[24]Data Compilation'!F62","v":1.5870555540160918E-7},{"$f":"'[25]Data Compilation'!F88","v":-1.4304245872113266E-4},{"$f":"'[25]Data Compilation'!P88","v":-1.3960455346708156E-4},"NA","NA","NA",{"$f":"'[24]Data Compilation'!G62","v":"NA"},{"$f":"'[25]Data Compilation'!G88","v":-3.4707361550754165E-7},{"$f":"'[25]Data Compilation'!Q88","v":-3.5834508790370876E-7},"NA","NA","NA","NA",{"$f":"'[25]Data Compilation'!H88","v":-1.2291968288730024E-5},{"$f":"'[25]Data Compilation'!R88","v":-1.1013246321432795E-5},"NA","NA","NA",{"$f":"'[24]Data Compilation'!I62","v":-3.9630640941187382E-7},{"$f":"'[25]Data Compilation'!I88","v":6.0496068327971858E-6},{"$f":"'[25]Data Compilation'!S88","v":6.8470403669286708E-6},"NA","NA","NA",{"$f":"'[24]Data Compilation'!J62","v":-1.0054457137226569E-3},{"$f":"'[25]Data Compilation'!J88","v":-1.0020305339037769E-4},{"$f":"'[25]Data Compilation'!T88","v":-9.4809125327978904E-5},"NA","NA","NA"]
[null,6,"Books","NA",{"$f":"IFERROR('[22]Data Compilation'!E95*-1,\"NA\")","v":"NA"},{"$f":"IFERROR('[22]Data Compilation'!J95*-1,\"NA\")","v":"NA"},"NA","NA","NA",{"$f":"J98","v":1.2875388083724344E-9},{"$f":"K98","v":1.7467516912957791E-5},3.6270235196502116E-5,"NA","NA","NA","NA","NA","NA","NA","NA","NA","NA","NA","NA","NA","NA","NA","NA","NA","NA","NA","NA","NA",{"$f":"[29]Cost_LCI!$AA$19","v":-2.8042868525530925E-7},"NA","NA","NA","NA","NA",{"$f":"[30]Cost_LCI!$AJ$19","v":-1.1430509547801302E-3},"NA","NA","NA","NA","NA"]
[null,7,"Mixed Paper","NA",{"$f":"IFERROR('[22]Data Compilation'!E96*-1,\"NA\")","v":7.9614454738317604E-4},{"$f":"IFERROR('[22]Data Compilation'!J96*-1,\"NA\")","v":7.7863950222183196E-4},"NA","NA","NA",{"$f":"'[24]Data Compilation'!E63","v":1.2875388083724344E-9},{"$f":"'[25]Data Compilation'!$E$84","v":1.7467516912957791E-5},{"$f":"'[25]Data Compilation'!$O$84","v":3.6270235196502116E-5},"NA","NA","NA",{"$f":"'[24]Data Compilation'!F63","v":-1.7887886613617521E-6},{"$f":"'[25]Data Compilation'!F89","v":-2.8371100537177032E-4},{"$f":"'[25]Data Compilation'!P89","v":-2.7687260321066778E-4},"NA","NA","NA",{"$f":"'[24]Data Compilation'!G63","v":"NA"},{"$f":"'[25]Data Compilation'!G89","v":-5.0738005655687638E-7},{"$f":"'[25]Data Compilation'!Q89","v":-5.1809407435380869E-7},"NA","NA","NA","NA",{"$f":"'[25]Data Compilation'!H89","v":-1.9966541924338686E-6},{"$f":"'[25]Data Compilation'!R89","v":-1.1106111686370379E-6},"NA","NA","NA",{"$f":"'[24]Data Compilation'!I63","v":-6.1429212049824997E-7},{"$f":"'[25]Data Compilation'!I89","v":-8.4577504398975848E-6},{"$f":"'[25]Data Compilation'!S89","v":-6.8893138467164034E-6},"NA","NA","NA",{"$f":"'[24]Data Compilation'!J63","v":-1.2047316276705829E-3},{"$f":"'[25]Data Compilation'!J89","v":-1.1148200075326757E-4},{"$f":"'[25]Data Compilation'!T89","v":-1.0548986631109033E-4},"NA","NA","NA"]
["Plastic",8,"HDPE","NA",{"$f":"E106","v":5.1168807313203444E-4},{"$f":"F106","v":5.0948937180742167E-4},"NA","NA","NA",{"$f":"'[24]Data Compilation'!E64","v":1.2875388083724344E-9},{"$f":"'[25]Data Compilation'!$E$84","v":1.7467516912957791E-5},{"$f":"'[25]Data Compilation'!$O$84","v":3.6270235196502116E-5},"NA","NA","NA",{"$f":"'[24]Data Compilation'!F64","v":3.1819809140794085E-7},{"$f":"Q106","v":-3.8847943956234844E-4},{"$f":"R106","v":-3.8779643364729536E-4},"NA","NA","NA",{"$f":"'[24]Data Compilation'!G64","v":"NA"},{"$f":"'[25]Data Compilation'!G90","v":"NA"},{"$f":"'[25]Data Compilation'!Q90","v":"NA"},"NA","NA","NA","NA",{"$f":"'[25]Data Compilation'!H90","v":"NA"},{"$f":"'[25]Data Compilation'!R90","v":"NA"},"NA","NA","NA",{"$f":"'[24]Data Compilation'!I64","v":4.2802412309166766E-10},{"$f":"'[25]Data Compilation'!I90","v":2.1081928123567933E-5},{"$f":"'[25]Data Compilation'!S90","v":2.1077062787254693E-5},"NA","NA","NA",{"$f":"'[24]Data Compilation'!J64","v":-3.4176781672872409E-3},{"$f":"'[25]Data Compilation'!J90","v":-2.9661171264307211E-4},{"$f":"'[25]Data Compilation'!T90","v":-2.8084716282403581E-4},"NA","NA","NA"]
[null,9,"PET","NA",{"$f":"IFERROR('[22]Data Compilation'!E98*-1,\"NA\")","v":5.1168807313203444E-4},{"$f":"IFERROR('[22]Data Compilation'!J98*-1,\"NA\")","v":5.0948937180742167E-4},"NA","NA","NA",{"$f":"'[24]Data Compilation'!E65","v":1.2875388083724344E-9},{"$f":"'[25]Data Compilation'!$E$84","v":1.7467516912957791E-5},{"$f":"'[25]Data Compilation'!$O$84","v":3.6270235196502116E-5},"NA","NA","NA",{"$f":"'[24]Data Compilation'!F65","v":2.9833270134844569E-7},{"$f":"'[25]Data Compilation'!F91","v":-3.8847943956234844E-4},{"$f":"'[25]Data Compilation'!P91","v":-3.8779643364729536E-4},"NA","NA","NA",{"$f":"'[24]Data Compilation'!G65","v":"NA"},{"$f":"'[25]Data Compilation'!G91","v":"NA"},{"$f":"'[25]Data Compilation'!Q91","v":"NA"},"NA","NA","NA","NA",{"$f":"'[25]Data Compilation'!H91","v":"NA"},{"$f":"'[25]Data Compilation'!R91","v":"NA"},"NA","NA","NA",{"$f":"'[24]Data Compilation'!I65","v":4.2802412309166766E-10},{"$f":"'[25]Data Compilation'!I91","v":2.1081928123567933E-5},{"$f":"'[25]Data Compilation'!S91","v":2.1081928123567933E-5},"NA","NA","NA",{"$f":"'[24]Data Compilation'!J65","v":-3.4177149345653471E-3},{"$f":"'[25]Data Compilation'!J91","v":-2.9661171264307211E-4},{"$f":"'[25]Data Compilation'!T91","v":-2.8084716282403581E-4},"NA","NA","NA"]
[null,10,"Mixed Plastic","NA",{"$f":"IFERROR('[22]Data Compilation'!E99*-1,\"NA\")","v":"NA"},{"$f":"IFERROR('[22]Data Compilation'!J99*-1,\"NA\")","v":"NA"},"NA","NA","NA",{"$f":"'[24]Data Compilation'!E66","v":1.2875388083724344E-9},{"$f":"'[25]Data Compilation'!$E$84","v":1.7467516912957791E-5},{"$f":"'[25]Data Compilation'!$O$84","v":3.6270235196502116E-5},"NA","NA","NA",{"$f":"'[24]Data Compilation'!F66","v":3.0826539637819324E-7},{"$f":"'[25]Data Compilation'!F92","v":"NA"},{"$f":"'[25]Data Compilation'!P92","v":"NA"},"NA","NA","NA",{"$f":"'[24]Data Compilation'!G66","v":"NA"},{"$f":"'[25]Data Compilation'!G92","v":"NA"},{"$f":"'[25]Data Compilation'!Q92","v":"NA"},"NA","NA","NA","NA",{"$f":"'[25]Data Compilation'!H92","v":"NA"},{"$f":"'[25]Data Compilation'!R92","v":"NA"},"NA","NA","NA",{"$f":"'[24]Data Compilation'!I66","v":4.2802412309166766E-10},{"$f":"'[25]Data Compilation'!I92","v":2.1082975729085401E-5},{"$f":"'[25]Data Compilation'!S92","v":2.1082975729085401E-5},"NA","NA","NA",{"$f":"'[24]Data Compilation'!J66","v":-3.4176965509262937E-3},{"$f":"'[25]Data Compilation'!J92","v":-3.11933374429496E-4},{"$f":"'[25]Data Compilation'!T92","v":-2.9535705185384093E-4},"NA","NA","NA"]
["Glass",11,"Glass","NA",{"$f":"IFERROR('[22]Data Compilation'!E100*-1,\"NA\")","v":1.9248167721105938E-4},{"$f":"IFERROR('[22]Data Compilation'!J100*-1,\"NA\")","v":1.9195145193008539E-4},"NA","NA","NA",{"$f":"'[24]Data Compilation'!E67","v":1.2875388083724344E-9},{"$f":"'[25]Data Compilation'!$E$84","v":1.7467516912957791E-5},{"$f":"'[25]Data Compilation'!$O$84","v":3.6270235196502116E-5},"NA","NA","NA",{"$f":"'[24]Data Compilation'!F67","v":-5.6985407660873389E-9},{"$f":"'[25]Data Compilation'!F93","v":-4.386545683265405E-5},{"$f":"'[25]Data Compilation'!P93","v":-4.36557869557836E-5},"NA","NA","NA",{"$f":"'[24]Data Compilation'!G67","v":"NA"},{"$f":"'[25]Data Compilation'!G93","v":"NA"},{"$f":"'[25]Data Compilation'!Q93","v":"NA"},"NA","NA","NA","NA",{"$f":"'[25]Data Compilation'!H93","v":"NA"},{"$f":"'[25]Data Compilation'!R93","v":"NA"},"NA","NA","NA",{"$f":"'[24]Data Compilation'!I67","v":4.2802412309166766E-10},{"$f":"'[25]Data Compilation'!I93","v":2.1082447461707212E-5},{"$f":"'[25]Data Compilation'!S93","v":2.1082447461707212E-5},"NA","NA","NA",{"$f":"'[24]Data Compilation'!J67","v":3.5379329767676776E-5},{"$f":"'[25]Data Compilation'!J93","v":5.1040435515558017E-6},{"$f":"'[25]Data Compilation'!T93","v":4.9462971179057332E-6},"NA","NA","NA"]
["Metals",12,"Aluminum Cans","NA",{"$f":"IFERROR('[22]Data Compilation'!E101*-1,\"NA\")","v":3.5110075975785496E-3},{"$f":"IFERROR('[22]Data Compilation'!J101*-1,\"NA\")","v":3.3773942093905107E-3},"NA","NA","NA",{"$f":"'[24]Data Compilation'!E68","v":1.2875388083724344E-9},{"$f":"'[25]Data Compilation'!$E$84","v":1.7467516912957791E-5},{"$f":"'[25]Data Compilation'!$O$84","v":3.6270235196502116E-5},"NA","NA","NA",{"$f":"'[24]Data Compilation'!F68","v":-3.685006544843715E-6},{"$f":"'[25]Data Compilation'!F94","v":-2.9490931045880074E-3},{"$f":"'[25]Data Compilation'!P94","v":-2.8314508250295739E-3},"NA","NA","NA",{"$f":"'[24]Data Compilation'!G68","v":"NA"},{"$f":"'[25]Data Compilation'!G94","v":"NA"},{"$f":"'[25]Data Compilation'!Q94","v":"NA"},"NA","NA","NA","NA",{"$f":"'[25]Data Compilation'!H94","v":"NA"},{"$f":"'[25]Data Compilation'!R94","v":"NA"},"NA","NA","NA",{"$f":"'[24]Data Compilation'!I68","v":4.2802412309166766E-10},{"$f":"'[25]Data Compilation'!I94","v":2.1083086649368105E-5},{"$f":"'[25]Data Compilation'!S94","v":2.1083086649368105E-5},"NA","NA","NA",{"$f":"'[24]Data Compilation'!J68","v":2.412565568439108E-5},{"$f":"'[25]Data Compilation'!J94","v":-1.4587493536338293E-3},{"$f":"'[25]Data Compilation'!T94","v":-1.4005055939154576E-3},"NA","NA","NA"]
[null,13,"Steel/Tin Cans","NA",{"$f":"IFERROR('[22]Data Compilation'!E102*-1,\"NA\")","v":7.7266349328809476E-4},{"$f":"IFERROR('[22]Data Compilation'!J102*-1,\"NA\")","v":7.5515844812675057E-4},"NA","NA","NA",{"$f":"'[24]Data Compilation'!E69","v":1.2875388083724344E-9},{"$f":"'[25]Data Compilation'!$E$84","v":1.7467516912957791E-5},{"$f":"'[25]Data Compilation'!$O$84","v":3.6270235196502116E-5},"NA","NA","NA",{"$f":"'[24]Data Compilation'!F69","v":6.1930005654865146E-6},{"$f":"'[25]Data Compilation'!F95","v":-2.568842607415092E-4},{"$f":"'[25]Data Compilation'!P95","v":-2.5013576019808717E-4},"NA","NA","NA",{"$f":"'[24]Data Compilation'!G69","v":"NA"},{"$f":"'[25]Data Compilation'!G95","v":"NA"},{"$f":"'[25]Data Compilation'!Q95","v":"NA"},"NA","NA","NA","NA",{"$f":"'[25]Data Compilation'!H95","v":"NA"},{"$f":"'[25]Data Compilation'!R95","v":"NA"},"NA","NA","NA",{"$f":"'[24]Data Compilation'!I69","v":4.2802412309166766E-10},{"$f":"'[25]Data Compilation'!I95","v":2.1086586140092369E-5},{"$f":"'[25]Data Compilation'!S95","v":2.1086586140092369E-5},"NA","NA","NA",{"$f":"'[24]Data Compilation'!J69","v":2.5911983470909088E-3},{"$f":"'[25]Data Compilation'!J95","v":-2.1735452171720064E-4},{"$f":"'[25]Data Compilation'!T95","v":-2.1165046925578269E-4},"NA","NA","NA"]
[null,14,"Mixed Metals","NA",{"$f":"IFERROR('[22]Data Compilation'!E103*-1,\"NA\")","v":2.1418355454333221E-3},{"$f":"IFERROR('[22]Data Compilation'!J103*-1,\"NA\")","v":2.0662763287586307E-3},"NA","NA","NA",{"$f":"'[24]Data Compilation'!E70","v":1.2875388083724344E-9},{"$f":"'[25]Data Compilation'!$E$84","v":1.7467516912957791E-5},{"$f":"'[25]Data Compilation'!$O$84","v":3.6270235196502116E-5},"NA","NA","NA",{"$f":"'[24]Data Compilation'!F70","v":1.2573628078631519E-6},{"$f":"'[25]Data Compilation'!F96","v":-1.6029886826647583E-3},{"$f":"'[25]Data Compilation'!P96","v":-1.5407787715910424E-3},"NA","NA","NA",{"$f":"'[24]Data Compilation'!G70","v":"NA"},{"$f":"'[25]Data Compilation'!G96","v":"NA"},{"$f":"'[25]Data Compilation'!Q96","v":"NA"},"NA","NA","NA","NA",{"$f":"'[25]Data Compilation'!H96","v":"NA"},{"$f":"'[25]Data Compilation'!R96","v":"NA"},"NA","NA","NA",{"$f":"'[24]Data Compilation'!I70","v":4.2802412309166766E-10},{"$f":"'[25]Data Compilation'!I96","v":2.1084836394730239E-5},{"$f":"'[25]Data Compilation'!S96","v":2.1084836394730239E-5},"NA","NA","NA",{"$f":"'[24]Data Compilation'!J70","v":1.4152794513550599E-3},{"$f":"'[25]Data Compilation'!J96","v":-1.5473206523992874E-3},{"$f":"'[25]Data Compilation'!T96","v":-1.4869433916572981E-3},"NA","NA","NA"]
["Organic",15,"Yard Waste","NA",{"$f":"IFERROR('[22]Data Compilation'!E104*-1,\"NA\")","v":"NA"},{"$f":"IFERROR('[22]Data Compilation'!J104*-1,\"NA\")","v":"NA"},"NA","NA","NA",{"$f":"'[24]Data Compilation'!E71","v":1.2875388083724344E-9},{"$f":"'[25]Data Compilation'!$E$84","v":1.7467516912957791E-5},{"$f":"'[25]Data Compilation'!$O$84","v":3.6270235196502116E-5},"NA","NA","NA",{"$f":"'[24]Data Compilation'!F71","v":"NA"},{"$f":"'[25]Data Compilation'!F97","v":"NA"},{"$f":"'[25]Data Compilation'!P97","v":"NA"},"NA","NA","NA",{"$f":"'[24]Data Compilation'!G71","v":1.4528002561403589E-7},{"$f":"'[25]Data Compilation'!G97","v":-7.5163925828511742E-6},{"$f":"'[25]Data Compilation'!Q97","v":-7.464292975623597E-6},"NA","NA","NA","NA",{"$f":"'[25]Data Compilation'!H97","v":2.3192599360571808E-5},{"$f":"'[25]Data Compilation'!R97","v":2.3552749116119618E-5},"NA","NA","NA",{"$f":"'[24]Data Compilation'!I71","v":-1.5711977259202138E-7},{"$f":"'[25]Data Compilation'!I97","v":1.7135142643534498E-5},{"$f":"'[25]Data Compilation'!S97","v":1.7135142643534498E-5},"NA","NA","NA",{"$f":"'[24]Data Compilation'!J71","v":-6.7224352253526245E-4},{"$f":"'[25]Data Compilation'!J97","v":-5.2148779309592792E-5},{"$f":"'[25]Data Compilation'!T97","v":-4.9278740213672215E-5},"NA","NA","NA"]
[null,16,"Food Waste","NA",{"$f":"IFERROR('[22]Data Compilation'!E105*-1,\"NA\")","v":"NA"},{"$f":"IFERROR('[22]Data Compilation'!J105*-1,\"NA\")","v":"NA"},"NA","NA","NA",{"$f":"'[24]Data Compilation'!E72","v":1.2875388083724344E-9},{"$f":"'[25]Data Compilation'!$E$84","v":1.7467516912957791E-5},{"$f":"'[25]Data Compilation'!$O$84","v":3.6270235196502116E-5},"NA","NA","NA",{"$f":"'[24]Data Compilation'!F72","v":"NA"},{"$f":"'[25]Data Compilation'!F98","v":"NA"},{"$f":"'[25]Data Compilation'!P98","v":"NA"},"NA","NA","NA",{"$f":"'[24]Data Compilation'!G72","v":5.7178838330304832E-8},{"$f":"'[25]Data Compilation'!G98","v":-4.7950303999268536E-6},{"$f":"'[25]Data Compilation'!Q98","v":-4.8040064493861361E-6},"NA","NA","NA","NA",{"$f":"'[25]Data Compilation'!H98","v":1.0319848695342654E-4},{"$f":"'[25]Data Compilation'!R98","v":1.0628719692806116E-4},"NA","NA","NA",{"$f":"'[24]Data Compilation'!I72","v":-3.5869960964856377E-7},{"$f":"'[25]Data Compilation'!I98","v":5.8754663271884092E-7},{"$f":"'[25]Data Compilation'!S98","v":5.8754663271884092E-7},"NA","NA","NA",{"$f":"'[24]Data Compilation'!J72","v":-2.979645513596294E-4},{"$f":"'[25]Data Compilation'!J98","v":-5.1515590665012829E-5},{"$f":"'[25]Data Compilation'!T98","v":-4.8805270948437011E-5},"NA","NA","NA"]
["Other ",17,"Tires","NA",{"$f":"IFERROR('[22]Data Compilation'!E106*-1,\"NA\")","v":"NA"},{"$f":"IFERROR('[22]Data Compilation'!J106*-1,\"NA\")","v":"NA"},"NA","NA","NA","NA",{"$f":"'[25]Data Compilation'!$E$84","v":1.7467516912957791E-5},{"$f":"'[25]Data Compilation'!$O$84","v":3.6270235196502116E-5},"NA","NA","NA",{"$f":"'[24]Data Compilation'!F73","v":"NA"},{"$f":"'[25]Data Compilation'!F99","v":"NA"},{"$f":"'[25]Data Compilation'!P99","v":"NA"},"NA","NA","NA",{"$f":"'[24]Data Compilation'!G73","v":"NA"},{"$f":"'[25]Data Compilation'!G99","v":"NA"},{"$f":"'[25]Data Compilation'!Q99","v":"NA"},"NA","NA","NA","NA",{"$f":"'[25]Data Compilation'!H99","v":"NA"},{"$f":"'[25]Data Compilation'!R99","v":"NA"},"NA","NA","NA",{"$f":"'[24]Data Compilation'!I73","v":"NA"},{"$f":"'[25]Data Compilation'!I99","v":2.1468458726665267E-5},{"$f":"'[25]Data Compilation'!S99","v":2.1468458726665267E-5},"NA","NA","NA",{"$f":"'[24]Data Compilation'!J73","v":"NA"},{"$f":"'[25]Data Compilation'!J99","v":-2.0392073288241644E-4},{"$f":"'[25]Data Compilation'!T99","v":-1.9258540505033721E-4},"NA","NA","NA"]
[null,18,"Clothing and Footwear","NA",{"$f":"IFERROR('[22]Data Compilation'!E107*-1,\"NA\")","v":"NA"},{"$f":"IFERROR('[22]Data Compilation'!J107*-1,\"NA\")","v":"NA"},"NA","NA",{"$f":"'[31]Summary Table'!Q3","v":6.9200436813553794E-7},"NA",{"$f":"'[25]Data Compilation'!$E$84","v":1.7467516912957791E-5},{"$f":"'[25]Data Compilation'!$O$84","v":3.6270235196502116E-5},"NA","NA","NA",{"$f":"'[24]Data Compilation'!F74","v":"NA"},{"$f":"'[25]Data Compilation'!F100","v":"NA"},{"$f":"'[25]Data Compilation'!P100","v":"NA"},"NA","NA","NA",{"$f":"'[24]Data Compilation'!G74","v":"NA"},{"$f":"'[25]Data Compilation'!G100","v":-3.1417197567568216E-5},{"$f":"'[25]Data Compilation'!Q100","v":-3.1430491884219705E-5},"NA","NA","NA","NA",{"$f":"'[25]Data Compilation'!H100","v":1.1417508912828152E-4},{"$f":"'[25]Data Compilation'!R100","v":1.1437272688859784E-4},"NA","NA","NA",{"$f":"'[24]Data Compilation'!I74","v":"NA"},{"$f":"'[25]Data Compilation'!I100","v":2.2226488968661154E-6},{"$f":"'[25]Data Compilation'!S100","v":2.2226488968661154E-6},"NA","NA","NA",{"$f":"'[24]Data Compilation'!J74","v":"NA"},{"$f":"'[25]Data Compilation'!J100","v":-1.6761252342425956E-4},{"$f":"'[25]Data Compilation'!T100","v":-1.5864549112026052E-4},"NA","NA","NA"]
[null,19,"Furniture","NA",{"$f":"IFERROR('[22]Data Compilation'!E108*-1,\"NA\")","v":"NA"},{"$f":"IFERROR('[22]Data Compilation'!J108*-1,\"NA\")","v":"NA"},"NA","NA",{"$f":"'[31]Summary Table'!Q4","v":4.2755482717520861E-4},"NA","NA","NA","NA","NA","NA","NA","NA","NA","NA","NA",{"$f":"[32]Summary!$F$16","v":-3.7617200011972354E-4},"NA","NA","NA","NA","NA","NA","NA","NA","NA","NA","NA","NA","NA","NA","NA","NA","NA",{"$f":"[32]Summary!$F$17","v":1.8401836634138723E-5},"NA","NA","NA","NA","NA",{"$f":"[32]Summary!$F$18","v":-2.9195273897614048E-4}]
[null,20,"Electronics","NA",{"$f":"IFERROR('[22]Data Compilation'!E109*-1,\"NA\")","v":"NA"},{"$f":"IFERROR('[22]Data Compilation'!J109*-1,\"NA\")","v":"NA"},"NA","NA",{"$f":"'[31]Summary Table'!Q5","v":"NA"},"NA",{"$f":"'[25]Data Compilation'!$E$84","v":1.7467516912957791E-5},{"$f":"'[25]Data Compilation'!$O$84","v":3.6270235196502116E-5},"NA","NA","NA",{"$f":"'[24]Data Compilation'!F75","v":"NA"},{"$f":"'[25]Data Compilation'!F101","v":"NA"},{"$f":"'[25]Data Compilation'!P101","v":"NA"},"NA","NA","NA",{"$f":"'[24]Data Compilation'!G75","v":"NA"},{"$f":"'[25]Data Compilation'!G101","v":"NA"},{"$f":"'[25]Data Compilation'!Q101","v":"NA"},"NA","NA","NA","NA",{"$f":"'[25]Data Compilation'!H101","v":"NA"},{"$f":"'[25]Data Compilation'!R101","v":"NA"},"NA","NA","NA",{"$f":"'[24]Data Compilation'!I75","v":"NA"},{"$f":"'[25]Data Compilation'!I101","v":2.1081926221229166E-5},{"$f":"'[25]Data Compilation'!S101","v":2.1081926221229166E-5},"NA","NA","NA",{"$f":"'[24]Data Compilation'!J75","v":"NA"},{"$f":"'[25]Data Compilation'!J101","v":1.6053877369916442E-6},{"$f":"'[25]Data Compilation'!T101","v":2.6941438215573373E-6},"NA","NA","NA"]
["C&D Debris",21,"Wood Products","NA",{"$f":"IFERROR('[22]Data Compilation'!E110*-1,\"NA\")","v":"NA"},{"$f":"IFERROR('[22]Data Compilation'!J110*-1,\"NA\")","v":"NA"},"NA","NA","NA","NA","NA","NA","NA","NA","NA",{"$f":"'[24]Data Compilation'!F76","v":"NA"},{"$f":"'[25]Data Compilation'!F102","v":"NA"},{"$f":"'[25]Data Compilation'!P102","v":"NA"},"NA","NA","NA",{"$f":"'[24]Data Compilation'!G76","v":"NA"},{"$f":"'[25]Data Compilation'!G102","v":-6.3237211938219339E-6},{"$f":"'[25]Data Compilation'!Q102","v":-6.3365689151764442E-6},"NA","NA","NA","NA",{"$f":"'[25]Data Compilation'!H102","v":3.1524442402969461E-5},{"$f":"'[25]Data Compilation'!R102","v":3.0782501964695691E-5},"NA","NA","NA",{"$f":"'[24]Data Compilation'!I76","v":"NA"},{"$f":"'[25]Data Compilation'!I102","v":1.7924515664383975E-5},{"$f":"'[25]Data Compilation'!S102","v":1.7924515664383975E-5},"NA","NA","NA",{"$f":"'[24]Data Compilation'!J76","v":"NA"},{"$f":"'[25]Data Compilation'!J102","v":-1.4033809012114278E-4},{"$f":"'[25]Data Compilation'!T102","v":-1.3278436824940118E-4},"NA","NA","NA"]
[null,22,"Asphalt Shingles","NA",{"$f":"IFERROR('[22]Data Compilation'!E111*-1,\"NA\")","v":"NA"},{"$f":"IFERROR('[22]Data Compilation'!J111*-1,\"NA\")","v":"NA"},"NA","NA","NA","NA","NA","NA","NA","NA","NA",{"$f":"'[24]Data Compilation'!F77","v":"NA"},{"$f":"'[25]Data Compilation'!F103","v":"NA"},{"$f":"'[25]Data Compilation'!P103","v":"NA"},"NA","NA","NA",{"$f":"'[24]Data Compilation'!G77","v":"NA"},{"$f":"'[25]Data Compilation'!G103","v":"NA"},{"$f":"'[25]Data Compilation'!Q103","v":"NA"},"NA","NA","NA","NA",{"$f":"'[25]Data Compilation'!H103","v":"NA"},{"$f":"'[25]Data Compilation'!R103","v":"NA"},"NA","NA","NA",{"$f":"'[24]Data Compilation'!I77","v":"NA"},{"$f":"'[25]Data Compilation'!I103","v":"NA"},{"$f":"'[25]Data Compilation'!S103","v":"NA"},"NA","NA","NA",{"$f":"'[24]Data Compilation'!J77","v":"NA"},{"$f":"'[25]Data Compilation'!J103","v":"NA"},{"$f":"'[25]Data Compilation'!T103","v":"NA"},"NA","NA","NA"]
[null,23,"Gypsum Drywall","NA",{"$f":"IFERROR('[22]Data Compilation'!E112*-1,\"NA\")","v":"NA"},{"$f":"IFERROR('[22]Data Compilation'!J112*-1,\"NA\")","v":"NA"},"NA","NA","NA","NA","NA","NA","NA","NA","NA",{"$f":"'[24]Data Compilation'!F78","v":"NA"},{"$f":"'[25]Data Compilation'!F104","v":"NA"},{"$f":"'[25]Data Compilation'!P104","v":"NA"},"NA","NA","NA",{"$f":"'[24]Data Compilation'!G78","v":"NA"},{"$f":"'[25]Data Compilation'!G104","v":"NA"},{"$f":"'[25]Data Compilation'!Q104","v":"NA"},"NA","NA","NA","NA",{"$f":"'[25]Data Compilation'!H104","v":"NA"},{"$f":"'[25]Data Compilation'!R104","v":"NA"},"NA","NA","NA",{"$f":"'[24]Data Compilation'!I78","v":"NA"},{"$f":"'[25]Data Compilation'!I104","v":"NA"},{"$f":"'[25]Data Compilation'!S104","v":"NA"},"NA","NA","NA",{"$f":"'[24]Data Compilation'!J78","v":"NA"},{"$f":"'[25]Data Compilation'!J104","v":"NA"},{"$f":"'[25]Data Compilation'!T104","v":"NA"},"NA","NA","NA"]
[null,24,"Concrete","NA",{"$f":"IFERROR('[22]Data Compilation'!E113*-1,\"NA\")","v":"NA"},{"$f":"IFERROR('[22]Data Compilation'!J113*-1,\"NA\")","v":"NA"},"NA","NA","NA","NA","NA","NA","NA","NA","NA",{"$f":"'[24]Data Compilation'!F79","v":"NA"},{"$f":"'[25]Data Compilation'!F105","v":"NA"},{"$f":"'[25]Data Compilation'!P105","v":"NA"},"NA","NA","NA",{"$f":"'[24]Data Compilation'!G79","v":"NA"},{"$f":"'[25]Data Compilation'!G105","v":"NA"},{"$f":"'[25]Data Compilation'!Q105","v":"NA"},"NA","NA","NA","NA",{"$f":"'[25]Data Compilation'!H105","v":"NA"},{"$f":"'[25]Data Compilation'!R105","v":"NA"},"NA","NA","NA",{"$f":"'[24]Data Compilation'!I79","v":"NA"},{"$f":"'[25]Data Compilation'!I105","v":"NA"},{"$f":"'[25]Data Compilation'!S105","v":"NA"},"NA","NA","NA",{"$f":"'[24]Data Compilation'!J79","v":"NA"},{"$f":"'[25]Data Compilation'!J105","v":"NA"},{"$f":"'[25]Data Compilation'!T105","v":"NA"},"NA","NA","NA"]
[null,25,"Reclaimed Asphalt Pavement","NA",{"$f":"IFERROR('[22]Data Compilation'!E114*-1,\"NA\")","v":"NA"},{"$f":"IFERROR('[22]Data Compilation'!J114*-1,\"NA\")","v":"NA"},"NA","NA","NA","NA","NA","NA","NA","NA","NA",{"$f":"'[24]Data Compilation'!F80","v":"NA"},{"$f":"'[25]Data Compilation'!F106","v":"NA"},{"$f":"'[25]Data Compilation'!P106","v":"NA"},"NA","NA","NA",{"$f":"'[24]Data Compilation'!G80","v":"NA"},{"$f":"'[25]Data Compilation'!G106","v":"NA"},{"$f":"'[25]Data Compilation'!Q106","v":"NA"},"NA","NA","NA","NA",{"$f":"'[25]Data Compilation'!H106","v":"NA"},{"$f":"'[25]Data Compilation'!R106","v":"NA"},"NA","NA","NA",{"$f":"'[24]Data Compilation'!I80","v":"NA"},{"$f":"'[25]Data Compilation'!I106","v":"NA"},{"$f":"'[25]Data Compilation'!S106","v":"NA"},"NA","NA","NA",{"$f":"'[24]Data Compilation'!J80","v":"NA"},{"$f":"'[25]Data Compilation'!J106","v":"NA"},{"$f":"'[25]Data Compilation'!T106","v":"NA"},"NA","NA","NA"]
[]
[]
["Marine ecotoxicity (CTUe/ton)"]
["Material Category","Item No.","Material Type","Produced",null,null,null,null,null,"Collection",null,null,null,null,null,"Recycling",null,null,null,null,null,"Composting",null,null,null,null,null,"Anaerobic Digestion",null,null,null,null,null,"Landfill",null,null,null,null,null,"Combustion"]
[null,null,null,"MSWDST (FL)","SWOLF (FL)","SWOLF (US)","WARM (FL)","WARM (US)","Literature","MSWDST (FL)","SWOLF (FL)","SWOLF (US)","WARM (FL)","WARM (US)","Literature","MSWDST (FL)","SWOLF (FL)","SWOLF (US)","WARM (FL)","WARM (US)","Literature","MSWDST (FL)","SWOLF (FL)","SWOLF (US)","WARM (FL)","WARM (US)","Literature","MSWDST (FL)","SWOLF (FL)","SWOLF (US)","WARM (FL)","WARM (US)","Literature","MSWDST (FL)","SWOLF (FL)","SWOLF (US)","WARM (FL)","WARM (US)","Literature","MSWDST (FL)","SWOLF (FL)","SWOLF (US)","WARM (FL)","WARM (US)","Literature"]
["MSW ",1,"Mixed MSW","NA",{"$f":"IFERROR('[22]Data Compilation'!E118*-1,\"NA\")","v":"NA"},{"$f":"IFERROR('[22]Data Compilation'!J118*-1,\"NA\")","v":"NA"},"NA","NA","NA",{"$f":"'[24]Data Compilation'!E84","v":4.3302626073613966E-2},{"$f":"'[25]Data Compilation'!$E$110","v":227.01159749583414},{"$f":"'[25]Data Compilation'!$O$110","v":455.06771768927985},"NA","NA","NA",{"$f":"'[24]Data Compilation'!F84","v":"NA"},{"$f":"'[25]Data Compilation'!F110","v":"NA"},{"$f":"'[25]Data Compilation'!P110","v":"NA"},"NA","NA","NA",{"$f":"'[24]Data Compilation'!G84","v":"NA"},{"$f":"'[25]Data Compilation'!G110","v":"NA"},{"$f":"'[25]Data Compilation'!Q110","v":"NA"},"NA","NA","NA","NA",{"$f":"'[25]Data Compilation'!H110","v":"NA"},{"$f":"'[25]Data Compilation'!R110","v":"NA"},"NA","NA","NA",{"$f":"'[24]Data Compilation'!I84","v":-39.630409585367168},{"$f":"'[25]Data Compilation'!I110","v":88.2190743526631},{"$f":"'[25]Data Compilation'!S110","v":88.811689844617661},"NA","NA","NA",{"$f":"'[24]Data Compilation'!J84","v":-1.0251244757907561E-2},{"$f":"'[25]Data Compilation'!J110","v":-452.97783211187323},{"$f":"'[25]Data Compilation'!T110","v":-451.13785539466943},"NA","NA","NA"]
["Paper",2,"Newspaper","NA",{"$f":"IFERROR('[22]Data Compilation'!E119*-1,\"NA\")","v":23630.193126516224},{"$f":"IFERROR('[22]Data Compilation'!J119*-1,\"NA\")","v":23616.498999625306},"NA","NA","NA",{"$f":"'[24]Data Compilation'!E85","v":4.3302626073613966E-2},{"$f":"'[25]Data Compilation'!$E$110","v":227.01159749583414},{"$f":"'[25]Data Compilation'!$O$110","v":455.06771768927985},"NA","NA","NA",{"$f":"'[24]Data Compilation'!F85","v":-98.626048403859002},{"$f":"'[25]Data Compilation'!F111","v":-8696.5722688425012},{"$f":"'[25]Data Compilation'!P111","v":-8691.2226141536848},"NA","NA","NA",{"$f":"'[24]Data Compilation'!G85","v":"NA"},{"$f":"'[25]Data Compilation'!G111","v":-0.94776000136655492},{"$f":"'[25]Data Compilation'!Q111","v":-0.95607848897952707},"NA","NA","NA","NA",{"$f":"'[25]Data Compilation'!H111","v":42.200938870602833},{"$f":"'[25]Data Compilation'!R111","v":42.20408577473448},"NA","NA","NA",{"$f":"'[24]Data Compilation'!I85","v":-14.092071274664111},{"$f":"'[25]Data Compilation'!I111","v":73.800155898386862},{"$f":"'[25]Data Compilation'!S111","v":74.449622966831626},"NA","NA","NA",{"$f":"'[24]Data Compilation'!J85","v":-4.3688548763797602E-2},{"$f":"'[25]Data Compilation'!J111","v":-1388.5787614947583},{"$f":"'[25]Data Compilation'!T111","v":-1383.0573238978436},"NA","NA","NA"]
[null,3,"Corrugated Cardboard (OCC)","NA",{"$f":"IFERROR('[22]Data Compilation'!E120*-1,\"NA\")","v":42010.996558635532},{"$f":"IFERROR('[22]Data Compilation'!J120*-1,\"NA\")","v":42008.767128315601},"NA","NA","NA",{"$f":"'[24]Data Compilation'!E86","v":4.3302626073613966E-2},{"$f":"'[25]Data Compilation'!$E$110","v":227.01159749583414},{"$f":"'[25]Data Compilation'!$O$110","v":455.06771768927985},"NA","NA","NA",{"$f":"'[24]Data Compilation'!F86","v":624.20816807613778},{"$f":"'[25]Data Compilation'!F112","v":-36644.300003472905},{"$f":"'[25]Data Compilation'!P112","v":-36645.770599016236},"NA","NA","NA",{"$f":"'[24]Data Compilation'!G86","v":"NA"},{"$f":"'[25]Data Compilation'!G112","v":-0.2844550116365363},{"$f":"'[25]Data Compilation'!Q112","v":-0.29278346185669496},"NA","NA","NA","NA",{"$f":"'[25]Data Compilation'!H112","v":-246.46583051943745},{"$f":"'[25]Data Compilation'!R112","v":-245.3322337097577},"NA","NA","NA",{"$f":"'[24]Data Compilation'!I86","v":-37.855574555997187},{"$f":"'[25]Data Compilation'!I112","v":-89.61073193045118},{"$f":"'[25]Data Compilation'!S112","v":-88.318186616586388},"NA","NA","NA",{"$f":"'[24]Data Compilation'!J86","v":-3.9950071987488803E-2},{"$f":"'[25]Data Compilation'!J112","v":-1160.6219253572385},{"$f":"'[25]Data Compilation'!T112","v":-1155.9976954135311},"NA","NA","NA"]
[null,4,"High Grade Paper (Office Type Paper)","NA",{"$f":"IFERROR('[22]Data Compilation'!E121*-1,\"NA\")","v":6789.535733635721},{"$f":"IFERROR('[22]Data Compilation'!J121*-1,\"NA\")","v":6786.4462856849686},"NA","NA","NA",{"$f":"'[24]Data Compilation'!E87","v":4.3302626073613966E-2},{"$f":"'[25]Data Compilation'!$E$110","v":227.01159749583414},{"$f":"'[25]Data Compilation'!$O$110","v":455.06771768927985},"NA","NA","NA",{"$f":"'[24]Data Compilation'!F87","v":21.015935879761432},{"$f":"'[25]Data Compilation'!F113","v":1476.6032677623095},{"$f":"'[25]Data Compilation'!P113","v":1672.5867421161952},"NA","NA","NA",{"$f":"'[24]Data Compilation'!G87","v":"NA"},{"$f":"'[25]Data Compilation'!G113","v":-1.4026846675669269},{"$f":"'[25]Data Compilation'!Q113","v":-1.4119412809476268},"NA","NA","NA","NA",{"$f":"'[25]Data Compilation'!H113","v":-463.71929954401014},{"$f":"'[25]Data Compilation'!R113","v":-461.74117828390769},"NA","NA","NA",{"$f":"'[24]Data Compilation'!I87","v":-51.116460410506797},{"$f":"'[25]Data Compilation'!I113","v":-353.50045247700848},{"$f":"'[25]Data Compilation'!S113","v":-351.16930451649921},"NA","NA","NA",{"$f":"'[24]Data Compilation'!J87","v":-3.6579738796876517E-2},{"$f":"'[25]Data Compilation'!J113","v":-1066.4550066905379},{"$f":"'[25]Data Compilation'!T113","v":-1062.2013827157805},"NA","NA","NA"]
[null,5,"Magazines/third-class mail","NA",{"$f":"IFERROR('[22]Data Compilation'!E122*-1,\"NA\")","v":17615.836506849908},{"$f":"IFERROR('[22]Data Compilation'!J122*-1,\"NA\")","v":17606.349850829822},"NA","NA","NA",{"$f":"'[24]Data Compilation'!E88","v":4.3302626073613966E-2},{"$f":"'[25]Data Compilation'!$E$110","v":227.01159749583414},{"$f":"'[25]Data Compilation'!$O$110","v":455.06771768927985},"NA","NA","NA",{"$f":"'[24]Data Compilation'!F88","v":7.3218092370905872},{"$f":"'[25]Data Compilation'!F114","v":-4392.0289859958521},{"$f":"'[25]Data Compilation'!P114","v":-4389.3395264512483},"NA","NA","NA",{"$f":"'[24]Data Compilation'!G88","v":"NA"},{"$f":"'[25]Data Compilation'!G114","v":-11.465934136866961},{"$f":"'[25]Data Compilation'!Q114","v":-11.474751764688987},"NA","NA","NA","NA",{"$f":"'[25]Data Compilation'!H114","v":-203.03584723273201},{"$f":"'[25]Data Compilation'!R114","v":-202.03550814665846},"NA","NA","NA",{"$f":"'[24]Data Compilation'!I88","v":-19.838882062284654},{"$f":"'[25]Data Compilation'!I114","v":80.325422823159442},{"$f":"'[25]Data Compilation'!S114","v":80.94925189088363},"NA","NA","NA",{"$f":"'[24]Data Compilation'!J88","v":-3.3141135530686483E-2},{"$f":"'[25]Data Compilation'!J114","v":-1057.7683281242503},{"$f":"'[25]Data Compilation'!T114","v":-1053.5486797516719},"NA","NA","NA"]
[null,6,"Books","NA",{"$f":"IFERROR('[22]Data Compilation'!E123*-1,\"NA\")","v":"NA"},{"$f":"IFERROR('[22]Data Compilation'!J123*-1,\"NA\")","v":"NA"},"NA","NA","NA",{"$f":"J128","v":4.3302626073613966E-2},{"$f":"K128","v":227.01159749583414},455.06771768927985,"NA","NA","NA","NA","NA","NA","NA","NA","NA","NA","NA","NA","NA","NA","NA","NA","NA","NA","NA","NA","NA",{"$f":"[29]Cost_LCI!$AA$21","v":-13.996173476388361},"NA","NA","NA","NA","NA",{"$f":"[30]Cost_LCI!$AJ$21","v":-3.5992014290627511E-2},"NA","NA","NA","NA","NA"]
[null,7,"Mixed Paper","NA",{"$f":"IFERROR('[22]Data Compilation'!E124*-1,\"NA\")","v":23630.193126516224},{"$f":"IFERROR('[22]Data Compilation'!J124*-1,\"NA\")","v":23616.498999625306},"NA","NA","NA",{"$f":"'[24]Data Compilation'!E89","v":4.3302626073613966E-2},{"$f":"'[25]Data Compilation'!$E$110","v":227.01159749583414},{"$f":"'[25]Data Compilation'!$O$110","v":455.06771768927985},"NA","NA","NA",{"$f":"'[24]Data Compilation'!F89","v":138.47996619728269},{"$f":"'[25]Data Compilation'!F115","v":-8696.5722697492038},{"$f":"'[25]Data Compilation'!P115","v":-8691.2226150603965},"NA","NA","NA",{"$f":"'[24]Data Compilation'!G89","v":"NA"},{"$f":"'[25]Data Compilation'!G115","v":-13.52873409375918},{"$f":"'[25]Data Compilation'!Q115","v":-13.537115627075456},"NA","NA","NA","NA",{"$f":"'[25]Data Compilation'!H115","v":-123.81221387752494},{"$f":"'[25]Data Compilation'!R115","v":-123.11906596006155},"NA","NA","NA",{"$f":"'[24]Data Compilation'!I89","v":-30.72574707586319},{"$f":"'[25]Data Compilation'!I115","v":-72.945238534499254},{"$f":"'[25]Data Compilation'!S115","v":-71.718256854108347},"NA","NA","NA",{"$f":"'[24]Data Compilation'!J89","v":-3.8339873769712353E-2},{"$f":"'[25]Data Compilation'!J115","v":-1176.6719484023954},{"$f":"'[25]Data Compilation'!T115","v":-1171.9843255689607},"NA","NA","NA"]
["Plastic",8,"HDPE","NA",{"$f":"E136","v":18368.764351499653},{"$f":"F136","v":18367.044316238003},"NA","NA","NA",{"$f":"'[24]Data Compilation'!E90","v":4.3302626073613966E-2},{"$f":"'[25]Data Compilation'!$E$110","v":227.01159749583414},{"$f":"'[25]Data Compilation'!$O$110","v":455.06771768927985},"NA","NA","NA",{"$f":"'[24]Data Compilation'!F90","v":12.706674104754994},{"$f":"Q136","v":-14566.141529924869},{"$f":"R136","v":-14565.607217126379},"NA","NA","NA",{"$f":"'[24]Data Compilation'!G90","v":"NA"},{"$f":"'[25]Data Compilation'!G116","v":"NA"},{"$f":"'[25]Data Compilation'!Q116","v":"NA"},"NA","NA","NA","NA",{"$f":"'[25]Data Compilation'!H116","v":"NA"},{"$f":"'[25]Data Compilation'!R116","v":"NA"},"NA","NA","NA",{"$f":"'[24]Data Compilation'!I90","v":1.5220035985458352E-2},{"$f":"'[25]Data Compilation'!I116","v":239.79140967214443},{"$f":"'[25]Data Compilation'!S116","v":239.78760353898534},"NA","NA","NA",{"$f":"'[24]Data Compilation'!J90","v":-0.10851797003862816},{"$f":"'[25]Data Compilation'!J116","v":-3119.322611903513},{"$f":"'[25]Data Compilation'!T116","v":-3106.9900675649906},"NA","NA","NA"]
[null,9,"PET","NA",{"$f":"IFERROR('[22]Data Compilation'!E126*-1,\"NA\")","v":18368.764351499653},{"$f":"IFERROR('[22]Data Compilation'!J126*-1,\"NA\")","v":18367.044316238003},"NA","NA","NA",{"$f":"'[24]Data Compilation'!E91","v":4.3302626073613966E-2},{"$f":"'[25]Data Compilation'!$E$110","v":227.01159749583414},{"$f":"'[25]Data Compilation'!$O$110","v":455.06771768927985},"NA","NA","NA",{"$f":"'[24]Data Compilation'!F91","v":-56.922593820932249},{"$f":"'[25]Data Compilation'!F117","v":-14566.141529924869},{"$f":"'[25]Data Compilation'!P117","v":-14565.607217126379},"NA","NA","NA",{"$f":"'[24]Data Compilation'!G91","v":"NA"},{"$f":"'[25]Data Compilation'!G117","v":"NA"},{"$f":"'[25]Data Compilation'!Q117","v":"NA"},"NA","NA","NA","NA",{"$f":"'[25]Data Compilation'!H117","v":"NA"},{"$f":"'[25]Data Compilation'!R117","v":"NA"},"NA","NA","NA",{"$f":"'[24]Data Compilation'!I91","v":1.5220035985458352E-2},{"$f":"'[25]Data Compilation'!I117","v":239.79140967214443},{"$f":"'[25]Data Compilation'!S117","v":239.79140967214443},"NA","NA","NA",{"$f":"'[24]Data Compilation'!J91","v":-0.10851816445383526},{"$f":"'[25]Data Compilation'!J117","v":-3119.322611903513},{"$f":"'[25]Data Compilation'!T117","v":-3106.9900675649906},"NA","NA","NA"]
[null,10,"Mixed Plastic","NA",{"$f":"IFERROR('[22]Data Compilation'!E127*-1,\"NA\")","v":"NA"},{"$f":"IFERROR('[22]Data Compilation'!J127*-1,\"NA\")","v":"NA"},"NA","NA","NA",{"$f":"'[24]Data Compilation'!E92","v":4.3302626073613966E-2},{"$f":"'[25]Data Compilation'!$E$110","v":227.01159749583414},{"$f":"'[25]Data Compilation'!$O$110","v":455.06771768927985},"NA","NA","NA",{"$f":"'[24]Data Compilation'!F92","v":-22.107959858088627},{"$f":"'[25]Data Compilation'!F118","v":"NA"},{"$f":"'[25]Data Compilation'!P118","v":"NA"},"NA","NA","NA",{"$f":"'[24]Data Compilation'!G92","v":"NA"},{"$f":"'[25]Data Compilation'!G118","v":"NA"},{"$f":"'[25]Data Compilation'!Q118","v":"NA"},"NA","NA","NA","NA",{"$f":"'[25]Data Compilation'!H118","v":"NA"},{"$f":"'[25]Data Compilation'!R118","v":"NA"},"NA","NA","NA",{"$f":"'[24]Data Compilation'!I92","v":1.5220035985458352E-2},{"$f":"'[25]Data Compilation'!I118","v":239.81113529091098},{"$f":"'[25]Data Compilation'!S118","v":239.81113529091098},"NA","NA","NA",{"$f":"'[24]Data Compilation'!J92","v":-0.10851806724623171},{"$f":"'[25]Data Compilation'!J118","v":-3280.5883218251142},{"$f":"'[25]Data Compilation'!T118","v":-3267.6207309024062},"NA","NA","NA"]
["Glass",11,"Glass","NA",{"$f":"IFERROR('[22]Data Compilation'!E128*-1,\"NA\")","v":7730.4002361846842},{"$f":"IFERROR('[22]Data Compilation'!J128*-1,\"NA\")","v":7729.9854430658179},"NA","NA","NA",{"$f":"'[24]Data Compilation'!E93","v":4.3302626073613966E-2},{"$f":"'[25]Data Compilation'!$E$110","v":227.01159749583414},{"$f":"'[25]Data Compilation'!$O$110","v":455.06771768927985},"NA","NA","NA",{"$f":"'[24]Data Compilation'!F93","v":-8.7410225822902472},{"$f":"'[25]Data Compilation'!F119","v":-1710.6333755827557},{"$f":"'[25]Data Compilation'!P119","v":-1710.4693516757836},"NA","NA","NA",{"$f":"'[24]Data Compilation'!G93","v":"NA"},{"$f":"'[25]Data Compilation'!G119","v":"NA"},{"$f":"'[25]Data Compilation'!Q119","v":"NA"},"NA","NA","NA","NA",{"$f":"'[25]Data Compilation'!H119","v":"NA"},{"$f":"'[25]Data Compilation'!R119","v":"NA"},"NA","NA","NA",{"$f":"'[24]Data Compilation'!I93","v":1.5220035985458352E-2},{"$f":"'[25]Data Compilation'!I119","v":239.79667890527284},{"$f":"'[25]Data Compilation'!S119","v":239.79667890527284},"NA","NA","NA",{"$f":"'[24]Data Compilation'!J93","v":-1.5679439183333328E-4},{"$f":"'[25]Data Compilation'!J119","v":45.764881675737499},{"$f":"'[25]Data Compilation'!T119","v":45.641477270945437},"NA","NA","NA"]
["Metals",12,"Aluminum Cans","NA",{"$f":"IFERROR('[22]Data Compilation'!E129*-1,\"NA\")","v":63078.814678854098},{"$f":"IFERROR('[22]Data Compilation'!J129*-1,\"NA\")","v":62974.289459106934},"NA","NA","NA",{"$f":"'[24]Data Compilation'!E94","v":4.3302626073613966E-2},{"$f":"'[25]Data Compilation'!$E$110","v":227.01159749583414},{"$f":"'[25]Data Compilation'!$O$110","v":455.06771768927985},"NA","NA","NA",{"$f":"'[24]Data Compilation'!F94","v":-828.90310430012903},{"$f":"'[25]Data Compilation'!F120","v":-51904.988337612769},{"$f":"'[25]Data Compilation'!P120","v":-51812.957252336411},"NA","NA","NA",{"$f":"'[24]Data Compilation'!G94","v":"NA"},{"$f":"'[25]Data Compilation'!G120","v":"NA"},{"$f":"'[25]Data Compilation'!Q120","v":"NA"},"NA","NA","NA","NA",{"$f":"'[25]Data Compilation'!H120","v":"NA"},{"$f":"'[25]Data Compilation'!R120","v":"NA"},"NA","NA","NA",{"$f":"'[24]Data Compilation'!I94","v":1.5220035985458352E-2},{"$f":"'[25]Data Compilation'!I120","v":239.79690660055309},{"$f":"'[25]Data Compilation'!S120","v":239.79690660055309},"NA","NA","NA",{"$f":"'[24]Data Compilation'!J94","v":3.1829479044939978E-4},{"$f":"'[25]Data Compilation'!J120","v":-25714.299827244566},{"$f":"'[25]Data Compilation'!T120","v":-25668.735966721146},"NA","NA","NA"]
[null,13,"Steel/Tin Cans","NA",{"$f":"IFERROR('[22]Data Compilation'!E130*-1,\"NA\")","v":21767.630402799416},{"$f":"IFERROR('[22]Data Compilation'!J130*-1,\"NA\")","v":21753.936275908494},"NA","NA","NA",{"$f":"'[24]Data Compilation'!E95","v":4.3302626073613966E-2},{"$f":"'[25]Data Compilation'!$E$110","v":227.01159749583414},{"$f":"'[25]Data Compilation'!$O$110","v":455.06771768927985},"NA","NA","NA",{"$f":"'[24]Data Compilation'!F95","v":9.1871613796470193},{"$f":"'[25]Data Compilation'!F121","v":-6917.8208966250941},{"$f":"'[25]Data Compilation'!P121","v":-6912.5415716126072},"NA","NA","NA",{"$f":"'[24]Data Compilation'!G95","v":"NA"},{"$f":"'[25]Data Compilation'!G121","v":"NA"},{"$f":"'[25]Data Compilation'!Q121","v":"NA"},"NA","NA","NA","NA",{"$f":"'[25]Data Compilation'!H121","v":"NA"},{"$f":"'[25]Data Compilation'!R121","v":"NA"},"NA","NA","NA",{"$f":"'[24]Data Compilation'!I95","v":1.5220035985458352E-2},{"$f":"'[25]Data Compilation'!I121","v":239.81744899043093},{"$f":"'[25]Data Compilation'!S121","v":239.81744899043093},"NA","NA","NA",{"$f":"'[24]Data Compilation'!J95","v":-9.1943861454545119E-5},{"$f":"'[25]Data Compilation'!J121","v":-5929.7859276296304},{"$f":"'[25]Data Compilation'!T121","v":-5925.3236701787591},"NA","NA","NA"]
[null,14,"Mixed Metals","NA",{"$f":"IFERROR('[22]Data Compilation'!E131*-1,\"NA\")","v":42423.222540826755},{"$f":"IFERROR('[22]Data Compilation'!J131*-1,\"NA\")","v":42364.112867507713},"NA","NA","NA",{"$f":"'[24]Data Compilation'!E96","v":4.3302626073613966E-2},{"$f":"'[25]Data Compilation'!$E$110","v":227.01159749583414},{"$f":"'[25]Data Compilation'!$O$110","v":455.06771768927985},"NA","NA","NA",{"$f":"'[24]Data Compilation'!F96","v":-409.69372530195909},{"$f":"'[25]Data Compilation'!F122","v":-29411.404617118933},{"$f":"'[25]Data Compilation'!P122","v":-29362.623953772116},"NA","NA","NA",{"$f":"'[24]Data Compilation'!G96","v":"NA"},{"$f":"'[25]Data Compilation'!G122","v":"NA"},{"$f":"'[25]Data Compilation'!Q122","v":"NA"},"NA","NA","NA","NA",{"$f":"'[25]Data Compilation'!H122","v":"NA"},{"$f":"'[25]Data Compilation'!R122","v":"NA"},"NA","NA","NA",{"$f":"'[24]Data Compilation'!I96","v":1.5220035985458352E-2},{"$f":"'[25]Data Compilation'!I122","v":239.80717779549201},{"$f":"'[25]Data Compilation'!S122","v":239.80717779549201},"NA","NA","NA",{"$f":"'[24]Data Compilation'!J96","v":1.2744900652186964E-3},{"$f":"'[25]Data Compilation'!J122","v":-28257.756357276157},{"$f":"'[25]Data Compilation'!T122","v":-28210.52346742605},"NA","NA","NA"]
["Organic",15,"Yard Waste","NA",{"$f":"IFERROR('[22]Data Compilation'!E132*-1,\"NA\")","v":"NA"},{"$f":"IFERROR('[22]Data Compilation'!J132*-1,\"NA\")","v":"NA"},"NA","NA","NA",{"$f":"'[24]Data Compilation'!E97","v":4.3302626073613966E-2},{"$f":"'[25]Data Compilation'!$E$110","v":227.01159749583414},{"$f":"'[25]Data Compilation'!$O$110","v":455.06771768927985},"NA","NA","NA",{"$f":"'[24]Data Compilation'!F97","v":"NA"},{"$f":"'[25]Data Compilation'!F123","v":"NA"},{"$f":"'[25]Data Compilation'!P123","v":"NA"},"NA","NA","NA",{"$f":"'[24]Data Compilation'!G97","v":14.702452131287489},{"$f":"'[25]Data Compilation'!G123","v":-110.71822478706024},{"$f":"'[25]Data Compilation'!Q123","v":-110.07928066313912},"NA","NA","NA","NA",{"$f":"'[25]Data Compilation'!H123","v":20.890250119590991},{"$f":"'[25]Data Compilation'!R123","v":21.171993834431344},"NA","NA","NA",{"$f":"'[24]Data Compilation'!I97","v":-7.9009726661448489},{"$f":"'[25]Data Compilation'!I123","v":197.41751428862486},{"$f":"'[25]Data Compilation'!S123","v":197.41751428862483},"NA","NA","NA",{"$f":"'[24]Data Compilation'!J97","v":-2.2672527852595225E-2},{"$f":"'[25]Data Compilation'!J123","v":-555.99457995270939},{"$f":"'[25]Data Compilation'!T123","v":-553.74935983478429},"NA","NA","NA"]
[null,16,"Food Waste","NA",{"$f":"IFERROR('[22]Data Compilation'!E133*-1,\"NA\")","v":"NA"},{"$f":"IFERROR('[22]Data Compilation'!J133*-1,\"NA\")","v":"NA"},"NA","NA","NA",{"$f":"'[24]Data Compilation'!E98","v":4.3302626073613966E-2},{"$f":"'[25]Data Compilation'!$E$110","v":227.01159749583414},{"$f":"'[25]Data Compilation'!$O$110","v":455.06771768927985},"NA","NA","NA",{"$f":"'[24]Data Compilation'!F98","v":"NA"},{"$f":"'[25]Data Compilation'!F124","v":"NA"},{"$f":"'[25]Data Compilation'!P124","v":"NA"},"NA","NA","NA",{"$f":"'[24]Data Compilation'!G98","v":4.1293895458905352},{"$f":"'[25]Data Compilation'!G124","v":-69.430614036256003},{"$f":"'[25]Data Compilation'!Q124","v":-69.437635963885498},"NA","NA","NA","NA",{"$f":"'[25]Data Compilation'!H124","v":-357.98530681409363},{"$f":"'[25]Data Compilation'!R124","v":-355.56902134141751},"NA","NA","NA",{"$f":"'[24]Data Compilation'!I98","v":-17.965769799034536},{"$f":"'[25]Data Compilation'!I124","v":21.946706417339644},{"$f":"'[25]Data Compilation'!S124","v":21.946706417339644},"NA","NA","NA",{"$f":"'[24]Data Compilation'!J98","v":-1.0177288223401639E-2},{"$f":"'[25]Data Compilation'!J124","v":-542.19077177366285},{"$f":"'[25]Data Compilation'!T124","v":-540.85009144270896},"NA","NA","NA"]
["Other ",17,"Tires","NA",{"$f":"IFERROR('[22]Data Compilation'!E134*-1,\"NA\")","v":"NA"},{"$f":"IFERROR('[22]Data Compilation'!J134*-1,\"NA\")","v":"NA"},"NA","NA","NA","NA",{"$f":"'[25]Data Compilation'!$E$110","v":227.01159749583414},{"$f":"'[25]Data Compilation'!$O$110","v":455.06771768927985},"NA","NA","NA",{"$f":"'[24]Data Compilation'!F99","v":"NA"},{"$f":"'[25]Data Compilation'!F125","v":"NA"},{"$f":"'[25]Data Compilation'!P125","v":"NA"},"NA","NA","NA",{"$f":"'[24]Data Compilation'!G99","v":"NA"},{"$f":"'[25]Data Compilation'!G125","v":"NA"},{"$f":"'[25]Data Compilation'!Q125","v":"NA"},"NA","NA","NA","NA",{"$f":"'[25]Data Compilation'!H125","v":"NA"},{"$f":"'[25]Data Compilation'!R125","v":"NA"},"NA","NA","NA",{"$f":"'[24]Data Compilation'!I99","v":"NA"},{"$f":"'[25]Data Compilation'!I125","v":240.03640892848824},{"$f":"'[25]Data Compilation'!S125","v":240.03640892848824},"NA","NA","NA",{"$f":"'[24]Data Compilation'!J99","v":"NA"},{"$f":"'[25]Data Compilation'!J125","v":-2233.9823819156431},{"$f":"'[25]Data Compilation'!T125","v":-2225.1148002412201},"NA","NA","NA"]
[null,18,"Clothing and Footwear","NA",{"$f":"IFERROR('[22]Data Compilation'!E135*-1,\"NA\")","v":"NA"},{"$f":"IFERROR('[22]Data Compilation'!J135*-1,\"NA\")","v":"NA"},"NA","NA",{"$f":"'[31]Summary Table'!R3","v":4866.4363995516433},"NA",{"$f":"'[25]Data Compilation'!$E$110","v":227.01159749583414},{"$f":"'[25]Data Compilation'!$O$110","v":455.06771768927985},"NA","NA","NA",{"$f":"'[24]Data Compilation'!F100","v":"NA"},{"$f":"'[25]Data Compilation'!F126","v":"NA"},{"$f":"'[25]Data Compilation'!P126","v":"NA"},"NA","NA","NA",{"$f":"'[24]Data Compilation'!G100","v":"NA"},{"$f":"'[25]Data Compilation'!G126","v":-439.65548218974197},{"$f":"'[25]Data Compilation'!Q126","v":-439.66588228054297},"NA","NA","NA","NA",{"$f":"'[25]Data Compilation'!H126","v":198.67187127657493},{"$f":"'[25]Data Compilation'!R126","v":198.82648250683835},"NA","NA","NA",{"$f":"'[24]Data Compilation'!I100","v":"NA"},{"$f":"'[25]Data Compilation'!I126","v":40.120036149738915},{"$f":"'[25]Data Compilation'!S126","v":40.120036149738915},"NA","NA","NA",{"$f":"'[24]Data Compilation'!J100","v":"NA"},{"$f":"'[25]Data Compilation'!J126","v":-1768.0052991966784},{"$f":"'[25]Data Compilation'!T126","v":-1760.9904256517011},"NA","NA","NA"]
[null,19,"Furniture","NA",{"$f":"IFERROR('[22]Data Compilation'!E136*-1,\"NA\")","v":"NA"},{"$f":"IFERROR('[22]Data Compilation'!J136*-1,\"NA\")","v":"NA"},"NA","NA",{"$f":"'[31]Summary Table'!R4","v":21891.240049281882},"NA","NA","NA","NA","NA","NA","NA","NA","NA","NA","NA",{"$f":"[32]Summary!$F$19","v":-8140.4615615257335},"NA","NA","NA","NA","NA","NA","NA","NA","NA","NA","NA","NA","NA","NA","NA","NA","NA",{"$f":"[32]Summary!$F$20","v":211.40452634483225},"NA","NA","NA","NA","NA",{"$f":"[32]Summary!$F$21","v":-5268.9453133578727}]
[null,20,"Electronics","NA",{"$f":"IFERROR('[22]Data Compilation'!E137*-1,\"NA\")","v":"NA"},{"$f":"IFERROR('[22]Data Compilation'!J137*-1,\"NA\")","v":"NA"},"NA","NA",{"$f":"'[31]Summary Table'!R5","v":"NA"},"NA",{"$f":"'[25]Data Compilation'!$E$110","v":227.01159749583414},{"$f":"'[25]Data Compilation'!$O$110","v":455.06771768927985},"NA","NA","NA",{"$f":"'[24]Data Compilation'!F101","v":"NA"},{"$f":"'[25]Data Compilation'!F127","v":"NA"},{"$f":"'[25]Data Compilation'!P127","v":"NA"},"NA","NA","NA",{"$f":"'[24]Data Compilation'!G101","v":"NA"},{"$f":"'[25]Data Compilation'!G127","v":"NA"},{"$f":"'[25]Data Compilation'!Q127","v":"NA"},"NA","NA","NA","NA",{"$f":"'[25]Data Compilation'!H127","v":"NA"},{"$f":"'[25]Data Compilation'!R127","v":"NA"},"NA","NA","NA",{"$f":"'[24]Data Compilation'!I101","v":"NA"},{"$f":"'[25]Data Compilation'!I127","v":239.80970419051428},{"$f":"'[25]Data Compilation'!S127","v":239.80970419051428},"NA","NA","NA",{"$f":"'[24]Data Compilation'!J101","v":"NA"},{"$f":"'[25]Data Compilation'!J127","v":14.33750431446953},{"$f":"'[25]Data Compilation'!T127","v":26.365247196181979},"NA","NA","NA"]
["C&D Debris",21,"Wood Products","NA",{"$f":"IFERROR('[22]Data Compilation'!E138*-1,\"NA\")","v":"NA"},{"$f":"IFERROR('[22]Data Compilation'!J138*-1,\"NA\")","v":"NA"},"NA","NA","NA","NA","NA","NA","NA","NA","NA",{"$f":"'[24]Data Compilation'!F102","v":"NA"},{"$f":"'[25]Data Compilation'!F128","v":"NA"},{"$f":"'[25]Data Compilation'!P128","v":"NA"},"NA","NA","NA",{"$f":"'[24]Data Compilation'!G102","v":"NA"},{"$f":"'[25]Data Compilation'!G128","v":-94.749403096539055},{"$f":"'[25]Data Compilation'!Q128","v":-94.759453817623552},"NA","NA","NA","NA",{"$f":"'[25]Data Compilation'!H128","v":213.2504010989098},{"$f":"'[25]Data Compilation'!R128","v":212.66998405836085},"NA","NA","NA",{"$f":"'[24]Data Compilation'!I102","v":"NA"},{"$f":"'[25]Data Compilation'!I128","v":206.36899637995393},{"$f":"'[25]Data Compilation'!S128","v":206.36899637995393},"NA","NA","NA",{"$f":"'[24]Data Compilation'!J102","v":"NA"},{"$f":"'[25]Data Compilation'!J128","v":-1487.1034952323271},{"$f":"'[25]Data Compilation'!T128","v":-1481.1942487918341},"NA","NA","NA"]
[null,22,"Asphalt Shingles","NA",{"$f":"IFERROR('[22]Data Compilation'!E139*-1,\"NA\")","v":"NA"},{"$f":"IFERROR('[22]Data Compilation'!J139*-1,\"NA\")","v":"NA"},"NA","NA","NA","NA","NA","NA","NA","NA","NA",{"$f":"'[24]Data Compilation'!F103","v":"NA"},{"$f":"'[25]Data Compilation'!F129","v":"NA"},{"$f":"'[25]Data Compilation'!P129","v":"NA"},"NA","NA","NA",{"$f":"'[24]Data Compilation'!G103","v":"NA"},{"$f":"'[25]Data Compilation'!G129","v":"NA"},{"$f":"'[25]Data Compilation'!Q129","v":"NA"},"NA","NA","NA","NA",{"$f":"'[25]Data Compilation'!H129","v":"NA"},{"$f":"'[25]Data Compilation'!R129","v":"NA"},"NA","NA","NA",{"$f":"'[24]Data Compilation'!I103","v":"NA"},{"$f":"'[25]Data Compilation'!I129","v":"NA"},{"$f":"'[25]Data Compilation'!S129","v":"NA"},"NA","NA","NA",{"$f":"'[24]Data Compilation'!J103","v":"NA"},{"$f":"'[25]Data Compilation'!J129","v":"NA"},{"$f":"'[25]Data Compilation'!T129","v":"NA"},"NA","NA","NA"]
[null,23,"Gypsum Drywall","NA",{"$f":"IFERROR('[22]Data Compilation'!E140*-1,\"NA\")","v":"NA"},{"$f":"IFERROR('[22]Data Compilation'!J140*-1,\"NA\")","v":"NA"},"NA","NA","NA","NA","NA","NA","NA","NA","NA",{"$f":"'[24]Data Compilation'!F104","v":"NA"},{"$f":"'[25]Data Compilation'!F130","v":"NA"},{"$f":"'[25]Data Compilation'!P130","v":"NA"},"NA","NA","NA",{"$f":"'[24]Data Compilation'!G104","v":"NA"},{"$f":"'[25]Data Compilation'!G130","v":"NA"},{"$f":"'[25]Data Compilation'!Q130","v":"NA"},"NA","NA","NA","NA",{"$f":"'[25]Data Compilation'!H130","v":"NA"},{"$f":"'[25]Data Compilation'!R130","v":"NA"},"NA","NA","NA",{"$f":"'[24]Data Compilation'!I104","v":"NA"},{"$f":"'[25]Data Compilation'!I130","v":"NA"},{"$f":"'[25]Data Compilation'!S130","v":"NA"},"NA","NA","NA",{"$f":"'[24]Data Compilation'!J104","v":"NA"},{"$f":"'[25]Data Compilation'!J130","v":"NA"},{"$f":"'[25]Data Compilation'!T130","v":"NA"},"NA","NA","NA"]
[null,24,"Concrete","NA",{"$f":"IFERROR('[22]Data Compilation'!E141*-1,\"NA\")","v":"NA"},{"$f":"IFERROR('[22]Data Compilation'!J141*-1,\"NA\")","v":"NA"},"NA","NA","NA","NA","NA","NA","NA","NA","NA",{"$f":"'[24]Data Compilation'!F105","v":"NA"},{"$f":"'[25]Data Compilation'!F131","v":"NA"},{"$f":"'[25]Data Compilation'!P131","v":"NA"},"NA","NA","NA",{"$f":"'[24]Data Compilation'!G105","v":"NA"},{"$f":"'[25]Data Compilation'!G131","v":"NA"},{"$f":"'[25]Data Compilation'!Q131","v":"NA"},"NA","NA","NA","NA",{"$f":"'[25]Data Compilation'!H131","v":"NA"},{"$f":"'[25]Data Compilation'!R131","v":"NA"},"NA","NA","NA",{"$f":"'[24]Data Compilation'!I105","v":"NA"},{"$f":"'[25]Data Compilation'!I131","v":"NA"},{"$f":"'[25]Data Compilation'!S131","v":"NA"},"NA","NA","NA",{"$f":"'[24]Data Compilation'!J105","v":"NA"},{"$f":"'[25]Data Compilation'!J131","v":"NA"},{"$f":"'[25]Data Compilation'!T131","v":"NA"},"NA","NA","NA"]
[null,25,"Reclaimed Asphalt Pavement","NA",{"$f":"IFERROR('[22]Data Compilation'!E142*-1,\"NA\")","v":"NA"},{"$f":"IFERROR('[22]Data Compilation'!J142*-1,\"NA\")","v":"NA"},"NA","NA","NA","NA","NA","NA","NA","NA","NA",{"$f":"'[24]Data Compilation'!F106","v":"NA"},{"$f":"'[25]Data Compilation'!F132","v":"NA"},{"$f":"'[25]Data Compilation'!P132","v":"NA"},"NA","NA","NA",{"$f":"'[24]Data Compilation'!G106","v":"NA"},{"$f":"'[25]Data Compilation'!G132","v":"NA"},{"$f":"'[25]Data Compilation'!Q132","v":"NA"},"NA","NA","NA","NA",{"$f":"'[25]Data Compilation'!H132","v":"NA"},{"$f":"'[25]Data Compilation'!R132","v":"NA"},"NA","NA","NA",{"$f":"'[24]Data Compilation'!I106","v":"NA"},{"$f":"'[25]Data Compilation'!I132","v":"NA"},{"$f":"'[25]Data Compilation'!S132","v":"NA"},"NA","NA","NA",{"$f":"'[24]Data Compilation'!J106","v":"NA"},{"$f":"'[25]Data Compilation'!J132","v":"NA"},{"$f":"'[25]Data Compilation'!T132","v":"NA"},"NA","NA","NA"]
[]
[]
["Eutrophication potential (kgNeq./ton)"]
["Material Category","Item No.","Material Type","Produced",null,null,null,null,null,"Collection",null,null,null,null,null,"Recycling",null,null,null,null,null,"Composting",null,null,null,null,null,"Anaerobic Digestion",null,null,null,null,null,"Landfill",null,null,null,null,null,"Combustion"]
[null,null,null,"MSWDST (FL)","SWOLF (FL)","SWOLF (US)","WARM (FL)","WARM (US)","Literature","MSWDST (FL)","SWOLF (FL)","SWOLF (US)","WARM (FL)","WARM (US)","Literature","MSWDST (FL)","SWOLF (FL)","SWOLF (US)","WARM (FL)","WARM (US)","Literature","MSWDST (FL)","SWOLF (FL)","SWOLF (US)","WARM (FL)","WARM (US)","Literature","MSWDST (FL)","SWOLF (FL)","SWOLF (US)","WARM (FL)","WARM (US)","Literature","MSWDST (FL)","SWOLF (FL)","SWOLF (US)","WARM (FL)","WARM (US)","Literature","MSWDST (FL)","SWOLF (FL)","SWOLF (US)","WARM (FL)","WARM (US)","Literature"]
["MSW ",1,"Mixed MSW","NA",{"$f":"IFERROR('[22]Data Compilation'!E146*-1,\"NA\")","v":"NA"},{"$f":"IFERROR('[22]Data Compilation'!J146*-1,\"NA\")","v":"NA"},"NA","NA","NA",{"$f":"'[24]Data Compilation'!E110","v":3.8653739057613614E-3},{"$f":"'[25]Data Compilation'!$E$136","v":5.2753141742895346E-2},{"$f":"'[25]Data Compilation'!$O$136","v":0.10516971807216285},"NA","NA","NA",{"$f":"'[24]Data Compilation'!F110","v":"NA"},{"$f":"'[25]Data Compilation'!F136","v":"NA"},{"$f":"'[25]Data Compilation'!P136","v":"NA"},"NA","NA","NA",{"$f":"'[24]Data Compilation'!G110","v":"NA"},{"$f":"'[25]Data Compilation'!G136","v":"NA"},{"$f":"'[25]Data Compilation'!Q136","v":"NA"},"NA","NA","NA","NA",{"$f":"'[25]Data Compilation'!H136","v":"NA"},{"$f":"'[25]Data Compilation'!R136","v":"NA"},"NA","NA","NA",{"$f":"'[24]Data Compilation'!I110","v":3.1301106724042661E-2},{"$f":"'[25]Data Compilation'!I136","v":4.8415118521997931E-2},{"$f":"'[25]Data Compilation'!S136","v":4.8224166349653555E-2},"NA","NA","NA",{"$f":"'[24]Data Compilation'!J110","v":0.30597338764622717},{"$f":"'[25]Data Compilation'!J136","v":-1.1436996640563461E-3},{"$f":"'[25]Data Compilation'!T136","v":-1.7365757464117473E-3},"NA","NA","NA"]
["Paper",2,"Newspaper","NA",{"$f":"IFERROR('[22]Data Compilation'!E147*-1,\"NA\")","v":0.5062992765605665},{"$f":"IFERROR('[22]Data Compilation'!J147*-1,\"NA\")","v":0.51071178908121606},"NA","NA","NA",{"$f":"'[24]Data Compilation'!E111","v":3.8653739057613614E-3},{"$f":"'[25]Data Compilation'!$E$136","v":5.2753141742895346E-2},{"$f":"'[25]Data Compilation'!$O$136","v":0.10516971807216285},"NA","NA","NA",{"$f":"'[24]Data Compilation'!F111","v":0.14834112410557571},{"$f":"'[25]Data Compilation'!F137","v":0.3814535224795827},{"$f":"'[25]Data Compilation'!P137","v":0.37972976027965794},"NA","NA","NA",{"$f":"'[24]Data Compilation'!G111","v":"NA"},{"$f":"'[25]Data Compilation'!G137","v":9.2930732962561269E-2},{"$f":"'[25]Data Compilation'!Q137","v":9.2933413340144835E-2},"NA","NA","NA","NA",{"$f":"'[25]Data Compilation'!H137","v":3067.6867105078313},{"$f":"'[25]Data Compilation'!R137","v":3067.6867094938384},"NA","NA","NA",{"$f":"'[24]Data Compilation'!I111","v":8.8792825775995329E-2},{"$f":"'[25]Data Compilation'!I137","v":5.3708326789148837E-2},{"$f":"'[25]Data Compilation'!S137","v":5.3499055939383131E-2},"NA","NA","NA",{"$f":"'[24]Data Compilation'!J111","v":-1.0145055803971292},{"$f":"'[25]Data Compilation'!J137","v":-3.8993236702219963E-2},{"$f":"'[25]Data Compilation'!T137","v":-4.0772350677316035E-2},"NA","NA","NA"]
[null,3,"Corrugated Cardboard (OCC)","NA",{"$f":"IFERROR('[22]Data Compilation'!E148*-1,\"NA\")","v":0.86738196479111529},{"$f":"IFERROR('[22]Data Compilation'!J148*-1,\"NA\")","v":0.86810033035607148},"NA","NA","NA",{"$f":"'[24]Data Compilation'!E112","v":3.8653739057613614E-3},{"$f":"'[25]Data Compilation'!$E$136","v":5.2753141742895346E-2},{"$f":"'[25]Data Compilation'!$O$136","v":0.10516971807216285},"NA","NA","NA",{"$f":"'[24]Data Compilation'!F112","v":-0.44254373783792345},{"$f":"'[25]Data Compilation'!F138","v":-0.29782200762691929},{"$f":"'[25]Data Compilation'!P138","v":-0.297348153302398},"NA","NA","NA",{"$f":"'[24]Data Compilation'!G112","v":"NA"},{"$f":"'[25]Data Compilation'!G138","v":8.9505584633565907E-2},{"$f":"'[25]Data Compilation'!Q138","v":8.9508268221294179E-2},"NA","NA","NA","NA",{"$f":"'[25]Data Compilation'!H138","v":2783.3110075271625},{"$f":"'[25]Data Compilation'!R138","v":2783.3106422603473},"NA","NA","NA",{"$f":"'[24]Data Compilation'!I112","v":0.10588032670135467},{"$f":"'[25]Data Compilation'!I138","v":8.4221065068902312E-2},{"$f":"'[25]Data Compilation'!S138","v":8.3804581971705594E-2},"NA","NA","NA",{"$f":"'[24]Data Compilation'!J112","v":-0.89104880024025979},{"$f":"'[25]Data Compilation'!J138","v":-2.9480044653298981E-2},{"$f":"'[25]Data Compilation'!T138","v":-3.0970060971060885E-2},"NA","NA","NA"]
[null,4,"High Grade Paper (Office Type Paper)","NA",{"$f":"IFERROR('[22]Data Compilation'!E149*-1,\"NA\")","v":0.43743370836746587},{"$f":"IFERROR('[22]Data Compilation'!J149*-1,\"NA\")","v":0.43842918824531291},"NA","NA","NA",{"$f":"'[24]Data Compilation'!E113","v":3.8653739057613614E-3},{"$f":"'[25]Data Compilation'!$E$136","v":5.2753141742895346E-2},{"$f":"'[25]Data Compilation'!$O$136","v":0.10516971807216285},"NA","NA","NA",{"$f":"'[24]Data Compilation'!F113","v":-4.5227793848880822E-2},{"$f":"'[25]Data Compilation'!F139","v":-4.5960166525121866E-2},{"$f":"'[25]Data Compilation'!P139","v":-3.6852840246470654E-2},"NA","NA","NA",{"$f":"'[24]Data Compilation'!G113","v":"NA"},{"$f":"'[25]Data Compilation'!G139","v":0.10902210341491175},{"$f":"'[25]Data Compilation'!Q139","v":0.1090250860747605},"NA","NA","NA","NA",{"$f":"'[25]Data Compilation'!H139","v":2605.638155942298},{"$f":"'[25]Data Compilation'!R139","v":2605.6375185533725},"NA","NA","NA",{"$f":"'[24]Data Compilation'!I113","v":0.11560822058058297},{"$f":"'[25]Data Compilation'!I139","v":0.11168225903628316},{"$f":"'[25]Data Compilation'!S139","v":0.11093111808037058},"NA","NA","NA",{"$f":"'[24]Data Compilation'!J113","v":-0.89671120857575759},{"$f":"'[25]Data Compilation'!J139","v":-2.36070056801354E-2},{"$f":"'[25]Data Compilation'!T139","v":-2.4977605587399206E-2},"NA","NA","NA"]
[null,5,"Magazines/third-class mail","NA",{"$f":"IFERROR('[22]Data Compilation'!E150*-1,\"NA\")","v":0.73278143302370524},{"$f":"IFERROR('[22]Data Compilation'!J150*-1,\"NA\")","v":0.73583821705974972},"NA","NA","NA",{"$f":"'[24]Data Compilation'!E114","v":3.8653739057613614E-3},{"$f":"'[25]Data Compilation'!$E$136","v":5.2753141742895346E-2},{"$f":"'[25]Data Compilation'!$O$136","v":0.10516971807216285},"NA","NA","NA",{"$f":"'[24]Data Compilation'!F114","v":8.5701377846952045E-2},{"$f":"'[25]Data Compilation'!F140","v":0.22837283811157269},{"$f":"'[25]Data Compilation'!P140","v":0.2275062422337279},"NA","NA","NA",{"$f":"'[24]Data Compilation'!G114","v":"NA"},{"$f":"'[25]Data Compilation'!G140","v":0.18746643817028977},{"$f":"'[25]Data Compilation'!Q140","v":0.18746927938050173},"NA","NA","NA","NA",{"$f":"'[25]Data Compilation'!H140","v":3008.9302125676118},{"$f":"'[25]Data Compilation'!R140","v":3008.9298902390128},"NA","NA","NA",{"$f":"'[24]Data Compilation'!I114","v":9.2706946210498145E-2},{"$f":"'[25]Data Compilation'!I140","v":5.6687418638106057E-2},{"$f":"'[25]Data Compilation'!S140","v":5.6486408847996453E-2},"NA","NA","NA",{"$f":"'[24]Data Compilation'!J114","v":-1.0320545438899562},{"$f":"'[25]Data Compilation'!J140","v":-2.2884653766380818E-2},{"$f":"'[25]Data Compilation'!T140","v":-2.4244306077554317E-2},"NA","NA","NA"]
[null,6,"Books","NA",{"$f":"IFERROR('[22]Data Compilation'!E151*-1,\"NA\")","v":"NA"},{"$f":"IFERROR('[22]Data Compilation'!J151*-1,\"NA\")","v":"NA"},"NA","NA","NA",{"$f":"J158","v":3.8653739057613614E-3},{"$f":"K158","v":5.2753141742895346E-2},0.10516971807216285,"NA","NA","NA","NA","NA","NA","NA","NA","NA","NA","NA","NA","NA","NA","NA","NA","NA","NA","NA","NA","NA",{"$f":"[29]Cost_LCI!$AA$20","v":8.8155546633530854E-2},"NA","NA","NA","NA","NA",{"$f":"[30]Cost_LCI!$AJ$20","v":-0.51941018492764379},"NA","NA","NA","NA","NA"]
[null,7,"Mixed Paper","NA",{"$f":"IFERROR('[22]Data Compilation'!E152*-1,\"NA\")","v":0.5062992765605665},{"$f":"IFERROR('[22]Data Compilation'!J152*-1,\"NA\")","v":0.51071178908121606},"NA","NA","NA",{"$f":"'[24]Data Compilation'!E115","v":3.8653739057613614E-3},{"$f":"'[25]Data Compilation'!$E$136","v":5.2753141742895346E-2},{"$f":"'[25]Data Compilation'!$O$136","v":0.10516971807216285},"NA","NA","NA",{"$f":"'[24]Data Compilation'!F115","v":-6.3432257433569131E-2},{"$f":"'[25]Data Compilation'!F141","v":0.38145352175058928},{"$f":"'[25]Data Compilation'!P141","v":0.37972975955066457},"NA","NA","NA",{"$f":"'[24]Data Compilation'!G115","v":"NA"},{"$f":"'[25]Data Compilation'!G141","v":0.20524794729753279},{"$f":"'[25]Data Compilation'!Q141","v":0.20525064798966131},"NA","NA","NA","NA",{"$f":"'[25]Data Compilation'!H141","v":2603.8893215691419},{"$f":"'[25]Data Compilation'!R141","v":2603.8890982234766},"NA","NA","NA",{"$f":"'[24]Data Compilation'!I115","v":0.10074707981710777},{"$f":"'[25]Data Compilation'!I141","v":7.5678632866022916E-2},{"$f":"'[25]Data Compilation'!S141","v":7.528327563949376E-2},"NA","NA","NA",{"$f":"'[24]Data Compilation'!J115","v":-0.95858003327577579},{"$f":"'[25]Data Compilation'!J141","v":-3.0128756102579535E-2},{"$f":"'[25]Data Compilation'!T141","v":-3.1639198835392922E-2},"NA","NA","NA"]
["Plastic",8,"HDPE","NA",{"$f":"E166","v":0.26458857485647064},{"$f":"F166","v":0.26514280348225278},"NA","NA","NA",{"$f":"'[24]Data Compilation'!E116","v":3.8653739057613614E-3},{"$f":"'[25]Data Compilation'!$E$136","v":5.2753141742895346E-2},{"$f":"'[25]Data Compilation'!$O$136","v":0.10516971807216285},"NA","NA","NA",{"$f":"'[24]Data Compilation'!F116","v":-0.25383413166268098},{"$f":"Q166","v":0.86569321606438376},{"$f":"R166","v":0.86552105014741088},"NA","NA","NA",{"$f":"'[24]Data Compilation'!G116","v":"NA"},{"$f":"'[25]Data Compilation'!G142","v":"NA"},{"$f":"'[25]Data Compilation'!Q142","v":"NA"},"NA","NA","NA","NA",{"$f":"'[25]Data Compilation'!H142","v":"NA"},{"$f":"'[25]Data Compilation'!R142","v":"NA"},"NA","NA","NA",{"$f":"'[24]Data Compilation'!I116","v":2.4424312645700379E-3},{"$f":"'[25]Data Compilation'!I142","v":1.6566026111587945E-2},{"$f":"'[25]Data Compilation'!S142","v":1.6567252521300199E-2},"NA","NA","NA",{"$f":"'[24]Data Compilation'!J116","v":-2.7862245293130719},{"$f":"'[25]Data Compilation'!J142","v":-0.11638201294128266},{"$f":"'[25]Data Compilation'!T142","v":-0.12035579723134063},"NA","NA","NA"]
[null,9,"PET","NA",{"$f":"IFERROR('[22]Data Compilation'!E154*-1,\"NA\")","v":0.26458857485647064},{"$f":"IFERROR('[22]Data Compilation'!J154*-1,\"NA\")","v":0.26514280348225278},"NA","NA","NA",{"$f":"'[24]Data Compilation'!E117","v":3.8653739057613614E-3},{"$f":"'[25]Data Compilation'!$E$136","v":5.2753141742895346E-2},{"$f":"'[25]Data Compilation'!$O$136","v":0.10516971807216285},"NA","NA","NA",{"$f":"'[24]Data Compilation'!F117","v":-0.77545329302768773},{"$f":"'[25]Data Compilation'!F143","v":0.86569321606438376},{"$f":"'[25]Data Compilation'!P143","v":0.86552105014741088},"NA","NA","NA",{"$f":"'[24]Data Compilation'!G117","v":"NA"},{"$f":"'[25]Data Compilation'!G143","v":"NA"},{"$f":"'[25]Data Compilation'!Q143","v":"NA"},"NA","NA","NA","NA",{"$f":"'[25]Data Compilation'!H143","v":"NA"},{"$f":"'[25]Data Compilation'!R143","v":"NA"},"NA","NA","NA",{"$f":"'[24]Data Compilation'!I117","v":2.4424312645700379E-3},{"$f":"'[25]Data Compilation'!I143","v":1.6566026111587945E-2},{"$f":"'[25]Data Compilation'!S143","v":1.6566026111587945E-2},"NA","NA","NA",{"$f":"'[24]Data Compilation'!J117","v":-5.3771336202221622},{"$f":"'[25]Data Compilation'!J143","v":-0.11638201294128266},{"$f":"'[25]Data Compilation'!T143","v":-0.12035579723134063},"NA","NA","NA"]
[null,10,"Mixed Plastic","NA",{"$f":"IFERROR('[22]Data Compilation'!E155*-1,\"NA\")","v":"NA"},{"$f":"IFERROR('[22]Data Compilation'!J155*-1,\"NA\")","v":"NA"},"NA","NA","NA",{"$f":"'[24]Data Compilation'!E118","v":3.8653739057613614E-3},{"$f":"'[25]Data Compilation'!$E$136","v":5.2753141742895346E-2},{"$f":"'[25]Data Compilation'!$O$136","v":0.10516971807216285},"NA","NA","NA",{"$f":"'[24]Data Compilation'!F118","v":-0.51464371234518436},{"$f":"'[25]Data Compilation'!F144","v":"NA"},{"$f":"'[25]Data Compilation'!P144","v":"NA"},"NA","NA","NA",{"$f":"'[24]Data Compilation'!G118","v":"NA"},{"$f":"'[25]Data Compilation'!G144","v":"NA"},{"$f":"'[25]Data Compilation'!Q144","v":"NA"},"NA","NA","NA","NA",{"$f":"'[25]Data Compilation'!H144","v":"NA"},{"$f":"'[25]Data Compilation'!R144","v":"NA"},"NA","NA","NA",{"$f":"'[24]Data Compilation'!I118","v":2.4424312645700379E-3},{"$f":"'[25]Data Compilation'!I144","v":2.3767272897861857E-2},{"$f":"'[25]Data Compilation'!S144","v":2.3767272897861857E-2},"NA","NA","NA",{"$f":"'[24]Data Compilation'!J118","v":-4.0816790747676173},{"$f":"'[25]Data Compilation'!J144","v":-0.12295126920191565},{"$f":"'[25]Data Compilation'!T144","v":-0.12712967778282722},"NA","NA","NA"]
["Glass",11,"Glass","NA",{"$f":"IFERROR('[22]Data Compilation'!E156*-1,\"NA\")","v":6.1341857769912134E-2},{"$f":"IFERROR('[22]Data Compilation'!J156*-1,\"NA\")","v":6.1475512134668037E-2},"NA","NA","NA",{"$f":"'[24]Data Compilation'!E119","v":3.8653739057613614E-3},{"$f":"'[25]Data Compilation'!$E$136","v":5.2753141742895346E-2},{"$f":"'[25]Data Compilation'!$O$136","v":0.10516971807216285},"NA","NA","NA",{"$f":"'[24]Data Compilation'!F119","v":-1.8419991688148989E-2},{"$f":"'[25]Data Compilation'!F145","v":-1.2984666274306543E-2},{"$f":"'[25]Data Compilation'!P145","v":-1.3037517949258916E-2},"NA","NA","NA",{"$f":"'[24]Data Compilation'!G119","v":"NA"},{"$f":"'[25]Data Compilation'!G145","v":"NA"},{"$f":"'[25]Data Compilation'!Q145","v":"NA"},"NA","NA","NA","NA",{"$f":"'[25]Data Compilation'!H145","v":"NA"},{"$f":"'[25]Data Compilation'!R145","v":"NA"},"NA","NA","NA",{"$f":"'[24]Data Compilation'!I119","v":2.4424312645700379E-3},{"$f":"'[25]Data Compilation'!I145","v":1.4572737721252668E-2},{"$f":"'[25]Data Compilation'!S145","v":1.4572737721252668E-2},"NA","NA","NA",{"$f":"'[24]Data Compilation'!J119","v":0.15323919183501683},{"$f":"'[25]Data Compilation'!J145","v":2.6385125062801985E-2},{"$f":"'[25]Data Compilation'!T145","v":2.6424888348594914E-2},"NA","NA","NA"]
["Metals",12,"Aluminum Cans","NA",{"$f":"IFERROR('[22]Data Compilation'!E157*-1,\"NA\")","v":2.3098896375794933},{"$f":"IFERROR('[22]Data Compilation'!J157*-1,\"NA\")","v":2.3435696848385583},"NA","NA","NA",{"$f":"'[24]Data Compilation'!E120","v":3.8653739057613614E-3},{"$f":"'[25]Data Compilation'!$E$136","v":5.2753141742895346E-2},{"$f":"'[25]Data Compilation'!$O$136","v":0.10516971807216285},"NA","NA","NA",{"$f":"'[24]Data Compilation'!F120","v":-1.2793930898658434},{"$f":"'[25]Data Compilation'!F146","v":-1.430060459274886},{"$f":"'[25]Data Compilation'!P146","v":-1.4597146547782283},"NA","NA","NA",{"$f":"'[24]Data Compilation'!G120","v":"NA"},{"$f":"'[25]Data Compilation'!G146","v":"NA"},{"$f":"'[25]Data Compilation'!Q146","v":"NA"},"NA","NA","NA","NA",{"$f":"'[25]Data Compilation'!H146","v":"NA"},{"$f":"'[25]Data Compilation'!R146","v":"NA"},"NA","NA","NA",{"$f":"'[24]Data Compilation'!I120","v":2.4424312645700379E-3},{"$f":"'[25]Data Compilation'!I146","v":1.4595568148367571E-2},{"$f":"'[25]Data Compilation'!S146","v":1.4595568148367571E-2},"NA","NA","NA",{"$f":"'[24]Data Compilation'!J120","v":0.22863492833619209},{"$f":"'[25]Data Compilation'!J146","v":-0.68406224505936442},{"$f":"'[25]Data Compilation'!T146","v":-0.69874380209839171},"NA","NA","NA"]
[null,13,"Steel/Tin Cans","NA",{"$f":"IFERROR('[22]Data Compilation'!E158*-1,\"NA\")","v":0.42285109768562801},{"$f":"IFERROR('[22]Data Compilation'!J158*-1,\"NA\")","v":0.42726361020627768},"NA","NA","NA",{"$f":"'[24]Data Compilation'!E121","v":3.8653739057613614E-3},{"$f":"'[25]Data Compilation'!$E$136","v":5.2753141742895346E-2},{"$f":"'[25]Data Compilation'!$O$136","v":0.10516971807216285},"NA","NA","NA",{"$f":"'[24]Data Compilation'!F121","v":-4.518450225437963E-2},{"$f":"'[25]Data Compilation'!F147","v":-0.14545704874015589},{"$f":"'[25]Data Compilation'!P147","v":-0.14715814935823471},"NA","NA","NA",{"$f":"'[24]Data Compilation'!G121","v":"NA"},{"$f":"'[25]Data Compilation'!G147","v":"NA"},{"$f":"'[25]Data Compilation'!Q147","v":"NA"},"NA","NA","NA","NA",{"$f":"'[25]Data Compilation'!H147","v":"NA"},{"$f":"'[25]Data Compilation'!R147","v":"NA"},"NA","NA","NA",{"$f":"'[24]Data Compilation'!I121","v":2.4424312645700379E-3},{"$f":"'[25]Data Compilation'!I147","v":1.4673072875380727E-2},{"$f":"'[25]Data Compilation'!S147","v":1.4673072875380727E-2},"NA","NA","NA",{"$f":"'[24]Data Compilation'!J121","v":-1.130205571818182},{"$f":"'[25]Data Compilation'!J147","v":-0.1015987290410014},{"$f":"'[25]Data Compilation'!T147","v":-0.10303655468911968},"NA","NA","NA"]
[null,14,"Mixed Metals","NA",{"$f":"IFERROR('[22]Data Compilation'!E159*-1,\"NA\")","v":1.3663703676325607},{"$f":"IFERROR('[22]Data Compilation'!J159*-1,\"NA\")","v":1.3854166475224181},"NA","NA","NA",{"$f":"'[24]Data Compilation'!E122","v":3.8653739057613614E-3},{"$f":"'[25]Data Compilation'!$E$136","v":5.2753141742895346E-2},{"$f":"'[25]Data Compilation'!$O$136","v":0.10516971807216285},"NA","NA","NA",{"$f":"'[24]Data Compilation'!F122","v":-0.661203776373534},{"$f":"'[25]Data Compilation'!F148","v":-0.78775875400752093},{"$f":"'[25]Data Compilation'!P148","v":-0.80333553378499367},"NA","NA","NA",{"$f":"'[24]Data Compilation'!G122","v":"NA"},{"$f":"'[25]Data Compilation'!G148","v":"NA"},{"$f":"'[25]Data Compilation'!Q148","v":"NA"},"NA","NA","NA","NA",{"$f":"'[25]Data Compilation'!H148","v":"NA"},{"$f":"'[25]Data Compilation'!R148","v":"NA"},"NA","NA","NA",{"$f":"'[24]Data Compilation'!I122","v":2.4424312645700379E-3},{"$f":"'[25]Data Compilation'!I148","v":1.463432051187415E-2},{"$f":"'[25]Data Compilation'!S148","v":1.463432051187415E-2},"NA","NA","NA",{"$f":"'[24]Data Compilation'!J122","v":-0.38356590174099492},{"$f":"'[25]Data Compilation'!J148","v":-0.73876782278256936},{"$f":"'[25]Data Compilation'!T148","v":-0.75398717334870624},"NA","NA","NA"]
["Organic",15,"Yard Waste","NA",{"$f":"IFERROR('[22]Data Compilation'!E160*-1,\"NA\")","v":"NA"},{"$f":"IFERROR('[22]Data Compilation'!J160*-1,\"NA\")","v":"NA"},"NA","NA","NA",{"$f":"'[24]Data Compilation'!E123","v":3.8653739057613614E-3},{"$f":"'[25]Data Compilation'!$E$136","v":5.2753141742895346E-2},{"$f":"'[25]Data Compilation'!$O$136","v":0.10516971807216285},"NA","NA","NA",{"$f":"'[24]Data Compilation'!F123","v":"NA"},{"$f":"'[25]Data Compilation'!F149","v":"NA"},{"$f":"'[25]Data Compilation'!P149","v":"NA"},"NA","NA","NA",{"$f":"'[24]Data Compilation'!G123","v":7.9119643438703924E-2},{"$f":"'[25]Data Compilation'!G149","v":0.95176584835988642},{"$f":"'[25]Data Compilation'!Q149","v":0.95179731982879401},"NA","NA","NA","NA",{"$f":"'[25]Data Compilation'!H149","v":704.05124739778148},{"$f":"'[25]Data Compilation'!R149","v":704.05115661450782},"NA","NA","NA",{"$f":"'[24]Data Compilation'!I123","v":0.24909976420092064},{"$f":"'[25]Data Compilation'!I149","v":5.3821305787025209E-2},{"$f":"'[25]Data Compilation'!S149","v":5.3821305787025209E-2},"NA","NA","NA",{"$f":"'[24]Data Compilation'!J123","v":-0.27063284687115763},{"$f":"'[25]Data Compilation'!J149","v":-9.6729988553326315E-3},{"$f":"'[25]Data Compilation'!T149","v":-1.0396452198570457E-2},"NA","NA","NA"]
[null,16,"Food Waste","NA",{"$f":"IFERROR('[22]Data Compilation'!E161*-1,\"NA\")","v":"NA"},{"$f":"IFERROR('[22]Data Compilation'!J161*-1,\"NA\")","v":"NA"},"NA","NA","NA",{"$f":"'[24]Data Compilation'!E124","v":3.8653739057613614E-3},{"$f":"'[25]Data Compilation'!$E$136","v":5.2753141742895346E-2},{"$f":"'[25]Data Compilation'!$O$136","v":0.10516971807216285},"NA","NA","NA",{"$f":"'[24]Data Compilation'!F124","v":"NA"},{"$f":"'[25]Data Compilation'!F150","v":"NA"},{"$f":"'[25]Data Compilation'!P150","v":"NA"},"NA","NA","NA",{"$f":"'[24]Data Compilation'!G124","v":1.9923780119248599E-2},{"$f":"'[25]Data Compilation'!G150","v":0.61433444340789845},{"$f":"'[25]Data Compilation'!Q150","v":0.61433670600878054},"NA","NA","NA","NA",{"$f":"'[25]Data Compilation'!H150","v":390.99438248946126},{"$f":"'[25]Data Compilation'!R150","v":390.9936039155524},"NA","NA","NA",{"$f":"'[24]Data Compilation'!I124","v":1.5484636784152621E-2},{"$f":"'[25]Data Compilation'!I150","v":9.8658020023982829E-2},{"$f":"'[25]Data Compilation'!S150","v":9.8658020023982829E-2},"NA","NA","NA",{"$f":"'[24]Data Compilation'!J124","v":5.3849982981251363E-2},{"$f":"'[25]Data Compilation'!J150","v":-1.1059331575980377E-2},{"$f":"'[25]Data Compilation'!T150","v":-1.2556617827960862E-2},"NA","NA","NA"]
["Other ",17,"Tires","NA",{"$f":"IFERROR('[22]Data Compilation'!E162*-1,\"NA\")","v":"NA"},{"$f":"IFERROR('[22]Data Compilation'!J162*-1,\"NA\")","v":"NA"},"NA","NA","NA","NA",{"$f":"'[25]Data Compilation'!$E$136","v":5.2753141742895346E-2},{"$f":"'[25]Data Compilation'!$O$136","v":0.10516971807216285},"NA","NA","NA",{"$f":"'[24]Data Compilation'!F125","v":"NA"},{"$f":"'[25]Data Compilation'!F151","v":"NA"},{"$f":"'[25]Data Compilation'!P151","v":"NA"},"NA","NA","NA",{"$f":"'[24]Data Compilation'!G125","v":"NA"},{"$f":"'[25]Data Compilation'!G151","v":"NA"},{"$f":"'[25]Data Compilation'!Q151","v":"NA"},"NA","NA","NA","NA",{"$f":"'[25]Data Compilation'!H151","v":"NA"},{"$f":"'[25]Data Compilation'!R151","v":"NA"},"NA","NA","NA",{"$f":"'[24]Data Compilation'!I125","v":"NA"},{"$f":"'[25]Data Compilation'!I151","v":3.0522762984306825E-2},{"$f":"'[25]Data Compilation'!S151","v":3.0522762984306825E-2},"NA","NA","NA",{"$f":"'[24]Data Compilation'!J125","v":"NA"},{"$f":"'[25]Data Compilation'!J151","v":-7.5822814834856825E-2},{"$f":"'[25]Data Compilation'!T151","v":-7.8680121144192719E-2},"NA","NA","NA"]
[null,18,"Clothing and Footwear","NA",{"$f":"IFERROR('[22]Data Compilation'!E163*-1,\"NA\")","v":"NA"},{"$f":"IFERROR('[22]Data Compilation'!J163*-1,\"NA\")","v":"NA"},"NA","NA",{"$f":"'[31]Summary Table'!S3","v":0.68445473154489389},"NA",{"$f":"'[25]Data Compilation'!$E$136","v":5.2753141742895346E-2},{"$f":"'[25]Data Compilation'!$O$136","v":0.10516971807216285},"NA","NA","NA",{"$f":"'[24]Data Compilation'!F126","v":"NA"},{"$f":"'[25]Data Compilation'!F152","v":"NA"},{"$f":"'[25]Data Compilation'!P152","v":"NA"},"NA","NA","NA",{"$f":"'[24]Data Compilation'!G126","v":"NA"},{"$f":"'[25]Data Compilation'!G152","v":4.094568954134103},{"$f":"'[25]Data Compilation'!Q152","v":4.0945723052444905},"NA","NA","NA","NA",{"$f":"'[25]Data Compilation'!H152","v":833.57333639975968},{"$f":"'[25]Data Compilation'!R152","v":833.57328658103108},"NA","NA","NA",{"$f":"'[24]Data Compilation'!I126","v":"NA"},{"$f":"'[25]Data Compilation'!I152","v":0.11036729860875924},{"$f":"'[25]Data Compilation'!S152","v":0.11036729860875924},"NA","NA","NA",{"$f":"'[24]Data Compilation'!J126","v":"NA"},{"$f":"'[25]Data Compilation'!J152","v":-5.2538911994816376E-2},{"$f":"'[25]Data Compilation'!T152","v":-5.4799239914554668E-2},"NA","NA","NA"]
[null,19,"Furniture","NA",{"$f":"IFERROR('[22]Data Compilation'!E164*-1,\"NA\")","v":"NA"},{"$f":"IFERROR('[22]Data Compilation'!J164*-1,\"NA\")","v":"NA"},"NA","NA",{"$f":"'[31]Summary Table'!S4","v":1.5758548195229636},"NA","NA","NA","NA","NA","NA","NA","NA","NA","NA","NA",{"$f":"[32]Summary!$F$22","v":-0.10033575321934882},"NA","NA","NA","NA","NA","NA","NA","NA","NA","NA","NA","NA","NA","NA","NA","NA","NA",{"$f":"[32]Summary!$F$23","v":3.2793388143997529E-2},"NA","NA","NA","NA","NA",{"$f":"[32]Summary!$F$24","v":-0.12433276720504861}]
[null,20,"Electronics","NA",{"$f":"IFERROR('[22]Data Compilation'!E165*-1,\"NA\")","v":"NA"},{"$f":"IFERROR('[22]Data Compilation'!J165*-1,\"NA\")","v":"NA"},"NA","NA",{"$f":"'[31]Summary Table'!S5","v":44.996270000000003},"NA",{"$f":"'[25]Data Compilation'!$E$136","v":5.2753141742895346E-2},{"$f":"'[25]Data Compilation'!$O$136","v":0.10516971807216285},"NA","NA","NA",{"$f":"'[24]Data Compilation'!F127","v":"NA"},{"$f":"'[25]Data Compilation'!F153","v":"NA"},{"$f":"'[25]Data Compilation'!P153","v":"NA"},"NA","NA","NA",{"$f":"'[24]Data Compilation'!G127","v":"NA"},{"$f":"'[25]Data Compilation'!G153","v":"NA"},{"$f":"'[25]Data Compilation'!Q153","v":"NA"},"NA","NA","NA","NA",{"$f":"'[25]Data Compilation'!H153","v":"NA"},{"$f":"'[25]Data Compilation'!R153","v":"NA"},"NA","NA","NA",{"$f":"'[24]Data Compilation'!I127","v":"NA"},{"$f":"'[25]Data Compilation'!I153","v":1.4501589880064671E-2},{"$f":"'[25]Data Compilation'!S153","v":1.4501589880064671E-2},"NA","NA","NA",{"$f":"'[24]Data Compilation'!J127","v":"NA"},{"$f":"'[25]Data Compilation'!J153","v":2.6818420113074341E-2},{"$f":"'[25]Data Compilation'!T153","v":2.7380268251056498E-2},"NA","NA","NA"]
["C&D Debris",21,"Wood Products","NA",{"$f":"IFERROR('[22]Data Compilation'!E166*-1,\"NA\")","v":"NA"},{"$f":"IFERROR('[22]Data Compilation'!J166*-1,\"NA\")","v":"NA"},"NA","NA","NA","NA","NA","NA","NA","NA","NA",{"$f":"'[24]Data Compilation'!F128","v":"NA"},{"$f":"'[25]Data Compilation'!F154","v":"NA"},{"$f":"'[25]Data Compilation'!P154","v":"NA"},"NA","NA","NA",{"$f":"'[24]Data Compilation'!G128","v":"NA"},{"$f":"'[25]Data Compilation'!G154","v":0.94155856710211883},{"$f":"'[25]Data Compilation'!Q154","v":0.94156180563882741},"NA","NA","NA","NA",{"$f":"'[25]Data Compilation'!H154","v":2350.7102063238453},{"$f":"'[25]Data Compilation'!R154","v":2350.7103933454405},"NA","NA","NA",{"$f":"'[24]Data Compilation'!I128","v":"NA"},{"$f":"'[25]Data Compilation'!I154","v":4.5038159526292344E-2},{"$f":"'[25]Data Compilation'!S154","v":4.5038159526292344E-2},"NA","NA","NA",{"$f":"'[24]Data Compilation'!J128","v":"NA"},{"$f":"'[25]Data Compilation'!J154","v":-4.3624705637913028E-2},{"$f":"'[25]Data Compilation'!T154","v":-4.5528779122405841E-2},"NA","NA","NA"]
[null,22,"Asphalt Shingles","NA",{"$f":"IFERROR('[22]Data Compilation'!E167*-1,\"NA\")","v":"NA"},{"$f":"IFERROR('[22]Data Compilation'!J167*-1,\"NA\")","v":"NA"},"NA","NA","NA","NA","NA","NA","NA","NA","NA",{"$f":"'[24]Data Compilation'!F129","v":"NA"},{"$f":"'[25]Data Compilation'!F155","v":"NA"},{"$f":"'[25]Data Compilation'!P155","v":"NA"},"NA","NA","NA",{"$f":"'[24]Data Compilation'!G129","v":"NA"},{"$f":"'[25]Data Compilation'!G155","v":"NA"},{"$f":"'[25]Data Compilation'!Q155","v":"NA"},"NA","NA","NA","NA",{"$f":"'[25]Data Compilation'!H155","v":"NA"},{"$f":"'[25]Data Compilation'!R155","v":"NA"},"NA","NA","NA",{"$f":"'[24]Data Compilation'!I129","v":"NA"},{"$f":"'[25]Data Compilation'!I155","v":"NA"},{"$f":"'[25]Data Compilation'!S155","v":"NA"},"NA","NA","NA",{"$f":"'[24]Data Compilation'!J129","v":"NA"},{"$f":"'[25]Data Compilation'!J155","v":"NA"},{"$f":"'[25]Data Compilation'!T155","v":"NA"},"NA","NA","NA"]
[null,23,"Gypsum Drywall","NA",{"$f":"IFERROR('[22]Data Compilation'!E168*-1,\"NA\")","v":"NA"},{"$f":"IFERROR('[22]Data Compilation'!J168*-1,\"NA\")","v":"NA"},"NA","NA","NA","NA","NA","NA","NA","NA","NA",{"$f":"'[24]Data Compilation'!F130","v":"NA"},{"$f":"'[25]Data Compilation'!F156","v":"NA"},{"$f":"'[25]Data Compilation'!P156","v":"NA"},"NA","NA","NA",{"$f":"'[24]Data Compilation'!G130","v":"NA"},{"$f":"'[25]Data Compilation'!G156","v":"NA"},{"$f":"'[25]Data Compilation'!Q156","v":"NA"},"NA","NA","NA","NA",{"$f":"'[25]Data Compilation'!H156","v":"NA"},{"$f":"'[25]Data Compilation'!R156","v":"NA"},"NA","NA","NA",{"$f":"'[24]Data Compilation'!I130","v":"NA"},{"$f":"'[25]Data Compilation'!I156","v":"NA"},{"$f":"'[25]Data Compilation'!S156","v":"NA"},"NA","NA","NA",{"$f":"'[24]Data Compilation'!J130","v":"NA"},{"$f":"'[25]Data Compilation'!J156","v":"NA"},{"$f":"'[25]Data Compilation'!T156","v":"NA"},"NA","NA","NA"]
[null,24,"Concrete","NA",{"$f":"IFERROR('[22]Data Compilation'!E169*-1,\"NA\")","v":"NA"},{"$f":"IFERROR('[22]Data Compilation'!J169*-1,\"NA\")","v":"NA"},"NA","NA","NA","NA","NA","NA","NA","NA","NA",{"$f":"'[24]Data Compilation'!F131","v":"NA"},{"$f":"'[25]Data Compilation'!F157","v":"NA"},{"$f":"'[25]Data Compilation'!P157","v":"NA"},"NA","NA","NA",{"$f":"'[24]Data Compilation'!G131","v":"NA"},{"$f":"'[25]Data Compilation'!G157","v":"NA"},{"$f":"'[25]Data Compilation'!Q157","v":"NA"},"NA","NA","NA","NA",{"$f":"'[25]Data Compilation'!H157","v":"NA"},{"$f":"'[25]Data Compilation'!R157","v":"NA"},"NA","NA","NA",{"$f":"'[24]Data Compilation'!I131","v":"NA"},{"$f":"'[25]Data Compilation'!I157","v":"NA"},{"$f":"'[25]Data Compilation'!S157","v":"NA"},"NA","NA","NA",{"$f":"'[24]Data Compilation'!J131","v":"NA"},{"$f":"'[25]Data Compilation'!J157","v":"NA"},{"$f":"'[25]Data Compilation'!T157","v":"NA"},"NA","NA","NA"]
[null,25,"Reclaimed Asphalt Pavement","NA",{"$f":"IFERROR('[22]Data Compilation'!E170*-1,\"NA\")","v":"NA"},{"$f":"IFERROR('[22]Data Compilation'!J170*-1,\"NA\")","v":"NA"},"NA","NA","NA","NA","NA","NA","NA","NA","NA",{"$f":"'[24]Data Compilation'!F132","v":"NA"},{"$f":"'[25]Data Compilation'!F158","v":"NA"},{"$f":"'[25]Data Compilation'!P158","v":"NA"},"NA","NA","NA",{"$f":"'[24]Data Compilation'!G132","v":"NA"},{"$f":"'[25]Data Compilation'!G158","v":"NA"},{"$f":"'[25]Data Compilation'!Q158","v":"NA"},"NA","NA","NA","NA",{"$f":"'[25]Data Compilation'!H158","v":"NA"},{"$f":"'[25]Data Compilation'!R158","v":"NA"},"NA","NA","NA",{"$f":"'[24]Data Compilation'!I132","v":"NA"},{"$f":"'[25]Data Compilation'!I158","v":"NA"},{"$f":"'[25]Data Compilation'!S158","v":"NA"},"NA","NA","NA",{"$f":"'[24]Data Compilation'!J132","v":"NA"},{"$f":"'[25]Data Compilation'!J158","v":"NA"},{"$f":"'[25]Data Compilation'!T158","v":"NA"},"NA","NA","NA"]
[]
[]
["Acidification potential (kgSO2eq./ton)"]
["Material Category","Item No.","Material Type","Produced",null,null,null,null,null,"Collection",null,null,null,null,null,"Recycling",null,null,null,null,null,"Composting",null,null,null,null,null,"Anaerobic Digestion",null,null,null,null,null,"Landfill",null,null,null,null,null,"Combustion"]
[null,null,null,"MSWDST (FL)","SWOLF (FL)","SWOLF (US)","WARM (FL)","WARM (US)","Literature","MSWDST (FL)","SWOLF (FL)","SWOLF (US)","WARM (FL)","WARM (US)","Literature","MSWDST (FL)","SWOLF (FL)","SWOLF (US)","WARM (FL)","WARM (US)","Literature","MSWDST (FL)","SWOLF (FL)","SWOLF (US)","WARM (FL)","WARM (US)","Literature","MSWDST (FL)","SWOLF (FL)","SWOLF (US)","WARM (FL)","WARM (US)","Literature","MSWDST (FL)","SWOLF (FL)","SWOLF (US)","WARM (FL)","WARM (US)","Literature","MSWDST (FL)","SWOLF (FL)","SWOLF (US)","WARM (FL)","WARM (US)","Literature"]
["MSW ",1,"Mixed MSW","NA",{"$f":"IFERROR('[22]Data Compilation'!E174*-1,\"NA\")","v":"NA"},{"$f":"IFERROR('[22]Data Compilation'!J174*-1,\"NA\")","v":"NA"},"NA","NA","NA",{"$f":"'[24]Data Compilation'!E136","v":7.9577508127761168E-2},{"$f":"'[25]Data Compilation'!$E$162/'[25]Detailed LCIA Methods'!$E$90","v":0.33549911772002622},{"$f":"'[25]Data Compilation'!$O$162/'[25]Detailed LCIA Methods'!$E$90","v":0.7130593515846958},"NA","NA","NA",{"$f":"'[24]Data Compilation'!F136","v":"NA"},{"$f":"IFERROR('[25]Data Compilation'!F162/'[25]Detailed LCIA Methods'!$E$90,\"NA\")","v":"NA"},{"$f":"IFERROR('[25]Data Compilation'!P162/'[25]Detailed LCIA Methods'!$E$90,\"NA\")","v":"NA"},"NA","NA","NA",{"$f":"'[24]Data Compilation'!G136","v":"NA"},{"$f":"IFERROR('[25]Data Compilation'!G162/'[25]Detailed LCIA Methods'!$E$90,\"NA\")","v":"NA"},{"$f":"IFERROR('[25]Data Compilation'!Q162/'[25]Detailed LCIA Methods'!$E$90,\"NA\")","v":"NA"},"NA","NA","NA","NA",{"$f":"IFERROR('[25]Data Compilation'!H162/'[25]Detailed LCIA Methods'!$E$90,\"NA\")","v":"NA"},{"$f":"IFERROR('[25]Data Compilation'!R162/'[25]Detailed LCIA Methods'!$E$90,\"NA\")","v":"NA"},"NA","NA","NA",{"$f":"'[24]Data Compilation'!I136","v":-1.5207217067526422},{"$f":"IFERROR('[25]Data Compilation'!I162/'[25]Detailed LCIA Methods'!$E$90,\"NA\")","v":0.20032652816920632},{"$f":"IFERROR('[25]Data Compilation'!S162/'[25]Detailed LCIA Methods'!$E$90,\"NA\")","v":0.22419012547849398},"NA","NA","NA",{"$f":"'[24]Data Compilation'!J136","v":-1.4699966383126566},{"$f":"IFERROR('[25]Data Compilation'!J162/'[25]Detailed LCIA Methods'!$E$90,\"NA\")","v":-1.0966556892763613},{"$f":"IFERROR('[25]Data Compilation'!T162/'[25]Detailed LCIA Methods'!$E$90,\"NA\")","v":-1.0225630203638445},"NA","NA","NA"]
["Paper",2,"Newspaper","NA",{"$f":"IFERROR('[22]Data Compilation'!E175*-1,\"NA\")","v":837.67900855876053},{"$f":"IFERROR('[22]Data Compilation'!J175*-1,\"NA\")","v":809.67143585926533},"NA","NA","NA",{"$f":"'[24]Data Compilation'!E137","v":7.9577508127761168E-2},{"$f":"'[25]Data Compilation'!$E$162/'[25]Detailed LCIA Methods'!$E$90","v":0.33549911772002622},{"$f":"'[25]Data Compilation'!$O$162/'[25]Detailed LCIA Methods'!$E$90","v":0.7130593515846958},"NA","NA","NA",{"$f":"'[24]Data Compilation'!F137","v":-11.033396972185203},{"$f":"IFERROR('[25]Data Compilation'!F163/'[25]Detailed LCIA Methods'!$E$90,\"NA\")","v":-6.2569646075068928},{"$f":"IFERROR('[25]Data Compilation'!P163/'[25]Detailed LCIA Methods'!$E$90,\"NA\")","v":-6.0415432981237558},"NA","NA","NA",{"$f":"'[24]Data Compilation'!G137","v":"NA"},{"$f":"IFERROR('[25]Data Compilation'!G163/'[25]Detailed LCIA Methods'!$E$90,\"NA\")","v":0.25024036376453918},{"$f":"IFERROR('[25]Data Compilation'!Q163/'[25]Detailed LCIA Methods'!$E$90,\"NA\")","v":0.249905392706048},"NA","NA","NA","NA",{"$f":"IFERROR('[25]Data Compilation'!H163/'[25]Detailed LCIA Methods'!$E$90,\"NA\")","v":0.72239384715005395},{"$f":"IFERROR('[25]Data Compilation'!R163/'[25]Detailed LCIA Methods'!$E$90,\"NA\")","v":0.72252056751762406},"NA","NA","NA",{"$f":"'[24]Data Compilation'!I137","v":-0.50095465748707479},{"$f":"IFERROR('[25]Data Compilation'!I163/'[25]Detailed LCIA Methods'!$E$90,\"NA\")","v":0.17220027685962264},{"$f":"IFERROR('[25]Data Compilation'!S163/'[25]Detailed LCIA Methods'!$E$90,\"NA\")","v":0.19835318848177994},"NA","NA","NA",{"$f":"'[24]Data Compilation'!J137","v":-8.8108431707655495},{"$f":"IFERROR('[25]Data Compilation'!J163/'[25]Detailed LCIA Methods'!$E$90,\"NA\")","v":-3.9876187239255945},{"$f":"IFERROR('[25]Data Compilation'!T163/'[25]Detailed LCIA Methods'!$E$90,\"NA\")","v":-3.765280014982014},"NA","NA","NA"]
[null,3,"Corrugated Cardboard (OCC)","NA",{"$f":"IFERROR('[22]Data Compilation'!E176*-1,\"NA\")","v":336.13450565029854},{"$f":"IFERROR('[22]Data Compilation'!J176*-1,\"NA\")","v":331.57481869390728},"NA","NA","NA",{"$f":"'[24]Data Compilation'!E138","v":7.9577508127761168E-2},{"$f":"'[25]Data Compilation'!$E$162/'[25]Detailed LCIA Methods'!$E$90","v":0.33549911772002622},{"$f":"'[25]Data Compilation'!$O$162/'[25]Detailed LCIA Methods'!$E$90","v":0.7130593515846958},"NA","NA","NA",{"$f":"'[24]Data Compilation'!F138","v":-9.7643885268208805},{"$f":"IFERROR('[25]Data Compilation'!F164/'[25]Detailed LCIA Methods'!$E$90,\"NA\")","v":-2.7379745528436072},{"$f":"IFERROR('[25]Data Compilation'!P164/'[25]Detailed LCIA Methods'!$E$90,\"NA\")","v":-2.7971928829878134},"NA","NA","NA",{"$f":"'[24]Data Compilation'!G138","v":"NA"},{"$f":"IFERROR('[25]Data Compilation'!G164/'[25]Detailed LCIA Methods'!$E$90,\"NA\")","v":0.24746561418322613},{"$f":"IFERROR('[25]Data Compilation'!Q164/'[25]Detailed LCIA Methods'!$E$90,\"NA\")","v":0.24713024194783487},"NA","NA","NA","NA",{"$f":"IFERROR('[25]Data Compilation'!H164/'[25]Detailed LCIA Methods'!$E$90,\"NA\")","v":0.40139493626229072},{"$f":"IFERROR('[25]Data Compilation'!R164/'[25]Detailed LCIA Methods'!$E$90,\"NA\")","v":0.44704291230164378},"NA","NA","NA",{"$f":"'[24]Data Compilation'!I138","v":-1.4416482253254028},{"$f":"IFERROR('[25]Data Compilation'!I164/'[25]Detailed LCIA Methods'!$E$90,\"NA\")","v":-8.4506001578775206E-2},{"$f":"IFERROR('[25]Data Compilation'!S164/'[25]Detailed LCIA Methods'!$E$90,\"NA\")","v":-3.2457445149136725E-2},"NA","NA","NA",{"$f":"'[24]Data Compilation'!J138","v":-8.0072773242207784},{"$f":"IFERROR('[25]Data Compilation'!J164/'[25]Detailed LCIA Methods'!$E$90,\"NA\")","v":-3.2763121456231992},{"$f":"IFERROR('[25]Data Compilation'!T164/'[25]Detailed LCIA Methods'!$E$90,\"NA\")","v":-3.0901024316681642},"NA","NA","NA"]
[null,4,"High Grade Paper (Office Type Paper)","NA",{"$f":"IFERROR('[22]Data Compilation'!E177*-1,\"NA\")","v":512.69525272722433},{"$f":"IFERROR('[22]Data Compilation'!J177*-1,\"NA\")","v":506.37663608439124},"NA","NA","NA",{"$f":"'[24]Data Compilation'!E139","v":7.9577508127761168E-2},{"$f":"'[25]Data Compilation'!$E$162/'[25]Detailed LCIA Methods'!$E$90","v":0.33549911772002622},{"$f":"'[25]Data Compilation'!$O$162/'[25]Detailed LCIA Methods'!$E$90","v":0.7130593515846958},"NA","NA","NA",{"$f":"'[24]Data Compilation'!F139","v":0.16248569371827232},{"$f":"IFERROR('[25]Data Compilation'!F165/'[25]Detailed LCIA Methods'!$E$90,\"NA\")","v":-9.7643180854849146E-2},{"$f":"IFERROR('[25]Data Compilation'!P165/'[25]Detailed LCIA Methods'!$E$90,\"NA\")","v":0.49813899445117821},"NA","NA","NA",{"$f":"'[24]Data Compilation'!G139","v":"NA"},{"$f":"IFERROR('[25]Data Compilation'!G165/'[25]Detailed LCIA Methods'!$E$90,\"NA\")","v":0.26366453350151403},{"$f":"IFERROR('[25]Data Compilation'!Q165/'[25]Detailed LCIA Methods'!$E$90,\"NA\")","v":0.26329178574658069},"NA","NA","NA","NA",{"$f":"IFERROR('[25]Data Compilation'!H165/'[25]Detailed LCIA Methods'!$E$90,\"NA\")","v":0.23475315237059161},{"$f":"IFERROR('[25]Data Compilation'!R165/'[25]Detailed LCIA Methods'!$E$90,\"NA\")","v":0.31440866226003222},"NA","NA","NA",{"$f":"'[24]Data Compilation'!I139","v":-1.9672188555170633},{"$f":"IFERROR('[25]Data Compilation'!I165/'[25]Detailed LCIA Methods'!$E$90,\"NA\")","v":-0.50756284886509084},{"$f":"IFERROR('[25]Data Compilation'!S165/'[25]Detailed LCIA Methods'!$E$90,\"NA\")","v":-0.41369156646834471},"NA","NA","NA",{"$f":"'[24]Data Compilation'!J139","v":-7.4335850006060609},{"$f":"IFERROR('[25]Data Compilation'!J165/'[25]Detailed LCIA Methods'!$E$90,\"NA\")","v":-2.9432606456804753},{"$f":"IFERROR('[25]Data Compilation'!T165/'[25]Detailed LCIA Methods'!$E$90,\"NA\")","v":-2.7719745908661602},"NA","NA","NA"]
[null,5,"Magazines/third-class mail","NA",{"$f":"IFERROR('[22]Data Compilation'!E178*-1,\"NA\")","v":800.3020820892034},{"$f":"IFERROR('[22]Data Compilation'!J178*-1,\"NA\")","v":780.89973462491525},"NA","NA","NA",{"$f":"'[24]Data Compilation'!E140","v":7.9577508127761168E-2},{"$f":"'[25]Data Compilation'!$E$162/'[25]Detailed LCIA Methods'!$E$90","v":0.33549911772002622},{"$f":"'[25]Data Compilation'!$O$162/'[25]Detailed LCIA Methods'!$E$90","v":0.7130593515846958},"NA","NA","NA",{"$f":"'[24]Data Compilation'!F140","v":0.30035466690445434},{"$f":"IFERROR('[25]Data Compilation'!F166/'[25]Detailed LCIA Methods'!$E$90,\"NA\")","v":-3.1867829359558821},{"$f":"IFERROR('[25]Data Compilation'!P166/'[25]Detailed LCIA Methods'!$E$90,\"NA\")","v":-3.0784830679581461},"NA","NA","NA",{"$f":"'[24]Data Compilation'!G140","v":"NA"},{"$f":"IFERROR('[25]Data Compilation'!G166/'[25]Detailed LCIA Methods'!$E$90,\"NA\")","v":0.36281598858361891},{"$f":"IFERROR('[25]Data Compilation'!Q166/'[25]Detailed LCIA Methods'!$E$90,\"NA\")","v":0.36246091801522357},"NA","NA","NA","NA",{"$f":"IFERROR('[25]Data Compilation'!H166/'[25]Detailed LCIA Methods'!$E$90,\"NA\")","v":0.52116534749385068},{"$f":"IFERROR('[25]Data Compilation'!R166/'[25]Detailed LCIA Methods'!$E$90,\"NA\")","v":0.56144726628754371},"NA","NA","NA",{"$f":"'[24]Data Compilation'!I140","v":-0.72625351010521799},{"$f":"IFERROR('[25]Data Compilation'!I166/'[25]Detailed LCIA Methods'!$E$90,\"NA\")","v":0.19421355477994809},{"$f":"IFERROR('[25]Data Compilation'!S166/'[25]Detailed LCIA Methods'!$E$90,\"NA\")","v":0.2193340686107596},"NA","NA","NA",{"$f":"'[24]Data Compilation'!J140","v":-7.0089057851030923},{"$f":"IFERROR('[25]Data Compilation'!J166/'[25]Detailed LCIA Methods'!$E$90,\"NA\")","v":-2.9103404437687259},{"$f":"IFERROR('[25]Data Compilation'!T166/'[25]Detailed LCIA Methods'!$E$90,\"NA\")","v":-2.740422527485626},"NA","NA","NA"]
[null,6,"Books","NA",{"$f":"IFERROR('[22]Data Compilation'!E179*-1,\"NA\")","v":"NA"},{"$f":"IFERROR('[22]Data Compilation'!J179*-1,\"NA\")","v":"NA"},"NA","NA","NA",{"$f":"J188","v":7.9577508127761168E-2},{"$f":"K188","v":0.33549911772002622},0.7130593515846958,"NA","NA","NA","NA","NA","NA","NA","NA","NA","NA","NA","NA","NA","NA","NA","NA","NA","NA","NA","NA","NA",{"$f":"[29]Cost_LCI!$AA$18","v":-0.49761653852619531},"NA","NA","NA","NA","NA",{"$f":"[30]Cost_LCI!$AJ$18","v":-6.8559870183403353},"NA","NA","NA","NA","NA"]
[null,7,"Mixed Paper","NA",{"$f":"E195","v":89.180288097905745},{"$f":"F195","v":89.180288097905745},"NA","NA","NA",{"$f":"'[24]Data Compilation'!E141","v":7.9577508127761168E-2},{"$f":"'[25]Data Compilation'!$E$162/'[25]Detailed LCIA Methods'!$E$90","v":0.33549911772002622},{"$f":"'[25]Data Compilation'!$O$162/'[25]Detailed LCIA Methods'!$E$90","v":0.7130593515846958},"NA","NA","NA",{"$f":"'[24]Data Compilation'!F141","v":-5.0837362845958394},{"$f":"IFERROR('[25]Data Compilation'!F167/'[25]Detailed LCIA Methods'!$E$90,\"NA\")","v":-6.2569646336883036},{"$f":"IFERROR('[25]Data Compilation'!P167/'[25]Detailed LCIA Methods'!$E$90,\"NA\")","v":-6.0415433243051666},"NA","NA","NA",{"$f":"'[24]Data Compilation'!G141","v":"NA"},{"$f":"IFERROR('[25]Data Compilation'!G167/'[25]Detailed LCIA Methods'!$E$90,\"NA\")","v":0.38382918698815793},{"$f":"IFERROR('[25]Data Compilation'!Q167/'[25]Detailed LCIA Methods'!$E$90,\"NA\")","v":0.38349167718861771},"NA","NA","NA","NA",{"$f":"IFERROR('[25]Data Compilation'!H167/'[25]Detailed LCIA Methods'!$E$90,\"NA\")","v":0.55301390810221218},{"$f":"IFERROR('[25]Data Compilation'!R167/'[25]Detailed LCIA Methods'!$E$90,\"NA\")","v":0.58092577170125714},"NA","NA","NA",{"$f":"'[24]Data Compilation'!I141","v":-1.1590188121086897},{"$f":"IFERROR('[25]Data Compilation'!I167/'[25]Detailed LCIA Methods'!$E$90,\"NA\")","v":-6.1320401990159416E-2},{"$f":"IFERROR('[25]Data Compilation'!S167/'[25]Detailed LCIA Methods'!$E$90,\"NA\")","v":-1.191197928735644E-2},"NA","NA","NA",{"$f":"'[24]Data Compilation'!J141","v":-7.8151528201738705},{"$f":"IFERROR('[25]Data Compilation'!J167/'[25]Detailed LCIA Methods'!$E$90,\"NA\")","v":-3.3278069969441288},{"$f":"IFERROR('[25]Data Compilation'!T167/'[25]Detailed LCIA Methods'!$E$90,\"NA\")","v":-3.1390445613453619},"NA","NA","NA"]
["Plastic",8,"HDPE","NA",{"$f":"IFERROR('[22]Data Compilation'!E181*-1,\"NA\")","v":89.180288097905745},{"$f":"IFERROR('[22]Data Compilation'!J181*-1,\"NA\")","v":89.180288097905745},"NA","NA","NA",{"$f":"'[24]Data Compilation'!E142","v":7.9577508127761168E-2},{"$f":"'[25]Data Compilation'!$E$162/'[25]Detailed LCIA Methods'!$E$90","v":0.33549911772002622},{"$f":"'[25]Data Compilation'!$O$162/'[25]Detailed LCIA Methods'!$E$90","v":0.7130593515846958},"NA","NA","NA",{"$f":"'[24]Data Compilation'!F142","v":-7.0623268988244536},{"$f":"Q196","v":-12.484777971817072},{"$f":"R196","v":-12.463262122782327},"NA","NA","NA",{"$f":"'[24]Data Compilation'!G142","v":"NA"},{"$f":"IFERROR('[25]Data Compilation'!G168/'[25]Detailed LCIA Methods'!$E$90,\"NA\")","v":"NA"},{"$f":"IFERROR('[25]Data Compilation'!Q168/'[25]Detailed LCIA Methods'!$E$90,\"NA\")","v":"NA"},"NA","NA","NA","NA",{"$f":"IFERROR('[25]Data Compilation'!H168/'[25]Detailed LCIA Methods'!$E$90,\"NA\")","v":"NA"},{"$f":"IFERROR('[25]Data Compilation'!R168/'[25]Detailed LCIA Methods'!$E$90,\"NA\")","v":"NA"},"NA","NA","NA",{"$f":"'[24]Data Compilation'!I142","v":5.2701197494852574E-2},{"$f":"IFERROR('[25]Data Compilation'!I168/'[25]Detailed LCIA Methods'!$E$90,\"NA\")","v":0.43646900450216475},{"$f":"IFERROR('[25]Data Compilation'!S168/'[25]Detailed LCIA Methods'!$E$90,\"NA\")","v":0.43631573812582503},"NA","NA","NA",{"$f":"'[24]Data Compilation'!J142","v":-22.155271903442706},{"$f":"IFERROR('[25]Data Compilation'!J168/'[25]Detailed LCIA Methods'!$E$90,\"NA\")","v":-9.4918871733750727},{"$f":"IFERROR('[25]Data Compilation'!T168/'[25]Detailed LCIA Methods'!$E$90,\"NA\")","v":-8.9952770173989531},"NA","NA","NA"]
[null,9,"PET","NA",{"$f":"IFERROR('[22]Data Compilation'!E182*-1,\"NA\")","v":799.72879694607639},{"$f":"IFERROR('[22]Data Compilation'!J182*-1,\"NA\")","v":796.21093757319295},"NA","NA","NA",{"$f":"'[24]Data Compilation'!E143","v":7.9577508127761168E-2},{"$f":"'[25]Data Compilation'!$E$162/'[25]Detailed LCIA Methods'!$E$90","v":0.33549911772002622},{"$f":"'[25]Data Compilation'!$O$162/'[25]Detailed LCIA Methods'!$E$90","v":0.7130593515846958},"NA","NA","NA",{"$f":"'[24]Data Compilation'!F143","v":-28.301234931585356},{"$f":"IFERROR('[25]Data Compilation'!F169/'[25]Detailed LCIA Methods'!$E$90,\"NA\")","v":-12.484777971817072},{"$f":"IFERROR('[25]Data Compilation'!P169/'[25]Detailed LCIA Methods'!$E$90,\"NA\")","v":-12.463262122782327},"NA","NA","NA",{"$f":"'[24]Data Compilation'!G143","v":"NA"},{"$f":"IFERROR('[25]Data Compilation'!G169/'[25]Detailed LCIA Methods'!$E$90,\"NA\")","v":"NA"},{"$f":"IFERROR('[25]Data Compilation'!Q169/'[25]Detailed LCIA Methods'!$E$90,\"NA\")","v":"NA"},"NA","NA","NA","NA",{"$f":"IFERROR('[25]Data Compilation'!H169/'[25]Detailed LCIA Methods'!$E$90,\"NA\")","v":"NA"},{"$f":"IFERROR('[25]Data Compilation'!R169/'[25]Detailed LCIA Methods'!$E$90,\"NA\")","v":"NA"},"NA","NA","NA",{"$f":"'[24]Data Compilation'!I143","v":5.2701197494852574E-2},{"$f":"IFERROR('[25]Data Compilation'!I169/'[25]Detailed LCIA Methods'!$E$90,\"NA\")","v":0.43646900450216475},{"$f":"IFERROR('[25]Data Compilation'!S169/'[25]Detailed LCIA Methods'!$E$90,\"NA\")","v":0.43646900450216475},"NA","NA","NA",{"$f":"'[24]Data Compilation'!J143","v":-25.3161809943518},{"$f":"IFERROR('[25]Data Compilation'!J169/'[25]Detailed LCIA Methods'!$E$90,\"NA\")","v":-9.4918871733750727},{"$f":"IFERROR('[25]Data Compilation'!T169/'[25]Detailed LCIA Methods'!$E$90,\"NA\")","v":-8.9952770173989531},"NA","NA","NA"]
[null,10,"Mixed Plastic","NA",{"$f":"IFERROR('[22]Data Compilation'!E183*-1,\"NA\")","v":"NA"},{"$f":"IFERROR('[22]Data Compilation'!J183*-1,\"NA\")","v":"NA"},"NA","NA","NA",{"$f":"'[24]Data Compilation'!E144","v":7.9577508127761168E-2},{"$f":"'[25]Data Compilation'!$E$162/'[25]Detailed LCIA Methods'!$E$90","v":0.33549911772002622},{"$f":"'[25]Data Compilation'!$O$162/'[25]Detailed LCIA Methods'!$E$90","v":0.7130593515846958},"NA","NA","NA",{"$f":"'[24]Data Compilation'!F144","v":-17.681780915204904},{"$f":"IFERROR('[25]Data Compilation'!F170/'[25]Detailed LCIA Methods'!$E$90,\"NA\")","v":"NA"},{"$f":"IFERROR('[25]Data Compilation'!P170/'[25]Detailed LCIA Methods'!$E$90,\"NA\")","v":"NA"},"NA","NA","NA",{"$f":"'[24]Data Compilation'!G144","v":"NA"},{"$f":"IFERROR('[25]Data Compilation'!G170/'[25]Detailed LCIA Methods'!$E$90,\"NA\")","v":"NA"},{"$f":"IFERROR('[25]Data Compilation'!Q170/'[25]Detailed LCIA Methods'!$E$90,\"NA\")","v":"NA"},"NA","NA","NA","NA",{"$f":"IFERROR('[25]Data Compilation'!H170/'[25]Detailed LCIA Methods'!$E$90,\"NA\")","v":"NA"},{"$f":"IFERROR('[25]Data Compilation'!R170/'[25]Detailed LCIA Methods'!$E$90,\"NA\")","v":"NA"},"NA","NA","NA",{"$f":"'[24]Data Compilation'!I144","v":5.2701197494852574E-2},{"$f":"IFERROR('[25]Data Compilation'!I170/'[25]Detailed LCIA Methods'!$E$90,\"NA\")","v":0.43646900451976417},{"$f":"IFERROR('[25]Data Compilation'!S170/'[25]Detailed LCIA Methods'!$E$90,\"NA\")","v":0.43646900451976417},"NA","NA","NA",{"$f":"'[24]Data Compilation'!J144","v":-23.735726448897253},{"$f":"IFERROR('[25]Data Compilation'!J170/'[25]Detailed LCIA Methods'!$E$90,\"NA\")","v":-9.9957848989835849},{"$f":"IFERROR('[25]Data Compilation'!T170/'[25]Detailed LCIA Methods'!$E$90,\"NA\")","v":-9.4736025192580335},"NA","NA","NA"]
["Glass",11,"Glass","NA",{"$f":"IFERROR('[22]Data Compilation'!E184*-1,\"NA\")","v":121.74562089524848},{"$f":"IFERROR('[22]Data Compilation'!J184*-1,\"NA\")","v":120.89727557724925},"NA","NA","NA",{"$f":"'[24]Data Compilation'!E145","v":7.9577508127761168E-2},{"$f":"'[25]Data Compilation'!$E$162/'[25]Detailed LCIA Methods'!$E$90","v":0.33549911772002622},{"$f":"'[25]Data Compilation'!$O$162/'[25]Detailed LCIA Methods'!$E$90","v":0.7130593515846958},"NA","NA","NA",{"$f":"'[24]Data Compilation'!F145","v":-1.519604171386306},{"$f":"IFERROR('[25]Data Compilation'!F171/'[25]Detailed LCIA Methods'!$E$90,\"NA\")","v":-0.56797834336538844},{"$f":"IFERROR('[25]Data Compilation'!P171/'[25]Detailed LCIA Methods'!$E$90,\"NA\")","v":-0.56137338531384928},"NA","NA","NA",{"$f":"'[24]Data Compilation'!G145","v":"NA"},{"$f":"IFERROR('[25]Data Compilation'!G171/'[25]Detailed LCIA Methods'!$E$90,\"NA\")","v":"NA"},{"$f":"IFERROR('[25]Data Compilation'!Q171/'[25]Detailed LCIA Methods'!$E$90,\"NA\")","v":"NA"},"NA","NA","NA","NA",{"$f":"IFERROR('[25]Data Compilation'!H171/'[25]Detailed LCIA Methods'!$E$90,\"NA\")","v":"NA"},{"$f":"IFERROR('[25]Data Compilation'!R171/'[25]Detailed LCIA Methods'!$E$90,\"NA\")","v":"NA"},"NA","NA","NA",{"$f":"'[24]Data Compilation'!I145","v":5.2701197494852574E-2},{"$f":"IFERROR('[25]Data Compilation'!I171/'[25]Detailed LCIA Methods'!$E$90,\"NA\")","v":0.43646900450483772},{"$f":"IFERROR('[25]Data Compilation'!S171/'[25]Detailed LCIA Methods'!$E$90,\"NA\")","v":0.43646900450483772},"NA","NA","NA",{"$f":"'[24]Data Compilation'!J145","v":0.10084893535353537},{"$f":"IFERROR('[25]Data Compilation'!J171/'[25]Detailed LCIA Methods'!$E$90,\"NA\")","v":0.60045959847847763},{"$f":"IFERROR('[25]Data Compilation'!T171/'[25]Detailed LCIA Methods'!$E$90,\"NA\")","v":0.5954903172799092},"NA","NA","NA"]
["Metals",12,"Aluminum Cans","NA",{"$f":"IFERROR('[22]Data Compilation'!E185*-1,\"NA\")","v":5902.0043464937899},{"$f":"IFERROR('[22]Data Compilation'!J185*-1,\"NA\")","v":5688.2267384493325},"NA","NA","NA",{"$f":"'[24]Data Compilation'!E146","v":7.9577508127761168E-2},{"$f":"'[25]Data Compilation'!$E$162/'[25]Detailed LCIA Methods'!$E$90","v":0.33549911772002622},{"$f":"'[25]Data Compilation'!$O$162/'[25]Detailed LCIA Methods'!$E$90","v":0.7130593515846958},"NA","NA","NA",{"$f":"'[24]Data Compilation'!F146","v":-98.929885846138234},{"$f":"IFERROR('[25]Data Compilation'!F172/'[25]Detailed LCIA Methods'!$E$90,\"NA\")","v":-91.547527043898157},{"$f":"IFERROR('[25]Data Compilation'!P172/'[25]Detailed LCIA Methods'!$E$90,\"NA\")","v":-87.841594970255926},"NA","NA","NA",{"$f":"'[24]Data Compilation'!G146","v":"NA"},{"$f":"IFERROR('[25]Data Compilation'!G172/'[25]Detailed LCIA Methods'!$E$90,\"NA\")","v":"NA"},{"$f":"IFERROR('[25]Data Compilation'!Q172/'[25]Detailed LCIA Methods'!$E$90,\"NA\")","v":"NA"},"NA","NA","NA","NA",{"$f":"IFERROR('[25]Data Compilation'!H172/'[25]Detailed LCIA Methods'!$E$90,\"NA\")","v":"NA"},{"$f":"IFERROR('[25]Data Compilation'!R172/'[25]Detailed LCIA Methods'!$E$90,\"NA\")","v":"NA"},"NA","NA","NA",{"$f":"'[24]Data Compilation'!I146","v":5.2701197494852574E-2},{"$f":"IFERROR('[25]Data Compilation'!I172/'[25]Detailed LCIA Methods'!$E$90,\"NA\")","v":0.43646900450563775},{"$f":"IFERROR('[25]Data Compilation'!S172/'[25]Detailed LCIA Methods'!$E$90,\"NA\")","v":0.43646900450563775},"NA","NA","NA",{"$f":"'[24]Data Compilation'!J146","v":0.27617817581475129},{"$f":"IFERROR('[25]Data Compilation'!J172/'[25]Detailed LCIA Methods'!$E$90,\"NA\")","v":-44.852269504768302},{"$f":"IFERROR('[25]Data Compilation'!T172/'[25]Detailed LCIA Methods'!$E$90,\"NA\")","v":-43.017491922762837},"NA","NA","NA"]
[null,13,"Steel/Tin Cans","NA",{"$f":"IFERROR('[22]Data Compilation'!E186*-1,\"NA\")","v":940.66229028041516},{"$f":"IFERROR('[22]Data Compilation'!J186*-1,\"NA\")","v":912.65471758091996},"NA","NA","NA",{"$f":"'[24]Data Compilation'!E147","v":7.9577508127761168E-2},{"$f":"'[25]Data Compilation'!$E$162/'[25]Detailed LCIA Methods'!$E$90","v":0.33549911772002622},{"$f":"'[25]Data Compilation'!$O$162/'[25]Detailed LCIA Methods'!$E$90","v":0.7130593515846958},"NA","NA","NA",{"$f":"'[24]Data Compilation'!F147","v":-1.3212705635367266},{"$f":"IFERROR('[25]Data Compilation'!F173/'[25]Detailed LCIA Methods'!$E$90,\"NA\")","v":-6.7820761053638527},{"$f":"IFERROR('[25]Data Compilation'!P173/'[25]Detailed LCIA Methods'!$E$90,\"NA\")","v":-6.5694868499810717},"NA","NA","NA",{"$f":"'[24]Data Compilation'!G147","v":"NA"},{"$f":"IFERROR('[25]Data Compilation'!G173/'[25]Detailed LCIA Methods'!$E$90,\"NA\")","v":"NA"},{"$f":"IFERROR('[25]Data Compilation'!Q173/'[25]Detailed LCIA Methods'!$E$90,\"NA\")","v":"NA"},"NA","NA","NA","NA",{"$f":"IFERROR('[25]Data Compilation'!H173/'[25]Detailed LCIA Methods'!$E$90,\"NA\")","v":"NA"},{"$f":"IFERROR('[25]Data Compilation'!R173/'[25]Detailed LCIA Methods'!$E$90,\"NA\")","v":"NA"},"NA","NA","NA",{"$f":"'[24]Data Compilation'!I147","v":5.2701197494852574E-2},{"$f":"IFERROR('[25]Data Compilation'!I173/'[25]Detailed LCIA Methods'!$E$90,\"NA\")","v":0.43646900450090315},{"$f":"IFERROR('[25]Data Compilation'!S173/'[25]Detailed LCIA Methods'!$E$90,\"NA\")","v":0.43646900450090315},"NA","NA","NA",{"$f":"'[24]Data Compilation'!J147","v":-4.3986847999999998},{"$f":"IFERROR('[25]Data Compilation'!J173/'[25]Detailed LCIA Methods'!$E$90,\"NA\")","v":-5.3161855083398253},{"$f":"IFERROR('[25]Data Compilation'!T173/'[25]Detailed LCIA Methods'!$E$90,\"NA\")","v":-5.1364981455494076},"NA","NA","NA"]
[null,14,"Mixed Metals","NA",{"$f":"IFERROR('[22]Data Compilation'!E187*-1,\"NA\")","v":3421.3333183871027},{"$f":"IFERROR('[22]Data Compilation'!J187*-1,\"NA\")","v":3300.4407280151263},"NA","NA","NA",{"$f":"'[24]Data Compilation'!E148","v":7.9577508127761168E-2},{"$f":"'[25]Data Compilation'!$E$162/'[25]Detailed LCIA Methods'!$E$90","v":0.33549911772002622},{"$f":"'[25]Data Compilation'!$O$162/'[25]Detailed LCIA Methods'!$E$90","v":0.7130593515846958},"NA","NA","NA",{"$f":"'[24]Data Compilation'!F148","v":-50.092597891089405},{"$f":"IFERROR('[25]Data Compilation'!F174/'[25]Detailed LCIA Methods'!$E$90,\"NA\")","v":-49.164801574631007},{"$f":"IFERROR('[25]Data Compilation'!P174/'[25]Detailed LCIA Methods'!$E$90,\"NA\")","v":-47.201918278192665},"NA","NA","NA",{"$f":"'[24]Data Compilation'!G148","v":"NA"},{"$f":"IFERROR('[25]Data Compilation'!G174/'[25]Detailed LCIA Methods'!$E$90,\"NA\")","v":"NA"},{"$f":"IFERROR('[25]Data Compilation'!Q174/'[25]Detailed LCIA Methods'!$E$90,\"NA\")","v":"NA"},"NA","NA","NA","NA",{"$f":"IFERROR('[25]Data Compilation'!H174/'[25]Detailed LCIA Methods'!$E$90,\"NA\")","v":"NA"},{"$f":"IFERROR('[25]Data Compilation'!R174/'[25]Detailed LCIA Methods'!$E$90,\"NA\")","v":"NA"},"NA","NA","NA",{"$f":"'[24]Data Compilation'!I148","v":5.2701197494852574E-2},{"$f":"IFERROR('[25]Data Compilation'!I174/'[25]Detailed LCIA Methods'!$E$90,\"NA\")","v":0.43646900450327047},{"$f":"IFERROR('[25]Data Compilation'!S174/'[25]Detailed LCIA Methods'!$E$90,\"NA\")","v":0.43646900450327047},"NA","NA","NA",{"$f":"'[24]Data Compilation'!J148","v":-1.8288380348198974},{"$f":"IFERROR('[25]Data Compilation'!J174/'[25]Detailed LCIA Methods'!$E$90,\"NA\")","v":-47.110282708071786},{"$f":"IFERROR('[25]Data Compilation'!T174/'[25]Detailed LCIA Methods'!$E$90,\"NA\")","v":-45.208296211871115},"NA","NA","NA"]
["Organic",15,"Yard Waste","NA",{"$f":"IFERROR('[22]Data Compilation'!E188*-1,\"NA\")","v":"NA"},{"$f":"IFERROR('[22]Data Compilation'!J188*-1,\"NA\")","v":"NA"},"NA","NA","NA",{"$f":"'[24]Data Compilation'!E149","v":7.9577508127761168E-2},{"$f":"'[25]Data Compilation'!$E$162/'[25]Detailed LCIA Methods'!$E$90","v":0.33549911772002622},{"$f":"'[25]Data Compilation'!$O$162/'[25]Detailed LCIA Methods'!$E$90","v":0.7130593515846958},"NA","NA","NA",{"$f":"'[24]Data Compilation'!F149","v":"NA"},{"$f":"IFERROR('[25]Data Compilation'!F175/'[25]Detailed LCIA Methods'!$E$90,\"NA\")","v":"NA"},{"$f":"IFERROR('[25]Data Compilation'!P175/'[25]Detailed LCIA Methods'!$E$90,\"NA\")","v":"NA"},"NA","NA","NA",{"$f":"'[24]Data Compilation'!G149","v":0.23676656752724154},{"$f":"IFERROR('[25]Data Compilation'!G175/'[25]Detailed LCIA Methods'!$E$90,\"NA\")","v":1.0302524934548207},{"$f":"IFERROR('[25]Data Compilation'!Q175/'[25]Detailed LCIA Methods'!$E$90,\"NA\")","v":1.0320151420163017},"NA","NA","NA","NA",{"$f":"IFERROR('[25]Data Compilation'!H175/'[25]Detailed LCIA Methods'!$E$90,\"NA\")","v":0.62568689841409508},{"$f":"IFERROR('[25]Data Compilation'!R175/'[25]Detailed LCIA Methods'!$E$90,\"NA\")","v":0.63703222881239052},"NA","NA","NA",{"$f":"'[24]Data Compilation'!I149","v":-0.2529201573175312},{"$f":"IFERROR('[25]Data Compilation'!I175/'[25]Detailed LCIA Methods'!$E$90,\"NA\")","v":0.40881983273860673},{"$f":"IFERROR('[25]Data Compilation'!S175/'[25]Detailed LCIA Methods'!$E$90,\"NA\")","v":0.40881983273860667},"NA","NA","NA",{"$f":"'[24]Data Compilation'!J149","v":-4.2881631552039012},{"$f":"IFERROR('[25]Data Compilation'!J175/'[25]Detailed LCIA Methods'!$E$90,\"NA\")","v":-1.5101831497643028},{"$f":"IFERROR('[25]Data Compilation'!T175/'[25]Detailed LCIA Methods'!$E$90,\"NA\")","v":-1.4197720324508512},"NA","NA","NA"]
[null,16,"Food Waste","NA",{"$f":"IFERROR('[22]Data Compilation'!E189*-1,\"NA\")","v":"NA"},{"$f":"IFERROR('[22]Data Compilation'!J189*-1,\"NA\")","v":"NA"},"NA","NA","NA",{"$f":"'[24]Data Compilation'!E150","v":7.9577508127761168E-2},{"$f":"'[25]Data Compilation'!$E$162/'[25]Detailed LCIA Methods'!$E$90","v":0.33549911772002622},{"$f":"'[25]Data Compilation'!$O$162/'[25]Detailed LCIA Methods'!$E$90","v":0.7130593515846958},"NA","NA","NA",{"$f":"'[24]Data Compilation'!F150","v":"NA"},{"$f":"IFERROR('[25]Data Compilation'!F176/'[25]Detailed LCIA Methods'!$E$90,\"NA\")","v":"NA"},{"$f":"IFERROR('[25]Data Compilation'!P176/'[25]Detailed LCIA Methods'!$E$90,\"NA\")","v":"NA"},"NA","NA","NA",{"$f":"'[24]Data Compilation'!G150","v":0.24690849410058094},{"$f":"IFERROR('[25]Data Compilation'!G176/'[25]Detailed LCIA Methods'!$E$90,\"NA\")","v":1.7210692087777932},{"$f":"IFERROR('[25]Data Compilation'!Q176/'[25]Detailed LCIA Methods'!$E$90,\"NA\")","v":1.7207864479395081},"NA","NA","NA","NA",{"$f":"IFERROR('[25]Data Compilation'!H176/'[25]Detailed LCIA Methods'!$E$90,\"NA\")","v":0.2815655881717673},{"$f":"IFERROR('[25]Data Compilation'!R176/'[25]Detailed LCIA Methods'!$E$90,\"NA\")","v":0.378865210417624},"NA","NA","NA",{"$f":"'[24]Data Compilation'!I150","v":-0.66069217972193983},{"$f":"IFERROR('[25]Data Compilation'!I176/'[25]Detailed LCIA Methods'!$E$90,\"NA\")","v":0.11292023535369276},{"$f":"IFERROR('[25]Data Compilation'!S176/'[25]Detailed LCIA Methods'!$E$90,\"NA\")","v":0.11292023535369276},"NA","NA","NA",{"$f":"'[24]Data Compilation'!J150","v":-1.7268768457096142},{"$f":"IFERROR('[25]Data Compilation'!J176/'[25]Detailed LCIA Methods'!$E$90,\"NA\")","v":-1.5203748784127911},{"$f":"IFERROR('[25]Data Compilation'!T176/'[25]Detailed LCIA Methods'!$E$90,\"NA\")","v":-1.4425604610841987},"NA","NA","NA"]
["Other ",17,"Tires","NA",{"$f":"IFERROR('[22]Data Compilation'!E190*-1,\"NA\")","v":"NA"},{"$f":"IFERROR('[22]Data Compilation'!J190*-1,\"NA\")","v":"NA"},"NA","NA","NA","NA",{"$f":"'[25]Data Compilation'!$E$162/'[25]Detailed LCIA Methods'!$E$90","v":0.33549911772002622},{"$f":"'[25]Data Compilation'!$O$162/'[25]Detailed LCIA Methods'!$E$90","v":0.7130593515846958},"NA","NA","NA",{"$f":"'[24]Data Compilation'!F151","v":"NA"},{"$f":"IFERROR('[25]Data Compilation'!F177/'[25]Detailed LCIA Methods'!$E$90,\"NA\")","v":"NA"},{"$f":"IFERROR('[25]Data Compilation'!P177/'[25]Detailed LCIA Methods'!$E$90,\"NA\")","v":"NA"},"NA","NA","NA",{"$f":"'[24]Data Compilation'!G151","v":"NA"},{"$f":"IFERROR('[25]Data Compilation'!G177/'[25]Detailed LCIA Methods'!$E$90,\"NA\")","v":"NA"},{"$f":"IFERROR('[25]Data Compilation'!Q177/'[25]Detailed LCIA Methods'!$E$90,\"NA\")","v":"NA"},"NA","NA","NA","NA",{"$f":"IFERROR('[25]Data Compilation'!H177/'[25]Detailed LCIA Methods'!$E$90,\"NA\")","v":"NA"},{"$f":"IFERROR('[25]Data Compilation'!R177/'[25]Detailed LCIA Methods'!$E$90,\"NA\")","v":"NA"},"NA","NA","NA",{"$f":"'[24]Data Compilation'!I151","v":"NA"},{"$f":"IFERROR('[25]Data Compilation'!I177/'[25]Detailed LCIA Methods'!$E$90,\"NA\")","v":0.43646900451687909},{"$f":"IFERROR('[25]Data Compilation'!S177/'[25]Detailed LCIA Methods'!$E$90,\"NA\")","v":0.43646900451687909},"NA","NA","NA",{"$f":"'[24]Data Compilation'!J151","v":"NA"},{"$f":"IFERROR('[25]Data Compilation'!J177/'[25]Detailed LCIA Methods'!$E$90,\"NA\")","v":-6.6708055726297397},{"$f":"IFERROR('[25]Data Compilation'!T177/'[25]Detailed LCIA Methods'!$E$90,\"NA\")","v":-6.3137234492993501},"NA","NA","NA"]
[null,18,"Clothing and Footwear","NA",{"$f":"IFERROR('[22]Data Compilation'!E191*-1,\"NA\")","v":"NA"},{"$f":"IFERROR('[22]Data Compilation'!J191*-1,\"NA\")","v":"NA"},"NA","NA",{"$f":"'[31]Summary Table'!T3","v":"NA"},"NA",{"$f":"'[25]Data Compilation'!$E$162/'[25]Detailed LCIA Methods'!$E$90","v":0.33549911772002622},{"$f":"'[25]Data Compilation'!$O$162/'[25]Detailed LCIA Methods'!$E$90","v":0.7130593515846958},"NA","NA","NA",{"$f":"'[24]Data Compilation'!F152","v":"NA"},{"$f":"IFERROR('[25]Data Compilation'!F178/'[25]Detailed LCIA Methods'!$E$90,\"NA\")","v":"NA"},{"$f":"IFERROR('[25]Data Compilation'!P178/'[25]Detailed LCIA Methods'!$E$90,\"NA\")","v":"NA"},"NA","NA","NA",{"$f":"'[24]Data Compilation'!G152","v":"NA"},{"$f":"IFERROR('[25]Data Compilation'!G178/'[25]Detailed LCIA Methods'!$E$90,\"NA\")","v":4.0338548120764184},{"$f":"IFERROR('[25]Data Compilation'!Q178/'[25]Detailed LCIA Methods'!$E$90,\"NA\")","v":4.0334360184704057},"NA","NA","NA","NA",{"$f":"IFERROR('[25]Data Compilation'!H178/'[25]Detailed LCIA Methods'!$E$90,\"NA\")","v":1.5888087770599932},{"$f":"IFERROR('[25]Data Compilation'!R178/'[25]Detailed LCIA Methods'!$E$90,\"NA\")","v":1.5950347029572829},"NA","NA","NA",{"$f":"'[24]Data Compilation'!I152","v":"NA"},{"$f":"IFERROR('[25]Data Compilation'!I178/'[25]Detailed LCIA Methods'!$E$90,\"NA\")","v":0.11874324709985344},{"$f":"IFERROR('[25]Data Compilation'!S178/'[25]Detailed LCIA Methods'!$E$90,\"NA\")","v":0.11874324709985344},"NA","NA","NA",{"$f":"'[24]Data Compilation'!J152","v":"NA"},{"$f":"IFERROR('[25]Data Compilation'!J178/'[25]Detailed LCIA Methods'!$E$90,\"NA\")","v":-5.1673235575906773},{"$f":"IFERROR('[25]Data Compilation'!T178/'[25]Detailed LCIA Methods'!$E$90,\"NA\")","v":-4.88484677504694},"NA","NA","NA"]
[null,19,"Furniture","NA",{"$f":"IFERROR('[22]Data Compilation'!E192*-1,\"NA\")","v":"NA"},{"$f":"IFERROR('[22]Data Compilation'!J192*-1,\"NA\")","v":"NA"},"NA","NA",{"$f":"'[31]Summary Table'!T4","v":1.0522425959423833},"NA","NA","NA","NA","NA","NA","NA","NA","NA","NA","NA",{"$f":"[32]Summary!$F$25","v":-11.284293324266782},"NA","NA","NA","NA","NA","NA","NA","NA","NA","NA","NA","NA","NA","NA","NA","NA","NA",{"$f":"[32]Summary!$F$26","v":0.3915702455850959},"NA","NA","NA","NA","NA",{"$f":"[32]Summary!$F$27","v":-8.5110629793078481}]
[null,20,"Electronics","NA",{"$f":"IFERROR('[22]Data Compilation'!E193*-1,\"NA\")","v":"NA"},{"$f":"IFERROR('[22]Data Compilation'!J193*-1,\"NA\")","v":"NA"},"NA","NA",{"$f":"'[31]Summary Table'!T5","v":35.04907142857143},"NA",{"$f":"'[25]Data Compilation'!$E$162/'[25]Detailed LCIA Methods'!$E$90","v":0.33549911772002622},{"$f":"'[25]Data Compilation'!$O$162/'[25]Detailed LCIA Methods'!$E$90","v":0.7130593515846958},"NA","NA","NA",{"$f":"'[24]Data Compilation'!F153","v":"NA"},{"$f":"IFERROR('[25]Data Compilation'!F179/'[25]Detailed LCIA Methods'!$E$90,\"NA\")","v":"NA"},{"$f":"IFERROR('[25]Data Compilation'!P179/'[25]Detailed LCIA Methods'!$E$90,\"NA\")","v":"NA"},"NA","NA","NA",{"$f":"'[24]Data Compilation'!G153","v":"NA"},{"$f":"IFERROR('[25]Data Compilation'!G179/'[25]Detailed LCIA Methods'!$E$90,\"NA\")","v":"NA"},{"$f":"IFERROR('[25]Data Compilation'!Q179/'[25]Detailed LCIA Methods'!$E$90,\"NA\")","v":"NA"},"NA","NA","NA","NA",{"$f":"IFERROR('[25]Data Compilation'!H179/'[25]Detailed LCIA Methods'!$E$90,\"NA\")","v":"NA"},{"$f":"IFERROR('[25]Data Compilation'!R179/'[25]Detailed LCIA Methods'!$E$90,\"NA\")","v":"NA"},"NA","NA","NA",{"$f":"'[24]Data Compilation'!I153","v":"NA"},{"$f":"IFERROR('[25]Data Compilation'!I179/'[25]Detailed LCIA Methods'!$E$90,\"NA\")","v":0.43646900452009774},{"$f":"IFERROR('[25]Data Compilation'!S179/'[25]Detailed LCIA Methods'!$E$90,\"NA\")","v":0.43646900452009774},"NA","NA","NA",{"$f":"'[24]Data Compilation'!J153","v":"NA"},{"$f":"IFERROR('[25]Data Compilation'!J179/'[25]Detailed LCIA Methods'!$E$90,\"NA\")","v":0.53791747074317886},{"$f":"IFERROR('[25]Data Compilation'!T179/'[25]Detailed LCIA Methods'!$E$90,\"NA\")","v":0.57452595536300743},"NA","NA","NA"]
["C&D Debris",21,"Wood Products","NA",{"$f":"IFERROR('[22]Data Compilation'!E194*-1,\"NA\")","v":"NA"},{"$f":"IFERROR('[22]Data Compilation'!J194*-1,\"NA\")","v":"NA"},"NA","NA","NA","NA","NA","NA","NA","NA","NA",{"$f":"'[24]Data Compilation'!F154","v":"NA"},{"$f":"IFERROR('[25]Data Compilation'!F180/'[25]Detailed LCIA Methods'!$E$90,\"NA\")","v":"NA"},{"$f":"IFERROR('[25]Data Compilation'!P180/'[25]Detailed LCIA Methods'!$E$90,\"NA\")","v":"NA"},"NA","NA","NA",{"$f":"'[24]Data Compilation'!G154","v":"NA"},{"$f":"IFERROR('[25]Data Compilation'!G180/'[25]Detailed LCIA Methods'!$E$90,\"NA\")","v":1.0204843309584575},{"$f":"IFERROR('[25]Data Compilation'!Q180/'[25]Detailed LCIA Methods'!$E$90,\"NA\")","v":1.0200796058645578},"NA","NA","NA","NA",{"$f":"IFERROR('[25]Data Compilation'!H180/'[25]Detailed LCIA Methods'!$E$90,\"NA\")","v":1.044162127252418},{"$f":"IFERROR('[25]Data Compilation'!R180/'[25]Detailed LCIA Methods'!$E$90,\"NA\")","v":1.0207897404094275},"NA","NA","NA",{"$f":"'[24]Data Compilation'!I154","v":"NA"},{"$f":"IFERROR('[25]Data Compilation'!I180/'[25]Detailed LCIA Methods'!$E$90,\"NA\")","v":0.38363895782737495},{"$f":"IFERROR('[25]Data Compilation'!S180/'[25]Detailed LCIA Methods'!$E$90,\"NA\")","v":0.38363895782737495},"NA","NA","NA",{"$f":"'[24]Data Compilation'!J154","v":"NA"},{"$f":"IFERROR('[25]Data Compilation'!J180/'[25]Detailed LCIA Methods'!$E$90,\"NA\")","v":-4.3139750969286919},{"$f":"IFERROR('[25]Data Compilation'!T180/'[25]Detailed LCIA Methods'!$E$90,\"NA\")","v":-4.0760199989406747},"NA","NA","NA"]
[null,22,"Asphalt Shingles","NA",{"$f":"IFERROR('[22]Data Compilation'!E195*-1,\"NA\")","v":"NA"},{"$f":"IFERROR('[22]Data Compilation'!J195*-1,\"NA\")","v":"NA"},"NA","NA","NA","NA","NA","NA","NA","NA","NA",{"$f":"'[24]Data Compilation'!F155","v":"NA"},{"$f":"IFERROR('[25]Data Compilation'!F181/'[25]Detailed LCIA Methods'!$E$90,\"NA\")","v":"NA"},{"$f":"IFERROR('[25]Data Compilation'!P181/'[25]Detailed LCIA Methods'!$E$90,\"NA\")","v":"NA"},"NA","NA","NA",{"$f":"'[24]Data Compilation'!G155","v":"NA"},{"$f":"IFERROR('[25]Data Compilation'!G181/'[25]Detailed LCIA Methods'!$E$90,\"NA\")","v":"NA"},{"$f":"IFERROR('[25]Data Compilation'!Q181/'[25]Detailed LCIA Methods'!$E$90,\"NA\")","v":"NA"},"NA","NA","NA","NA",{"$f":"IFERROR('[25]Data Compilation'!H181/'[25]Detailed LCIA Methods'!$E$90,\"NA\")","v":"NA"},{"$f":"IFERROR('[25]Data Compilation'!R181/'[25]Detailed LCIA Methods'!$E$90,\"NA\")","v":"NA"},"NA","NA","NA",{"$f":"'[24]Data Compilation'!I155","v":"NA"},{"$f":"IFERROR('[25]Data Compilation'!I181/'[25]Detailed LCIA Methods'!$E$90,\"NA\")","v":"NA"},{"$f":"IFERROR('[25]Data Compilation'!S181/'[25]Detailed LCIA Methods'!$E$90,\"NA\")","v":"NA"},"NA","NA","NA",{"$f":"'[24]Data Compilation'!J155","v":"NA"},{"$f":"IFERROR('[25]Data Compilation'!J181/'[25]Detailed LCIA Methods'!$E$90,\"NA\")","v":"NA"},{"$f":"IFERROR('[25]Data Compilation'!T181/'[25]Detailed LCIA Methods'!$E$90,\"NA\")","v":"NA"},"NA","NA","NA"]
[null,23,"Gypsum Drywall","NA",{"$f":"IFERROR('[22]Data Compilation'!E196*-1,\"NA\")","v":"NA"},{"$f":"IFERROR('[22]Data Compilation'!J196*-1,\"NA\")","v":"NA"},"NA","NA","NA","NA","NA","NA","NA","NA","NA",{"$f":"'[24]Data Compilation'!F156","v":"NA"},{"$f":"IFERROR('[25]Data Compilation'!F182/'[25]Detailed LCIA Methods'!$E$90,\"NA\")","v":"NA"},{"$f":"IFERROR('[25]Data Compilation'!P182/'[25]Detailed LCIA Methods'!$E$90,\"NA\")","v":"NA"},"NA","NA","NA",{"$f":"'[24]Data Compilation'!G156","v":"NA"},{"$f":"IFERROR('[25]Data Compilation'!G182/'[25]Detailed LCIA Methods'!$E$90,\"NA\")","v":"NA"},{"$f":"IFERROR('[25]Data Compilation'!Q182/'[25]Detailed LCIA Methods'!$E$90,\"NA\")","v":"NA"},"NA","NA","NA","NA",{"$f":"IFERROR('[25]Data Compilation'!H182/'[25]Detailed LCIA Methods'!$E$90,\"NA\")","v":"NA"},{"$f":"IFERROR('[25]Data Compilation'!R182/'[25]Detailed LCIA Methods'!$E$90,\"NA\")","v":"NA"},"NA","NA","NA",{"$f":"'[24]Data Compilation'!I156","v":"NA"},{"$f":"IFERROR('[25]Data Compilation'!I182/'[25]Detailed LCIA Methods'!$E$90,\"NA\")","v":"NA"},{"$f":"IFERROR('[25]Data Compilation'!S182/'[25]Detailed LCIA Methods'!$E$90,\"NA\")","v":"NA"},"NA","NA","NA",{"$f":"'[24]Data Compilation'!J156","v":"NA"},{"$f":"IFERROR('[25]Data Compilation'!J182/'[25]Detailed LCIA Methods'!$E$90,\"NA\")","v":"NA"},{"$f":"IFERROR('[25]Data Compilation'!T182/'[25]Detailed LCIA Methods'!$E$90,\"NA\")","v":"NA"},"NA","NA","NA"]
[null,24,"Concrete","NA",{"$f":"IFERROR('[22]Data Compilation'!E197*-1,\"NA\")","v":"NA"},{"$f":"IFERROR('[22]Data Compilation'!J197*-1,\"NA\")","v":"NA"},"NA","NA","NA","NA","NA","NA","NA","NA","NA",{"$f":"'[24]Data Compilation'!F157","v":"NA"},{"$f":"IFERROR('[25]Data Compilation'!F183/'[25]Detailed LCIA Methods'!$E$90,\"NA\")","v":"NA"},{"$f":"IFERROR('[25]Data Compilation'!P183/'[25]Detailed LCIA Methods'!$E$90,\"NA\")","v":"NA"},"NA","NA","NA",{"$f":"'[24]Data Compilation'!G157","v":"NA"},{"$f":"IFERROR('[25]Data Compilation'!G183/'[25]Detailed LCIA Methods'!$E$90,\"NA\")","v":"NA"},{"$f":"IFERROR('[25]Data Compilation'!Q183/'[25]Detailed LCIA Methods'!$E$90,\"NA\")","v":"NA"},"NA","NA","NA","NA",{"$f":"IFERROR('[25]Data Compilation'!H183/'[25]Detailed LCIA Methods'!$E$90,\"NA\")","v":"NA"},{"$f":"IFERROR('[25]Data Compilation'!R183/'[25]Detailed LCIA Methods'!$E$90,\"NA\")","v":"NA"},"NA","NA","NA",{"$f":"'[24]Data Compilation'!I157","v":"NA"},{"$f":"IFERROR('[25]Data Compilation'!I183/'[25]Detailed LCIA Methods'!$E$90,\"NA\")","v":"NA"},{"$f":"IFERROR('[25]Data Compilation'!S183/'[25]Detailed LCIA Methods'!$E$90,\"NA\")","v":"NA"},"NA","NA","NA",{"$f":"'[24]Data Compilation'!J157","v":"NA"},{"$f":"IFERROR('[25]Data Compilation'!J183/'[25]Detailed LCIA Methods'!$E$90,\"NA\")","v":"NA"},{"$f":"IFERROR('[25]Data Compilation'!T183/'[25]Detailed LCIA Methods'!$E$90,\"NA\")","v":"NA"},"NA","NA","NA"]
[null,25,"Reclaimed Asphalt Pavement","NA",{"$f":"IFERROR('[22]Data Compilation'!E198*-1,\"NA\")","v":"NA"},{"$f":"IFERROR('[22]Data Compilation'!J198*-1,\"NA\")","v":"NA"},"NA","NA","NA","NA","NA","NA","NA","NA","NA",{"$f":"'[24]Data Compilation'!F158","v":"NA"},{"$f":"IFERROR('[25]Data Compilation'!F184/'[25]Detailed LCIA Methods'!$E$90,\"NA\")","v":"NA"},{"$f":"IFERROR('[25]Data Compilation'!P184/'[25]Detailed LCIA Methods'!$E$90,\"NA\")","v":"NA"},"NA","NA","NA",{"$f":"'[24]Data Compilation'!G158","v":"NA"},{"$f":"IFERROR('[25]Data Compilation'!G184/'[25]Detailed LCIA Methods'!$E$90,\"NA\")","v":"NA"},{"$f":"IFERROR('[25]Data Compilation'!Q184/'[25]Detailed LCIA Methods'!$E$90,\"NA\")","v":"NA"},"NA","NA","NA","NA",{"$f":"IFERROR('[25]Data Compilation'!H184/'[25]Detailed LCIA Methods'!$E$90,\"NA\")","v":"NA"},{"$f":"IFERROR('[25]Data Compilation'!R184/'[25]Detailed LCIA Methods'!$E$90,\"NA\")","v":"NA"},"NA","NA","NA",{"$f":"'[24]Data Compilation'!I158","v":"NA"},{"$f":"IFERROR('[25]Data Compilation'!I184/'[25]Detailed LCIA Methods'!$E$90,\"NA\")","v":"NA"},{"$f":"IFERROR('[25]Data Compilation'!S184/'[25]Detailed LCIA Methods'!$E$90,\"NA\")","v":"NA"},"NA","NA","NA",{"$f":"'[24]Data Compilation'!J158","v":"NA"},{"$f":"IFERROR('[25]Data Compilation'!J184/'[25]Detailed LCIA Methods'!$E$90,\"NA\")","v":"NA"},{"$f":"IFERROR('[25]Data Compilation'!T184/'[25]Detailed LCIA Methods'!$E$90,\"NA\")","v":"NA"},"NA","NA","NA"]
[]
[]
["Jobs produced (jobs/10000 ton)"]
["Material Category","Item No.","Material Type","Produced",null,null,null,null,null,"Collection",null,null,null,null,null,"Recycling",null,null,null,null,null,"Composting",null,null,null,null,null,"Anaerobic Digestion",null,null,null,null,null,"Landfill",null,null,null,null,null,"Combustion"]
[null,null,null,"MSWDST (FL)","SWOLF (FL)","SWOLF (US)","WARM (FL)","WARM (US)","Literature","MSWDST (FL)","SWOLF (FL)","SWOLF (US)","WARM (FL)","WARM (US)","Literature","MSWDST (FL)","SWOLF (FL)","SWOLF (US)","WARM (FL)","WARM (US)","Literature","MSWDST (FL)","SWOLF (FL)","SWOLF (US)","WARM (FL)","WARM (US)","Literature","MSWDST (FL)","SWOLF (FL)","SWOLF (US)","WARM (FL)","WARM (US)","Literature","MSWDST (FL)","SWOLF (FL)","SWOLF (US)","WARM (FL)","WARM (US)","Literature","MSWDST (FL)","SWOLF (FL)","SWOLF (US)","WARM (FL)","WARM (US)","Literature"]
["MSW ",1,"Mixed MSW","NA","NA","NA","NA","NA","NA","NA","NA","NA","NA","NA","NA","NA","NA","NA","NA","NA","NA","NA","NA","NA","NA","NA","NA","NA","NA","NA","NA","NA","NA","NA","NA","NA","NA","NA",{"$f":"[33]!Table3[[#Totals],[Column6]]","v":{"$error":"#REF!"}},"NA","NA","NA","NA","NA",{"$f":"'[34]WTE Source'!$J$25","v":2.4066762293211679}]
["Paper",2,"Newspaper","NA","NA","NA","NA","NA","NA","NA","NA","NA","NA","NA","NA","NA","NA","NA","NA","NA",{"$f":"'[34]Employment Estimates'!$O$18","v":15.7},"NA","NA","NA","NA","NA","NA","NA","NA","NA","NA","NA","NA","NA","NA","NA","NA","NA",{"$f":"[33]!Table3[[#Totals],[Column6]]","v":{"$error":"#REF!"}},"NA","NA","NA","NA","NA",{"$f":"'[34]WTE Source'!$J$25","v":2.4066762293211679}]
[null,3,"Corrugated Cardboard (OCC)","NA","NA","NA","NA","NA","NA","NA","NA","NA","NA","NA","NA","NA","NA","NA","NA","NA",{"$f":"'[34]Employment Estimates'!$O$18","v":15.7},"NA","NA","NA","NA","NA","NA","NA","NA","NA","NA","NA","NA","NA","NA","NA","NA","NA",{"$f":"[33]!Table3[[#Totals],[Column6]]","v":{"$error":"#REF!"}},"NA","NA","NA","NA","NA",{"$f":"'[34]WTE Source'!$J$25","v":2.4066762293211679}]
[null,4,"High Grade Paper (Office Type Paper)","NA","NA","NA","NA","NA","NA","NA","NA","NA","NA","NA","NA","NA","NA","NA","NA","NA",{"$f":"'[34]Employment Estimates'!$O$18","v":15.7},"NA","NA","NA","NA","NA","NA","NA","NA","NA","NA","NA","NA","NA","NA","NA","NA","NA",{"$f":"[33]!Table3[[#Totals],[Column6]]","v":{"$error":"#REF!"}},"NA","NA","NA","NA","NA",{"$f":"'[34]WTE Source'!$J$25","v":2.4066762293211679}]
[null,5,"Magazines/third-class mail","NA","NA","NA","NA","NA","NA","NA","NA","NA","NA","NA","NA","NA","NA","NA","NA","NA",{"$f":"'[34]Employment Estimates'!$O$18","v":15.7},"NA","NA","NA","NA","NA","NA","NA","NA","NA","NA","NA","NA","NA","NA","NA","NA","NA",{"$f":"[33]!Table3[[#Totals],[Column6]]","v":{"$error":"#REF!"}},"NA","NA","NA","NA","NA",{"$f":"'[34]WTE Source'!$J$25","v":2.4066762293211679}]
[null,6,"Books","NA","NA","NA","NA","NA","NA","NA","NA","NA","NA","NA","NA","NA","NA","NA","NA","NA",{"$f":"U222","v":15.7},"NA","NA","NA","NA","NA","NA","NA","NA","NA","NA","NA","NA","NA","NA","NA","NA","NA",{"$f":"[33]!Table3[[#Totals],[Column6]]","v":{"$error":"#REF!"}},"NA","NA","NA","NA","NA",{"$f":"'[34]WTE Source'!$J$25","v":2.4066762293211679}]
[null,7,"Mixed Paper","NA","NA","NA","NA","NA","NA","NA","NA","NA","NA","NA","NA","NA","NA","NA","NA","NA",{"$f":"'[34]Employment Estimates'!$O$18","v":15.7},"NA","NA","NA","NA","NA","NA","NA","NA","NA","NA","NA","NA","NA","NA","NA","NA","NA",{"$f":"[33]!Table3[[#Totals],[Column6]]","v":{"$error":"#REF!"}},"NA","NA","NA","NA","NA",{"$f":"'[34]WTE Source'!$J$25","v":2.4066762293211679}]
["Plastic",8,"HDPE","NA","NA","NA","NA","NA","NA","NA","NA","NA","NA","NA","NA","NA","NA","NA","NA","NA",{"$f":"'[34]Employment Estimates'!$O$18","v":15.7},"NA","NA","NA","NA","NA","NA","NA","NA","NA","NA","NA","NA","NA","NA","NA","NA","NA",{"$f":"[33]!Table3[[#Totals],[Column6]]","v":{"$error":"#REF!"}},"NA","NA","NA","NA","NA",{"$f":"'[34]WTE Source'!$J$25","v":2.4066762293211679}]
[null,9,"PET","NA","NA","NA","NA","NA","NA","NA","NA","NA","NA","NA","NA","NA","NA","NA","NA","NA",{"$f":"'[34]Employment Estimates'!$O$18","v":15.7},"NA","NA","NA","NA","NA","NA","NA","NA","NA","NA","NA","NA","NA","NA","NA","NA","NA",{"$f":"[33]!Table3[[#Totals],[Column6]]","v":{"$error":"#REF!"}},"NA","NA","NA","NA","NA",{"$f":"'[34]WTE Source'!$J$25","v":2.4066762293211679}]
[null,10,"Mixed Plastic","NA","NA","NA","NA","NA","NA","NA","NA","NA","NA","NA","NA","NA","NA","NA","NA","NA",{"$f":"'[34]Employment Estimates'!$O$18","v":15.7},"NA","NA","NA","NA","NA","NA","NA","NA","NA","NA","NA","NA","NA","NA","NA","NA","NA",{"$f":"[33]!Table3[[#Totals],[Column6]]","v":{"$error":"#REF!"}},"NA","NA","NA","NA","NA",{"$f":"'[34]WTE Source'!$J$25","v":2.4066762293211679}]
["Glass",11,"Glass","NA","NA","NA","NA","NA","NA","NA","NA","NA","NA","NA","NA","NA","NA","NA","NA","NA",{"$f":"'[34]Employment Estimates'!$O$18","v":15.7},"NA","NA","NA","NA","NA","NA","NA","NA","NA","NA","NA","NA","NA","NA","NA","NA","NA",{"$f":"[33]!Table3[[#Totals],[Column6]]","v":{"$error":"#REF!"}},"NA","NA","NA","NA","NA",{"$f":"'[34]WTE Source'!$J$25","v":2.4066762293211679}]
["Metals",12,"Aluminum Cans","NA","NA","NA","NA","NA","NA","NA","NA","NA","NA","NA","NA","NA","NA","NA","NA","NA",{"$f":"'[34]Employment Estimates'!$O$18","v":15.7},"NA","NA","NA","NA","NA","NA","NA","NA","NA","NA","NA","NA","NA","NA","NA","NA","NA",{"$f":"[33]!Table3[[#Totals],[Column6]]","v":{"$error":"#REF!"}},"NA","NA","NA","NA","NA",{"$f":"'[34]WTE Source'!$J$25","v":2.4066762293211679}]
[null,13,"Steel/Tin Cans","NA","NA","NA","NA","NA","NA","NA","NA","NA","NA","NA","NA","NA","NA","NA","NA","NA",{"$f":"'[34]Employment Estimates'!$O$18","v":15.7},"NA","NA","NA","NA","NA","NA","NA","NA","NA","NA","NA","NA","NA","NA","NA","NA","NA",{"$f":"[33]!Table3[[#Totals],[Column6]]","v":{"$error":"#REF!"}},"NA","NA","NA","NA","NA",{"$f":"'[34]WTE Source'!$J$25","v":2.4066762293211679}]
[null,14,"Mixed Metals","NA","NA","NA","NA","NA","NA","NA","NA","NA","NA","NA","NA","NA","NA","NA","NA","NA",{"$f":"'[34]Employment Estimates'!$O$18","v":15.7},"NA","NA","NA","NA","NA","NA","NA","NA","NA","NA","NA","NA","NA","NA","NA","NA","NA",{"$f":"[33]!Table3[[#Totals],[Column6]]","v":{"$error":"#REF!"}},"NA","NA","NA","NA","NA",{"$f":"'[34]WTE Source'!$J$25","v":2.4066762293211679}]
["Organic",15,"Yard Waste","NA","NA","NA","NA","NA","NA","NA","NA","NA","NA","NA","NA","NA","NA","NA","NA","NA","NA","NA","NA","NA","NA","NA","NA","NA","NA","NA","NA","NA","NA","NA","NA","NA","NA","NA",{"$f":"[33]!Table3[[#Totals],[Column6]]","v":{"$error":"#REF!"}},"NA","NA","NA","NA","NA",{"$f":"'[34]WTE Source'!$J$25","v":2.4066762293211679}]
[null,16,"Food Waste","NA","NA","NA","NA","NA","NA","NA","NA","NA","NA","NA","NA","NA","NA","NA","NA","NA","NA","NA","NA","NA","NA","NA","NA","NA","NA","NA","NA","NA","NA","NA","NA","NA","NA","NA",{"$f":"[33]!Table3[[#Totals],[Column6]]","v":{"$error":"#REF!"}},"NA","NA","NA","NA","NA",{"$f":"'[34]WTE Source'!$J$25","v":2.4066762293211679}]
["Other ",17,"Tires","NA","NA","NA","NA","NA","NA","NA","NA","NA","NA","NA","NA","NA","NA","NA","NA","NA","NA","NA","NA","NA","NA","NA","NA","NA","NA","NA","NA","NA","NA","NA","NA","NA","NA","NA",{"$f":"[33]!Table3[[#Totals],[Column6]]","v":{"$error":"#REF!"}},"NA","NA","NA","NA","NA",{"$f":"'[34]WTE Source'!$J$25","v":2.4066762293211679}]
[null,18,"Clothing and Footwear","NA","NA","NA","NA","NA","NA","NA","NA","NA","NA","NA","NA","NA","NA","NA","NA","NA","NA","NA","NA","NA","NA","NA","NA","NA","NA","NA","NA","NA","NA","NA","NA","NA","NA","NA",{"$f":"[33]!Table3[[#Totals],[Column6]]","v":{"$error":"#REF!"}},"NA","NA","NA","NA","NA",{"$f":"'[34]WTE Source'!$J$25","v":2.4066762293211679}]
[null,19,"Furniture","NA","NA","NA","NA","NA","NA","NA","NA","NA","NA","NA","NA","NA","NA","NA","NA","NA","NA","NA","NA","NA","NA","NA","NA","NA","NA","NA","NA","NA","NA","NA","NA","NA","NA","NA",{"$f":"[33]!Table3[[#Totals],[Column6]]","v":{"$error":"#REF!"}},"NA","NA","NA","NA","NA",{"$f":"'[34]WTE Source'!$J$25","v":2.4066762293211679}]
[null,20,"Electronics","NA","NA","NA","NA","NA","NA","NA","NA","NA","NA","NA","NA","NA","NA","NA","NA","NA","NA","NA","NA","NA","NA","NA","NA","NA","NA","NA","NA","NA","NA","NA","NA","NA","NA","NA",{"$f":"[33]!Table3[[#Totals],[Column6]]","v":{"$error":"#REF!"}},"NA","NA","NA","NA","NA",{"$f":"'[34]WTE Source'!$J$25","v":2.4066762293211679}]
["C&D Debris",21,"Wood Products","NA","NA","NA","NA","NA","NA","NA","NA","NA","NA","NA","NA","NA","NA","NA","NA","NA",{"$f":"'[34]Employment Estimates'!$O$18","v":15.7},"NA","NA","NA","NA","NA","NA","NA","NA","NA","NA","NA","NA","NA","NA","NA","NA","NA",{"$f":"'[35]Data Summary  '!$C$15*10000","v":0.87261878895531209},"NA","NA","NA","NA","NA",{"$f":"'[34]WTE Source'!$J$25","v":2.4066762293211679}]
[null,22,"Asphalt Shingles","NA","NA","NA","NA","NA","NA","NA","NA","NA","NA","NA","NA","NA","NA","NA","NA","NA",{"$f":"'[34]Employment Estimates'!$O$18","v":15.7},"NA","NA","NA","NA","NA","NA","NA","NA","NA","NA","NA","NA","NA","NA","NA","NA","NA",{"$f":"'[35]Data Summary  '!$C$15*10000","v":0.87261878895531209},"NA","NA","NA","NA","NA",{"$f":"'[34]WTE Source'!$J$25","v":2.4066762293211679}]
[null,23,"Gypsum Drywall","NA","NA","NA","NA","NA","NA","NA","NA","NA","NA","NA","NA","NA","NA","NA","NA","NA",{"$f":"'[34]Employment Estimates'!$O$18","v":15.7},"NA","NA","NA","NA","NA","NA","NA","NA","NA","NA","NA","NA","NA","NA","NA","NA","NA",{"$f":"'[35]Data Summary  '!$C$15*10000","v":0.87261878895531209},"NA","NA","NA","NA","NA",{"$f":"'[34]WTE Source'!$J$25","v":2.4066762293211679}]
[null,24,"Concrete","NA","NA","NA","NA","NA","NA","NA","NA","NA","NA","NA","NA","NA","NA","NA","NA","NA",{"$f":"'[34]Employment Estimates'!$O$18","v":15.7},"NA","NA","NA","NA","NA","NA","NA","NA","NA","NA","NA","NA","NA","NA","NA","NA","NA",{"$f":"'[35]Data Summary  '!$C$15*10000","v":0.87261878895531209},"NA","NA","NA","NA","NA",{"$f":"'[34]WTE Source'!$J$25","v":2.4066762293211679}]
[null,25,"Reclaimed Asphalt Pavement","NA","NA","NA","NA","NA","NA","NA","NA","NA","NA","NA","NA","NA","NA","NA","NA","NA",{"$f":"'[34]Employment Estimates'!$O$18","v":15.7},"NA","NA","NA","NA","NA","NA","NA","NA","NA","NA","NA","NA","NA","NA","NA","NA","NA",{"$f":"'[35]Data Summary  '!$C$15*10000","v":0.87261878895531209},"NA","NA","NA","NA","NA",{"$f":"'[34]WTE Source'!$J$25","v":2.4066762293211679}]
[]
[]
["Landfill space use (yd3/ton)"]
["Material Category","Item No.","Material Type","Produced",null,null,null,null,null,"Collection",null,null,null,null,null,"Recycling",null,null,null,null,null,"Composting",null,null,null,null,null,"Anaerobic Digestion",null,null,null,null,null,"Landfill",null,null,null,null,null,"Combustion"]
[null,null,null,"MSWDST (FL)","SWOLF (FL)","SWOLF (US)","WARM (FL)","WARM (US)","Literature","MSWDST (FL)","SWOLF (FL)","SWOLF (US)","WARM (FL)","WARM (US)","Literature","MSWDST (FL)","SWOLF (FL)","SWOLF (US)","WARM (FL)","WARM (US)","Literature","MSWDST (FL)","SWOLF (FL)","SWOLF (US)","WARM (FL)","WARM (US)","Literature","MSWDST (FL)","SWOLF (FL)","SWOLF (US)","WARM (FL)","WARM (US)","Literature","MSWDST (FL)","SWOLF (FL)","SWOLF (US)","WARM (FL)","WARM (US)","Literature","MSWDST (FL)","SWOLF (FL)","SWOLF (US)","WARM (FL)","WARM (US)","Literature"]
["MSW ",1,"Mixed MSW","NA","NA","NA","NA","NA","NA","NA","NA","NA","NA","NA","NA","NA","NA","NA","NA","NA","NA","NA","NA","NA","NA","NA","NA","NA","NA","NA","NA","NA","NA","NA","NA","NA","NA","NA","NA","NA","NA","NA","NA","NA","NA"]
["Paper",2,"Newspaper","NA","NA","NA","NA","NA","NA","NA","NA","NA","NA","NA","NA","NA","NA","NA","NA","NA","NA","NA","NA","NA","NA","NA","NA","NA","NA","NA","NA","NA","NA","NA","NA","NA","NA","NA",{"$f":"'[36]factor table'!$I$4","v":0.43479224012665907},"NA","NA","NA","NA","NA","NA"]
[null,3,"Corrugated Cardboard (OCC)","NA","NA","NA","NA","NA","NA","NA","NA","NA","NA","NA","NA","NA","NA","NA","NA","NA","NA","NA","NA","NA","NA","NA","NA","NA","NA","NA","NA","NA","NA","NA","NA","NA","NA","NA",{"$f":"'[36]factor table'!$I$3","v":0.36191850099971096},"NA","NA","NA","NA","NA","NA"]
[null,4,"High Grade Paper (Office Type Paper)","NA","NA","NA","NA","NA","NA","NA","NA","NA","NA","NA","NA","NA","NA","NA","NA","NA","NA","NA","NA","NA","NA","NA","NA","NA","NA","NA","NA","NA","NA","NA","NA","NA","NA","NA",{"$f":"'[36]factor table'!$I$6","v":0.31061827279679199},"NA","NA","NA","NA","NA","NA"]
[null,5,"Magazines/third-class mail","NA","NA","NA","NA","NA","NA","NA","NA","NA","NA","NA","NA","NA","NA","NA","NA","NA","NA","NA","NA","NA","NA","NA","NA","NA","NA","NA","NA","NA","NA","NA","NA","NA","NA","NA","NA","NA","NA","NA","NA","NA","NA"]
[null,6,"Books","NA","NA","NA","NA","NA","NA","NA","NA","NA","NA","NA","NA","NA","NA","NA","NA","NA","NA","NA","NA","NA","NA","NA","NA","NA","NA","NA","NA","NA","NA","NA","NA","NA","NA","NA","NA","NA","NA","NA","NA","NA","NA"]
[null,7,"Mixed Paper","NA","NA","NA","NA","NA","NA","NA","NA","NA","NA","NA","NA","NA","NA","NA","NA","NA","NA","NA","NA","NA","NA","NA","NA","NA","NA","NA","NA","NA","NA","NA","NA","NA","NA","NA",{"$f":"'[36]factor table'!$I$5","v":0.42561543454987727},"NA","NA","NA","NA","NA","NA"]
["Plastic",8,"HDPE","NA","NA","NA","NA","NA","NA","NA","NA","NA","NA","NA","NA","NA","NA","NA","NA","NA","NA","NA","NA","NA","NA","NA","NA","NA","NA","NA","NA","NA","NA","NA","NA","NA","NA","NA",{"$f":"'[36]factor table'!$I$8","v":0.40011842850609286},"NA","NA","NA","NA","NA","NA"]
[null,9,"PET","NA","NA","NA","NA","NA","NA","NA","NA","NA","NA","NA","NA","NA","NA","NA","NA","NA","NA","NA","NA","NA","NA","NA","NA","NA","NA","NA","NA","NA","NA","NA","NA","NA","NA","NA",{"$f":"'[36]factor table'!$I$7","v":0.21304413782472106},"NA","NA","NA","NA","NA","NA"]
[null,10,"Mixed Plastic","NA","NA","NA","NA","NA","NA","NA","NA","NA","NA","NA","NA","NA","NA","NA","NA","NA","NA","NA","NA","NA","NA","NA","NA","NA","NA","NA","NA","NA","NA","NA","NA","NA","NA","NA",{"$f":"AVERAGE('[36]factor table'!$I$9:$I$10)","v":0.41574987761101623},"NA","NA","NA","NA","NA","NA"]
["Glass",11,"Glass","NA","NA","NA","NA","NA","NA","NA","NA","NA","NA","NA","NA","NA","NA","NA","NA","NA","NA","NA","NA","NA","NA","NA","NA","NA","NA","NA","NA","NA","NA","NA","NA","NA","NA","NA",{"$f":"'[36]factor table'!$I$15","v":0.95626756068176888},"NA","NA","NA","NA","NA","NA"]
["Metals",12,"Aluminum Cans","NA","NA","NA","NA","NA","NA","NA","NA","NA","NA","NA","NA","NA","NA","NA","NA","NA","NA","NA","NA","NA","NA","NA","NA","NA","NA","NA","NA","NA","NA","NA","NA","NA","NA","NA",{"$f":"'[36]factor table'!$I$11","v":0.11588688016767977},"NA","NA","NA","NA","NA","NA"]
[null,13,"Steel/Tin Cans","NA","NA","NA","NA","NA","NA","NA","NA","NA","NA","NA","NA","NA","NA","NA","NA","NA","NA","NA","NA","NA","NA","NA","NA","NA","NA","NA","NA","NA","NA","NA","NA","NA","NA","NA",{"$f":"'[36]factor table'!$I$12","v":0.19766835729700463},"NA","NA","NA","NA","NA","NA"]
[null,14,"Mixed Metals","NA","NA","NA","NA","NA","NA","NA","NA","NA","NA","NA","NA","NA","NA","NA","NA","NA","NA","NA","NA","NA","NA","NA","NA","NA","NA","NA","NA","NA","NA","NA","NA","NA","NA","NA",{"$f":"AVERAGE(AM259:AM260)","v":0.15677761873234219},"NA","NA","NA","NA","NA","NA"]
["Organic",15,"Yard Waste","NA","NA","NA","NA","NA","NA","NA","NA","NA","NA","NA","NA","NA","NA","NA","NA","NA","NA","NA","NA","NA","NA","NA","NA","NA","NA","NA","NA","NA","NA","NA","NA","NA","NA","NA",{"$f":"'[36]factor table'!$I$16","v":0.92502894223882748},"NA","NA","NA","NA","NA","NA"]
[null,16,"Food Waste","NA","NA","NA","NA","NA","NA","NA","NA","NA","NA","NA","NA","NA","NA","NA","NA","NA","NA","NA","NA","NA","NA","NA","NA","NA","NA","NA","NA","NA","NA","NA","NA","NA","NA","NA",{"$f":"'[36]factor table'!$I$13","v":1.2431340967879041},"NA","NA","NA","NA","NA","NA"]
["Other ",17,"Tires","NA","NA","NA","NA","NA","NA","NA","NA","NA","NA","NA","NA","NA","NA","NA","NA","NA","NA","NA","NA","NA","NA","NA","NA","NA","NA","NA","NA","NA","NA","NA","NA","NA","NA","NA","NA","NA","NA","NA","NA","NA","NA"]
[null,18,"Clothing and Footwear","NA","NA","NA","NA","NA","NA","NA","NA","NA","NA","NA","NA","NA","NA","NA","NA","NA","NA","NA","NA","NA","NA","NA","NA","NA","NA","NA","NA","NA","NA","NA","NA","NA","NA","NA","NA","NA","NA","NA","NA","NA","NA"]
[null,19,"Furniture","NA","NA","NA","NA","NA","NA","NA","NA","NA","NA","NA","NA","NA","NA","NA","NA","NA","NA","NA","NA","NA","NA","NA","NA","NA","NA","NA","NA","NA","NA","NA","NA","NA","NA","NA","NA","NA","NA","NA","NA","NA","NA"]
[null,20,"Electronics","NA","NA","NA","NA","NA","NA","NA","NA","NA","NA","NA","NA","NA","NA","NA","NA","NA","NA","NA","NA","NA","NA","NA","NA","NA","NA","NA","NA","NA","NA","NA","NA","NA","NA","NA","NA","NA","NA","NA","NA","NA","NA"]
["C&D Debris",21,"Wood Products","NA","NA","NA","NA","NA","NA","NA","NA","NA","NA","NA","NA","NA","NA","NA","NA","NA","NA","NA","NA","NA","NA","NA","NA","NA","NA","NA","NA","NA","NA","NA","NA","NA","NA","NA",{"$f":"'[35]Data Summary  '!B3","v":2.4676978353354588},"NA","NA","NA","NA","NA","NA"]
[null,22,"Asphalt Shingles","NA","NA","NA","NA","NA","NA","NA","NA","NA","NA","NA","NA","NA","NA","NA","NA","NA","NA","NA","NA","NA","NA","NA","NA","NA","NA","NA","NA","NA","NA","NA","NA","NA","NA","NA",{"$f":"'[35]Data Summary  '!B4","v":3.0157179218084655},"NA","NA","NA","NA","NA","NA"]
[null,23,"Gypsum Drywall","NA","NA","NA","NA","NA","NA","NA","NA","NA","NA","NA","NA","NA","NA","NA","NA","NA","NA","NA","NA","NA","NA","NA","NA","NA","NA","NA","NA","NA","NA","NA","NA","NA","NA","NA",{"$f":"'[35]Data Summary  '!B5","v":4.4089766765133813},"NA","NA","NA","NA","NA","NA"]
[null,24,"Concrete","NA","NA","NA","NA","NA","NA","NA","NA","NA","NA","NA","NA","NA","NA","NA","NA","NA","NA","NA","NA","NA","NA","NA","NA","NA","NA","NA","NA","NA","NA","NA","NA","NA","NA","NA",{"$f":"'[35]Data Summary  '!B6","v":1.3083045942424132},"NA","NA","NA","NA","NA","NA"]
[null,25,"Reclaimed Asphalt Pavement","NA","NA","NA","NA","NA","NA","NA","NA","NA","NA","NA","NA","NA","NA","NA","NA","NA","NA","NA","NA","NA","NA","NA","NA","NA","NA","NA","NA","NA","NA","NA","NA","NA","NA","NA",{"$f":"'[35]Data Summary  '!B7","v":1.5974594005693343},"NA","NA","NA","NA","NA","NA"]

{"sheet":"9 Source Reduction Mass Method","index":9,"n_rows":24,"n_cols":4,"rows_kept":24,"cut":false,"hidden":true,"merged":[[3,0,4,0]]}
["Current Year",{"$f":"'2 2019 WasteCalc Input'!E16","v":2019}]
["Previous Year",{"$f":"'2 2019 WasteCalc Input'!E53","v":2013}]
[]
["Material","Collected","Collected","Source reduced mass"]
[null,{"$f":"B1","v":2019},{"$f":"B2","v":2013},"Tons"]
["Newspaper",{"$f":"'3 2019 WasteCalc Results'!F6","v":3327.8535932151512},{"$f":"'2 2019 WasteCalc Input'!E54","v":10017},{"$f":"B6-C6","v":-6689.1464067848483}]
["Glass",{"$f":"'3 2019 WasteCalc Results'!F7","v":7103.5459845768955},{"$f":"'2 2019 WasteCalc Input'!E55","v":7686},-582.45401542310447]
["Aluminum Cans",{"$f":"'3 2019 WasteCalc Results'!F8","v":1034.9151038480481},{"$f":"'2 2019 WasteCalc Input'!E56","v":1001},33.915103848048147]
["Plastic Bottles",{"$f":"'3 2019 WasteCalc Results'!F9","v":3480.8790576923507},{"$f":"'2 2019 WasteCalc Input'!E57","v":2507},973.87905769235067]
["Steel Cans",{"$f":"'3 2019 WasteCalc Results'!F10","v":1288.1490331031241},{"$f":"'2 2019 WasteCalc Input'!E58","v":1174},114.14903310312411]
["Corrugated Boxes",{"$f":"'3 2019 WasteCalc Results'!F11","v":39385.23924849488},{"$f":"'2 2019 WasteCalc Input'!E59","v":46260},-6874.7607515051204]
["Office Paper",{"$f":"'3 2019 WasteCalc Results'!F12","v":3966.8133063172759},{"$f":"'2 2019 WasteCalc Input'!E60","v":4487},-520.18669368272413]
["Yard Trash",{"$f":"'3 2019 WasteCalc Results'!F13","v":143808.83732178836},{"$f":"'2 2019 WasteCalc Input'!E61","v":60257},83551.837321788364]
["Other Plastics",{"$f":"'3 2019 WasteCalc Results'!F14","v":22728.416631886059},{"$f":"'2 2019 WasteCalc Input'!E62","v":25742},-3013.5833681139411]
["Ferrous Metals",{"$f":"'3 2019 WasteCalc Results'!F15","v":16382.300372834345},{"$f":"'2 2019 WasteCalc Input'!E63","v":15082},1300.3003728343447]
["White Goods",{"$f":"'3 2019 WasteCalc Results'!F16","v":3593.7741003626224},{"$f":"'2 2019 WasteCalc Input'!E64","v":321},3272.7741003626224]
["Non Ferrous Metals",{"$f":"'3 2019 WasteCalc Results'!F17","v":1614.4419063528496},{"$f":"'2 2019 WasteCalc Input'!E65","v":1923},-308.55809364715037]
["Other Paper",{"$f":"'3 2019 WasteCalc Results'!F18","v":39677.678462283504},{"$f":"'2 2019 WasteCalc Input'!E66","v":33718},5959.6784622835039]
["Textiles",{"$f":"'3 2019 WasteCalc Results'!F19","v":9037.0378374000265},{"$f":"'2 2019 WasteCalc Input'!E67","v":5868},3169.0378374000265]
["C&D Debris",{"$f":"'3 2019 WasteCalc Results'!F20","v":190541.87},{"$f":"'2 2019 WasteCalc Input'!E68","v":108360},82181.87]
["Food Waste",{"$f":"'3 2019 WasteCalc Results'!F21","v":26877.417838247664},{"$f":"'2 2019 WasteCalc Input'!E69","v":24573},2304.4178382476639]
["Miscellaneous",{"$f":"'3 2019 WasteCalc Results'!F22","v":50246.194803457591},{"$f":"'2 2019 WasteCalc Input'!E70","v":41554},8692.1948034575908]
["Tires",{"$f":"'3 2019 WasteCalc Results'!F23","v":2729.6353981391212},{"$f":"'2 2019 WasteCalc Input'!E71","v":0},2729.6353981391212]
["Process Fuel",{"$f":"'3 2019 WasteCalc Results'!F24","v":0},{"$f":"'2 2019 WasteCalc Input'!E72","v":0},0]

{"sheet":"10 2019 WasteCalc Program","index":10,"n_rows":72,"n_cols":53,"rows_kept":72,"cut":false,"hidden":true,"merged":[[35,12,36,12],[36,14,56,16],[35,11,36,11],[35,10,36,10],[35,9,36,9],[35,8,36,8],[35,7,36,7],[10,4,10,5],[8,4,9,6],[8,0,10,2],[35,6,36,6],[1,0,2,0],[5,0,6,0],[35,5,36,5],[35,4,36,4],[35,3,36,3],[35,2,36,2],[35,1,36,1],[8,12,9,16],[10,8,10,9],[8,8,9,10],[8,18,10,20],[10,12,11,12],[10,13,11,13],[10,14,11,14],[10,15,11,15],[10,16,11,16]]}
[]
[{"$f":"\"US Factors for \" &Year","v":"US Factors for 2017"},"NewspaperUS","GlassUS","AluminumCansUS","PlasticBottlesUS","SteelCansUS","CardboardUS","OfficePaperUS","YardWasteUS","OtherPlasticUS","FerrousMetalsUS","WhiteGoodsUS","NonFerrousMetalUS","OtherPaperUS","TextilesUS","CD_DebrisUS","FoodWasteUS","Miscellaneous","TiresUS"]
[null,{"$f":"VLOOKUP(Year,('12 2019 WasteCalc US PCD'!A3:S70),2, FALSE)","v":46.299340128016823},{"$f":"VLOOKUP(Year,('12 2019 WasteCalc US PCD'!A3:S70), 3, FALSE)","v":56.648490092540676},{"$f":"VLOOKUP(Year,('12 2019 WasteCalc US PCD'!A3:S70), 4, FALSE)","v":9.7996120340645785},{"$f":"VLOOKUP(Year,('12 2019 WasteCalc US PCD'!A3:S70), 5, FALSE)","v":24.05936276874889},{"$f":"VLOOKUP(Year,('12 2019 WasteCalc US PCD'!A3:S70), 6, FALSE)","v":9.6476835455497785},{"$f":"VLOOKUP(Year,('12 2019 WasteCalc US PCD'!A3:S70), 7, FALSE)","v":263.08858643044209},{"$f":"VLOOKUP(Year,('12 2019 WasteCalc US PCD'!A3:S70), 8, FALSE)","v":28.150418249979968},{"$f":"VLOOKUP(Year,('12 2019 WasteCalc US PCD'!A3:S70), 9, FALSE)","v":437.30165734593447},{"$f":"VLOOKUP(Year,('12 2019 WasteCalc US PCD'!A3:S70), 10, FALSE)","v":171.92505008386948},{"$f":"VLOOKUP(Year,('12 2019 WasteCalc US PCD'!A3:S70), 11, FALSE)","v":49.042819939835276},{"$f":"VLOOKUP(Year,('12 2019 WasteCalc US PCD'!A3:S70), 12, FALSE)","v":31.685600245624808},{"$f":"VLOOKUP(Year,('12 2019 WasteCalc US PCD'!A3:S70), 13, FALSE)","v":14.464189690600321},{"$f":"VLOOKUP(Year,('12 2019 WasteCalc US PCD'!A3:S70), 14, FALSE)","v":206.41709225777339},{"$f":"VLOOKUP(Year,('12 2019 WasteCalc US PCD'!A3:S70), 15, FALSE)","v":97.619584879277639},{"$f":"VLOOKUP(Year,('12 2019 WasteCalc US PCD'!A3:S70), 16, FALSE)","v":"-"},{"$f":"VLOOKUP(Year,('12 2019 WasteCalc US PCD'!A3:S70), 17, FALSE)","v":620.46962395375851},{"$f":"VLOOKUP(Year,('12 2019 WasteCalc US PCD'!A3:S70), 18, FALSE)","v":310.07191713392274},{"$f":"VLOOKUP(Year,('12 2019 WasteCalc US PCD'!A3:S70), 19, FALSE)","v":40.159656125268654}]
[]
[null,null,null,null,null,null,null,null,null,null,null,null,null,null,null,null,null,null,null,null,null,null,null,null,null,null,null,null,null,null,null,null,null,null,null,null,null,null,null,null,null,null,null,null,null,null,null,null,null,null,null,null,{"$f":"SUM(AH5:AY5)","v":0}]
[{"$f":"\"County Factors for \" & County","v":"County Factors for Alachua"},"NewspaperCF","GlassCF","AluminumCansCF","PlasticBottlesCF","SteelCansCF","CardboardCF","OfficePaperCF","YardWasteCF","OtherPlasticCF","FerrousMetalCF","WhiteGoodsCF","NonFerrousMetalCF","OtherPaperCF","TextilesCF","CD_DebrisCF","FoodWasteCF","Miscellaneous","Tires"]
[null,{"$f":"VLOOKUP(TRIM(County), ('11 2019 WasteCalc County Factor'!A3:R69), 2, FALSE)","v":0.4843404127197779},{"$f":"VLOOKUP(County, ('11 2019 WasteCalc County Factor'!A3:R69), 3, FALSE)","v":1.0195183593630599},{"$f":"VLOOKUP(TRIM(County),('11 2019 WasteCalc County Factor'!A3:R69),4,FALSE)","v":0.85862600211023232},{"$f":"VLOOKUP(TRIM(County), ('11 2019 WasteCalc County Factor'!A3:R69), 5, FALSE)","v":1.1762862134807535},{"$f":"VLOOKUP(TRIM(County), ('11 2019 WasteCalc County Factor'!A3:R69), 6, FALSE)","v":1.0855535590769705},{"$f":"VLOOKUP(TRIM(County), ('11 2019 WasteCalc County Factor'!A3:R69), 7, FALSE)","v":1.2171375857957858},{"$f":"VLOOKUP(TRIM(County), ('11 2019 WasteCalc County Factor'!A3:R69),8, FALSE)","v":1.1456846724208709},{"$f":"VLOOKUP(TRIM(County), ('11 2019 WasteCalc County Factor'!A3:R69), 9, FALSE)","v":1.0590486000759722},{"$f":"VLOOKUP(TRIM(County), ('11 2019 WasteCalc County Factor'!A3:R69), 10, FALSE)","v":1.0748261291690933},{"$f":"VLOOKUP(TRIM(County), ('11 2019 WasteCalc County Factor'!A3:R69), 11, FALSE)","v":0.59342165042486006},{"$f":"VLOOKUP(TRIM(County), ('11 2019 WasteCalc County Factor'!A3:R69), 12, FALSE)","v":0.92214035706995401},{"$f":"VLOOKUP(TRIM(County), ('11 2019 WasteCalc County Factor'!A3:R69), 13, FALSE)","v":0.1548338523894196},{"$f":"VLOOKUP(TRIM(County), ('11 2019 WasteCalc County Factor'!A3:R69), 14, FALSE)","v":1.5628193907404442},{"$f":"VLOOKUP(TRIM(County), ('11 2019 WasteCalc County Factor'!A3:P69), 15, FALSE)","v":0.75265740280249627},"N/A",{"$f":"VLOOKUP(TRIM(County), ('11 2019 WasteCalc County Factor'!A3:R69), 17, FALSE)","v":0.35218853297776859},{"$f":"VLOOKUP(TRIM(County), ('11 2019 WasteCalc County Factor'!A3:V69), 18, FALSE)","v":1.3684937393421035},{"$f":"VLOOKUP(TRIM(County), ('11 2019 WasteCalc County Factor'!A3:V69),19, FALSE)","v":0.27419138314473607}]
[]
["Recycled Tons and Percent Composition",null,null,null,"Landfilled Tons and Percent Composition",null,null,null,"Net Combusted WTE Tons and Percent Composition",null,null,null,"Net Combusted Renewable Energy (RE) (not WTE) Tons and Percent Composition",null,null,null,null,null,"Collected Composition Tons and Percent Composition"]
[]
[null,null,null,null,"Pecent of Waste Landfilled MODIFIED\n(Total-Recycled)",null,{"$f":"(F32-L52-L48)/((F32-L52-L48)+J32)","v":1},null,"Pecent of Waste Combusted WTE\n(Total-Recycled)",null,{"$f":"(J32/((F32-L52-L48)+J32))","v":0},null,"Material","RE Entered by weight","RE Entered by percent","RE Tons (entered by percent)","RE Percent Composition"]
["Material","Entered Recycled Tons","Recycled Percent Composition",null,"Material","Landfilled Tons","Landfilled Percent Composition",null,"Material","WTE Tons","Adjusted Percent (minus C&D and White Goods)",null,null,null,null,null,null,null,"Material","Collected Tons","Callected Percent Composition"]
["Newspaper",{"$f":"NewspaperEntered","v":3043},{"$f":"B13/$B$33","v":1.3850768551518214E-2},null,"Newspaper",{"$f":"$G$11*L38","v":284.85359321515125},{"$f":"F13/$F$33","v":1.1269948891818218E-3},null,"Newspaper",{"$f":"L38*$K$11","v":0},{"$f":"J13/$J$33","v":{"$error":"#DIV/0!"}},null,"Newspaper",null,null,null,null,null,"Newspaper",{"$f":"SUM(B13,F13,J13,P13)","v":3327.8535932151512},{"$f":"T13/$T$32","v":5.8710423732459775E-3}]
["Glass",{"$f":"GlassEntered","v":4072},{"$f":"B14/$B$33","v":1.8534449405777906E-2},null,"Glass",{"$f":"$G$11*L39","v":3031.5459845768955},1.1994009948673209E-2,null,"Glass",0,{"$error":"#DIV/0!"},null,"Glass",null,null,null,null,null,"Glass",{"$f":"SUM(B14,F14,J14,P14)","v":7103.5459845768955},1.2532167749441001E-2]
["Aluminum Cans",{"$f":"AluminumCansEntered","v":413},1.8798446966076313E-3,null,"Aluminum Cans",{"$f":"$G$11*L40","v":621.91510384804815},2.4605452072087534E-3,null,"Aluminum Cans",0,{"$error":"#DIV/0!"},null,"Aluminum Cans",null,null,null,null,null,"Aluminum Cans",1034.9151038480481,1.8258106185296134E-3]
["Plastic Bottles",{"$f":"PlasticBottlesEntered","v":1063},4.838438044779448E-3,null,"Plastic Bottles",{"$f":"$G$11*L41","v":2417.8790576923507},9.566097832653565E-3,null,"Plastic Bottles",0,{"$error":"#DIV/0!"},null,"Plastic Bottles",null,null,null,null,null,"Plastic Bottles",3480.8790576923507,6.1410118779029691E-3]
["SteelCans",{"$f":"SteelCansEntered","v":334},1.5202618127529029E-3,null,"SteelCans",954.14903310312411,3.7749956800186921E-3,null,"SteelCans",0,{"$error":"#DIV/0!"},null,"SteelCans",null,null,null,null,null,"SteelCans",1288.1490331031241,2.2725691934955658E-3]
["Corrugated boxes",{"$f":"CorrugatedBoxesEntered","v":27363},0.12454767659388527,null,"Corrugated boxes",12022.23924849488,4.7564792975390735E-2,null,"Corrugated boxes",0,{"$error":"#DIV/0!"},null,"Corrugated boxes",null,null,null,null,null,"Corrugated boxes",39385.23924849488,6.9483948746958721E-2]
["Office Paper",{"$f":"OfficePaperEntered","v":2657},1.2093819270911566E-2,null,"Office Paper",1309.8133063172759,5.1821459766068978E-3,null,"Office Paper",0,{"$error":"#DIV/0!"},null,"Office Paper",null,null,null,null,null,"Office Paper",3966.8133063172759,6.9983033675601394E-3]
["Yard Trash",{"$f":"YardTrashEntered","v":47826},0.21768874687640818,null,"Yard Trash",{"$f":"L45-P20-J20","v":1611.8373217883636},6.3770739324182091E-3,null,"Yard Trash",{"$f":"(L45-P20)*$K$11","v":0},{"$error":"#DIV/0!"},null,"Yard Trash",null,1,{"$f":"(O20)*$N$32","v":94371},{"$f":"P20/P33","v":1},null,"Yard Trash",{"$f":"SUM(B20,F20,J20,P20)+B31","v":143808.83732178836},{"$f":"T20/$T$32","v":0.25370941176163431}]
["Other Plastics",{"$f":"OtherPlasticsEntered","v":965},4.3923732015166209E-3,null,"Other Plastics",21763.416631886059,8.6104791722759463E-2,null,"Other Plastics",{"$f":"L46*$K$11","v":0},{"$error":"#DIV/0!"},null,"Other Plastics",null,null,null,null,null,"Other Plastics",22728.416631886059,4.0097766739092419E-2]
["Ferrous Metals",{"$f":"FerrousMetalsEntered","v":13912},6.3323001015025096E-2,null,"Ferrous Metals",2470.3003728343447,9.7734975483545171E-3,null,"Ferrous Metals",0,{"$error":"#DIV/0!"},null,"Ferrous Metals",null,null,null,null,null,"Ferrous Metals",16382.300372834345,2.8901866312943756E-2]
["White Goods",{"$f":"WhiteGoodsEntered","v":2712},1.2344161784987642E-2,null,"White Goods",{"$f":"J48","v":881.77410036262245},3.4886514623355537E-3,null,"White Goods",0,0,null,"White Goods",null,null,null,null,null,"White Goods",3593.7741003626224,6.3401827731003795E-3]
["Non-Ferrous Metals",{"$f":"NonFerrousMetalsEntered","v":1455},6.622697417830759E-3,null,"Non-Ferrous Metals",{"$f":"$G$11*L49","v":159.44190635284963},6.3081603273070646E-4,null,"Non-Ferrous Metals",{"$f":"L49*$K$11","v":0},{"$f":"J24/$J$33","v":{"$error":"#DIV/0!"}},null,"Non-Ferrous Metals",null,null,null,null,null,"Non-Ferrous Metals",1614.4419063528496,2.8482193028762839E-3]
["Other Paper ",{"$f":"OtherPaperEntered","v":989},4.5016135712952722E-3,null,"Other Paper ",{"$f":"$G$11*L50","v":38688.678462283504},0.15306790553019137,null,"Other Paper ",{"$f":"L50*$K$11","v":0},{"$f":"J25/$J$33","v":{"$error":"#DIV/0!"}},null,"Other Paper ",null,null,null,null,null,"Other Paper ",39677.678462283504,6.9999873792234824E-2]
["Textiles",{"$f":"TextilesEntered","v":4125},1.8775688555705761E-2,null,"Textiles",{"$f":"$G$11*L51","v":4912.0378374000265},1.9433988793100151E-2,null,"Textiles",{"$f":"L51*$K$11","v":0},{"$f":"J26/$J$33","v":{"$error":"#DIV/0!"}},null,"Textiles",null,null,null,null,null,"Textiles",9037.0378374000265,1.5943259096546598E-2]
["C&D Debris",{"$f":"CD_DebrisEntered","v":104770},0.47687973090455577,null,"C&D Debris",{"$f":"J52","v":85771.87},0.33934786651104837,null,"C&D Debris",0,0,null,"C&D Debris",null,null,null,null,null,"C&D Debris",190541.87,0.33615643276143431]
["Food Waste",{"$f":"FoodWasteEntered","v":1323},6.0218753840481747E-3,null,"Food Waste",{"$f":"$G$11*L53","v":25554.417838247664},0.10110351066545736,null,"Food Waste",{"$f":"L53*$K$11","v":0},{"$f":"J28/$J$33","v":{"$error":"#DIV/0!"}},null,"Food Waste",null,null,null,null,null,"Food Waste",26877.417838247664,4.7417488357513631E-2]
["Miscellaneous",{"$f":"MiscellaneousEntered","v":635},2.8903181170601595E-3,null,"Miscellaneous",{"$f":"$G$11*L54","v":49611.194803457591},0.19628175428164671,null,"Miscellaneous",{"$f":"L54*$K$11","v":0},{"$f":"J29/$J$33","v":{"$error":"#DIV/0!"}},null,"Miscellaneous",null,null,null,null,null,"Miscellaneous",50246.194803457591,8.8644987083240132E-2]
["Tires",{"$f":"TiresEntered","v":2042},9.2945347953336151E-3,null,"Tires",{"$f":"$G$11*L55","v":687.63539813912121},2.7205610102238194E-3,null,"Tires",{"$f":"L55*$K$11","v":0},{"$f":"J30/$J$33","v":{"$error":"#DIV/0!"}},null,"Tires",null,null,null,null,null,"Tires",2729.6353981391212,4.8156580922491445E-3]
["Process Fuel",{"$f":"B56","v":0},0,null,"Process Fuel",null,null,null,"Process Fuel",null,null,null,"Process Fuel",null,null,null,null,null,"Process Fuel"]
["Reported Total",{"$f":"'2 2019 WasteCalc Input'!E43","v":219699},null,null,"Reported Total",{"$f":"Landfilled","v":252755},null,null,"Reported Total",{"$f":"Combusted","v":0},null,null,"Reported Total",{"$f":"CombustedRenewableEnergy","v":94371},null,{"$f":"N32","v":94371},null,null,"Reported Total",{"$f":"D58","v":566825}]
["Total",{"$f":"SUM(B13:B31)","v":219699},{"$f":"SUM(C13:C31)","v":1},null,"Total",{"$f":"SUM(F13:F31)","v":252754.99999999988},{"$f":"SUM(G13:G31)","v":1},null,"Total",{"$f":"SUM(J13:J31)","v":0},{"$f":"SUM(K13:K31)","v":{"$error":"#DIV/0!"}},null,"Total",{"$f":"SUM(N13:N30)","v":0},{"$f":"SUM(O13:O30)","v":1},{"$f":"SUM(P13:P30)","v":94371},{"$f":"SUM(Q13:Q30)","v":1},null,"Total",{"$f":"SUM(T13:T31)","v":566824.99999999988},{"$f":"SUM(U13:U31)","v":0.99999999999999967}]
[]
["A","B","C","D","E","F","G","H","I","J","K","L","M"]
["Calculated Result","Estimated Tons Generated","Percent (subtact C&D and Process Fuel from denominator)","Actual Generated Tons \n(Calculated by percent)","Recycled Tons","Remainder Tons (Landfill+Comb.) minus Recycled","Absolute Value of Remainder Tons (Landfill+Comb.) ","Amt. Needed to change value in Column F to value in Column G","Values for correction factors (J-L)","Correction 1\n (if Misc is neg. move to Correction 2a)","Correction 2a \n(if misc, other paper, other plastics negative, move to Correction 2b)","Correction 2b \nRemainder Tons","Material"]
["Material",null,null,null,null,null,null,null,null,null,null,null,null,null,"Comment:\n\nGreen boxes in TOTAL row: This indicates the values are correct according to input values.\n\nRed boxes NOT in TOTAL row: This indicates negative numbers needing correction.\n\nOrange Boxes: This indicates the material tonnages used for correction. A percenage of each value (seen in the 2a and 2b table), is subtacted to correct the negative value.\n\nIn the LANDFILLED TONS table, C&D debris and white goods are bold because 100% of the remainder tons for those materials (Column L in pink)are assumed to go to the landfill.  In the NET COMBUSTED WTE and NET COMBUSTED RENEWABLE ENERGY tables, C&D debris and white goods is zero becuase it is assumed these materials would be removed and sent to the landfill before combustion."]
["Newspaper",{"$f":"Population*B7*(NewspaperUS/2000)","v":2997.1206112357727},{"$f":"B38/($B$57-$B$52-$B$56)","v":7.3299762516189568E-3},{"$f":"C38*$D$59","v":2758.1464067848488},{"$f":"B13","v":3043},{"$f":"D38-E38","v":-284.85359321515125},{"$f":"ABS(F38)","v":284.85359321515125},{"$f":"IF(F38<0,(G38*2),0)","v":569.7071864303025},{"$f":"IF(H38=0,G38,H38)","v":569.7071864303025},{"$f":"IF(H38=0,F38,G38)","v":284.85359321515125},{"$f":"J38","v":284.85359321515125},{"$f":"K38","v":284.85359321515125},"Newspaper"]
["Glass",{"$f":"Population*C7*(GlassUS/2000)","v":7719.0188420977765},{"$f":"B39/($B$57-$B$52-$B$56)","v":1.8878194152836179E-2},{"$f":"C39*$D$59","v":7103.5459845768955},4072,{"$f":"D39-E39","v":3031.5459845768955},{"$f":"ABS(F39)","v":3031.5459845768955},0,{"$f":"IF(H39=0,G39,H39)","v":3031.5459845768955},{"$f":"IF(H39=0,F39,G39)","v":3031.5459845768955},{"$f":"J39","v":3031.5459845768955},3031.5459845768955,"Glass"]
["Aluminum Cans",{"$f":"Population*D7*'10 2019 WasteCalc Program'!AluminumCansUS/2000","v":1124.5833002164306},{"$f":"B40/($B$57-$B$52-$B$56)","v":2.7503627490502911E-3},{"$f":"C40*$D$59","v":1034.9151038480481},413,621.91510384804815,621.91510384804815,0,621.91510384804815,{"$f":"IF(H40=0,F40,G40)","v":621.91510384804815},621.91510384804815,621.91510384804815,"Aluminum Cans"]
["Plastic Bottles",{"$f":"(Population*E7*PlasticBottlesUS)/2000","v":3782.4730200562203},9.2506912486147088E-3,{"$f":"C41*$D$59","v":3480.8790576923507},1063,2417.8790576923507,2417.8790576923507,0,2417.8790576923507,2417.8790576923507,2417.8790576923507,2417.8790576923507,"Plastic Bottles"]
["SteelCans",{"$f":"Population*F7*'10 2019 WasteCalc Program'!SteelCansUS/2000","v":1399.758188310692},3.4233504784100316E-3,{"$f":"C42*$D$59","v":1288.1490331031241},334,954.14903310312411,954.14903310312411,0,954.14903310312411,{"$f":"IF(H42=0,F42,G42)","v":954.14903310312411},{"$f":"J42","v":954.14903310312411},954.14903310312411,"SteelCans"]
["Corrugated Boxes",{"$f":"Population*G7*([0]!CardboardUS/2000)","v":42797.69632233453},0.104669160290271,39385.23924849488,27363,12022.23924849488,12022.23924849488,0,12022.23924849488,12022.23924849488,12022.23924849488,12022.23924849488,"Corrugated Boxes"]
["Office Paper",{"$f":"Population*H7*('10 2019 WasteCalc Program'!OfficePaperUS/2000)","v":4310.5100918652006},1.0542097133924861E-2,3966.8133063172759,2657,1309.8133063172759,1309.8133063172759,0,1309.8133063172759,1309.8133063172759,1309.8133063172759,1309.8133063172759,"Office Paper"]
["YardTrash",{"$f":"Population*I7*('10 2019 WasteCalc Program'!YardWasteUS/2000)+P20","v":156268.87294841331},{"$f":"B45/($B$57-$B$52-$B$56)","v":0.38218252655065449},{"$f":"C45*$D$59+B56","v":143808.83732178836},47826,{"$f":"D45-E45-E56","v":95982.837321788364},95982.837321788364,0,95982.837321788364,95982.837321788364,95982.837321788364,{"$f":"K45","v":95982.837321788364},"YardTrash"]
["Other Plastics",{"$f":"Population*J7*('10 2019 WasteCalc Program'!OtherPlasticUS/2000)","v":24697.675866882793},6.0402433220660356E-2,{"$f":"C46*$D$59","v":22728.416631886059},965,21763.416631886059,21763.416631886059,0,{"$f":"IF(H46=0,G46,H46)","v":21763.416631886059},{"$f":"IF(H46=0,F46,G46)","v":21763.416631886059},{"$f":"IF(J54<0,(I46-U63),I46)","v":21763.416631886059},{"$f":"IF(OR(K50<0,K46<0,K54<0),(J46-U68),K46)","v":21763.416631886059},"Other Plastics"]
["Ferrous Metals",{"$f":"(Population*K7*FerrousMetalsUS/2000)+FerrousMetalsEntered","v":17801.712768435849},4.3537164083955464E-2,{"$f":"C47*$D$59","v":16382.300372834345},13912,2470.3003728343447,2470.3003728343447,0,2470.3003728343447,{"$f":"IF(H47=0,F47,G47)","v":2470.3003728343447},{"$f":"J47","v":2470.3003728343447},{"$f":"K47","v":2470.3003728343447},"Ferrous Metals"]
["WhiteGoods",{"$f":"(Population*L7*WhiteGoodsUS)/2000","v":3905.1496330384284},9.5507180998590669E-3,{"$f":"C48*$D$59","v":3593.7741003626224},2712,881.77410036262245,{"$f":"ABS(F48)","v":881.77410036262245},0,881.77410036262245,{"$f":"IF(H48=0,F48,G48)","v":881.77410036262245},881.77410036262245,881.77410036262245,"WhiteGoods"]
["Non-Ferrous Metals",{"$f":"(Population*NonFerrousMetalUS*M7/2000)+B24","v":1754.3220698038685},4.290497706747708E-3,1614.4419063528496,1455,159.44190635284963,159.44190635284963,0,159.44190635284963,159.44190635284963,159.44190635284963,159.44190635284963,"Non-Ferrous Metals"]
["Other Paper",{"$f":"Population*N7*('10 2019 WasteCalc Program'!OtherPaperUS/2000)","v":43115.473360211632},0.10544633893707513,39677.678462283504,989,38688.678462283504,38688.678462283504,0,38688.678462283504,38688.678462283504,{"$f":"IF(F50<0,(J50-U64),IF(J54<0,(I50-U64),F50))","v":38688.678462283504},{"$f":"IF(OR(K46<0,K50<0,K54<0),(J50-U69),K50)","v":38688.678462283504},"Other Paper"]
["Textiles",{"$f":"Population*O7*('10 2019 WasteCalc Program'!TextilesUS/2000)","v":9820.0343173813126},2.4016590479089578E-2,9037.0378374000265,4125,4912.0378374000265,4912.0378374000265,0,4912.0378374000265,4912.0378374000265,4912.0378374000265,{"$f":"IF(OR(K54<0),(I51-U70),K51)","v":4912.0378374000265},"Textiles"]
["C&D Debris",{"$f":"Collected_CD+(Landfilled*0.074)","v":190541.87},0,{"$f":"B52","v":190541.87},104770,85771.87,85771.87,0,85771.87,85771.87,85771.87,85771.87,"C&D Debris"]
["Food Waste",{"$f":"Population*Q7*('10 2019 WasteCalc Program'!FoodWasteUS/2000)","v":29206.159173294331},7.1428708053554418E-2,{"$f":"C53*$D$59","v":26877.417838247664},1323,25554.417838247664,25554.417838247664,0,25554.417838247664,{"$f":"IF(H53=0,F53,G53)","v":25554.417838247664},25554.417838247664,{"$f":"IF(OR(K54<0),(I53-U71),K53)","v":25554.417838247664},"Food Waste"]
["Miscellaneous",{"$f":"(Population*'10 2019 WasteCalc Program'!R3*R7)/2000","v":56713.174941401063},0.13870186735760931,{"$f":"C54*$D$59","v":52191.172786166062},635,{"$f":"D54-E54","v":51556.172786166062},51556.172786166062,0,{"$f":"IF(H54=0,G54,H54)","v":51556.172786166062},{"$f":"F57-SUM(J38:J53,J55)","v":49611.194803457591},{"$f":"IF(J54<0,(I54-U62),J54)","v":49611.194803457591},{"$f":"IF(OR(K54<0,K50<0,K46<0),F57-SUM(L38:L53,L55,),K54)","v":49611.194803457591},"Miscellaneous"]
["Tires",{"$f":"(Population*S3*S7)/2000","v":1471.7108756011048},3.5993232060679381E-3,{"$f":"C55*$D$59","v":1354.3646018608788},2042,-687.63539813912121,687.63539813912121,1375.2707962782424,1375.2707962782424,{"$f":"IF(H55=0,F55,G55)","v":687.63539813912121},{"$f":"J55","v":687.63539813912121},687.63539813912121,"Tires"]
["Process Fuel",{"$f":"'2 2019 WasteCalc Input'!E42","v":0},null,null,{"$f":"B56","v":0},null,null,null,null,null,null,null,"Process Fuel"]
["TOTAL",{"$f":"SUM(B38:B56)","v":599427.31633058051},0.99999999999999944,{"$f":"SUM(D38:D56)","v":566824.99999999977},219699,{"$f":"SUM(F38:F56)","v":347125.99999999983},349070.97798270831,{"$f":"SUM(H38:H56)","v":1944.9779827085449},{"$f":"SUM(I38:I56)","v":350043.46697406267},{"$f":"SUM(J38:J56)","v":347125.99999999983},{"$f":"SUM(K38:K56)","v":347125.99999999983},{"$f":"SUM(L38:L56)","v":347125.99999999983}]
[null,null,"Reported Total",{"$f":"'2 2019 WasteCalc Input'!E44","v":566825}]
[null,null,"Reported (Minus C&D)",{"$f":"'2 2019 WasteCalc Input'!E44-'10 2019 WasteCalc Program'!B52-B56","v":376283.13}]
[]
["Correction 2a","Proportions Step 2a","Newspaper","Glass","Aluminum Cans","Plastic Bottles","SteelCans","Corrugated Boxes","Office Paper","YardTrash","Other Plastics","Ferrous Metals","WhiteGoods","Non-Ferrous Metals","Other Paper","Textiles","C&D Debris","Food Waste","Miscellaneous","Tires","SUM"]
["Miscellaneous",{"$f":"I54/($I$54+$I$46+$I$50)","v":0.46028899260585171},{"$f":"$H$38*B62","v":262.22994692231811},{"$f":"$H$39*B62","v":0},{"$f":"$H$40*B62","v":0},{"$f":"$H$41*B62","v":0},{"$f":"$H$42*B62","v":0},{"$f":"$H$43*B62","v":0},{"$f":"$H$44*B62","v":0},{"$f":"$H$45*B62","v":0},{"$f":"$H$46*B62","v":0},{"$f":"$H$47*B62","v":0},{"$f":"$H$48*B62","v":0},{"$f":"$H$49*B62","v":0},{"$f":"$H$50*B62","v":0},{"$f":"$H$51*B62","v":0},{"$f":"$H$52*B62","v":0},{"$f":"$H$53*B62","v":0},{"$f":"$H$54*B62","v":0},{"$f":"$H$55*B62","v":633.02200937915973},{"$f":"SUM(C62:T62)","v":895.25195630147778}]
["Other Plastics",{"$f":"I46/($I$54+$I$46+$I$50)","v":0.19430187649305561},{"$f":"$H$38*B63","v":110.69517537498685},{"$f":"$H$39*B63","v":0},{"$f":"$H$40*B63","v":0},{"$f":"$H$41*B63","v":0},{"$f":"$H$42*B63","v":0},{"$f":"$H$43*B63","v":0},{"$f":"$H$44*B63","v":0},{"$f":"$H$45*B63","v":0},{"$f":"$H$46*B63","v":0},{"$f":"$H$47*B63","v":0},{"$f":"$H$48*B63","v":0},{"$f":"$H$49*B63","v":0},{"$f":"$H$50*B63","v":0},{"$f":"$H$51*B63","v":0},{"$f":"$H$52*B63","v":0},{"$f":"$H$53*B63","v":0},{"$f":"$H$54*B63","v":0},{"$f":"$H$55*B63","v":267.21769640296128},{"$f":"SUM(C63:T63)","v":377.91287177794811}]
["Other Paper",{"$f":"I50/($I$54+$I$46+$I$50)","v":0.34540913090109271},{"$f":"$H$38*B64","v":196.78206413299759},{"$f":"$H$39*B64","v":0},{"$f":"$H$40*B64","v":0},{"$f":"$H$41*B64","v":0},{"$f":"$H$42*B64","v":0},{"$f":"$H$43*B64","v":0},{"$f":"$H$44*B64","v":0},{"$f":"$H$45*B64","v":0},{"$f":"$H$46*B64","v":0},{"$f":"$H$47*B64","v":0},{"$f":"$H$48*B64","v":0},{"$f":"$H$49*B64","v":0},{"$f":"$H$50*B64","v":0},{"$f":"$H$51*B64","v":0},{"$f":"$H$52*B64","v":0},{"$f":"$H$53*B64","v":0},{"$f":"$H$54*B64","v":0},{"$f":"$H$55*B64","v":475.03109049612146},{"$f":"SUM(C64:T64)","v":671.81315462911903}]
["Total",{"$f":"SUM(B62:B64)","v":1},{"$f":"SUM(C62:C64)","v":569.7071864303025},{"$f":"SUM(D62:D64)","v":0},0,0,0,0,0,0,0,0,0,0,0,0,0,0,0,1375.2707962782424,{"$f":"SUM(C65:T65)","v":1944.9779827085449}]
["Correction 2b","Proportions Step 2b","Newspaper","Glass","Aluminum Cans","Plastic Bottles","SteelCans","Corrugated Boxes","Office Paper","YardTrash","Other Plastics","Ferrous Metals","WhiteGoods","Non-Ferrous Metals","Other Paper","Textiles","C&D Debris","Food Waste","Miscellaneous","Tires","SUM"]
["Miscellaneous",{"$f":"I54/($I$54+$I$53+$I$51+$I$50+$I$46)","v":0.36186189030160026},{"$f":"$H$38*B67","v":206.15531940007546},{"$f":"$H$39*B67","v":0},{"$f":"$H$40*B67","v":0},{"$f":"$H$41*B67","v":0},{"$f":"$H$42*B67","v":0},{"$f":"$H$43*B67","v":0},{"$f":"$H$44*B67","v":0},{"$f":"$H$45*B67","v":0},{"$f":"$H$46*B67","v":0},{"$f":"$H$47*B67","v":0},{"$f":"$H$48*B67","v":0},{"$f":"$H$49*B67","v":0},{"$f":"$H$50*B67","v":0},{"$f":"$H$51*B67","v":0},{"$f":"$H$52*B67","v":0},{"$f":"$H$53*B67","v":0},{"$f":"$H$54*B67","v":0},{"$f":"$H$55*B67","v":497.6580900178318},{"$f":"SUM(C67:T67)","v":703.81340941790722}]
["Other Plastics",{"$f":"I46/($I$54+$I$53+$I$51+$I$50+$I$46)","v":0.15275282582551877},{"$f":"$H$38*B68","v":87.02438262033435},{"$f":"$H$39*B68","v":0},{"$f":"$H$40*B68","v":0},{"$f":"$H$41*B68","v":0},{"$f":"$H$42*B68","v":0},{"$f":"$H$43*B68","v":0},{"$f":"$H$44*B68","v":0},{"$f":"$H$45*B68","v":0},{"$f":"$H$46*B68","v":0},{"$f":"$H$47*B68","v":0},{"$f":"$H$48*B68","v":0},{"$f":"$H$49*B68","v":0},{"$f":"$H$50*B68","v":0},{"$f":"$H$51*B68","v":0},{"$f":"$H$52*B68","v":0},{"$f":"$H$53*B68","v":0},{"$f":"$H$54*B68","v":0},{"$f":"$H$55*B68","v":210.07650040681287},297.10088302714723]
["Other Paper",{"$f":"I50/($I$54+$I$53+$I$51+$I$50+$I$46)","v":0.27154766471318231},{"$f":"$H$38*B69","v":154.70265604546623},{"$f":"$H$39*B69","v":0},{"$f":"$H$40*B69","v":0},{"$f":"$H$41*B69","v":0},{"$f":"$H$42*B69","v":0},{"$f":"$H$43*B69","v":0},{"$f":"$H$44*B69","v":0},{"$f":"$H$45*B69","v":0},{"$f":"$H$46*B69","v":0},{"$f":"$H$47*B69","v":0},{"$f":"$H$48*B69","v":0},{"$f":"$H$49*B69","v":0},{"$f":"$H$50*B69","v":0},{"$f":"$H$51*B69","v":0},{"$f":"$H$52*B69","v":0},{"$f":"$H$53*B69","v":0},{"$f":"$H$54*B69","v":0},{"$f":"$H$55*B69","v":373.45157307759541},528.15422912306167]
["Textiles",{"$f":"I51/($I$54+$I$53+$I$51+$I$50+$I$46)","v":3.4476556365943142E-2},{"$f":"$H$38*B70","v":19.641541925047203},{"$f":"$H$39*B70","v":0},{"$f":"$H$40*B70","v":0},{"$f":"$H$41*B70","v":0},{"$f":"$H$42*B70","v":0},{"$f":"$H$43*B70","v":0},{"$f":"$H$44*B70","v":0},{"$f":"$H$45*B70","v":0},{"$f":"$H$46*B70","v":0},{"$f":"$H$47*B70","v":0},{"$f":"$H$48*B70","v":0},{"$f":"$H$49*B70","v":0},{"$f":"$H$50*B70","v":0},{"$f":"$H$51*B70","v":0},{"$f":"$H$52*B70","v":0},{"$f":"$H$53*B70","v":0},{"$f":"$H$54*B70","v":0},{"$f":"$H$55*B70","v":47.414601126322331},67.056143051369531]
["Food Waste",{"$f":"I53/($I$54+$I$53+$I$51+$I$50+$I$46)","v":0.17936106279375535},{"$f":"$H$38*B71","v":102.18328643937917},{"$f":"$H$39*B71","v":0},{"$f":"$H$40*B71","v":0},{"$f":"$H$41*B71","v":0},{"$f":"$H$42*B71","v":0},{"$f":"$H$43*B71","v":0},{"$f":"$H$44*B71","v":0},{"$f":"$H$45*B71","v":0},{"$f":"$H$46*B71","v":0},{"$f":"$H$47*B71","v":0},{"$f":"$H$48*B71","v":0},{"$f":"$H$49*B71","v":0},{"$f":"$H$50*B71","v":0},{"$f":"$H$51*B71","v":0},{"$f":"$H$52*B71","v":0},{"$f":"$H$53*B71","v":0},{"$f":"$H$54*B71","v":0},{"$f":"$H$55*B71","v":246.67003164967977},348.85331808905892]
["Total",{"$f":"SUM(B67:B71)","v":0.99999999999999978},{"$f":"SUM(C67:C71)","v":569.70718643030239},0,0,0,0,0,0,0,0,0,0,0,0,0,0,0,0,1375.2707962782422,1944.9779827085445]

{"sheet":"11 2019 WasteCalc County Factor","index":11,"n_rows":69,"n_cols":21,"rows_kept":69,"cut":false,"hidden":true,"merged":[]}
["2019 WasteCalc County Factors",null,null,null,null,null,null,null,null,null,null,null,null,null,null,null,null,null,null,null," "]
["County","Newspaper","Glass","Aluminum Cans","Plastic Bottles","Steel Cans","Corrugated Boxes","Office Paper","Yard Waste","Other Plastic","Ferrous Metal","White Goods","Non-Ferrous Metal","Other Paper","Textiles","CD Debris","Food Waste","Miscellaneous","Tires","Population Density","County2"]
["Alachua",{"$f":"'42 Alachua County Factor'!A202","v":0.4843404127197779},{"$f":"'42 Alachua County Factor'!B202","v":1.0195183593630599},{"$f":"'42 Alachua County Factor'!C202","v":0.85862600211023232},{"$f":"'42 Alachua County Factor'!D202","v":1.1762862134807535},{"$f":"'42 Alachua County Factor'!E202","v":1.0855535590769705},{"$f":"'42 Alachua County Factor'!F202","v":1.2171375857957858},{"$f":"'42 Alachua County Factor'!G202","v":1.1456846724208709},{"$f":"'42 Alachua County Factor'!H202","v":1.0590486000759722},{"$f":"'42 Alachua County Factor'!I202","v":1.0748261291690933},{"$f":"'42 Alachua County Factor'!J202","v":0.59342165042486006},{"$f":"'42 Alachua County Factor'!K202","v":0.92214035706995401},{"$f":"'42 Alachua County Factor'!L202","v":0.1548338523894196},{"$f":"'42 Alachua County Factor'!M202","v":1.5628193907404442},{"$f":"'42 Alachua County Factor'!N202","v":0.75265740280249627},{"$f":"IF('42 Alachua County Factor'!O202<>1,0)","v":0},{"$f":"'42 Alachua County Factor'!P202","v":0.35218853297776859},{"$f":"'42 Alachua County Factor'!Q202","v":1.3684937393421035},{"$f":"'42 Alachua County Factor'!R202","v":0.27419138314473607},305.10000000000002,"Alachua"]
["Baker",{"$f":"'69 Baker County Factor'!B168","v":6.8605114950138366E-2},{"$f":"'69 Baker County Factor'!C168","v":0.6565873138170718},{"$f":"'69 Baker County Factor'!D168","v":2.2385118204144345},{"$f":"'69 Baker County Factor'!E168","v":2.660574330410129},{"$f":"'69 Baker County Factor'!F168","v":1.2703058850608528},{"$f":"'69 Baker County Factor'!G168","v":0.7887869148402179},{"$f":"'69 Baker County Factor'!H168","v":1.0957333446667807},{"$f":"'69 Baker County Factor'!I168","v":6.6086922869996123E-2},{"$f":"'69 Baker County Factor'!J168","v":1.1898366094299841},{"$f":"'69 Baker County Factor'!K168","v":1.7294583243462631},{"$f":"'69 Baker County Factor'!L168","v":2.4290898722389531E-3},{"$f":"'69 Baker County Factor'!M168","v":0.10754603528759799},{"$f":"'69 Baker County Factor'!N168","v":1.018500944180869},{"$f":"'69 Baker County Factor'!O168","v":0.91023277252996282},{"$f":"IF('42 Alachua County Factor'!O203<>1,0)","v":0},{"$f":"'69 Baker County Factor'!Q168","v":0.20097601867522849},{"$f":"'69 Baker County Factor'!R168","v":0.75276244859241614},{"$f":"'69 Baker County Factor'!S168","v":0.27289826458492766},48.3,"Baker"]
["Bay",{"$f":"'47 Bay County Factor'!B146","v":0.85312519383651764},{"$f":"'47 Bay County Factor'!C146","v":2.2167030002523771},{"$f":"'47 Bay County Factor'!D146","v":3.3335881110282943},{"$f":"'47 Bay County Factor'!E146","v":4.4804937364519768},{"$f":"'47 Bay County Factor'!F146","v":3.7546599158097944},{"$f":"'47 Bay County Factor'!G146","v":1.6549539021395139},{"$f":"'47 Bay County Factor'!H146","v":1.8154209719774086},{"$f":"'47 Bay County Factor'!I146","v":0.54457365552384118},{"$f":"'47 Bay County Factor'!J146","v":2.5305263490836785},{"$f":"'47 Bay County Factor'!K146","v":2.3378873136495288},{"$f":"'47 Bay County Factor'!L146","v":1.9143649278270054},{"$f":"'47 Bay County Factor'!M146","v":0.23903653568614605},{"$f":"'47 Bay County Factor'!N146","v":2.8764073035792168},{"$f":"'47 Bay County Factor'!O146","v":1.462462275280457},{"$f":"IF('42 Alachua County Factor'!O204<>1,0)","v":0},{"$f":"'47 Bay County Factor'!Q146","v":0.77237877513654218},{"$f":"'47 Bay County Factor'!R146","v":4.1473504108967569},{"$f":"'47 Bay County Factor'!S146","v":0.20093098249446981},242.2,"Bay"]
["Bradford",{"$f":"'57 Bradford County Factor'!B168","v":0.79812409859213518},{"$f":"'57 Bradford County Factor'!C168","v":0.66205224715250233},{"$f":"'57 Bradford County Factor'!D168","v":2.6075140353246673},{"$f":"'57 Bradford County Factor'!E168","v":2.5776288809519112},{"$f":"'57 Bradford County Factor'!F168","v":1.2425071166066628},{"$f":"'57 Bradford County Factor'!G168","v":0.92747839477194083},{"$f":"'57 Bradford County Factor'!H168","v":1.0417804419898504},{"$f":"'57 Bradford County Factor'!I168","v":0.27139868956926899},{"$f":"'57 Bradford County Factor'!J168","v":1.1461413815306354},{"$f":"'57 Bradford County Factor'!K168","v":1.6659337374463357},{"$f":"'57 Bradford County Factor'!L168","v":2.3894574457727145E-3},{"$f":"'57 Bradford County Factor'!M168","v":0.10359577099490268},{"$f":"'57 Bradford County Factor'!N168","v":0.99809894977873881},{"$f":"'57 Bradford County Factor'!O168","v":0.87679908983072896},{"$f":"IF('42 Alachua County Factor'!O205<>1,0)","v":0},{"$f":"'57 Bradford County Factor'!Q168","v":0.19359398559388091},{"$f":"'57 Bradford County Factor'!R168","v":0.72511279499426606},{"$f":"'57 Bradford County Factor'!S168","v":0.13720559244270927},92,"Bradford"]
["Brevard",{"$f":"'30 Brevard County Factor'!B144","v":0.85478132249466499},{"$f":"'30 Brevard County Factor'!C144","v":1.863934822997922},{"$f":"'30 Brevard County Factor'!D144","v":2.4171087736712238},{"$f":"'30 Brevard County Factor'!E144","v":2.657339372954767},{"$f":"'30 Brevard County Factor'!F144","v":1.9151898652997281},{"$f":"'30 Brevard County Factor'!G144","v":0.97226104639757749},{"$f":"'30 Brevard County Factor'!H144","v":1.5331951062133096},{"$f":"'30 Brevard County Factor'!I144","v":2.2717023037154789},{"$f":"'30 Brevard County Factor'!J144","v":1.7054279912439552},{"$f":"'30 Brevard County Factor'!K144","v":1.3667191789941859},{"$f":"'30 Brevard County Factor'!L144","v":1.0648470098292959},{"$f":"'30 Brevard County Factor'!M144","v":0.18356967323981788},{"$f":"'30 Brevard County Factor'!N144","v":1.7256810318618092},{"$f":"'30 Brevard County Factor'!O144","v":0.97737952665952987},{"$f":"IF('42 Alachua County Factor'!O206<>1,0)","v":0},{"$f":"'30 Brevard County Factor'!Q144","v":0.57968979136049537},{"$f":"'30 Brevard County Factor'!R144","v":1.6016579739204428},{"$f":"'30 Brevard County Factor'!S144","v":0.73464553893987539},579.9,"Brevard"]
["Broward",{"$f":"'19 Broward County Factor'!B145","v":1.2973212994560186},{"$f":"'19 Broward County Factor'!C145","v":1.8469282686524042},{"$f":"'19 Broward County Factor'!D145","v":1.8461348833484486},{"$f":"'19 Broward County Factor'!E145","v":3.1228510736676189},{"$f":"'19 Broward County Factor'!F145","v":3.7082443115284076},{"$f":"'19 Broward County Factor'!G145","v":1.0000377322704157},{"$f":"'19 Broward County Factor'!H145","v":2.238523925201175},{"$f":"'19 Broward County Factor'!I145","v":0.36694015678138198},{"$f":"'19 Broward County Factor'!J145","v":1.7134739048837766},{"$f":"'19 Broward County Factor'!K145","v":1.0421055138240949},{"$f":"'19 Broward County Factor'!L145","v":0.44417567989943274},{"$f":"'19 Broward County Factor'!M145","v":0.14984274567849704},{"$f":"'19 Broward County Factor'!N145","v":2.0836006136167198},{"$f":"'19 Broward County Factor'!O145","v":1.0602596712715828},{"$f":"IF('42 Alachua County Factor'!O207<>1,0)","v":0},{"$f":"'19 Broward County Factor'!Q145","v":0.46996204684160164},{"$f":"'19 Broward County Factor'!R145","v":1.1624750183330552},{"$f":"'19 Broward County Factor'!S145","v":0.46599597323706365},1599.9,"Broward"]
["Calhoun",{"$f":"'78 Calhoun County Factor'!B168","v":3.8829377585823152E-2},{"$f":"'78 Calhoun County Factor'!C168","v":0.37161772478326005},{"$f":"'78 Calhoun County Factor'!D168","v":1.0402300827352251},{"$f":"'78 Calhoun County Factor'!E168","v":1.625673745386671},{"$f":"'78 Calhoun County Factor'!F168","v":0.71897243953851342},{"$f":"'78 Calhoun County Factor'!G168","v":0.52880552234064271},{"$f":"'78 Calhoun County Factor'!H168","v":0.5118528560789104},{"$f":"'78 Calhoun County Factor'!I168","v":3.6073180121325252E-2},{"$f":"'78 Calhoun County Factor'!J168","v":0.67319083660307433},{"$f":"'78 Calhoun County Factor'!K168","v":0.73283273645498548},{"$f":"'78 Calhoun County Factor'!L168","v":0},{"$f":"'78 Calhoun County Factor'!M168","v":4.5571063624494305E-2},{"$f":"'78 Calhoun County Factor'!N168","v":0.57645494453087565},{"$f":"'78 Calhoun County Factor'!O168","v":0.51517692290500738},{"$f":"IF('42 Alachua County Factor'!O208<>1,0)","v":0},{"$f":"'78 Calhoun County Factor'!Q168","v":0.11374915296778688},{"$f":"'78 Calhoun County Factor'!R168","v":0.42605128451526292},{"$f":"'78 Calhoun County Factor'!S168","v":0},25.5,"Calhoun"]
["Charlotte",{"$f":"'44 Charlotte County Factor'!B142","v":2.0170553321291149},{"$f":"'44 Charlotte County Factor'!C142","v":1.9398650615527653},{"$f":"'44 Charlotte County Factor'!D142","v":2.2222283436151642},{"$f":"'44 Charlotte County Factor'!E142","v":2.9693531425174631},{"$f":"'44 Charlotte County Factor'!F142","v":2.7277873189205719},{"$f":"'44 Charlotte County Factor'!G142","v":0.98792506867709928},{"$f":"'44 Charlotte County Factor'!H142","v":1.1544338376839867},{"$f":"'44 Charlotte County Factor'!I142","v":5.827345105655338},{"$f":"'44 Charlotte County Factor'!J142","v":1.6820776173543384},{"$f":"'44 Charlotte County Factor'!K142","v":2.8076746463585476},{"$f":"'44 Charlotte County Factor'!L142","v":1.1412746903662347},{"$f":"'44 Charlotte County Factor'!M142","v":0.28706979026790769},{"$f":"'44 Charlotte County Factor'!N142","v":1.8209769384432866},{"$f":"'44 Charlotte County Factor'!O142","v":0.92147806479600014},{"$f":"IF('42 Alachua County Factor'!O209<>1,0)","v":0},{"$f":"'44 Charlotte County Factor'!Q142","v":0.5113746075218889},{"$f":"'44 Charlotte County Factor'!R142","v":2.1480375085776449},{"$f":"'44 Charlotte County Factor'!S142","v":0.23781098680242505},267.7,"Charlotte"]
["Citrus",{"$f":"'46 Citrus County Factor'!B144","v":0.44782000728284721},{"$f":"'46 Citrus County Factor'!C144","v":1.200615487424092},{"$f":"'46 Citrus County Factor'!D144","v":1.6169900371919275},{"$f":"'46 Citrus County Factor'!E144","v":1.8789214465477915},{"$f":"'46 Citrus County Factor'!F144","v":1.4895680196766641},{"$f":"'46 Citrus County Factor'!G144","v":0.55424030867798935},{"$f":"'46 Citrus County Factor'!H144","v":0.7980739460343601},{"$f":"'46 Citrus County Factor'!I144","v":0.71786187887890007},{"$f":"'46 Citrus County Factor'!J144","v":1.0271156636628049},{"$f":"'46 Citrus County Factor'!K144","v":1.6945483945942805},{"$f":"'46 Citrus County Factor'!L144","v":1.9001663628091892},{"$f":"'46 Citrus County Factor'!M144","v":0.17325855503447052},{"$f":"'46 Citrus County Factor'!N144","v":1.2634045252845063},{"$f":"'46 Citrus County Factor'!O144","v":0.56190355353913035},{"$f":"IF('42 Alachua County Factor'!O210<>1,0)","v":0},{"$f":"'46 Citrus County Factor'!Q144","v":0.29747184860803622},{"$f":"'46 Citrus County Factor'!R144","v":0.82914463272360783},{"$f":"'46 Citrus County Factor'!S144","v":0.28730737166118347},250.3,"Citrus"]
["Clay",{"$f":"'40 Clay County Factor'!B146","v":0.50152429540039067},{"$f":"'40 Clay County Factor'!C146","v":1.6590623967889933},{"$f":"'40 Clay County Factor'!D146","v":2.3071821727663773},{"$f":"'40 Clay County Factor'!E146","v":3.1071165627885393},{"$f":"'40 Clay County Factor'!F146","v":2.1826561583755617},{"$f":"'40 Clay County Factor'!G146","v":0.80879373913598884},{"$f":"'40 Clay County Factor'!H146","v":1.0953724605155477},{"$f":"'40 Clay County Factor'!I146","v":0.72096701791742079},{"$f":"'40 Clay County Factor'!J146","v":1.5306372358688034},{"$f":"'40 Clay County Factor'!K146","v":0.7305774150696327},{"$f":"'40 Clay County Factor'!L146","v":0.27343927400845747},{"$f":"'40 Clay County Factor'!M146","v":0.24540858891195058},{"$f":"'40 Clay County Factor'!N146","v":1.5026191260789659},{"$f":"'40 Clay County Factor'!O146","v":1.0717643208983954},{"$f":"IF('42 Alachua County Factor'!O211<>1,0)","v":0},{"$f":"'40 Clay County Factor'!Q146","v":0.40249636124038535},{"$f":"'40 Clay County Factor'!R146","v":1.2252890389160036},{"$f":"'40 Clay County Factor'!S146","v":0.40136545341940449},351.4,"Clay"]
["Collier",{"$f":"'52 Collier County Factor'!B169","v":1.5520119479314154},{"$f":"'52 Collier County Factor'!C169","v":1.446788405740342},{"$f":"'52 Collier County Factor'!D169","v":1.2611569728493148},{"$f":"'52 Collier County Factor'!E169","v":2.1548525252977364},{"$f":"'52 Collier County Factor'!F169","v":1.7977567992491288},{"$f":"'52 Collier County Factor'!G169","v":1.2119014318862218},{"$f":"'52 Collier County Factor'!H169","v":1.0509031611155439},{"$f":"'52 Collier County Factor'!I169","v":4.242225182692331},{"$f":"'52 Collier County Factor'!J169","v":1.2510268433685041},{"$f":"'52 Collier County Factor'!K169","v":1.9921939724253326},{"$f":"'52 Collier County Factor'!L169","v":0.81456089037256685},{"$f":"'52 Collier County Factor'!M169","v":0.21679735234069272},{"$f":"'52 Collier County Factor'!N169","v":1.412659331336692},{"$f":"'52 Collier County Factor'!O169","v":0.87005338110075725},{"$f":"IF('42 Alachua County Factor'!O212<>1,0)","v":0},{"$f":"'52 Collier County Factor'!Q169","v":0.63014440306995434},{"$f":"'52 Collier County Factor'!R169","v":1.0414117191371628},{"$f":"'52 Collier County Factor'!S169","v":0.73068302311794719},186.6,"Collier"]
["Columbia",{"$f":"'59 Columbia County Factor'!B168","v":8.0664576396303353E-2},{"$f":"'59 Columbia County Factor'!C168","v":0.69606197346854792},{"$f":"'59 Columbia County Factor'!D168","v":3.1209768318756068},{"$f":"'59 Columbia County Factor'!E168","v":2.825639099493257},{"$f":"'59 Columbia County Factor'!F168","v":1.3339653581894486},{"$f":"'59 Columbia County Factor'!G168","v":0.80234844706293906},{"$f":"'59 Columbia County Factor'!H168","v":1.0963681503282345},{"$f":"'59 Columbia County Factor'!I168","v":6.7519227980758295E-2},{"$f":"'59 Columbia County Factor'!J168","v":1.2638343337575568},{"$f":"'59 Columbia County Factor'!K168","v":1.8161275329365025},{"$f":"'59 Columbia County Factor'!L168","v":0},{"$f":"'59 Columbia County Factor'!M168","v":0.11293554345566406},{"$f":"'59 Columbia County Factor'!N168","v":1.0968343752270284},{"$f":"'59 Columbia County Factor'!O168","v":0.96553319647613167},{"$f":"IF('42 Alachua County Factor'!O213<>1,0)","v":0},{"$f":"'59 Columbia County Factor'!Q168","v":0.213615165809666},{"$f":"'59 Columbia County Factor'!R168","v":0.81881271618237106},{"$f":"'59 Columbia County Factor'!S168","v":4.4646768950884375E-2},87.2,"Columbia"]
["DeSoto",{"$f":"'64 DeSoto County Factor'!B170","v":0.13667067521733778},{"$f":"'64 DeSoto County Factor'!C170","v":1.0676135312699928},{"$f":"'64 DeSoto County Factor'!D170","v":2.9614580867715361},{"$f":"'64 DeSoto County Factor'!E170","v":4.3306919227932452},{"$f":"'64 DeSoto County Factor'!F170","v":2.0655223200378696},{"$f":"'64 DeSoto County Factor'!G170","v":1.170753712934572},{"$f":"'64 DeSoto County Factor'!H170","v":1.4811356682781249},{"$f":"'64 DeSoto County Factor'!I170","v":0.11119876925464799},{"$f":"'64 DeSoto County Factor'!J170","v":1.9413583984459071},{"$f":"'64 DeSoto County Factor'!K170","v":2.8121059758306757},{"$f":"'64 DeSoto County Factor'!L170","v":0},{"$f":"'64 DeSoto County Factor'!M170","v":0.17487027253083431},{"$f":"'64 DeSoto County Factor'!N170","v":1.6671733523435912},{"$f":"'64 DeSoto County Factor'!O170","v":1.4806524108936805},{"$f":"IF('42 Alachua County Factor'!O214<>1,0)","v":0},{"$f":"'64 DeSoto County Factor'!Q170","v":0.33290454411675374},{"$f":"'64 DeSoto County Factor'!R170","v":1.2445718935356749},{"$f":"'64 DeSoto County Factor'!S170","v":8.1782794742058032E-2},57.9,"DeSoto"]
["Dixie",{"$f":"'80 Dixie County Factor'!B169","v":4.6577080899575525E-2},{"$f":"'80 Dixie County Factor'!C169","v":0.4457673521211854},{"$f":"'80 Dixie County Factor'!D169","v":1.2146676904885276},{"$f":"'80 Dixie County Factor'!E169","v":1.8063053449719002},{"$f":"'80 Dixie County Factor'!F169","v":0.86243044733163732},{"$f":"'80 Dixie County Factor'!G169","v":0.45871800421078684},{"$f":"'80 Dixie County Factor'!H169","v":0.61641462132556457},{"$f":"'80 Dixie County Factor'!I169","v":4.3270933846474298E-2},{"$f":"'80 Dixie County Factor'!J169","v":0.80751394966378043},{"$f":"'80 Dixie County Factor'!K169","v":1.1741561885591996},{"$f":"'80 Dixie County Factor'!L169","v":0},{"$f":"'80 Dixie County Factor'!M169","v":7.3014678128003815E-2},{"$f":"'80 Dixie County Factor'!N169","v":0.69147615171091126},{"$f":"'80 Dixie County Factor'!O169","v":0.61797120396031779},{"$f":"IF('42 Alachua County Factor'!O215<>1,0)","v":0},{"$f":"'80 Dixie County Factor'!Q169","v":0.13644574879750765},{"$f":"'80 Dixie County Factor'!R169","v":0.51106214881694934},{"$f":"'80 Dixie County Factor'!S169","v":0},23.6,"Dixie"]
["Duval",{"$f":"'24 Duval County Factor'!B142","v":0.69989411141077296},{"$f":"'24 Duval County Factor'!C142","v":1.7461526258040416},{"$f":"'24 Duval County Factor'!D142","v":1.6825655119790845},{"$f":"'24 Duval County Factor'!E142","v":2.6700506889176636},{"$f":"'24 Duval County Factor'!F142","v":1.9106061691603151},{"$f":"'24 Duval County Factor'!G142","v":0.96908179532048955},{"$f":"'24 Duval County Factor'!H142","v":1.8924464390579949},{"$f":"'24 Duval County Factor'!I142","v":0.23538426863313475},{"$f":"'24 Duval County Factor'!J142","v":1.2978517955656377},{"$f":"'24 Duval County Factor'!K142","v":1.1519518826591444},{"$f":"'24 Duval County Factor'!L142","v":5.4951720640690294},{"$f":"'24 Duval County Factor'!M142","v":0.16563738575160872},{"$f":"'24 Duval County Factor'!N142","v":1.8615808453429115},{"$f":"'24 Duval County Factor'!O142","v":0.78638254105454586},{"$f":"IF('42 Alachua County Factor'!O216<>1,0)","v":0},{"$f":"'24 Duval County Factor'!Q142","v":0.35593091350727185},{"$f":"'24 Duval County Factor'!R142","v":1.0237862388967172},{"$f":"'24 Duval County Factor'!S142","v":1.1407280272715477},1230.9000000000001,"Duval"]
["Escambia",{"$f":"'34 Escambia County Factor'!B147","v":1.1698568930193671},{"$f":"'34 Escambia County Factor'!C147","v":1.5519485405298963},{"$f":"'34 Escambia County Factor'!D147","v":3.1146602698924526},{"$f":"'34 Escambia County Factor'!E147","v":2.8166178324823377},{"$f":"'34 Escambia County Factor'!F147","v":2.5121618294306405},{"$f":"'34 Escambia County Factor'!G147","v":1.1334776818248657},{"$f":"'34 Escambia County Factor'!H147","v":1.2879076539112333},{"$f":"'34 Escambia County Factor'!I147","v":0.94265853265944954},{"$f":"'34 Escambia County Factor'!J147","v":1.8100556621984139},{"$f":"'34 Escambia County Factor'!K147","v":0.86299287204540698},{"$f":"'34 Escambia County Factor'!L147","v":1.5909631033680447},{"$f":"'34 Escambia County Factor'!M147","v":0.28993173163271119},{"$f":"'34 Escambia County Factor'!N147","v":1.6722614682426258},{"$f":"'34 Escambia County Factor'!O147","v":1.2471628942261739},{"$f":"IF('42 Alachua County Factor'!O217<>1,0)","v":0},{"$f":"'34 Escambia County Factor'!Q147","v":0.47848396174723723},{"$f":"'34 Escambia County Factor'!R147","v":1.8887784815686284},{"$f":"'34 Escambia County Factor'!S147","v":0.36726338035558181},477.9,"Escambia"]
["Flagler",{"$f":"'49 Flagler County Factor'!B143","v":0.8243984241680522},{"$f":"'49 Flagler County Factor'!C143","v":0.79668069727104485},{"$f":"'49 Flagler County Factor'!D143","v":0.96719085795849413},{"$f":"'49 Flagler County Factor'!E143","v":1.6910775236776499},{"$f":"'49 Flagler County Factor'!F143","v":1.1376402241180326},{"$f":"'49 Flagler County Factor'!G143","v":0.46114563713301032},{"$f":"'49 Flagler County Factor'!H143","v":0.93328518794614623},{"$f":"'49 Flagler County Factor'!I143","v":0.11834555570874117},{"$f":"'49 Flagler County Factor'!J143","v":0.75780388972921564},{"$f":"'49 Flagler County Factor'!K143","v":1.3308478683130596},{"$f":"'49 Flagler County Factor'!L143","v":1.3521024111383071},{"$f":"'49 Flagler County Factor'!M143","v":0.1360721118205851},{"$f":"'49 Flagler County Factor'!N143","v":0.87082192134416192},{"$f":"'49 Flagler County Factor'!O143","v":0.41601696195994925},{"$f":"IF('42 Alachua County Factor'!O218<>1,0)","v":0},{"$f":"'49 Flagler County Factor'!Q143","v":0.23193607445360073},{"$f":"'49 Flagler County Factor'!R143","v":0.60799045654721184},{"$f":"'49 Flagler County Factor'!S143","v":4.2338845986451309E-2},227.9,"Flagler"]
["Franklin",{"$f":"'81 Franklin County Factor'!B168","v":5.0991924640153098E-2},{"$f":"'81 Franklin County Factor'!C168","v":1.6215605049208386},{"$f":"'81 Franklin County Factor'!D168","v":1.2462091687328223},{"$f":"'81 Franklin County Factor'!E168","v":1.4003759399915083},{"$f":"'81 Franklin County Factor'!F168","v":0.90910537730615726},{"$f":"'81 Franklin County Factor'!G168","v":0.61531537815553372},{"$f":"'81 Franklin County Factor'!H168","v":0.47219956766342353},{"$f":"'81 Franklin County Factor'!I168","v":1.8372089085132686},{"$f":"'81 Franklin County Factor'!J168","v":1.4927675698056799},{"$f":"'81 Franklin County Factor'!K168","v":0.9102891052321026},{"$f":"'81 Franklin County Factor'!L168","v":0.22279241704946601},{"$f":"'81 Franklin County Factor'!M168","v":5.660615399345529E-2},{"$f":"'81 Franklin County Factor'!N168","v":0.78087400513639815},{"$f":"'81 Franklin County Factor'!O168","v":0.65209975759759942},{"$f":"IF('42 Alachua County Factor'!O219<>1,0)","v":0},{"$f":"'81 Franklin County Factor'!Q168","v":0.10578241616902676},{"$f":"'81 Franklin County Factor'!R168","v":0.399669550761378},{"$f":"'81 Franklin County Factor'!S168","v":0.46589204597962619},21.9,"Franklin"]
["Gadsden",{"$f":"'58 Gadsden County Factor'!B168","v":5.4752675501144522E-2},{"$f":"'58 Gadsden County Factor'!C168","v":0.5240121258848176},{"$f":"'58 Gadsden County Factor'!D168","v":1.7540046714414308},{"$f":"'58 Gadsden County Factor'!E168","v":2.1301349899132216},{"$f":"'58 Gadsden County Factor'!F168","v":1.0138113748877378},{"$f":"'58 Gadsden County Factor'!G168","v":0.58526915186003514},{"$f":"'58 Gadsden County Factor'!H168","v":0.87492240904656915},{"$f":"'58 Gadsden County Factor'!I168","v":5.0866206163407091E-2},{"$f":"'58 Gadsden County Factor'!J168","v":0.95327117012334994},{"$f":"'58 Gadsden County Factor'!K168","v":1.3802537973226319},{"$f":"'58 Gadsden County Factor'!L168","v":0},{"$f":"'58 Gadsden County Factor'!M168","v":8.5830818530311576E-2},{"$f":"'58 Gadsden County Factor'!N168","v":1.0651515663697115},{"$f":"'58 Gadsden County Factor'!O168","v":0.72644262255171177},{"$f":"IF('42 Alachua County Factor'!O220<>1,0)","v":0},{"$f":"'58 Gadsden County Factor'!Q168","v":0.16234988716675761},{"$f":"'58 Gadsden County Factor'!R168","v":0.60076800552237009},{"$f":"'58 Gadsden County Factor'!S168","v":2.2777595020888684E-2},89.3,"Gadsden"]
["Gilchrist",{"$f":"'68 Gilchrist County Factor'!B168","v":8.6440835656249382E-2},{"$f":"'68 Gilchrist County Factor'!C168","v":0.23450948859608375},{"$f":"'68 Gilchrist County Factor'!D168","v":1.0598591587965112},{"$f":"'68 Gilchrist County Factor'!E168","v":1.0498840180720348},{"$f":"'68 Gilchrist County Factor'!F168","v":0.45370779665903221},{"$f":"'68 Gilchrist County Factor'!G168","v":0.27896882145015772},{"$f":"'68 Gilchrist County Factor'!H168","v":0.37030255149906338},{"$f":"'68 Gilchrist County Factor'!I168","v":2.2763992291326432E-2},{"$f":"'68 Gilchrist County Factor'!J168","v":0.42481730092780612},{"$f":"'68 Gilchrist County Factor'!K168","v":0.61770061445883662},{"$f":"'68 Gilchrist County Factor'!L168","v":0},{"$f":"'68 Gilchrist County Factor'!M168","v":3.8411594627394144E-2},{"$f":"'68 Gilchrist County Factor'!N168","v":0.36377208412075451},{"$f":"'68 Gilchrist County Factor'!O168","v":0.32510256823035039},{"$f":"IF('42 Alachua County Factor'!O221<>1,0)","v":0},{"$f":"'68 Gilchrist County Factor'!Q168","v":7.1781440743364192E-2},{"$f":"'68 Gilchrist County Factor'!R168","v":0.26885980453610375},{"$f":"'68 Gilchrist County Factor'!S168","v":0},50.7,"Gilchrist"]
["Glades",{"$f":"'83 Glades County Factor'!B168","v":9.1564045278703807E-2},{"$f":"'83 Glades County Factor'!C168","v":0.87631644630962924},{"$f":"'83 Glades County Factor'!D168","v":2.3878672785499471},{"$f":"'83 Glades County Factor'!E168","v":3.5509443958236351},{"$f":"'83 Glades County Factor'!F168","v":1.6954179824937565},{"$f":"'83 Glades County Factor'!G168","v":0.82129048286744377},{"$f":"'83 Glades County Factor'!H168","v":1.3679447882684084},{"$f":"'83 Glades County Factor'!I168","v":8.5064621256813841E-2},{"$f":"'83 Glades County Factor'!J168","v":1.5874598068869792},{"$f":"'83 Glades County Factor'!K168","v":2.3082273156041566},{"$f":"'83 Glades County Factor'!L168","v":0},{"$f":"'83 Glades County Factor'!M168","v":0.68179920325087195},{"$f":"'83 Glades County Factor'!N168","v":1.3593456790672076},{"$f":"'83 Glades County Factor'!O168","v":1.2450647581432253},{"$f":"IF('42 Alachua County Factor'!O222<>1,0)","v":0},{"$f":"'83 Glades County Factor'!Q168","v":0.26823331303047582},{"$f":"'83 Glades County Factor'!R168","v":1.0100388789083175},{"$f":"'83 Glades County Factor'!S168","v":0},17.100000000000001,"Glades"]
["Gulf",{"$f":"'75 Gulf County Factor'!B167","v":0.11540290760357444},{"$f":"'75 Gulf County Factor'!C167","v":1.104466994409691},{"$f":"'75 Gulf County Factor'!D167","v":3.2637154400605422},{"$f":"'75 Gulf County Factor'!E167","v":4.4754390958737531},{"$f":"'75 Gulf County Factor'!F167","v":2.1368230749048371},{"$f":"'75 Gulf County Factor'!G167","v":1.0523045819314203},{"$f":"'75 Gulf County Factor'!H167","v":1.5203914094618642},{"$f":"'75 Gulf County Factor'!I167","v":0.10721134695778167},{"$f":"'75 Gulf County Factor'!J167","v":2.0007577959334077},{"$f":"'75 Gulf County Factor'!K167","v":1.8732317475942155},{"$f":"'75 Gulf County Factor'!L167","v":0},{"$f":"'75 Gulf County Factor'!M167","v":0.11648655812782761},{"$f":"'75 Gulf County Factor'!N167","v":1.7132537485125388},{"$f":"'75 Gulf County Factor'!O167","v":1.531132316043279},{"$f":"IF('42 Alachua County Factor'!O223<>1,0)","v":0},{"$f":"'75 Gulf County Factor'!Q167","v":0.33806833398017461},{"$f":"'75 Gulf County Factor'!R167","v":1.2662463340450376},{"$f":"'75 Gulf County Factor'!S167","v":0},28.7,"Gulf"]
["Hamilton",{"$f":"'76 Hamilton County Factor'!B169","v":0.24013972032789366},{"$f":"'76 Hamilton County Factor'!C169","v":0.77087993050894299},{"$f":"'76 Hamilton County Factor'!D169","v":2.1005642077185964},{"$f":"'76 Hamilton County Factor'!E169","v":3.12370238014049},{"$f":"'76 Hamilton County Factor'!F169","v":1.4914289261970664},{"$f":"'76 Hamilton County Factor'!G169","v":0.72247457300009654},{"$f":"'76 Hamilton County Factor'!H169","v":1.1286274982351847},{"$f":"'76 Hamilton County Factor'!I169","v":7.4829828424848158E-2},{"$f":"'76 Hamilton County Factor'!J169","v":1.3964600467927191},{"$f":"'76 Hamilton County Factor'!K169","v":2.0305063543484749},{"$f":"'76 Hamilton County Factor'!L169","v":0},{"$f":"'76 Hamilton County Factor'!M169","v":0.1262666494834434},{"$f":"'76 Hamilton County Factor'!N169","v":1.1957921217042966},{"$f":"'76 Hamilton County Factor'!O169","v":1.0686776330715881},{"$f":"IF('42 Alachua County Factor'!O224<>1,0)","v":0},{"$f":"'76 Hamilton County Factor'!Q169","v":0.23596005595911942},{"$f":"'76 Hamilton County Factor'!R169","v":0.88379633881006558},{"$f":"'76 Hamilton County Factor'!S169","v":0},27.6,"Hamilton"]
["Hardee",{"$f":"'70 Hardee County Factor'!B168","v":8.1754682058857803E-2},{"$f":"'70 Hardee County Factor'!C168","v":0.69118290210693023},{"$f":"'70 Hardee County Factor'!D168","v":2.1747206717228291},{"$f":"'70 Hardee County Factor'!E168","v":2.7675636405777557},{"$f":"'70 Hardee County Factor'!F168","v":1.316867434593052},{"$f":"'70 Hardee County Factor'!G168","v":0.67248303296579648},{"$f":"'70 Hardee County Factor'!H168","v":0.96794355631722895},{"$f":"'70 Hardee County Factor'!I168","v":6.6071511996306523E-2},{"$f":"'70 Hardee County Factor'!J168","v":1.2330140089348358},{"$f":"'70 Hardee County Factor'!K168","v":1.7928495597801333},{"$f":"'70 Hardee County Factor'!L168","v":0},{"$f":"'70 Hardee County Factor'!M168","v":0.11148800714486864},{"$f":"'70 Hardee County Factor'!N168","v":1.0558328834553197},{"$f":"'70 Hardee County Factor'!O168","v":0.9435962708986686},{"$f":"IF('42 Alachua County Factor'!O225<>1,0)","v":0},{"$f":"'70 Hardee County Factor'!Q168","v":0.20834255531682058},{"$f":"'70 Hardee County Factor'!R168","v":0.78035405975340544},{"$f":"'70 Hardee County Factor'!S168","v":0.27390513353346552},43,"Hardee"]
["Hendry",{"$f":"'74 Hendry County Factor'!B168","v":0.29973765502402644},{"$f":"'74 Hendry County Factor'!C168","v":1.3757806784416298},{"$f":"'74 Hendry County Factor'!D168","v":3.6718737234753762},{"$f":"'74 Hendry County Factor'!E168","v":4.7796418604975939},{"$f":"'74 Hendry County Factor'!F168","v":3.6708443076564485},{"$f":"'74 Hendry County Factor'!G168","v":1.3081274862610262},{"$f":"'74 Hendry County Factor'!H168","v":1.6623331902583538},{"$f":"'74 Hendry County Factor'!I168","v":0.17415344638091862},{"$f":"'74 Hendry County Factor'!J168","v":2.1075689563341244},{"$f":"'74 Hendry County Factor'!K168","v":1.5651890798770765},{"$f":"'74 Hendry County Factor'!L168","v":0},{"$f":"'74 Hendry County Factor'!M168","v":9.7330983722809253E-2},{"$f":"'74 Hendry County Factor'!N168","v":1.8108394238494716},{"$f":"'74 Hendry County Factor'!O168","v":1.6521447501786215},{"$f":"IF('42 Alachua County Factor'!O226<>1,0)","v":0},{"$f":"'74 Hendry County Factor'!Q168","v":0.35892331715150694},{"$f":"'74 Hendry County Factor'!R168","v":1.3835957109248653},{"$f":"'74 Hendry County Factor'!S168","v":4.0812321717363556E-2},35,"Hendry"]
["Hernando",{"$f":"'37 Hernando County Factor'!A191","v":1.0706668473795971},{"$f":"'37 Hernando County Factor'!B191","v":1.7144793476796096},{"$f":"'37 Hernando County Factor'!C191","v":4.380007744399502},{"$f":"'37 Hernando County Factor'!D191","v":3.6816692134958409},{"$f":"'37 Hernando County Factor'!E191","v":2.708374880852257},{"$f":"'37 Hernando County Factor'!F191","v":1.2198375774355144},{"$f":"'37 Hernando County Factor'!G191","v":1.6001851109195981},{"$f":"'37 Hernando County Factor'!H191","v":0.2988138673738876},{"$f":"'37 Hernando County Factor'!I191","v":2.0567634483859569},{"$f":"'37 Hernando County Factor'!J191","v":0.57818170766007715},{"$f":"'37 Hernando County Factor'!K191","v":1.0071699541665806},{"$f":"'37 Hernando County Factor'!L191","v":0.34156413014607279},{"$f":"'37 Hernando County Factor'!M191","v":1.0270392555969658},{"$f":"'37 Hernando County Factor'!N191","v":1.623509033525663},{"$f":"IF('42 Alachua County Factor'!O227<>1,0)","v":0},{"$f":"'37 Hernando County Factor'!P191","v":0.40150874412459653},{"$f":"'37 Hernando County Factor'!Q191","v":1.0752352368327955},{"$f":"'37 Hernando County Factor'!R191","v":0.98098431608170888},394.4,"Hernando"]
["Highlands",{"$f":"'55 Highlands County Factor'!B142","v":0.48313734518414919},{"$f":"'55 Highlands County Factor'!C142","v":0.62726457174935868},{"$f":"'55 Highlands County Factor'!D142","v":0.6953568034677915},{"$f":"'55 Highlands County Factor'!E142","v":0.96258869646957268},{"$f":"'55 Highlands County Factor'!F142","v":0.86030722940612947},{"$f":"'55 Highlands County Factor'!G142","v":0.29849133919217324},{"$f":"'55 Highlands County Factor'!H142","v":0.36345718386204284},{"$f":"'55 Highlands County Factor'!I142","v":7.2070197276798337E-2},{"$f":"'55 Highlands County Factor'!J142","v":0.46725125247261878},{"$f":"'55 Highlands County Factor'!K142","v":0.81046109285914114},{"$f":"'55 Highlands County Factor'!L142","v":0.10265039523451168},{"$f":"'55 Highlands County Factor'!M142","v":8.2865333506189229E-2},{"$f":"'55 Highlands County Factor'!N142","v":0.59840693987615456},{"$f":"'55 Highlands County Factor'!O142","v":0.26136491245895915},{"$f":"IF('42 Alachua County Factor'!O228<>1,0)","v":0},{"$f":"'55 Highlands County Factor'!Q142","v":0.13860805691085459},{"$f":"'55 Highlands County Factor'!R142","v":0.38044051817187535},{"$f":"'55 Highlands County Factor'!S142","v":0.333918498559445},101.2,"Highlands"]
["Hillsborough",{"$f":"'23 Hillsborough County Factor'!A165","v":1.5491752291241705},{"$f":"'23 Hillsborough County Factor'!B165","v":2.0627708044950119},{"$f":"'23 Hillsborough County Factor'!C165","v":2.0820757844442741},{"$f":"'23 Hillsborough County Factor'!D165","v":3.3667744606527603},{"$f":"'23 Hillsborough County Factor'!E165","v":2.7865745863712474},{"$f":"'23 Hillsborough County Factor'!F165","v":1.2144969188856041},{"$f":"'23 Hillsborough County Factor'!G165","v":2.1653441241721834},{"$f":"'23 Hillsborough County Factor'!H165","v":0.86337709286627806},{"$f":"'23 Hillsborough County Factor'!I165","v":1.5182096915932606},{"$f":"'23 Hillsborough County Factor'!J165","v":1.1635516013640537},{"$f":"'23 Hillsborough County Factor'!K165","v":0.35458717480487673},{"$f":"'23 Hillsborough County Factor'!L165","v":0.17184368051368609},{"$f":"'23 Hillsborough County Factor'!M165","v":1.9267471691570466},{"$f":"'23 Hillsborough County Factor'!N165","v":0.96464308999778614},{"$f":"IF('42 Alachua County Factor'!O229<>1,0)","v":0},{"$f":"'23 Hillsborough County Factor'!P165","v":0.49837360452075435},{"$f":"'23 Hillsborough County Factor'!Q165","v":2.0290633836742153},{"$f":"'23 Hillsborough County Factor'!R165","v":0.16239529198637953},1380.9,"Hillsborough"]
["Holmes",{"$f":"'72 Holmes County Factor'!B168","v":2.320215772281093E-2},{"$f":"'72 Holmes County Factor'!C168","v":0.22205694757675976},{"$f":"'72 Holmes County Factor'!D168","v":0.61532872197482003},{"$f":"'72 Holmes County Factor'!E168","v":0.89980266474742487},{"$f":"'72 Holmes County Factor'!F168","v":0.429615743998362},{"$f":"'72 Holmes County Factor'!G168","v":0.38677213571416502},{"$f":"'72 Holmes County Factor'!H168","v":0.30644522867507062},{"$f":"'72 Holmes County Factor'!I168","v":2.1555215838534099E-2},{"$f":"'72 Holmes County Factor'!J168","v":0.40225934433000926},{"$f":"'72 Holmes County Factor'!K168","v":0.58490048221148527},{"$f":"'72 Holmes County Factor'!L168","v":0},{"$f":"'72 Holmes County Factor'!M168","v":0.17276664220068955},{"$f":"'72 Holmes County Factor'!N168","v":0.36446196314532386},{"$f":"'72 Holmes County Factor'!O168","v":0.30783950100602647},{"$f":"IF('42 Alachua County Factor'!O230<>1,0)","v":0},{"$f":"'72 Holmes County Factor'!Q168","v":6.7969819556374642E-2},{"$f":"'72 Holmes County Factor'!R168","v":0.25524267148261226},{"$f":"'72 Holmes County Factor'!S168","v":0.14142598605057852},40.799999999999997,"Holmes"]
["Indian River",{"$f":"'41 Indian River County Factor'!B160","v":1.557550952205907},{"$f":"'41 Indian River County Factor'!C160","v":2.3517543964585808},{"$f":"'41 Indian River County Factor'!D160","v":2.0354495411357711},{"$f":"'41 Indian River County Factor'!E160","v":2.797500477852191},{"$f":"'41 Indian River County Factor'!F160","v":2.9621022832483548},{"$f":"'41 Indian River County Factor'!G160","v":0.78040965657646155},{"$f":"'41 Indian River County Factor'!H160","v":1.6816163041536618},{"$f":"'41 Indian River County Factor'!I160","v":2.8007951607566759},{"$f":"'41 Indian River County Factor'!J160","v":1.1060004194013133},{"$f":"'41 Indian River County Factor'!K160","v":0.82392528771093432},{"$f":"'41 Indian River County Factor'!L160","v":1.0331215633583577},{"$f":"'41 Indian River County Factor'!M160","v":0.18252695506915251},{"$f":"'41 Indian River County Factor'!N160","v":1.5414917752663755},{"$f":"'41 Indian River County Factor'!O160","v":0.80482594155613085},{"$f":"IF('42 Alachua County Factor'!O231<>1,0)","v":0},{"$f":"'41 Indian River County Factor'!Q160","v":0.3429298347687062},{"$f":"'41 Indian River County Factor'!R160","v":0.6847342493983688},{"$f":"'41 Indian River County Factor'!S160","v":0.35903121518717751},306.89999999999998,"Indian River"]
["Jackson",{"$f":"'67 Jackson County Factor'!B168","v":7.9353716712827566E-2},{"$f":"'67 Jackson County Factor'!C168","v":0.75945712992018299},{"$f":"'67 Jackson County Factor'!D168","v":2.1023002998488192},{"$f":"'67 Jackson County Factor'!E168","v":3.122793489338223},{"$f":"'67 Jackson County Factor'!F168","v":1.469329122398815},{"$f":"'67 Jackson County Factor'!G168","v":0.88864605957172826},{"$f":"'67 Jackson County Factor'!H168","v":1.1581852362199037},{"$f":"'67 Jackson County Factor'!I168","v":7.3721009561677292E-2},{"$f":"'67 Jackson County Factor'!J168","v":1.3938571248128733},{"$f":"'67 Jackson County Factor'!K168","v":1.9942758245751544},{"$f":"'67 Jackson County Factor'!L168","v":0},{"$f":"'67 Jackson County Factor'!M168","v":0.12401366091549816},{"$f":"'67 Jackson County Factor'!N168","v":1.1821760305960054},{"$f":"'67 Jackson County Factor'!O168","v":1.0627605859136338},{"$f":"IF('42 Alachua County Factor'!O232<>1,0)","v":0},{"$f":"'67 Jackson County Factor'!Q168","v":0.23246362991472339},{"$f":"'67 Jackson County Factor'!R168","v":0.89647241433576597},{"$f":"'67 Jackson County Factor'!S168","v":5.7780652376271363E-2},52.6,"Jackson"]
["Jefferson",{"$f":"'79 Jefferson County Factor'!B169","v":7.658731316235412E-2},{"$f":"'79 Jefferson County Factor'!C169","v":0.73298118162595582},{"$f":"'79 Jefferson County Factor'!D169","v":1.9972942271804348},{"$f":"'79 Jefferson County Factor'!E169","v":3.0316471823843805},{"$f":"'79 Jefferson County Factor'!F169","v":1.4181058467994119},{"$f":"'79 Jefferson County Factor'!G169","v":0.8270265735311334},{"$f":"'79 Jefferson County Factor'!H169","v":1.0477127228374159},{"$f":"'79 Jefferson County Factor'!I169","v":7.1150971622131812E-2},{"$f":"'79 Jefferson County Factor'!J169","v":1.3278059198087926},{"$f":"'79 Jefferson County Factor'!K169","v":1.930680626134281},{"$f":"'79 Jefferson County Factor'!L169","v":0.82273544961474143},{"$f":"'79 Jefferson County Factor'!M169","v":0.1200590056576276},{"$f":"'79 Jefferson County Factor'!N169","v":1.1370034264183713},{"$f":"'79 Jefferson County Factor'!O169","v":1.0161382639043228},{"$f":"IF('42 Alachua County Factor'!O233<>1,0)","v":0},{"$f":"'79 Jefferson County Factor'!Q169","v":0.22435955819897374},{"$f":"'79 Jefferson County Factor'!R169","v":0.84034628364239172},{"$f":"'79 Jefferson County Factor'!S169","v":0.27085991695129302},23.7,"Jefferson"]
["Lafayette",{"$f":"'84 Lafayette County Factor'!B168","v":8.4764918335956993E-2},{"$f":"'84 Lafayette County Factor'!C168","v":0.38396738226330063},{"$f":"'84 Lafayette County Factor'!D168","v":1.8523134266357408},{"$f":"'84 Lafayette County Factor'!E168","v":1.584794025882126},{"$f":"'84 Lafayette County Factor'!F168","v":0.74286544241147501},{"$f":"'84 Lafayette County Factor'!G168","v":0.40666278550521934},{"$f":"'84 Lafayette County Factor'!H168","v":0.52463611930995846},{"$f":"'84 Lafayette County Factor'!I168","v":5.1276900731435711E-2},{"$f":"'84 Lafayette County Factor'!J168","v":0.69556241819434217},{"$f":"'84 Lafayette County Factor'!K168","v":1.0113743771140207},{"$f":"'84 Lafayette County Factor'!L168","v":0},{"$f":"'84 Lafayette County Factor'!M168","v":6.2892122301467887E-2},{"$f":"'84 Lafayette County Factor'!N168","v":0.59561178405402848},{"$f":"'84 Lafayette County Factor'!O168","v":0.53229736177322562},{"$f":"IF('42 Alachua County Factor'!O234<>1,0)","v":0},{"$f":"'84 Lafayette County Factor'!Q168","v":0.11752928234298345},{"$f":"'84 Lafayette County Factor'!R168","v":0.49286375128034493},{"$f":"'84 Lafayette County Factor'!S168","v":0.19447724999878832},15.6,"Lafayette"]
["Lake",{"$f":"'39 Lake County Factor'!B145","v":0.5284908616168138},{"$f":"'39 Lake County Factor'!C145","v":0.90897887164276892},{"$f":"'39 Lake County Factor'!D145","v":1.5192099172085489},{"$f":"'39 Lake County Factor'!E145","v":1.4457722539367261},{"$f":"'39 Lake County Factor'!F145","v":1.3253018070810172},{"$f":"'39 Lake County Factor'!G145","v":0.56736445200976893},{"$f":"'39 Lake County Factor'!H145","v":0.71987010621697622},{"$f":"'39 Lake County Factor'!I145","v":0.21276526806331256},{"$f":"'39 Lake County Factor'!J145","v":0.93197759521543022},{"$f":"'39 Lake County Factor'!K145","v":0.35992446397742445},{"$f":"'39 Lake County Factor'!L145","v":0.16500823785391164},{"$f":"'39 Lake County Factor'!M145","v":0.12090238898388501},{"$f":"'39 Lake County Factor'!N145","v":0.94280790847728679},{"$f":"'39 Lake County Factor'!O145","v":0.70962490018799129},{"$f":"IF('42 Alachua County Factor'!O235<>1,0)","v":0},{"$f":"'39 Lake County Factor'!Q145","v":0.2412980668446183},{"$f":"'39 Lake County Factor'!R145","v":0.73239719072017995},{"$f":"'39 Lake County Factor'!S145","v":0.16482920889092337},368.9,"Lake"]
["Lee",{"$f":"'25 Lee County Factor'!B144","v":1.2617794481448701},{"$f":"'25 Lee County Factor'!C144","v":2.4020301060214098},{"$f":"'25 Lee County Factor'!D144","v":2.4904599582687381},{"$f":"'25 Lee County Factor'!E144","v":3.1425941058818863},{"$f":"'25 Lee County Factor'!F144","v":2.1173696834810274},{"$f":"'25 Lee County Factor'!G144","v":1.1514854543935833},{"$f":"'25 Lee County Factor'!H144","v":2.0991466631090883},{"$f":"'25 Lee County Factor'!I144","v":1.5808927371095483},{"$f":"'25 Lee County Factor'!J144","v":1.8427313563870462},{"$f":"'25 Lee County Factor'!K144","v":0.65334226882093061},{"$f":"'25 Lee County Factor'!L144","v":1.5851737059514477},{"$f":"'25 Lee County Factor'!M144","v":8.7753086840767672E-2},{"$f":"'25 Lee County Factor'!N144","v":1.9695948378990995},{"$f":"'25 Lee County Factor'!O144","v":1.1028160799310698},{"$f":"IF('42 Alachua County Factor'!O236<>1,0)","v":0},{"$f":"'25 Lee County Factor'!Q144","v":0.64469571201584008},{"$f":"'25 Lee County Factor'!R144","v":1.3495286015553329},{"$f":"'25 Lee County Factor'!S144","v":8.7325861396651702E-2},942.9,"Lee"]
["Leon",{"$f":"'35 Leon County Factor'!B146","v":0.4511475199030815},{"$f":"'35 Leon County Factor'!C146","v":1.494060678471909},{"$f":"'35 Leon County Factor'!D146","v":2.0980162354827216},{"$f":"'35 Leon County Factor'!E146","v":2.2544803367652322},{"$f":"'35 Leon County Factor'!F146","v":2.0286627958146632},{"$f":"'35 Leon County Factor'!G146","v":0.97874788712280814},{"$f":"'35 Leon County Factor'!H146","v":1.6209119193705941},{"$f":"'35 Leon County Factor'!I146","v":0.18560800503205468},{"$f":"'35 Leon County Factor'!J146","v":1.3587370603107318},{"$f":"'35 Leon County Factor'!K146","v":0.65005375246132169},{"$f":"'35 Leon County Factor'!L146","v":0.24330101433885085},{"$f":"'35 Leon County Factor'!M146","v":0.21835984909723283},{"$f":"'35 Leon County Factor'!N146","v":1.4273476381215475},{"$f":"'35 Leon County Factor'!O146","v":1.0722257281430363},{"$f":"IF('42 Alachua County Factor'!O237<>1,0)","v":0},{"$f":"'35 Leon County Factor'!Q146","v":0.37740861010945165},{"$f":"'35 Leon County Factor'!R146","v":1.1112371222558424},{"$f":"'35 Leon County Factor'!S146","v":0.62270944818141905},435.2,"Leon"]
["Levy",{"$f":"'73 Levy County Factor'!B169","v":8.695745117893483E-2},{"$f":"'73 Levy County Factor'!C169","v":0.63147703465356064},{"$f":"'73 Levy County Factor'!D169","v":2.1095164366966013},{"$f":"'73 Levy County Factor'!E169","v":2.5946834874159124},{"$f":"'73 Levy County Factor'!F169","v":1.2217247828590883},{"$f":"'73 Levy County Factor'!G169","v":0.66335228295261806},{"$f":"'73 Levy County Factor'!H169","v":0.90321909577581461},{"$f":"'73 Levy County Factor'!I169","v":6.129789645212412E-2},{"$f":"'73 Levy County Factor'!J169","v":1.1366435257809488},{"$f":"'73 Levy County Factor'!K169","v":1.6633175683308463},{"$f":"'73 Levy County Factor'!L169","v":0},{"$f":"'73 Levy County Factor'!M169","v":0.10343308501857591},{"$f":"'73 Levy County Factor'!N169","v":0.94349272880950397},{"$f":"'73 Levy County Factor'!O169","v":0.87542217150093971},{"$f":"IF('42 Alachua County Factor'!O238<>1,0)","v":0},{"$f":"'73 Levy County Factor'!Q169","v":0.19328996713584098},{"$f":"'73 Levy County Factor'!R169","v":0.72397408361765536},{"$f":"'73 Levy County Factor'!S169","v":0},36.1,"Levy"]
["Liberty",{"$f":"'85 Liberty County Factor'!B168","v":3.0833431489052189E-2},{"$f":"'85 Liberty County Factor'!C168","v":0.29509228243219582},{"$f":"'85 Liberty County Factor'!D168","v":0.80409446649080529},{"$f":"'85 Liberty County Factor'!E168","v":1.1957510223232439},{"$f":"'85 Liberty County Factor'!F168","v":0.57091791924888557},{"$f":"'85 Liberty County Factor'!G168","v":0.29352014932883186},{"$f":"'85 Liberty County Factor'!H168","v":0.4172773820437819},{"$f":"'85 Liberty County Factor'!I168","v":2.8644804450051617E-2},{"$f":"'85 Liberty County Factor'!J168","v":0.53456390058225023},{"$f":"'85 Liberty County Factor'!K168","v":0.77727637065629562},{"$f":"'85 Liberty County Factor'!L168","v":0},{"$f":"'85 Liberty County Factor'!M168","v":4.833478252123611E-2},{"$f":"'85 Liberty County Factor'!N168","v":0.45774836332188756},{"$f":"'85 Liberty County Factor'!O168","v":0.40908902858468327},{"$f":"IF('42 Alachua County Factor'!O239<>1,0)","v":0},{"$f":"'85 Liberty County Factor'!Q168","v":9.0325339550395053E-2},{"$f":"'85 Liberty County Factor'!R168","v":0.33831660223985421},{"$f":"'85 Liberty County Factor'!S168","v":0},9.9,"Liberty"]
["Madison",{"$f":"'77 Madison County Factor'!B170","v":8.2731086256044639E-2},{"$f":"'77 Madison County Factor'!C170","v":0.56389997182929918},{"$f":"'77 Madison County Factor'!D170","v":1.9897213826113433},{"$f":"'77 Madison County Factor'!E170","v":2.3055383922484918},{"$f":"'77 Madison County Factor'!F170","v":1.0705294732449671},{"$f":"'77 Madison County Factor'!G170","v":0.8904227280444732},{"$f":"'77 Madison County Factor'!H170","v":0.79095155244021409},{"$f":"'77 Madison County Factor'!I170","v":8.0873891099987633E-2},{"$f":"'77 Madison County Factor'!J170","v":1.0123846888220789},{"$f":"'77 Madison County Factor'!K170","v":1.4574726691696289},{"$f":"'77 Madison County Factor'!L170","v":0.13662798307089907},{"$f":"'77 Madison County Factor'!M170","v":9.0632659314572622E-2},{"$f":"'77 Madison County Factor'!N170","v":0.90452045585927943},{"$f":"'77 Madison County Factor'!O170","v":0.7670837567285046},{"$f":"IF('42 Alachua County Factor'!O240<>1,0)","v":0},{"$f":"'77 Madison County Factor'!Q170","v":0.16936924715337864},{"$f":"'77 Madison County Factor'!R170","v":0.63541201086620591},{"$f":"'77 Madison County Factor'!S170","v":0.33541701939854107},26.5,"Madison"]
["Manatee",{"$f":"'32 Manatee County Factor'!A165","v":0.79215944778596015},{"$f":"'32 Manatee County Factor'!B165","v":2.5741192968960185},{"$f":"'32 Manatee County Factor'!C165","v":1.9376897366955734},{"$f":"'32 Manatee County Factor'!D165","v":1.7337589511179492},{"$f":"'32 Manatee County Factor'!E165","v":1.7910403278217739},{"$f":"'32 Manatee County Factor'!F165","v":1.1527355215339936},{"$f":"'32 Manatee County Factor'!G165","v":1.2686204955168223},{"$f":"'32 Manatee County Factor'!H165","v":1.8342243123219735},{"$f":"'32 Manatee County Factor'!I165","v":1.1787193188519849},{"$f":"'32 Manatee County Factor'!J165","v":1.6607878521110933},{"$f":"'32 Manatee County Factor'!K165","v":0.47501240651584492},{"$f":"'32 Manatee County Factor'!L165","v":9.1979987197585822E-2},{"$f":"'32 Manatee County Factor'!M165","v":1.4588622144476828},{"$f":"'32 Manatee County Factor'!N165","v":0.99190740947409672},{"$f":"IF('42 Alachua County Factor'!O241<>1,0)","v":0},{"$f":"'32 Manatee County Factor'!P165","v":1.0500916146234349},{"$f":"'32 Manatee County Factor'!Q165","v":1.147853826693366},{"$f":"'32 Manatee County Factor'!R165","v":0.17428756104271503},518.9,"Manatee"]
["Marion",{"$f":"'50 Marion County Factor'!B143","v":0.36376286588236456},{"$f":"'50 Marion County Factor'!C143","v":1.1359850299024969},{"$f":"'50 Marion County Factor'!D143","v":1.4458566458208819},{"$f":"'50 Marion County Factor'!E143","v":1.998399747987512},{"$f":"'50 Marion County Factor'!F143","v":1.535638948436759},{"$f":"'50 Marion County Factor'!G143","v":0.66743227018796125},{"$f":"'50 Marion County Factor'!H143","v":0.77230524560310332},{"$f":"'50 Marion County Factor'!I143","v":4.5255821598436246},{"$f":"'50 Marion County Factor'!J143","v":1.0876094211504588},{"$f":"'50 Marion County Factor'!K143","v":1.9060276529466593},{"$f":"'50 Marion County Factor'!L143","v":0.20125805866084379},{"$f":"'50 Marion County Factor'!M143","v":0.19488118371759372},{"$f":"'50 Marion County Factor'!N143","v":1.3620628766402951},{"$f":"'50 Marion County Factor'!O143","v":0.60343016662383064},{"$f":"IF('42 Alachua County Factor'!O242<>1,0)","v":0},{"$f":"'50 Marion County Factor'!Q143","v":0.33223287643648891},{"$f":"'50 Marion County Factor'!R143","v":1.0131679846192156},{"$f":"'50 Marion County Factor'!S143","v":0.33065653948830792},223.6,"Marion"]
["Martin",{"$f":"'43 Martin County Factor'!B143","v":0.77780020279607853},{"$f":"'43 Martin County Factor'!C143","v":2.2430089053782827},{"$f":"'43 Martin County Factor'!D143","v":2.1664151023937621},{"$f":"'43 Martin County Factor'!E143","v":3.1791405777367032},{"$f":"'43 Martin County Factor'!F143","v":2.57444363728911},{"$f":"'43 Martin County Factor'!G143","v":0.76133634771381109},{"$f":"'43 Martin County Factor'!H143","v":1.2910765461357905},{"$f":"'43 Martin County Factor'!I143","v":2.4713046130560379},{"$f":"'43 Martin County Factor'!J143","v":1.6714328714052225},{"$f":"'43 Martin County Factor'!K143","v":2.6728363087715277},{"$f":"'43 Martin County Factor'!L143","v":1.1129445038740275},{"$f":"'43 Martin County Factor'!M143","v":0.27328328785339828},{"$f":"'43 Martin County Factor'!N143","v":2.1820150183785283},{"$f":"'43 Martin County Factor'!O143","v":0.85597044353995111},{"$f":"IF('42 Alachua County Factor'!O243<>1,0)","v":0},{"$f":"'43 Martin County Factor'!Q143","v":0.45958398940320022},{"$f":"'43 Martin County Factor'!R143","v":1.4481257770863529},{"$f":"'43 Martin County Factor'!S143","v":0.21735545093854625},294.5,"Martin"]
["Miami-Dade",{"$f":"Table292294[Newspaper]","v":1.5638553243534603},{"$f":"Table292294[Glass]","v":2.1527562224010981},{"$f":"Table292294[Aluminum Cans]","v":1.4962566296455522},{"$f":"Table292294[Plastic Bottles]","v":4.1915235510067985},{"$f":"Table292294[Steel Cans]","v":13.174268463987003},{"$f":"Table292294[Corrugated Paper]","v":1.0654020289366353},{"$f":"Table292294[Office Paper]","v":3.0541029448334838},{"$f":"Table292294[Yard Waste]","v":0.56690153447712766},{"$f":"Table292294[Other Plastics]","v":1.9104676843820463},{"$f":"Table292294[Ferrous Metals]","v":1.8446055172758107},{"$f":"Table292294[White Goods]","v":0.76735094420588756},{"$f":"Table292294[Non-Ferrous Metal]","v":0.25337969597554605},{"$f":"Table292294[Other Paper]","v":2.5026814322952537},{"$f":"Table292294[Textiles]","v":1.041909925805925},{"$f":"IF('42 Alachua County Factor'!O244<>1,0)","v":0},{"$f":"Table292294[Food Waste]","v":0.64376243053165461},{"$f":"Table292294[Misc]","v":0.99137451108974928},{"$f":"Table292294[Tires]","v":0.30470694905538032},1449.8,"Miami-Dade"]
["Monroe",{"$f":"'60 Monroe County Factor'!B168","v":2.0403444220482094},{"$f":"'60 Monroe County Factor'!C168","v":4.130530545536935},{"$f":"'60 Monroe County Factor'!D168","v":9.8513504069502797},{"$f":"'60 Monroe County Factor'!E168","v":14.269608729467153},{"$f":"'60 Monroe County Factor'!F168","v":7.2444281952353151},{"$f":"'60 Monroe County Factor'!G168","v":3.9745385188227598},{"$f":"'60 Monroe County Factor'!H168","v":4.9239110267411368},{"$f":"'60 Monroe County Factor'!I168","v":6.074678004266489},{"$f":"'60 Monroe County Factor'!J168","v":6.3846524390363077},{"$f":"'60 Monroe County Factor'!K168","v":7.3251797991839185},{"$f":"'60 Monroe County Factor'!L168","v":0.93891161685861413},{"$f":"'60 Monroe County Factor'!M168","v":0.45551490549436652},{"$f":"'60 Monroe County Factor'!N168","v":5.4521264205055031},{"$f":"'60 Monroe County Factor'!O168","v":4.8059579980602409},{"$f":"IF('42 Alachua County Factor'!O245<>1,0)","v":0},{"$f":"'60 Monroe County Factor'!Q168","v":1.0958960556294624},{"$f":"'60 Monroe County Factor'!R168","v":5.7786793876859734},{"$f":"'60 Monroe County Factor'!S168","v":0.15298249727368948},78.3,"Monroe"]
["Nassau",{"$f":"'54 Nassau County Factor'!B145","v":0.66439421623561679},{"$f":"'54 Nassau County Factor'!C145","v":1.4109459241207394},{"$f":"'54 Nassau County Factor'!D145","v":1.7532646759201909},{"$f":"'54 Nassau County Factor'!E145","v":2.6570323428654876},{"$f":"'54 Nassau County Factor'!F145","v":2.0389903139011034},{"$f":"'54 Nassau County Factor'!G145","v":0.62442725124101084},{"$f":"'54 Nassau County Factor'!H145","v":0.97296336660680049},{"$f":"'54 Nassau County Factor'!I145","v":0.21231369520108812},{"$f":"'54 Nassau County Factor'!J145","v":1.3727721554915786},{"$f":"'54 Nassau County Factor'!K145","v":2.3875609606112702},{"$f":"'54 Nassau County Factor'!L145","v":0.26405389684171243},{"$f":"'54 Nassau County Factor'!M145","v":0.24411540172699725},{"$f":"'54 Nassau County Factor'!N145","v":1.6231834370399831},{"$f":"'54 Nassau County Factor'!O145","v":0.73750720084227595},{"$f":"IF('42 Alachua County Factor'!O246<>1,0)","v":0},{"$f":"'54 Nassau County Factor'!Q145","v":0.41148225827667095},{"$f":"'54 Nassau County Factor'!R145","v":1.0828443486222816},{"$f":"'54 Nassau County Factor'!S145","v":0.11216492171322413},127.5,"Nassau"]
["Okaloosa",{"$f":"'51 Okaloosa County Factor'!A161","v":1.4140065444002126},{"$f":"'51 Okaloosa County Factor'!B161","v":1.5154800306493439},{"$f":"'51 Okaloosa County Factor'!C161","v":2.4790716012918095},{"$f":"'51 Okaloosa County Factor'!D161","v":2.0625008326016752},{"$f":"'51 Okaloosa County Factor'!E161","v":1.6942352166779087},{"$f":"'51 Okaloosa County Factor'!F161","v":0.72389404367306198},{"$f":"'51 Okaloosa County Factor'!G161","v":0.48248567111790341},{"$f":"'51 Okaloosa County Factor'!H161","v":0.70851654902662831},{"$f":"'51 Okaloosa County Factor'!I161","v":0.79837948015871185},{"$f":"'51 Okaloosa County Factor'!J161","v":1.5593820126749656},{"$f":"'51 Okaloosa County Factor'!K161","v":0.36342702479038208},{"$f":"'51 Okaloosa County Factor'!L161","v":0.13547261579559733},{"$f":"'51 Okaloosa County Factor'!M161","v":1.223184502426611},{"$f":"'51 Okaloosa County Factor'!N161","v":0.51816117343992807},{"$f":"IF('42 Alachua County Factor'!O247<>1,0)","v":0},{"$f":"'51 Okaloosa County Factor'!P161","v":0.31712740299942171},{"$f":"'51 Okaloosa County Factor'!Q161","v":0.69264989840497437},{"$f":"'51 Okaloosa County Factor'!R161","v":0.19533947236645011},218.2,"Okaloosa"]
["Okeechobee",{"$f":"'65 Okeechobee County Factor'!B168","v":0.10994870270091039},{"$f":"'65 Okeechobee County Factor'!C168","v":1.3101014040797017},{"$f":"'65 Okeechobee County Factor'!D168","v":3.7071149952649067},{"$f":"'65 Okeechobee County Factor'!E168","v":4.4221969598354542},{"$f":"'65 Okeechobee County Factor'!F168","v":2.1525309334872311},{"$f":"'65 Okeechobee County Factor'!G168","v":1.0700029735969518},{"$f":"'65 Okeechobee County Factor'!H168","v":1.4837349292506965},{"$f":"'65 Okeechobee County Factor'!I168","v":0.10214429391430843},{"$f":"'65 Okeechobee County Factor'!J168","v":1.9144420370945461},{"$f":"'65 Okeechobee County Factor'!K168","v":2.7716839957977277},{"$f":"'65 Okeechobee County Factor'!L168","v":0},{"$f":"'65 Okeechobee County Factor'!M168","v":0.17235663942975263},{"$f":"'65 Okeechobee County Factor'!N168","v":1.7675532347909639},{"$f":"'65 Okeechobee County Factor'!O168","v":1.4587675068871879},{"$f":"IF('42 Alachua County Factor'!O248<>1,0)","v":0},{"$f":"'65 Okeechobee County Factor'!Q168","v":0.32209045263454866},{"$f":"'65 Okeechobee County Factor'!R168","v":1.206400641189072},{"$f":"'65 Okeechobee County Factor'!S168","v":0},54.1,"Okeechobee"]
["Orange",{"$f":"'21 Orange County Factor'!B168","v":0.63119798635104385},{"$f":"'21 Orange County Factor'!C168","v":1.8425286492317652},{"$f":"'21 Orange County Factor'!D168","v":3.299605795646821},{"$f":"'21 Orange County Factor'!E168","v":4.2555942558473587},{"$f":"'21 Orange County Factor'!F168","v":2.0231631413985216},{"$f":"'21 Orange County Factor'!G168","v":1.1975779734696239},{"$f":"'21 Orange County Factor'!H168","v":1.9618982593852252},{"$f":"'21 Orange County Factor'!I168","v":0.65090704763507645},{"$f":"'21 Orange County Factor'!J168","v":2.9506702706812749},{"$f":"'21 Orange County Factor'!K168","v":2.3490847016379339},{"$f":"'21 Orange County Factor'!L168","v":0.93583531878251847},{"$f":"'21 Orange County Factor'!M168","v":0.26687214221765926},{"$f":"'21 Orange County Factor'!N168","v":2.7976453771536489},{"$f":"'21 Orange County Factor'!O168","v":2.0044278765180126},{"$f":"IF('42 Alachua County Factor'!O249<>1,0)","v":0},{"$f":"'21 Orange County Factor'!Q168","v":0.5787217381308557},{"$f":"'21 Orange County Factor'!R168","v":1.9025920293768031},{"$f":"'21 Orange County Factor'!S168","v":0.38747283482447265},1493.9,"Orange"]
["Osceola",{"$f":"'45 Osceola County Factor'!B142","v":0.48087655983211469},{"$f":"'45 Osceola County Factor'!C142","v":1.0603237615325996},{"$f":"'45 Osceola County Factor'!D142","v":1.37218648154255},{"$f":"'45 Osceola County Factor'!E142","v":2.0836041051024736},{"$f":"'45 Osceola County Factor'!F142","v":1.6865669460704877},{"$f":"'45 Osceola County Factor'!G142","v":0.6603073553345965},{"$f":"'45 Osceola County Factor'!H142","v":1.414573261318852},{"$f":"'45 Osceola County Factor'!I142","v":0.35601949653666987},{"$f":"'45 Osceola County Factor'!J142","v":1.1893055134012134},{"$f":"'45 Osceola County Factor'!K142","v":2.0748785211573475},{"$f":"'45 Osceola County Factor'!L142","v":0.70272578772695049},{"$f":"'45 Osceola County Factor'!M142","v":0.21214528637516575},{"$f":"'45 Osceola County Factor'!N142","v":1.5229825042501006},{"$f":"'45 Osceola County Factor'!O142","v":0.66774166614248787},{"$f":"IF('42 Alachua County Factor'!O250<>1,0)","v":0},{"$f":"'45 Osceola County Factor'!Q142","v":0.35935607205871695},{"$f":"'45 Osceola County Factor'!R142","v":0.96253402291021017},{"$f":"'45 Osceola County Factor'!S142","v":0.10466458435274975},265.39999999999998,"Osceola"]
["Palm Beach",{"$f":"'28 Palm Beach County Factor'!B168","v":1.1032700726204181},{"$f":"'28 Palm Beach County Factor'!C168","v":2.0502491781525354},{"$f":"'28 Palm Beach County Factor'!D168","v":3.4747491497269478},{"$f":"'28 Palm Beach County Factor'!E168","v":4.4484503456842077},{"$f":"'28 Palm Beach County Factor'!F168","v":1.9647678860773898},{"$f":"'28 Palm Beach County Factor'!G168","v":1.2297951929638653},{"$f":"'28 Palm Beach County Factor'!H168","v":3.5768347590973408},{"$f":"'28 Palm Beach County Factor'!I168","v":0.87183608417067771},{"$f":"'28 Palm Beach County Factor'!J168","v":2.6360496831990168},{"$f":"'28 Palm Beach County Factor'!K168","v":0.7060681367236582},{"$f":"'28 Palm Beach County Factor'!L168","v":0.86116002594537644},{"$f":"'28 Palm Beach County Factor'!M168","v":8.9381521074264045E-2},{"$f":"'28 Palm Beach County Factor'!N168","v":2.634559466512012},{"$f":"'28 Palm Beach County Factor'!O168","v":1.2999119597783839},{"$f":"IF('42 Alachua County Factor'!O251<>1,0)","v":0},{"$f":"'28 Palm Beach County Factor'!Q168","v":0.86301705460164901},{"$f":"'28 Palm Beach County Factor'!R168","v":3.650605946075923},{"$f":"'28 Palm Beach County Factor'!S168","v":0.41168443609309086},736.3,"Palm Beach"]
["Pasco",{"$f":"'29 Pasco County Factor'!B144","v":0.44128577048583217},{"$f":"'29 Pasco County Factor'!C144","v":0.96415829694984856},{"$f":"'29 Pasco County Factor'!D144","v":1.9052728417314917},{"$f":"'29 Pasco County Factor'!E144","v":1.944594822412268},{"$f":"'29 Pasco County Factor'!F144","v":1.2748575361281851},{"$f":"'29 Pasco County Factor'!G144","v":0.71376020827906217},{"$f":"'29 Pasco County Factor'!H144","v":1.3755439343246147},{"$f":"'29 Pasco County Factor'!I144","v":0.34745034900614502},{"$f":"'29 Pasco County Factor'!J144","v":1.4180114747186119},{"$f":"'29 Pasco County Factor'!K144","v":1.1499827792470825},{"$f":"'29 Pasco County Factor'!L144","v":1.9678880173698943},{"$f":"'29 Pasco County Factor'!M144","v":0.15445891611264395},{"$f":"'29 Pasco County Factor'!N144","v":1.4537648769541194},{"$f":"'29 Pasco County Factor'!O144","v":0.79715195659729976},{"$f":"IF('42 Alachua County Factor'!O252<>1,0)","v":0},{"$f":"'29 Pasco County Factor'!Q144","v":0.49649799652003607},{"$f":"'29 Pasco County Factor'!R144","v":1.0549777825464099},{"$f":"'29 Pasco County Factor'!S144","v":0.12316571886685915},703.7,"Pasco"]
["Pinellas",{"$f":"'18 Pinellas County Factor'!A162","v":1.5772730790506457},{"$f":"'18 Pinellas County Factor'!B162","v":2.1434016744275435},{"$f":"'18 Pinellas County Factor'!C162","v":2.2010409543251286},{"$f":"'18 Pinellas County Factor'!D162","v":2.5485554961340777},{"$f":"'18 Pinellas County Factor'!E162","v":2.4901285871857772},{"$f":"'18 Pinellas County Factor'!F162","v":1.2296345867817198},{"$f":"'18 Pinellas County Factor'!G162","v":1.9030611491886209},{"$f":"'18 Pinellas County Factor'!H162","v":1.771129031064268},{"$f":"'18 Pinellas County Factor'!I162","v":1.5295552239815733},{"$f":"'18 Pinellas County Factor'!J162","v":1.9715176917427353},{"$f":"'18 Pinellas County Factor'!K162","v":0.52567376521786868},{"$f":"'18 Pinellas County Factor'!L162","v":0.14558566029634834},{"$f":"'18 Pinellas County Factor'!M162","v":2.0832723406470852},{"$f":"'18 Pinellas County Factor'!N162","v":1.1757232736046497},{"$f":"IF('42 Alachua County Factor'!O253<>1,0)","v":0},{"$f":"'18 Pinellas County Factor'!P162","v":0.65538498974739934},{"$f":"'18 Pinellas County Factor'!Q162","v":2.0196751562652673},{"$f":"'18 Pinellas County Factor'!R162","v":0.48843072912212626},3542.5,"Pinellas"]
["Polk",{"$f":"'38 Polk County Factor'!B144","v":0.7415110644695897},{"$f":"'38 Polk County Factor'!C144","v":1.2474837706277482},{"$f":"'38 Polk County Factor'!D144","v":2.2917099285982259},{"$f":"'38 Polk County Factor'!E144","v":2.1389683819850278},{"$f":"'38 Polk County Factor'!F144","v":2.0113036644064994},{"$f":"'38 Polk County Factor'!G144","v":1.0758216570902293},{"$f":"'38 Polk County Factor'!H144","v":1.4554823858437504},{"$f":"'38 Polk County Factor'!I144","v":0.18421887952004204},{"$f":"'38 Polk County Factor'!J144","v":2.2837909144815476},{"$f":"'38 Polk County Factor'!K144","v":0.66216732581534166},{"$f":"'38 Polk County Factor'!L144","v":0.24903277416084058},{"$f":"'38 Polk County Factor'!M144","v":0.2224289249845679},{"$f":"'38 Polk County Factor'!N144","v":1.2572800668293043},{"$f":"'38 Polk County Factor'!O144","v":0.97835193682941013},{"$f":"IF('42 Alachua County Factor'!O254<>1,0)","v":0},{"$f":"'38 Polk County Factor'!Q144","v":0.37055310847121925},{"$f":"'38 Polk County Factor'!R144","v":1.1295893498784924},{"$f":"'38 Polk County Factor'!S144","v":0.56308673543999943},381.8,"Polk"]
["Putnam",{"$f":"'56 Putnam County Factor'!B144","v":0.68642125827360967},{"$f":"'56 Putnam County Factor'!C144","v":0.89882427241026797},{"$f":"'56 Putnam County Factor'!D144","v":1.859184873049786},{"$f":"'56 Putnam County Factor'!E144","v":2.0488602632547526},{"$f":"'56 Putnam County Factor'!F144","v":1.6887600098917543},{"$f":"'56 Putnam County Factor'!G144","v":0.54748314185451286},{"$f":"'56 Putnam County Factor'!H144","v":0.75227730560739126},{"$f":"'56 Putnam County Factor'!I144","v":0.5965883673310034},{"$f":"'56 Putnam County Factor'!J144","v":1.0135177268175055},{"$f":"'56 Putnam County Factor'!K144","v":1.791770590447527},{"$f":"'56 Putnam County Factor'!L144","v":4.7490087309736024},{"$f":"'56 Putnam County Factor'!M144","v":0.18319900714817061},{"$f":"'56 Putnam County Factor'!N144","v":1.2306802253454494},{"$f":"'56 Putnam County Factor'!O144","v":0.55375857042114562},{"$f":"IF('42 Alachua County Factor'!O255<>1,0)","v":0},{"$f":"'56 Putnam County Factor'!Q144","v":0.31028060245230971},{"$f":"'56 Putnam County Factor'!R144","v":0.87523605059689435},{"$f":"'56 Putnam County Factor'!S144","v":8.1866080185245924E-2},100.9,"Putnam"]
["Santa Rosa",{"$f":"'53 Santa Rosa County Factor'!B142","v":0.63480590127125736},{"$f":"'53 Santa Rosa County Factor'!C142","v":1.3071865397832023},{"$f":"'53 Santa Rosa County Factor'!D142","v":1.7728268436719734},{"$f":"'53 Santa Rosa County Factor'!E142","v":2.6206180152199092},{"$f":"'53 Santa Rosa County Factor'!F142","v":2.0574143916440097},{"$f":"'53 Santa Rosa County Factor'!G142","v":0.54456303282328344},{"$f":"'53 Santa Rosa County Factor'!H142","v":0.88013349931084939},{"$f":"'53 Santa Rosa County Factor'!I142","v":0.49119778107456863},{"$f":"'53 Santa Rosa County Factor'!J142","v":1.3507347726379348},{"$f":"'53 Santa Rosa County Factor'!K142","v":2.3608621248553563},{"$f":"'53 Santa Rosa County Factor'!L142","v":0.24811299615094154},{"$f":"'53 Santa Rosa County Factor'!M142","v":0.24138558786099684},{"$f":"'53 Santa Rosa County Factor'!N142","v":1.6483331596037514},{"$f":"'53 Santa Rosa County Factor'!O142","v":0.72945648179582478},{"$f":"IF('42 Alachua County Factor'!O256<>1,0)","v":0},{"$f":"'53 Santa Rosa County Factor'!Q142","v":0.40846584372492184},{"$f":"'53 Santa Rosa County Factor'!R142","v":1.0801242266903832},{"$f":"'53 Santa Rosa County Factor'!S142","v":0.16901879246884804},172.2,"Santa Rosa"]
["Sarasota",{"$f":"'27 Sarasota County Factor'!A167","v":2.2462738637279069},{"$f":"'27 Sarasota County Factor'!B167","v":2.6689781528804826},{"$f":"'27 Sarasota County Factor'!C167","v":2.9425241415148391},{"$f":"'27 Sarasota County Factor'!D167","v":3.3652266077064903},{"$f":"'27 Sarasota County Factor'!E167","v":3.552287113366535},{"$f":"'27 Sarasota County Factor'!F167","v":1.0091888792480868},{"$f":"'27 Sarasota County Factor'!G167","v":1.8476877771884017},{"$f":"'27 Sarasota County Factor'!H167","v":1.2721431144000506},{"$f":"'27 Sarasota County Factor'!I167","v":2.8381494661803575},{"$f":"'27 Sarasota County Factor'!J167","v":2.8316358231339676},{"$f":"'27 Sarasota County Factor'!K167","v":1.1304939105239895},{"$f":"'27 Sarasota County Factor'!L167","v":0.51470921764420974},{"$f":"'27 Sarasota County Factor'!M167","v":2.8676472626733913},{"$f":"'27 Sarasota County Factor'!N167","v":1.9139833471655217},{"$f":"IF('42 Alachua County Factor'!O257<>1,0)","v":0},{"$f":"'27 Sarasota County Factor'!P167","v":1.0610251224242062},{"$f":"'27 Sarasota County Factor'!Q167","v":1.6759539233097083},{"$f":"'27 Sarasota County Factor'!R167","v":0.51807807178141396},753.8,"Sarasota"]
["Seminole",{"$f":"'20 Seminole County Factor'!A150","v":1.9853182340126123},{"$f":"'20 Seminole County Factor'!B150","v":1.3969523418117},{"$f":"'20 Seminole County Factor'!C150","v":1.8414683181958231},{"$f":"'20 Seminole County Factor'!D150","v":1.6336913016682038},{"$f":"'20 Seminole County Factor'!E150","v":2.1165936503565033},{"$f":"'20 Seminole County Factor'!F150","v":0.80299450769939806},{"$f":"'20 Seminole County Factor'!G150","v":3.4499586498906991},{"$f":"'20 Seminole County Factor'!H150","v":0.36527584109360112},{"$f":"'20 Seminole County Factor'!I150","v":1.1299062575433021},{"$f":"'20 Seminole County Factor'!J150","v":0.8248522376025581},{"$f":"'20 Seminole County Factor'!K150","v":0},{"$f":"'20 Seminole County Factor'!L150","v":0.20883692047211605},{"$f":"'20 Seminole County Factor'!M150","v":2.405188279338097},{"$f":"'20 Seminole County Factor'!N150","v":1.0805443476683549},{"$f":"IF('42 Alachua County Factor'!O258<>1,0)","v":0},{"$f":"'20 Seminole County Factor'!P150","v":0.39052567277197753},{"$f":"'20 Seminole County Factor'!Q150","v":0.75871185319473211},{"$f":"'20 Seminole County Factor'!R150","v":6.659849136348929E-2},1497.3,"Seminole"]
["St. Johns",{"$f":"'36 St.Johns County Factor'!B144","v":0.4539588911001749},{"$f":"'36 St.Johns County Factor'!C144","v":2.0595079325604257},{"$f":"'36 St.Johns County Factor'!D144","v":2.1258300911820078},{"$f":"'36 St.Johns County Factor'!E144","v":2.4521340027076959},{"$f":"'36 St.Johns County Factor'!F144","v":2.1382471809927117},{"$f":"'36 St.Johns County Factor'!G144","v":0.76522100462622167},{"$f":"'36 St.Johns County Factor'!H144","v":0.99594483487620311},{"$f":"'36 St.Johns County Factor'!I144","v":0.94766340149451433},{"$f":"'36 St.Johns County Factor'!J144","v":1.3275232924496856},{"$f":"'36 St.Johns County Factor'!K144","v":0.61175038853905439},{"$f":"'36 St.Johns County Factor'!L144","v":0.72782513191219678},{"$f":"'36 St.Johns County Factor'!M144","v":0.20549334885119303},{"$f":"'36 St.Johns County Factor'!N144","v":1.4794122783136163},{"$f":"'36 St.Johns County Factor'!O144","v":0.89935891509472687},{"$f":"IF('42 Alachua County Factor'!O259<>1,0)","v":0},{"$f":"'36 St.Johns County Factor'!Q144","v":0.33921300272326504},{"$f":"'36 St.Johns County Factor'!R144","v":1.019585956358928},{"$f":"'36 St.Johns County Factor'!S144","v":0.2814699285193889},405.7,"St. Johns"]
["St. Lucie",{"$f":"'31 St. Lucie County Factor'!B146","v":0.60497657430175056},{"$f":"'31 St. Lucie County Factor'!C146","v":2.6181366459386735},{"$f":"'31 St. Lucie County Factor'!D146","v":1.8233410041221689},{"$f":"'31 St. Lucie County Factor'!E146","v":2.4694708467402253},{"$f":"'31 St. Lucie County Factor'!F146","v":2.0889535491323712},{"$f":"'31 St. Lucie County Factor'!G146","v":0.72180250611376584},{"$f":"'31 St. Lucie County Factor'!H146","v":1.0660302175522622},{"$f":"'31 St. Lucie County Factor'!I146","v":0.87640857961291796},{"$f":"'31 St. Lucie County Factor'!J146","v":1.2288587201274699},{"$f":"'31 St. Lucie County Factor'!K146","v":0.99926381339269232},{"$f":"'31 St. Lucie County Factor'!L146","v":0.36635197708636663},{"$f":"'31 St. Lucie County Factor'!M146","v":0.13421523201267024},{"$f":"'31 St. Lucie County Factor'!N146","v":1.8149474690125651},{"$f":"'31 St. Lucie County Factor'!O146","v":0.66473870141984992},{"$f":"IF('42 Alachua County Factor'!O260<>1,0)","v":0},{"$f":"'31 St. Lucie County Factor'!Q146","v":0.42660790573917384},{"$f":"'31 St. Lucie County Factor'!R146","v":0.99028704607828322},{"$f":"'31 St. Lucie County Factor'!S146","v":0.96373200241659807},548.1,"St. Lucie"]
["Sumter",{"$f":"'48 Sumter County Factor'!B146","v":0.66954228262456372},{"$f":"'48 Sumter County Factor'!C146","v":1.8039247273576302},{"$f":"'48 Sumter County Factor'!D146","v":0.98376504325993663},{"$f":"'48 Sumter County Factor'!E146","v":1.5884847933020465},{"$f":"'48 Sumter County Factor'!F146","v":1.0466704604513939},{"$f":"'48 Sumter County Factor'!G146","v":0.71744587340334165},{"$f":"'48 Sumter County Factor'!H146","v":1.4019167319794308},{"$f":"'48 Sumter County Factor'!I146","v":9.6358173411675255E-2},{"$f":"'48 Sumter County Factor'!J146","v":0.65863683409966933},{"$f":"'48 Sumter County Factor'!K146","v":1.0507710077985672},{"$f":"'48 Sumter County Factor'!L146","v":0.11387906878270818},{"$f":"'48 Sumter County Factor'!M146","v":0.10743574338983863},{"$f":"'48 Sumter County Factor'!N146","v":1.2432140126054041},{"$f":"'48 Sumter County Factor'!O146","v":0.36947445549051},{"$f":"IF('42 Alachua County Factor'!O261<>1,0)","v":0},{"$f":"'48 Sumter County Factor'!Q146","v":0.18760973727417543},{"$f":"'48 Sumter County Factor'!R146","v":0.50988706523516769},{"$f":"'48 Sumter County Factor'!S146","v":0.3303897917377861},228.8,"Sumter"]
["Suwannee",{"$f":"'62 Suwannee County Factor'!B168","v":0.34336200140008361},{"$f":"'62 Suwannee County Factor'!C168","v":3.2861563504410372},{"$f":"'62 Suwannee County Factor'!D168","v":9.6728567078605678},{"$f":"'62 Suwannee County Factor'!E168","v":13.315918610839187},{"$f":"'62 Suwannee County Factor'!F168","v":6.357758767721724},{"$f":"'62 Suwannee County Factor'!G168","v":3.1521705527958424},{"$f":"'62 Suwannee County Factor'!H168","v":4.5491911557472759},{"$f":"'62 Suwannee County Factor'!I168","v":0.31898938621787776},{"$f":"'62 Suwannee County Factor'!J168","v":5.9551164582333262},{"$f":"'62 Suwannee County Factor'!K168","v":8.6557725618149437},{"$f":"'62 Suwannee County Factor'!L168","v":14.398132162499842},{"$f":"'62 Suwannee County Factor'!M168","v":0.53825756207583153},{"$f":"'62 Suwannee County Factor'!N168","v":5.0984053288689699},{"$f":"'62 Suwannee County Factor'!O168","v":4.5556274738842157},{"$f":"IF('42 Alachua County Factor'!O262<>1,0)","v":0},{"$f":"'62 Suwannee County Factor'!Q168","v":1.005865642174073},{"$f":"'62 Suwannee County Factor'!R168","v":3.7675036491867036},{"$f":"'62 Suwannee County Factor'!S168","v":0},64.099999999999994,"Suwannee"]
["Taylor",{"$f":"'82 Taylor County Factor'!B168","v":0.11078148817658527},{"$f":"'82 Taylor County Factor'!C168","v":0.70858331186985146},{"$f":"'82 Taylor County Factor'!D168","v":2.4283498255083984},{"$f":"'82 Taylor County Factor'!E168","v":2.9076193449756933},{"$f":"'82 Taylor County Factor'!F168","v":1.3709030500320618},{"$f":"'82 Taylor County Factor'!G168","v":0.84826288262507099},{"$f":"'82 Taylor County Factor'!H168","v":1.0227775820832026},{"$f":"'82 Taylor County Factor'!I168","v":6.8782654150725167E-2},{"$f":"'82 Taylor County Factor'!J168","v":1.2860839008818534},{"$f":"'82 Taylor County Factor'!K168","v":1.8664163644617411},{"$f":"'82 Taylor County Factor'!L168","v":0},{"$f":"'82 Taylor County Factor'!M168","v":0.11606274483059729},{"$f":"'82 Taylor County Factor'!N168","v":1.0995756690628393},{"$f":"'82 Taylor County Factor'!O168","v":0.98231528230752818},{"$f":"IF('42 Alachua County Factor'!O263<>1,0)","v":0},{"$f":"'82 Taylor County Factor'!Q168","v":0.2168915693655728},{"$f":"'82 Taylor County Factor'!R168","v":0.85891636165593743},{"$f":"'82 Taylor County Factor'!S168","v":7.8250027119362978E-2},20.9,"Taylor"]
["Union",{"$f":"'63 Union County Factor'!B168","v":4.5971436722367212E-2},{"$f":"'63 Union County Factor'!C168","v":0.43997101632710983},{"$f":"'63 Union County Factor'!D168","v":1.2118603514419295},{"$f":"'63 Union County Factor'!E168","v":1.782817863719024},{"$f":"'63 Union County Factor'!F168","v":0.85121621989218577},{"$f":"'63 Union County Factor'!G168","v":0.41234420507417741},{"$f":"'63 Union County Factor'!H168","v":0.68966319160696621},{"$f":"'63 Union County Factor'!I168","v":0.19421396931121784},{"$f":"'63 Union County Factor'!J168","v":0.79701380426645885},{"$f":"'63 Union County Factor'!K168","v":1.1588885752824629},{"$f":"'63 Union County Factor'!L168","v":4.1418061526336857E-3},{"$f":"'63 Union County Factor'!M168","v":7.2065264515023014E-2},{"$f":"'63 Union County Factor'!N168","v":0.19385606900584118},{"$f":"'63 Union County Factor'!O168","v":0.60993569262872671},{"$f":"IF('42 Alachua County Factor'!O264<>1,0)","v":0},{"$f":"'63 Union County Factor'!Q168","v":0.13467153771196941},{"$f":"'63 Union County Factor'!R168","v":0.50441678142499291},{"$f":"'63 Union County Factor'!S168","v":0.14476463559513492},63.6,"Union"]
["Volusia",{"$f":"'33 Volusia County'!B144","v":0.77978840924969661},{"$f":"'33 Volusia County'!C144","v":1.6233633024557481},{"$f":"'33 Volusia County'!D144","v":1.9645838970369842},{"$f":"'33 Volusia County'!E144","v":2.0420518894164981},{"$f":"'33 Volusia County'!F144","v":1.7344137727875535},{"$f":"'33 Volusia County'!G144","v":0.73825736078477999},{"$f":"'33 Volusia County'!H144","v":1.0176694135269431},{"$f":"'33 Volusia County'!I144","v":1.4352389709749234},{"$f":"'33 Volusia County'!J144","v":1.177791142710747},{"$f":"'33 Volusia County'!K144","v":0.5584754811167747},{"$f":"'33 Volusia County'!L144","v":1.1097360577054278},{"$f":"'33 Volusia County'!M144","v":0.18759775067742479},{"$f":"'33 Volusia County'!N144","v":1.2392342041319664},{"$f":"'33 Volusia County'!O144","v":0.88447508055785562},{"$f":"IF('42 Alachua County Factor'!O265<>1,0)","v":0},{"$f":"'33 Volusia County'!Q144","v":0.30906908362696206},{"$f":"'33 Volusia County'!R144","v":0.93708737394945285},{"$f":"'33 Volusia County'!S144","v":0.42372176598459871},489.3,"Volusia"]
["Wakulla",{"$f":"'66 Wakulla County Factor'!B168","v":5.1571735091197758E-2},{"$f":"'66 Wakulla County Factor'!C168","v":0.70996033255227109},{"$f":"'66 Wakulla County Factor'!D168","v":1.4287434097827592},{"$f":"'66 Wakulla County Factor'!E168","v":2.0788629401109477},{"$f":"'66 Wakulla County Factor'!F168","v":1.0523000509941165},{"$f":"'66 Wakulla County Factor'!G168","v":0.74651513129874447},{"$f":"'66 Wakulla County Factor'!H168","v":1.9085798161694971},{"$f":"'66 Wakulla County Factor'!I168","v":5.2745601558599378E-2},{"$f":"'66 Wakulla County Factor'!J168","v":0.91220877010079948},{"$f":"'66 Wakulla County Factor'!K168","v":1.3000658423103826},{"$f":"'66 Wakulla County Factor'!L168","v":0.28583014313607924},{"$f":"'66 Wakulla County Factor'!M168","v":8.0844345877004078E-2},{"$f":"'66 Wakulla County Factor'!N168","v":0.89472652325696622},{"$f":"'66 Wakulla County Factor'!O168","v":0.68423882753288834},{"$f":"IF('42 Alachua County Factor'!O266<>1,0)","v":0},{"$f":"'66 Wakulla County Factor'!Q168","v":0.1613032152603705},{"$f":"'66 Wakulla County Factor'!R168","v":0.61399510090382015},{"$f":"'66 Wakulla County Factor'!S168","v":2.0535150719050137E-2},53,"Wakulla"]
["Walton",{"$f":"'61 Walton County Factor'!B168","v":0.21250334450550887},{"$f":"'61 Walton County Factor'!C168","v":2.0337696430859848},{"$f":"'61 Walton County Factor'!D168","v":5.6432908508122228},{"$f":"'61 Walton County Factor'!E168","v":8.2410902441978475},{"$f":"'61 Walton County Factor'!F168","v":3.9347539803213651},{"$f":"'61 Walton County Factor'!G168","v":2.116630910365124},{"$f":"'61 Walton County Factor'!H168","v":2.7948287392534072},{"$f":"'61 Walton County Factor'!I168","v":0.61706594948087612},{"$f":"'61 Walton County Factor'!J168","v":3.69782046403818},{"$f":"'61 Walton County Factor'!K168","v":5.3569719746637174},{"$f":"'61 Walton County Factor'!L168","v":0},{"$f":"'61 Walton County Factor'!M168","v":0.33312227817899681},{"$f":"'61 Walton County Factor'!N168","v":3.1576717272329562},{"$f":"'61 Walton County Factor'!O168","v":2.8207645704351463},{"$f":"IF('42 Alachua County Factor'!O267<>1,0)","v":0},{"$f":"'61 Walton County Factor'!Q168","v":0.62869553633902553},{"$f":"'61 Walton County Factor'!R168","v":2.3462627719525497},{"$f":"'61 Walton County Factor'!S168","v":4.5453372611927945E-2},65.900000000000006,"Walton"]
["Washington",{"$f":"'71 Washington County Factor'!B168","v":5.9602370855188075E-2},{"$f":"'71 Washington County Factor'!C168","v":0.57042628097597758},{"$f":"'71 Washington County Factor'!D168","v":1.5965006954224954},{"$f":"'71 Washington County Factor'!E168","v":2.3114389946602429},{"$f":"'71 Washington County Factor'!F168","v":1.1036092937961348},{"$f":"'71 Washington County Factor'!G168","v":0.77692367354641112},{"$f":"'71 Washington County Factor'!H168","v":0.86433346655463339},{"$f":"'71 Washington County Factor'!I168","v":6.1134834459567827E-2},{"$f":"'71 Washington County Factor'!J168","v":1.0430806333965219},{"$f":"'71 Washington County Factor'!K168","v":1.5025092006797993},{"$f":"'71 Washington County Factor'!L168","v":0},{"$f":"'71 Washington County Factor'!M168","v":9.3433247417124693E-2},{"$f":"'71 Washington County Factor'!N168","v":0.88599583890748079},{"$f":"'71 Washington County Factor'!O168","v":0.79432703611846234},{"$f":"IF('42 Alachua County Factor'!O268<>1,0)","v":0},{"$f":"'71 Washington County Factor'!Q168","v":0.18572218249991693},{"$f":"'71 Washington County Factor'!R168","v":0.68951274812013841},{"$f":"'71 Washington County Factor'!S168","v":0.11186907930284028},42.1,"Washington"]

{"sheet":"12 2019 WasteCalc US PCD","index":12,"n_rows":6,"n_cols":19,"rows_kept":6,"cut":false,"hidden":true,"merged":[]}
["U.S. PCD Factors (pounds/person/year) Derived from US EPA's facts and figures"]
["Year","Newspaper","Glass","Aluminum Cans","Plastic Bottles","Steel Cans","Corrugated Boxes","Office Paper","Yard Trash","Other Plastics","Ferrous Metals","White Goods","Non Ferrous Metals","Other Paper","Textiles","C&D Debris","Food Waste","MISC","Tires"]
[2014,66.7,60,10.1,50.3,11.1,253.3,33,440.7,172,48.9,29.3,13.8,219.7,94.2,"N/A",602,292.10000000000002,35.1]
[2015,58.117067462861854,58.700857341469067,9.6569632069701807,24.477080551846907,11.508621544933231,257.01447295831201,32.591569359608037,0,175.43018568557093,49.431583206109721,30.280373831775702,14.600994372399368,212.69883057430772,91.987118567728857,"-",615.00357965209651,300.14416775735532,36.386292834890966]
[2017,{"$f":"'15 2017 US PCD Dry to Wet Tons'!D4","v":46.299340128016823},{"$f":"'15 2017 US PCD Dry to Wet Tons'!D5","v":56.648490092540676},{"$f":"'15 2017 US PCD Dry to Wet Tons'!D6","v":9.7996120340645785},{"$f":"'15 2017 US PCD Dry to Wet Tons'!D7","v":24.05936276874889},{"$f":"'15 2017 US PCD Dry to Wet Tons'!D8","v":9.6476835455497785},{"$f":"'15 2017 US PCD Dry to Wet Tons'!D9","v":263.08858643044209},{"$f":"'15 2017 US PCD Dry to Wet Tons'!D10","v":28.150418249979968},{"$f":"'15 2017 US PCD Dry to Wet Tons'!D11","v":437.30165734593447},{"$f":"'15 2017 US PCD Dry to Wet Tons'!D12","v":171.92505008386948},{"$f":"'15 2017 US PCD Dry to Wet Tons'!D13","v":49.042819939835276},{"$f":"'15 2017 US PCD Dry to Wet Tons'!D14","v":31.685600245624808},{"$f":"'15 2017 US PCD Dry to Wet Tons'!D15","v":14.464189690600321},{"$f":"'15 2017 US PCD Dry to Wet Tons'!D16","v":206.41709225777339},{"$f":"'15 2017 US PCD Dry to Wet Tons'!D17","v":97.619584879277639},{"$f":"'15 2017 US PCD Dry to Wet Tons'!D18","v":"-"},{"$f":"'15 2017 US PCD Dry to Wet Tons'!D19","v":620.46962395375851},{"$f":"'15 2017 US PCD Dry to Wet Tons'!D20","v":310.07191713392274},{"$f":"'15 2017 US PCD Dry to Wet Tons'!D21","v":40.159656125268654}]
[2018]

{"sheet":"13 2017 US Mass Estimates","index":13,"n_rows":69,"n_cols":9,"rows_kept":69,"cut":false,"hidden":true,"merged":[[32,2,66,2],[32,4,66,4],[32,6,66,6],[32,8,66,8],[3,2,12,2],[3,4,12,4],[3,6,12,6],[3,8,12,8],[13,2,31,2],[13,4,31,4],[13,6,31,6],[13,8,31,8]]}
["Information from EPA Characterization of Municipal Solid Waste in the United States: 2017 Update report"]
["ALL UNITS THOUSAND TONS"]
["Material","Generated ","Source","Recycled & Composted","Source","Combusted","Source","Landfilled","Source"]
["Durable Goods",57120,"Table 14",10800,"Table 15",9080,"Table 16",37240,"Table 17"]
["Major Appliances",5160,null,3110,null,0,null,2050]
["Small Appliances",2120,null,120,null,390,null,1610]
["Furniture and Furnishings",12210,null,40,null,2380,null,9790]
["Carpets and Rugs",3390,null,280,null,610,null,2500]
["Rubber Tires",6540,null,2610,null,2710,null,1220]
["Batteries, Lead-Acid",3190,null,3160,null,0,null,30]
["Miscellaneous Durables",24510,null,1480,null,2990,null,20040]
["Selected Consumer Electronics",2840,null,1020,null,0,null,0]
["Other Miscellaneous Durables",21670,null,460,null,0,null,0]
["Nondurable Goods",50700,"Table 18",16290,"Table 19",6720,"Table 20",27690,"Table 21"]
["Newspaper",5440,null,4180,null,250,null,1010]
["Directories",0,null,0,null,0,null,0]
["Disposable Diapers",4150,null,5,null,810,null,3340]
["Plastic Plates and Cups",1080,null,5,null,210,null,870]
["Trash Bags",1140,null,5,null,220,null,920]
["Clothing and Footwear",12800,null,1740,null,2160,null,8900]
["Towels, Sheets, and Pillowcases",1470,null,240,null,240,null,990]
["Other Miscellaneous Nondurables",4110,null,220,null,750,null,3140]
["Other Paper Nondurable Goods",20510,null,9910,null,2080,null,8520]
["Books and Magazines",0,null,"-",null,"-",null,"-"]
["Books",700,null,"-",null,"-",null,"-"]
["Magazines",1020,null,"-",null,"-",null,"-"]
["Office-Type Papers",3970,null,"-",null,"-",null,"-"]
["Standard Mail",3790,null,"-",null,"-",null,"-"]
["Other Commericial Printing",1960,null,"-",null,"-",null,"-"]
["Tissue Paper and Towels",3750,null,"-",null,"-",null,"-"]
["Paper Plates and Cups",1440,null,"-",null,"-",null,"-"]
["Other Nonpackaging Paper",3880,null,"-",null,"-",null,"-"]
["Containers and Packaging",80080,"Table 22",40090,"Table 24",7860,"Table 26",32130,"Table 28"]
["Glass Packaging",8930,null,3030,null,1160,null,4740]
["Beer and Soft Drink Bottles",5270,null,2060,null,630,null,2580]
["Wine and Liquor Bottles",1740,null,680,null,210,null,850]
["Other Bottles & Jars",1920,null,290,null,320,null,1310]
["Steel Packaging",2010,null,1470,null,100,null,440]
["Beer and Soft Drink Bottles",5,null,5,null,5,null,5]
["Cans",1480,null,1050,null,80,null,350]
["Other Steel Packaging",530,null,420,null,20,null,90]
["Aluminum Packaging",1890,null,620,null,260,null,1010]
["Beer and Soft Drink Bottles",1260,null,620,null,130,null,510]
["Other Cans",130,null,null,null,30,null,100]
["Foils and Closures",500,null,null,null,100,null,400]
["Paper & Paperboard Pkg",41060,null,30080,null,2160,null,{"$f":"H47+H48","v":8820}]
["Corrugated Boxes",32540,null,28780,null,740,null,3020]
["Other Paper & Paperboard Pkg",8520,null,1300,null,1420,null,5800]
["Gable Top/Aseptic Cartons",590,null,0]
["Folding Cartons",5330,null,0]
["Other Paperboard Packaging",50,null,0]
["Bags and Sacks",1100,null,0]
["Wrapping Papers",5,null,0]
["Other Paper Packaging",1450,null,0]
["Plastics Packaging",14490,null,1890,null,2470,null,10130]
["PET Bottles and Jars",2960,null,860,null,410,null,1690]
["HDPE Natural Bottles",770,null,240,null,100,null,430]
["Other Containers",1990,null,300,null,330,null,1360]
["Bags, Sacks, and Wraps",4140,null,390,null,740,null,3010]
["Other Plastics Packaging",4630,null,100,null,890,null,3640]
["Other Packaging",{"$f":"B62+B63","v":11700},null,{"$f":"D62+D63","v":3005},null,{"$f":"F62+F63","v":1710},null,{"$f":"H62+H63","v":6990}]
["Wood Packaging",11350,null,3000,null,1640,null,6710]
["Other Misc. Packaging",350,null,5,null,70,null,280]
["Other Wastes",79890,null,26990,null,10370,null,42530]
["Food",40670,null,2570,null,7470,null,30630]
["Yard Trimmings",35180,null,24420,null,2110,null,8650]
["Miscellaneous Inorganic Wastes",4040,null,5,null,790,null,3250]
["Total",{"$f":"SUM(B64,B61,B55,B46,B42,B38,B34,B14,B4)","v":267790},null,{"$f":"SUM(D64,D61,D55,D46,D42,D38,D34,D14,D4)","v":94175},null,{"$f":"SUM(F64,F61,F55,F46,F42,F38,F34,F14,F4)","v":34030},null,{"$f":"SUM(H64,H61,H55,H46,H42,H38,H34,H14,H4)","v":139590}]
["Check:"]

{"sheet":"14 2017 US PCD Calculations","index":14,"n_rows":57,"n_cols":12,"rows_kept":57,"cut":false,"hidden":true,"merged":[[22,8,22,10],[30,2,35,2],[31,8,31,11],[45,6,46,6],[50,6,51,6]]}
["US Data update (2017)",null,null,null,null,null,null,null,null,"DRY TONS"]
[]
["2017 US Population",325700000,null,null,null,null,null,null,"US DATA","Value (lbs/per)"]
[null,null,null,null,null,null,null,null,"White Goods",{"$f":"E7/B3","v":31.685600245624808}]
[null,null,null,null,null,null,null,null,"Tires",{"$f":"E8/B3","v":40.159656125268654}]
["Florida Category","EPA Category","Thousand Tons","Tons","Total lbs","Table","Note",null,"Newspaper",{"$f":"E9/B3","v":33.404973902364141}]
["White Goods","Major applicances",{"$f":"'13 2017 US Mass Estimates'!B5","v":5160},{"$f":"C7*1000","v":5160000},{"$f":"D7*2000","v":10320000000},14,null,null,"glass",{"$f":"E13/B3","v":54.835738409579371}]
["Tires","Rubber Tires",{"$f":"'13 2017 US Mass Estimates'!B9","v":6540},{"$f":"C8*1000","v":6540000},{"$f":"D8*2000","v":13080000000},14,null,null,"Steel Cans",{"$f":"E14/B3","v":9.0881178999078909}]
["Newspaper","Newspaper Papers",{"$f":"'13 2017 US Mass Estimates'!B15","v":5440},5440000,{"$f":"D9*2000","v":10880000000},5,"Now includes directories",null,"Aluminum Cans",{"$f":"E16/B3","v":8.5354620816702482}]
[null,"Directories",0,{"$f":"C10*1000","v":0},null,null,null,null,"Non-Ferrous Metals",{"$f":"E18/B3","v":12.019741632888866}]
["Glass","Glass Beer & Soft Drink",{"$f":"'13 2017 US Mass Estimates'!B35","v":5270},5270000,null,null,null,null,"Ferrous Metals",{"$f":"E20/B3","v":46.39450766308417}]
[null,"Glass Wine & Liquor Bottlers",{"$f":"'13 2017 US Mass Estimates'!B36","v":1740},1740000,null,null,null,null,"Plastic bottles",{"$f":"E22/B3","v":22.904513355848941}]
[null,"Other bottles & jars",{"$f":"'13 2017 US Mass Estimates'!B37","v":1920},1920000,{"$f":"SUM(D11:D13)*2000","v":17860000000},6,null,null,"Corrugated Boxes",{"$f":"E23/B3","v":199.81578139392079}]
["Steel Cans","Steel Cans",{"$f":"'13 2017 US Mass Estimates'!B40","v":1480},1480000,{"$f":"D14*2000","v":2960000000},7,null,null,"Other Paper",{"$f":"E36/B3","v":153.88394227817008}]
["Aluminum Cans","Alumuinum beer & soft drink cans",{"$f":"'13 2017 US Mass Estimates'!B43","v":1260},1260000,null,7,null,null,"Office Paper",{"$f":"E37/B3","v":24.378262204482652}]
[null,"Other cans",{"$f":"'13 2017 US Mass Estimates'!B44","v":130},130000,{"$f":"SUM(D15:D16)*2000","v":2780000000},null,null,null,"Other Plastic",{"$f":"E43/B3","v":151.80981922405675}]
["Non-Ferrous Metals","Aluminum Foil & Closures",{"$f":"'13 2017 US Mass Estimates'!B45","v":500},500000,null,7,null,null,"Food Waste",{"$f":"E44/B3","v":249.73902364138777}]
[null,"misc durables",{"$f":"L35","v":1457.4149249159518},1457414.9249159519,{"$f":"SUM(D17:D18)*2000","v":3914829849.8319039},null,null,null,"Yard Trash",{"$f":"E45/B3","v":216.02701872889162}]
["Ferrous Metals","Other steel packaging",{"$f":"'13 2017 US Mass Estimates'!B41","v":530},530000,null,7,null,null,"Textiles",{"$f":"E47/B3","v":81.024255449800435}]
[null,"misc durables",{"$f":"L34","v":7025.3455729332572},7025345.5729332576,{"$f":"SUM(D19:D20)*2000","v":15110691145.866514},null,null,null,"MISC",{"$f":"E57/B3","v":213.01940707100493}]
["Plastic Bottles","PET Bottles and Jars",{"$f":"'13 2017 US Mass Estimates'!B56","v":2960},2960000,null,8]
[null,"HDPE Natural Bottles",{"$f":"'13 2017 US Mass Estimates'!B57","v":770},770000,{"$f":"SUM(D21:D22)*2000","v":7460000000},8]
["Corrugated Boxes","Corrugated boxes",{"$f":"'13 2017 US Mass Estimates'!B47","v":32540},32540000,{"$f":"D23*2000","v":65080000000},5,null,null,"2000 MISC Durables"]
["Other Paper","Books",{"$f":"'13 2017 US Mass Estimates'!B25","v":700},700000,null,5,null,null,null,"2001 data","As a percentage (Item/Total) using 2001"]
[null,"magazines",{"$f":"'13 2017 US Mass Estimates'!B26","v":1020},1020000,null,5,null,null,"Ferrrous ",4544172,{"$f":"J25/J29","v":0.30975950497942051}]
[null,"Standard mail",{"$f":"'13 2017 US Mass Estimates'!B28","v":3790},3790000,null,5,null,null,"Non Ferrous",942693,{"$f":"J26/J29","v":6.4259917324336502E-2}]
[null,"Other Commercial Printing",{"$f":"'13 2017 US Mass Estimates'!B29","v":1960},1960000,null,5,null,null,"Other-Plastic",8591283.1999999993,{"$f":"J27/J29","v":0.58563620196814992}]
[null,"Tissue Paper and Towels",{"$f":"'13 2017 US Mass Estimates'!B30","v":3750},3750000,null,5,null,null,"Misc.",591852,{"$f":"J28/J29","v":4.0344375728093039E-2}]
[null,"Paper Plates and Cups",{"$f":"'13 2017 US Mass Estimates'!B31","v":1440},1440000,null,5,null,null,"Total Misc Durables",{"$f":"SUM(J25:J28)","v":14670000.199999999},{"$f":"SUM(K25:K28)","v":1}]
[null,"Other Non-Packaging Paper",{"$f":"'13 2017 US Mass Estimates'!B32","v":3880},3880000,null,5]
[null,"Gable Top/Aseptic Carton",{"$f":"'13 2017 US Mass Estimates'!B48","v":8520},8520000,null,5]
[null,"Folding Cartons",null,0,null,5,null,null,"2015 MISC Durables"]
[null,"Other  paper board Packaging",null,0,null,5]
[null,"Bags & Sacks",null,0,null,5,null,null,"2015 Misc Durables",null,"Ferrous",{"$f":"22680*K25","v":7025.3455729332572}]
[null,"Wrapping Papers",null,0,null,null,null,null,{"$f":"'13 2017 US Mass Estimates'!B11","v":24510},"thousand tons","Non Ferrous",{"$f":"22680*K26","v":1457.4149249159518}]
[null,"Other Paper packaging",null,0,{"$f":"SUM(D24:D36)*2000","v":50120000000},5,null,null,null,null,"Other Plastic",{"$f":"22680*K27","v":13282.229060637641}]
["Office Paper","Office-Type Paper",{"$f":"'13 2017 US Mass Estimates'!B27","v":3970},3970000,{"$f":"D37*2000","v":7940000000},5,null,null,null,null,"MISC",{"$f":"22680*K28","v":915.01044151315011}]
["Other Plastic","Other Plastic Containers",{"$f":"'13 2017 US Mass Estimates'!B58-1540","v":450},{"$f":"C38*1000","v":450000},null,8,"-HDPE (Subtotal of other containers - HDPE)",null,null,null,"Total",{"$f":"SUM(L34:L37)","v":22680}]
[null,"Bags, Sacks, and Wraps",{"$f":"'13 2017 US Mass Estimates'!B59","v":4140},{"$f":"C39*1000","v":4140000},null,8]
[null,"Other Plastics Packaging",{"$f":"'13 2017 US Mass Estimates'!B60","v":4630},4630000,null,8]
[null,"Plastic Plates & Cups",{"$f":"'13 2017 US Mass Estimates'!B18","v":1080},1080000,null,8]
[null,"Trash Bags",{"$f":"'13 2017 US Mass Estimates'!B19","v":1140},1140000,null,8]
[null,"other misc durables",{"$f":"L36","v":13282.229060637641},{"$f":"C43*1000","v":13282229.060637642},{"$f":"SUM(D38:D43)*2000","v":49444458121.275284},8]
["Food Waste","Food Waste",{"$f":"'13 2017 US Mass Estimates'!B65","v":40670},40670000,{"$f":"D44*2000","v":81340000000},14]
["Yard Trash","Yard Trimmings",{"$f":"'13 2017 US Mass Estimates'!B66","v":35180},35180000,{"$f":"D45*2000","v":70360000000},14]
["Textiles","Clothing",{"$f":"'13 2017 US Mass Estimates'!B20*0.916","v":11724.800000000001},11724800.000000002,null,18,"Multipled Clothing & Footwear  by 0.916 to obtain just clothing"]
[null,"Towels, sheets, & Pillowcases",{"$f":"'13 2017 US Mass Estimates'!B21","v":1470},1470000,{"$f":"SUM(D46:D47)*2000","v":26389600000.000004}]
["MISC","Carpets & Rugs",{"$f":"'13 2017 US Mass Estimates'!B8","v":3390},3390000,null,14]
[null,"Batteries lead acid",{"$f":"'13 2017 US Mass Estimates'!B10","v":3190},3190000,null,14]
[null,"Disposable diapers",{"$f":"'13 2017 US Mass Estimates'!B17","v":4150},4150000,null,14]
[null,"Footwear",{"$f":"'13 2017 US Mass Estimates'!B20-C46","v":1075.1999999999989},1075199.9999999988,null,14,"subtract clothing from clothing and footwear"]
[null,"Other Misc Non-Durables",{"$f":"'13 2017 US Mass Estimates'!B22","v":4110},4110000,null,18]
[null,"Wood Packaging",{"$f":"'13 2017 US Mass Estimates'!B62","v":11350},11350000,null,14]
[null,"Other MISC Packaging",{"$f":"'13 2017 US Mass Estimates'!B63","v":350},350000,null,22]
[null,"MISC inorganic wastes",{"$f":"'13 2017 US Mass Estimates'!B67","v":4040},4040000,null,22]
[null,"Small appliances",{"$f":"'13 2017 US Mass Estimates'!B6","v":2120},2120000,null,14]
[null,"misc durables",{"$f":"L37","v":915.01044151315011},915010.44151315012,{"$f":"SUM(D48:D57)*2000","v":69380420883.026306}]

{"sheet":"15 2017 US PCD Dry to Wet Tons","index":15,"n_rows":21,"n_cols":4,"rows_kept":21,"cut":false,"hidden":true,"merged":[[0,0,0,3]]}
["NOTE: The moisture content values were retrieved from a Florida-specific moisture content study performed for the development of the Old WasteCalc (Table 2.3)  Click document to see table."]
[]
["Category","Moisture Content  (MC) ","US EPA DATA (lbs-dry/person)","US EPA DATA             (lbs-WET/person)    [US EPA DATA/(1-MC)"]
["Newspaper",0.27850000000000003,{"$f":"'14 2017 US PCD Calculations'!J6","v":33.404973902364141},{"$f":"C4/(1-B4)","v":46.299340128016823}]
["Glass",3.2000000000000001E-2,{"$f":"'14 2017 US PCD Calculations'!J7","v":54.835738409579371},{"$f":"C5/(1-B5)","v":56.648490092540676}]
["Aluminum Cans",0.129,{"$f":"'14 2017 US PCD Calculations'!J9","v":8.5354620816702482},9.7996120340645785]
["Plastic Bottles",4.8000000000000001E-2,{"$f":"'14 2017 US PCD Calculations'!J12","v":22.904513355848941},24.05936276874889]
["Steel Cans",5.8000000000000003E-2,{"$f":"'14 2017 US PCD Calculations'!J8","v":9.0881178999078909},9.6476835455497785]
["Corrugated Paper",0.24049999999999999,{"$f":"'14 2017 US PCD Calculations'!J13","v":199.81578139392079},263.08858643044209]
["Office Paper",0.13400000000000001,{"$f":"'14 2017 US PCD Calculations'!J15","v":24.378262204482652},28.150418249979968]
["Yard Waste",0.50600000000000001,{"$f":"'14 2017 US PCD Calculations'!J18","v":216.02701872889162},437.30165734593447]
["Other Plastics",0.11700000000000001,{"$f":"'14 2017 US PCD Calculations'!J16","v":151.80981922405675},171.92505008386948]
["Ferrous Metal",5.3999999999999999E-2,{"$f":"'14 2017 US PCD Calculations'!J11","v":46.39450766308417},49.042819939835276]
["White Goods","x",{"$f":"'14 2017 US PCD Calculations'!J4","v":31.685600245624808},{"$f":"C14","v":31.685600245624808}]
["Non-ferrous Metal",0.16900000000000001,{"$f":"'14 2017 US PCD Calculations'!J10","v":12.019741632888866},{"$f":"C15/(1-B15)","v":14.464189690600321}]
["Other Paper",0.2545,{"$f":"'14 2017 US PCD Calculations'!J14","v":153.88394227817008},{"$f":"C16/(1-B16)","v":206.41709225777339}]
["Textiles",0.17,{"$f":"'14 2017 US PCD Calculations'!J19","v":81.024255449800435},{"$f":"C17/(1-B17)","v":97.619584879277639}]
["C&D Debris",8.8999999999999996E-2,"-","-"]
["Food Waste",0.59750000000000003,{"$f":"'14 2017 US PCD Calculations'!J17","v":249.73902364138777},{"$f":"C19/(1-B19)","v":620.46962395375851}]
["Miscellaneous",0.313,{"$f":"'14 2017 US PCD Calculations'!J20","v":213.01940707100493},{"$f":"C20/(1-B20)","v":310.07191713392274}]
["Tires","x",{"$f":"'14 2017 US PCD Calculations'!J5","v":40.159656125268654},{"$f":"C21","v":40.159656125268654}]

{"sheet":"16 County Factor Key","index":16,"n_rows":91,"n_cols":17,"rows_kept":91,"cut":false,"hidden":true,"merged":[]}
[null,"THIS WORKBOOK"]
[null,"Page Title","Note"]
[null,"Order of Counties"]
[null,"Order of Counties","Counties were organized by population denisty and their previously determined \"grouping\"."]
[null,"Counties with Waste Comp Studies"]
[]
[null,"Grouping 1-High Pop Density"]
[null,"Avg. Pinellas, Seminole, Orange, Miami-Dade, & Hillsborough","Used the average percent composition landfilled and combusted from Pinellas, Seminole, Miami-Dade, and Hillsborough. The reported recycling composition was used for each county individually."]
[null,"Grouping 2- Upper Medium Pop Density"]
[null,"Avg. Sarasota, Palm Beach, & Manatee ","Used the average percent compositi+C10on landfilled and combusted from  Sarasota, Palm Beach, and Manatee. The reported recycling composition was used for each county individually."]
[null,"Grouping 3- Medium Pop Density"]
[null,"Avg. Hernando, Indian River, & Alachua","Used the average percent composition landfilled and combusted from Hernando, Indian River, and Alachua. The reported recycling composition was used for each county individually."]
[null,"Grouping 4- Lower Medium Pop Density "]
[null,"Avg. Okaloosa & Collier","Used the average percent composition landfilled and combusted from Okaloosa and Collier. The reported recycling composition was used for each county individually."]
[null,"Grouping 5- Low Pop Density with comb"]
[null,"Aucilla Landfill Waste Composition Study (Madison, Jefferson, Dixie, Taylor, Lafayette) ","Used the percent composition landfilled and combusted from the Aucilla Landfill waste composition study which sampled Madison, Jefferson, Dixie, Taylor, and Lafayette counties. The reported recycling composition was used for each county individually."]
[null,"grouping 5- Low Pop Density  without combustion"]
[null,"Aucilla Landfill Waste Composition Study (Madison, Jefferson, Dixie, Taylor, Lafayette) "]
[]
[]
[]
[]
[null,"Order of Counties is by population density",null,null,null,null,null,null,null,null,null,null,null,"Order of Counties is by population density"]
[null,"County","Pop Dens.",null,"Density from: --The link has been updated since calculating popoulation density",null,null,null,null,null,null,null,null,null,null,"County","Pop Dens. (people/mi"]
[1,"Pinellas",3542.5,null,"http://edr.state.fl.us/content/area-profiles/county/index.cfm",null,null,null,null,null,null,null,null,"Group 1",1,"Pinellas",3542.5]
[2,"Broward",1599.9,null,null,null,null,null,null,null,null,null,null,null,2,"Broward",1599.9]
[3,"Seminole",1497.3,null,null,null,null,null,null,null,null,null,null,null,3,"Seminole",1497.3]
[4,"Orange",1493.9,null,null,null,null,null,null,null,null,null,null,null,4,"Orange",1493.9]
[5,"Miami-Dade",1449.8,null,null,null,null,null,null,null,null,null,null,null,5,"Miami-Dade",1449.8]
[6,"Hillsborough",1380.9,null,null,null,null,null,null,null,null,null,null,null,6,"Hillsborough",1380.9]
[7,"Duval",1230.9000000000001,null,null,null,null,null,null,null,null,null,null,null,7,"Duval",1230.9000000000001]
[8,"Lee",942.9,null,null,null,null,null,null,null,null,null,null,"Group 2",8,"Lee",942.9]
[9,"Sarasota",753.8,null,null,null,null,null,null,null,null,null,null,null,9,"Sarasota",753.8]
[10,"Palm Beach",736.3,null,null,null,null,null,null,null,null,null,null,null,10,"Palm Beach",736.3]
[11,"Pasco",703.7,null,null,null,null,null,null,null,null,null,null,null,11,"Pasco",703.7]
[12,"Brevard",579.9,null,null,null,null,null,null,null,null,null,null,null,12,"Brevard",579.9]
[13,"St. Lucie",548.1,null,null,null,null,null,null,null,null,null,null,null,13,"St. Lucie",548.1]
[14,"Manatee",518.9,null,null,null,null,null,null,null,null,null,null,null,14,"Manatee",518.9]
[15,"Volusia",489.3,null,null,null,null,null,null,null,null,null,null,"Group 3",15,"Volusia",489.3]
[16,"Escambia",477.9,null,null,null,null,null,null,null,null,null,null,null,16,"Escambia",477.9]
[17,"Leon",435.2,null,null,null,null,null,null,null,null,null,null,null,17,"Leon",435.2]
[18,"St. Johns",405.7,null,null,null,null,null,null,null,null,null,null,null,18,"St. Johns",405.7]
[19,"Hernando",394.4,null,null,null,null,null,null,null,null,null,null,null,19,"Hernando",394.4]
[20,"Polk",381.8,null,null,null,null,null,null,null,null,null,null,null,20,"Polk",381.8]
[21,"Lake",368.9,null,null,null,null,null,null,null,null,null,null,null,21,"Lake",368.9]
[22,"Clay",351.4,null,null,null,null,null,null,null,null,null,null,null,22,"Clay",351.4]
[23,"Indian River",306.89999999999998,null,null,null,null,null,null,null,null,null,null,null,23,"Indian River",306.89999999999998]
[24,"Alachua",305.10000000000002,null,null,null,null,null,null,null,null,null,null,null,24,"Alachua",305.10000000000002]
[25,"Martin",294.5,null,null,null,null,null,null,null,null,null,null,"Group 4",25,"Martin",294.5]
[26,"Charlotte",267.7,null,null,null,null,null,null,null,null,null,null,null,26,"Charlotte",267.7]
[27,"Osceola",265.39999999999998,null,null,null,null,null,null,null,null,null,null,null,27,"Osceola",265.39999999999998]
[28,"Citrus",250.3,null,null,null,null,null,null,null,null,null,null,null,28,"Citrus",250.3]
[29,"Bay",242.2,null,null,null,null,null,null,null,null,null,null,null,29,"Bay",242.2]
[30,"Sumter",228.8,null,null,null,null,null,null,null,null,null,null,null,30,"Sumter",228.8]
[31,"Flagler",227.9,null,null,null,null,null,null,null,null,null,null,null,31,"Flagler",227.9]
[32,"Marion",223.6,null,null,null,null,null,null,null,null,null,null,null,32,"Marion",223.6]
[33,"Okaloosa",218.2,null,null,null,null,null,null,null,null,null,null,null,33,"Okaloosa",218.2]
[34,"Collier",186.6,null,null,null,null,null,null,null,null,null,null,null,34,"Collier",186.6]
[35,"Santa Rosa",172.2,null,null,null,null,null,null,null,null,null,null,null,35,"Santa Rosa",172.2]
[36,"Nassau",127.5,null,null,null,null,null,null,null,null,null,null,null,36,"Nassau",127.5]
[37,"Highlands",101.2,null,null,null,null,null,null,null,null,null,null,null,37,"Highlands",101.2]
[38,"Putnam",100.9,null,null,null,null,null,null,null,null,null,null,null,38,"Putnam",100.9]
[39,"Bradford",92,null,null,null,null,null,null,null,null,null,null,"Group 5",39,"Bradford",92]
[40,"Gadsden",89.3,null,null,null,null,null,null,null,null,null,null,null,40,"Gadsden",89.3]
[41,"Columbia",87.2,null,null,null,null,null,null,null,null,null,null,null,41,"Columbia",87.2]
[42,"Monroe",78.3,null,null,null,null,null,null,null,null,null,null,null,42,"Monroe",78.3]
[43,"Walton",65.900000000000006,null,null,null,null,null,null,null,null,null,null,null,43,"Walton",65.900000000000006]
[44,"Suwannee",64.099999999999994,null,null,null,null,null,null,null,null,null,null,null,44,"Suwannee",64.099999999999994]
[45,"Union",63.6,null,null,null,null,null,null,null,null,null,null,null,45,"Union",63.6]
[46,"DeSoto",57.9,null,null,null,null,null,null,null,null,null,null,null,46,"DeSoto",57.9]
[47,"Okeechobee",54.1,null,null,null,null,null,null,null,null,null,null,null,47,"Okeechobee",54.1]
[48,"Wakulla",53,null,null,null,null,null,null,null,null,null,null,null,48,"Wakulla",53]
[49,"Jackson",52.6,null,null,null,null,null,null,null,null,null,null,null,49,"Jackson",52.6]
[50,"Gilchrist",50.7,null,null,null,null,null,null,null,null,null,null,null,50,"Gilchrist",50.7]
[51,"Baker",48.3,null,null,null,null,null,null,null,null,null,null,null,51,"Baker",48.3]
[52,"Hardee",43,null,null,null,null,null,null,null,null,null,null,null,52,"Hardee",43]
[53,"Washington",42.1,null,null,null,null,null,null,null,null,null,null,null,53,"Washington",42.1]
[54,"Holmes",40.799999999999997,null,null,null,null,null,null,null,null,null,null,null,54,"Holmes",40.799999999999997]
[55,"Levy",36.1,null,null,null,null,null,null,null,null,null,null,null,55,"Levy",36.1]
[56,"Hendry",35,null,null,null,null,null,null,null,null,null,null,null,56,"Hendry",35]
[57,"Gulf",28.7,null,null,null,null,null,null,null,null,null,null,null,57,"Gulf",28.7]
[58,"Hamilton",27.6,null,null,null,null,null,null,null,null,null,null,null,58,"Hamilton",27.6]
[59,"Madison",26.5,null,null,null,null,null,null,null,null,null,null,null,59,"Madison",26.5]
[60,"Calhoun",25.5,null,null,null,null,null,null,null,null,null,null,null,60,"Calhoun",25.5]
[61,"Jefferson",23.7,null,null,null,null,null,null,null,null,null,null,null,61,"Jefferson",23.7]
[62,"Dixie",23.6,null,null,null,null,null,null,null,null,null,null,null,62,"Dixie",23.6]
[63,"Franklin",21.9,null,null,null,null,null,null,null,null,null,null,null,63,"Franklin",21.9]
[64,"Taylor",20.9,null,null,null,null,null,null,null,null,null,null,null,64,"Taylor",20.9]
[65,"Glades",17.100000000000001,null,null,null,null,null,null,null,null,null,null,null,65,"Glades",17.100000000000001]
[66,"Lafayette",15.6,null,null,null,null,null,null,null,null,null,null,null,66,"Lafayette",15.6]
[67,"Liberty",9.9,null,null,null,null,null,null,null,null,null,null,null,67,"Liberty",9.9]

{"sheet":"17 Aucilla Landfill  Data","index":17,"n_rows":117,"n_cols":45,"rows_kept":117,"cut":false,"hidden":true,"merged":[]}
["Number","Res/Comm","Origin/zone","Truck Tonnage","Total Weight (lb)",null,1,2,3,4,5,6,7,8,9,10,11,12,13,14,15,16,17,18,19,20,21,22,23,24,25,26,27,28,29,30,31,32,33,34,35,36,37,38,"unsorted"]
[1,"Comm","Taylor",14.89,212.2,null,1.4000000000000004,28.599999999999998,0.30000000000000027,0.10000000000000009,4.6000000000000005,0.90000000000000036,8.3999999999999986,31.400000000000002,10.8,3.7,1.7000000000000002,0.70000000000000018,4.9000000000000004,0.90000000000000036,4.7,3.6000000000000005,1.4000000000000004,34.300000000000004,3.3,0,1,0.70000000000000018,3.7,1.1000000000000001,0.20000000000000018,0.30000000000000027,0.10000000000000009,22.7,0,0.80000000000000027,0.10000000000000009,0,0,0,2.5999999999999996,4.5999999999999996,0.5,0.39999999999999991,27.699999999999989]
[2,"Res","Madison",2.09,202.1,null,0,3.1000000000000005,0.70000000000000018,0.20000000000000018,0.10000000000000009,0.10000000000000009,4,4.7,1.2000000000000002,0.60000000000000009,0.60000000000000009,0.60000000000000009,0,1,0.20000000000000018,0.5,0.60000000000000009,3.9000000000000004,10.199999999999999,0,2.4000000000000004,0.60000000000000009,0.5,1.4000000000000004,20.5,0.30000000000000027,0.10000000000000009,3.1000000000000005,0,2.4000000000000004,36.1,33,30.2,1.7999999999999998,2.5,19.8,3.2,0.69999999999999973,11.200000000000017]
[3,"Res","Jefferson",11.12,204.8,null,1.5,18.3,4.6000000000000005,0.70000000000000018,1.5,3.3,9.8000000000000007,43.800000000000004,5,1.2999999999999998,0.70000000000000018,0.40000000000000036,0.60000000000000009,0.90000000000000036,2.2000000000000002,1.2999999999999998,2.7,10.899999999999999,3,0,6.1000000000000005,1.4000000000000004,1.4000000000000004,2,0.30000000000000027,0,2.8,9.1000000000000014,11.899999999999999,28.8,0,0,0.59999999999999964,0,0,11.100000000000001,1.1999999999999997,0.79999999999999982,14.800000000000011]
[4,"Res","Taylor",3.26,201.5,null,0,20.3,0,0,0,0,0.40000000000000036,1.5,0.30000000000000027,1.7000000000000002,0.30000000000000027,0,0,3.8,0,0,0.40000000000000036,1.9000000000000004,7.1000000000000005,0,1.4000000000000004,0,0,0.30000000000000027,26.599999999999998,0,24.7,0,0,0.10000000000000009,51.400000000000006,0,0,0.39999999999999991,0,37.199999999999996,18.7,0,3.0000000000000284]
[5,"Comm","Madison",1.67,202.7,null,0,1.5,31.099999999999998,0,0.80000000000000027,0.30000000000000027,1.2000000000000002,80.599999999999994,2.2000000000000002,0.40000000000000036,0.40000000000000036,0,0.30000000000000027,2,1.2000000000000002,0.90000000000000036,0.10000000000000009,8,0.70000000000000018,0,0,0,0.60000000000000009,0,0.70000000000000018,0,0,0.70000000000000018,0,0,43.800000000000004,0,0,0,7.9999999999999991,0.59999999999999964,0.39999999999999991,10.600000000000001,5.6000000000000227]
[6,"Comm","Jefferson",9.44,216.4,null,0.40000000000000036,58.1,6.7,0.20000000000000018,0.5,5.8999999999999995,3.2,34.5,2.6000000000000005,0.60000000000000009,2.7,0.40000000000000036,0.40000000000000036,1.2000000000000002,2.1000000000000005,1,1.4000000000000004,16.899999999999999,25.400000000000002,0,3.8,0.30000000000000027,0.90000000000000036,0.20000000000000018,0.20000000000000018,0,0.80000000000000027,8,0,4.3,12.399999999999999,0,0,0,1,6.4999999999999991,0,0.29999999999999982,13.499999999999943]
[7,"Comm","Madison",4.54,209.6,null,0.40000000000000036,39.299999999999997,0.30000000000000027,0.20000000000000018,0.60000000000000009,1.2000000000000002,4,21.4,5.6000000000000005,1.2999999999999998,1.2999999999999998,0.60000000000000009,0.10000000000000009,0.60000000000000009,1.4000000000000004,0.30000000000000027,10.700000000000001,1.2000000000000002,0.40000000000000036,2.8,2.6000000000000005,0.40000000000000036,0.60000000000000009,0.80000000000000027,0.40000000000000036,0.40000000000000036,36.300000000000004,0,0,35.800000000000004,0.60000000000000009,0,0,9.9999999999999645E-2,0.69999999999999973,4.8999999999999995,0.89999999999999991,0.5,30.900000000000006]
[8,"Comm","Jefferson",10.93,235.1,null,0,19.599999999999998,0,0.10000000000000009,0.20000000000000018,0.70000000000000018,6.8,25.700000000000003,10.8,0.90000000000000036,1.9000000000000004,0.90000000000000036,0.30000000000000027,2.7,3.3,0.5,1.7999999999999998,13.1,15.2,0,2.5,0.60000000000000009,4.1000000000000005,4,1.1000000000000001,1.7000000000000002,7.1000000000000005,26,0,12.8,0,0,0,0.19999999999999973,8.6999999999999993,16.3,11.899999999999999,1.1999999999999997,32.400000000000006]
[9,"Res","Lafayette",8.57,202.1,null,1.4000000000000004,17.899999999999999,0.10000000000000009,0.30000000000000027,4.2,0.20000000000000018,2,16.399999999999999,6.8,0.80000000000000027,0.20000000000000018,0.70000000000000018,0.70000000000000018,0,1,2,2.2999999999999998,44.800000000000004,2.2000000000000002,0,2.7,0,1.2999999999999998,1.5,0.30000000000000027,0,0,9.8999999999999986,0,12,30.2,0,0,0,0.69999999999999973,9.3999999999999986,0.19999999999999973,9.9999999999999645E-2,29.800000000000011]
[10,"Res","Dixie",22.71,204.1,null,1.1000000000000001,5.3,1.7999999999999998,0.60000000000000009,1.2999999999999998,0.30000000000000027,9.1999999999999993,16.8,4.4000000000000004,1.6000000000000005,0.30000000000000027,0.40000000000000036,0.5,1.2000000000000002,2.8,0.60000000000000009,3.3,3.3000000000000007,10.600000000000001,0,2.2999999999999998,1.6000000000000005,3,1.2000000000000002,1.9000000000000004,3.1000000000000005,0.90000000000000036,19.8,0,13.8,2.9000000000000004,0.10000000000000009,9.6999999999999993,1.3999999999999995,2.5999999999999996,19.2,2.2999999999999998,7.2,45.699999999999989]
[11,"Comm","Dixie",22.71,203,null,0.20000000000000018,48.7,5.8999999999999995,0.30000000000000027,0.30000000000000027,1,6.3999999999999995,16.2,7.0000000000000009,1,0,0,1.4000000000000004,0.30000000000000027,1.2000000000000002,1.9000000000000004,0.70000000000000018,15.500000000000002,20.599999999999998,0,0.50000000000000033,4.6000000000000005,1.7000000000000002,2.6000000000000005,4.3,0.80000000000000027,0,21.4,0,0.20000000000000018,10.100000000000001,0,0,0,1.1999999999999997,4.8999999999999995,17.500000000000004,2.8,1.7999999999999829]
[12,"Res","Dixie",22.71,201.1,null,1,12.3,3.1000000000000005,1.2999999999999998,2.2000000000000002,0.10000000000000009,5.8,23.5,3.9000000000000004,0.80000000000000027,1.6000000000000005,0,3.2,3.4000000000000004,1.6000000000000005,1.5,1.6000000000000005,20.799999999999997,3.4000000000000004,0,3.6000000000000005,1.1000000000000001,2.9000000000000004,2.2999999999999998,4,0.80000000000000027,8,6.8999999999999995,0,5.2,11,0,0,0.39999999999999991,4.7,30.2,0,0.5,28.400000000000006]
[13,"Comm","Jefferson",10.56,200.7,null,2.2000000000000002,6.7,1.7000000000000002,0.5,11.399999999999999,0.60000000000000009,2.1000000000000005,24,22.9,1.4000000000000004,0.60000000000000009,0,2.5,1,0.80000000000000027,5.6000000000000005,2.5,14.700000000000001,17.399999999999999,0,1.6000000000000005,0.60000000000000009,3.1000000000000005,0.40000000000000036,0.30000000000000027,2.2999999999999998,2.2000000000000002,20.5,0.60000000000000009,4,13.099999999999998,0,0,0,0,1.3999999999999995,9.9999999999999645E-2,0.29999999999999982,31.600000000000023]
[14,"Res","Taylor",3.15,203.7,null,0.60000000000000009,2.4000000000000004,0.60000000000000009,0.40000000000000036,0.20000000000000018,0.5,10.600000000000001,21.099999999999998,11.799999999999999,1.7000000000000002,2.1000000000000005,0.90000000000000036,0.70000000000000018,2.9000000000000004,2,0.90000000000000036,2.4000000000000004,10.6,7.6000000000000005,0.30000000000000027,14.2,12.3,7.3999999999999995,4.1000000000000005,1.5,0.70000000000000018,0.10000000000000009,27.5,1.1000000000000001,4.4000000000000004,0.60000000000000009,0,0,1.7000000000000002,1.5,25.3,1.5,0.5,19.000000000000028]
[15,"Comm","Taylor",13.45,211.5,null,0,35,0,0.30000000000000027,0.70000000000000018,0.10000000000000009,1.5,20.7,3.8,0.70000000000000018,1.4000000000000004,0.20000000000000018,0.5,0.60000000000000009,1.6000000000000005,0.80000000000000027,1.1000000000000001,12.700000000000001,2.1000000000000005,1.7000000000000002,2.7,1.5,1.6000000000000005,6.3,8.5,0,50.500000000000014,6.5000000000000009,0,1,1.4000000000000004,0,0,0,3.3,15.400000000000002,9.9999999999999645E-2,0.59999999999999964,26.599999999999994]
[16,"Res","Madison",6.21,205.8,null,0,4.9000000000000004,6.5000000000000009,0.90000000000000036,2.2999999999999998,1.5,6.1000000000000005,61.2,22.9,1,2.2999999999999998,0.60000000000000009,3,1.9000000000000004,2.1000000000000005,1.1000000000000001,2.2999999999999998,11.200000000000001,1.9000000000000004,0,7.8,0,3.4000000000000004,3.2,1.9000000000000004,0.10000000000000009,0.10000000000000009,17.899999999999999,0,5.8,0,0,0,0,9.9999999999999645E-2,7.1000000000000005,9.9999999999999645E-2,3.3999999999999995,21.200000000000017]
[17,"Comm","Madison",8.1999999999999993,205.6,null,0,17.8,13.7,0.20000000000000018,1,0.10000000000000009,2.7,24.599999999999998,8.1000000000000014,0.5,0.90000000000000036,0,0.90000000000000036,2,1.4000000000000004,0.80000000000000027,3.3,7,8.8000000000000007,6.6000000000000005,8.6999999999999993,1.2999999999999998,0.90000000000000036,6.8,0.30000000000000027,1.5,0.70000000000000018,23.4,-2.8,5.3,1.7999999999999998,3,0,4.8,0.5,15.8,4.0999999999999996,6.8999999999999995,22.199999999999932]
[18,"Res","Taylor",12.94,203.9,null,2.7,11.100000000000001,7.8999999999999995,1.5,4,1,13.7,32.699999999999996,14.5,2,1.4000000000000004,0.40000000000000036,1.2999999999999998,2.4000000000000004,4,1.5,3.7,11.1,5.5000000000000009,1.1000000000000001,3.1000000000000005,1.2000000000000002,3.6000000000000005,2.8,1.2000000000000002,0,0,23.599999999999998,0.5,10.899999999999999,2.7,0,0,0,0.29999999999999982,5.3,1,2.2999999999999998,21.899999999999977]
[19,"Comm","Taylor",6.04,217.2,null,0.80000000000000027,33.699999999999996,5.2,0.60000000000000009,1,0.40000000000000036,2.2999999999999998,14.000000000000002,2.8,1.1000000000000001,1.1000000000000001,0.40000000000000036,0.70000000000000018,8.6000000000000014,1.2999999999999998,0.60000000000000009,1.6000000000000005,12.200000000000001,17.5,0,40.700000000000003,0.20000000000000018,8.6000000000000014,3.9000000000000004,0.30000000000000027,0.80000000000000027,0,6.8,0,0.30000000000000027,13,0,0,0,13.3,4.5999999999999996,9.9999999999999645E-2,0.5,18.199999999999989]
[20,"Res","Taylor",2.09,201.8,null,1.7999999999999998,7.3999999999999995,4.9000000000000004,0.20000000000000018,1.9000000000000004,1.7000000000000002,9,28.9,9.8000000000000007,2.7,1.4000000000000004,1.1000000000000001,0.5,1.7000000000000002,2.5,1.2000000000000002,2.6000000000000005,9.7000000000000011,5.3,0,3.6000000000000005,1.7999999999999998,3.6000000000000005,3.6000000000000005,0,0.60000000000000009,0,40.300000000000004,3.4000000000000004,11.3,0,0,0,1.8999999999999995,9.9999999999999645E-2,12.8,6.8999999999999995,0.89999999999999991,16.699999999999989]
[21,"Res","Taylor",6.96,205.9,null,2.4000000000000004,10.3,2.9000000000000004,0.10000000000000009,2.2000000000000002,1.1000000000000001,10.7,30.6,11.399999999999999,1.4000000000000004,0.5,0.30000000000000027,1.9000000000000004,4,2.2999999999999998,1.2999999999999998,2.8,10.9,8.6000000000000014,0,3.8,6.6000000000000005,4.7,3.8,4.6000000000000005,0.40000000000000036,0.20000000000000018,38.300000000000004,0.5,9.6000000000000014,0.20000000000000018,0,0.59999999999999964,0,1,12.2,9.9999999999999645E-2,1.1999999999999997,12.400000000000034]
[22,"Res","Taylor",3.27,209.2,null,1.2000000000000002,11.8,0.90000000000000036,0.80000000000000027,1.5,2.2000000000000002,7.3,25.099999999999998,9.6999999999999993,1.1000000000000001,2.2000000000000002,0.30000000000000027,1.2000000000000002,3,3.3,0.80000000000000027,4.8,11.100000000000001,1.7000000000000002,0.40000000000000036,8.1999999999999993,1.7000000000000002,4.2,4.6000000000000005,0.80000000000000027,0.20000000000000018,0.40000000000000036,46,0.5,7.0000000000000009,0.20000000000000018,0,0,0.19999999999999973,2.5,14,0,1.3999999999999995,26.899999999999977]
[23,"Comm","Taylor",14.05,221,null,0.20000000000000018,21.8,9.6000000000000014,11.2,1,1,6.1000000000000005,32.700000000000003,5.5000000000000009,1,0.40000000000000036,0,1.4000000000000004,13.099999999999998,3.4000000000000004,3.4000000000000004,0.90000000000000036,24.7,4.4000000000000004,0,2.2999999999999998,1.4000000000000004,2.2000000000000002,3.7,0.5,0.20000000000000018,0.70000000000000018,13.599999999999998,0.5,21.2,1.7999999999999998,0.30000000000000027,0,0.29999999999999982,1.7999999999999998,1,0.39999999999999991,1.5,25.799999999999983]
[24,"Comm","Taylor",12.36,205.7,null,0,53.6,4.2,0.30000000000000027,2.6000000000000005,0.70000000000000018,5.1000000000000005,24.599999999999998,6.6000000000000005,0.40000000000000036,0.60000000000000009,0.10000000000000009,1,3.9000000000000004,1.1000000000000001,2.9000000000000004,2.6000000000000005,22,14.899999999999999,0,2.2999999999999998,0,2.8,0,8.3999999999999986,0,0,17.5,0.80000000000000027,0,4,0,0,0,0.79999999999999982,4.0999999999999996,0.19999999999999973,0,17.599999999999966]
[25,"Comm","Taylor",3.08,201,null,0.80000000000000027,6.1000000000000005,8.8000000000000007,12.599999999999998,1.4000000000000004,1.2000000000000002,2,37.1,36.400000000000006,0.40000000000000036,0.10000000000000009,0.10000000000000009,0,0.40000000000000036,2,2,1.2999999999999998,21,1.6000000000000005,0,1.1000000000000001,0.20000000000000018,2.2000000000000002,0.60000000000000009,0.5,4,0,23.3,0,0,0.30000000000000027,0.10000000000000009,0,0,9.1000000000000014,13.600000000000001,2.8,3.3999999999999995,4.5000000000000284]
[26,"Res","Taylor",9.93,204.4,null,1.1000000000000001,10.5,0.70000000000000018,0.40000000000000036,2.8,0.5,11.2,32.700000000000003,9.1999999999999993,1.2000000000000002,1.2000000000000002,0.90000000000000036,0.60000000000000009,2.8,2.9000000000000004,0.80000000000000027,1.5,10.399999999999999,4.7,1,7.3,4.2,4.7,3,0.40000000000000036,2.5,5.8999999999999995,20.9,0,27.5,0.30000000000000027,2.2000000000000002,0,0.69999999999999973,0.89999999999999991,5.2,1.8999999999999995,0.89999999999999991,18.799999999999983]
[27,"Comm","Jefferson",8.75,209.4,null,0.10000000000000009,20.5,14.899999999999999,5.3999999999999995,3.1000000000000005,5.8,1.7999999999999998,33.400000000000006,7.3999999999999995,2.6000000000000005,0.70000000000000018,0.10000000000000009,0.40000000000000036,5.8999999999999995,3.5,3.4000000000000004,0.60000000000000009,20.2,10.3,0,0.80000000000000027,1.2000000000000002,1.4000000000000004,3,0,0.60000000000000009,2.2999999999999998,27.9,0.40000000000000036,1.2000000000000002,0.10000000000000009,0,0,0,0.69999999999999973,1.3999999999999995,0.29999999999999982,2.2000000000000002,25.799999999999983]
[28,"Comm","Madison",12.06,205.8,null,0.59999999999999964,46.7,1.7000000000000002,2.1000000000000005,2.4000000000000004,0.10000000000000009,13,15,6.3,0,1.1000000000000001,0.90000000000000036,0.5,31.099999999999998,2.2000000000000002,1,2.1000000000000005,12.599999999999998,0,0,1.9000000000000004,2.1000000000000005,2.6000000000000005,6.2,0.80000000000000027,0,0.30000000000000027,21.599999999999998,0,2.4000000000000004,0.40000000000000036,0,0,0,3.3999999999999995,4.0999999999999996,0,1.7999999999999998,18.799999999999983]
[29,"Comm","Taylor",2.98,200.1,null,0,55.100000000000009,4,0.10000000000000009,0.30000000000000027,0.20000000000000018,0,11.899999999999999,3.1000000000000005,0,0,0,0.5,1,0.40000000000000036,0.5,0,4.7000000000000011,4.2,0,0,0,0.10000000000000009,0.60000000000000009,12.099999999999998,0,3.3,2,0,0.30000000000000027,15.8,0,0,0,0,68.8,0,0.19999999999999973,10.900000000000006]
[30,"Comm","Taylor",8.9499999999999993,229.2,null,1.6000000000000005,91.299999999999983,6.1000000000000005,1.2000000000000002,1.1000000000000001,0.70000000000000018,3.4000000000000004,18.100000000000001,15.2,0.40000000000000036,0.30000000000000027,0,0.40000000000000036,1.2999999999999998,0.60000000000000009,1.1000000000000001,1.1000000000000001,9.6999999999999993,8.5,0,2.2999999999999998,0,5.5000000000000009,2.5,3.4000000000000004,0,0,4.8,0,1.6000000000000005,19.099999999999998,0,0,0,6.8999999999999995,16.600000000000001,0,2.5,1.9000000000000057]
[31,"Res","Jefferson",6.89,246.2,null,0,0,0,0,0,0,0,0.30000000000000027,0,0,0,0,0,0,0,0,0,0,25.400000000000002,0,0,0,0,0,4.8,0,0,0,0,0,99.5,0,0,9.8000000000000007,0,49.5,0,3.8,53.099999999999966]
[32,"Res","Taylor",7.94,219.1,null,0.10000000000000009,3.6000000000000005,4.4000000000000004,0.20000000000000018,0.70000000000000018,0.80000000000000027,13,25.699999999999996,16.3,1.7000000000000002,0.60000000000000009,0.20000000000000018,0.80000000000000027,2.2999999999999998,3.3,0.70000000000000018,3.5,17.899999999999999,7.8,0.70000000000000018,7.3,4.7,10.099999999999998,3,4.6000000000000005,0.30000000000000027,0.30000000000000027,36.200000000000003,2,7.3,0.40000000000000036,0,0,0,0.19999999999999973,4.5,3.0999999999999996,9.8000000000000007,20.999999999999972]
[33,"Res","Taylor",2.95,205.6,null,1.1000000000000001,14,1.2999999999999998,0.40000000000000036,1.2000000000000002,3.4000000000000004,7.8,37.6,9.8000000000000007,1.7000000000000002,1.1000000000000001,0.80000000000000027,0.80000000000000027,0.90000000000000036,4.2,0.80000000000000027,2.8,7.7000000000000011,15.099999999999998,0,3.3,0.60000000000000009,3.1000000000000005,3.7,1.4000000000000004,3.7,0.5,10,4.6000000000000005,15.3,11.100000000000001,0,0.69999999999999973,0,0.69999999999999973,14.3,5.6000000000000005,1.7999999999999998,12.700000000000017]
[34,"Comm","Dixie",20.079999999999998,209.4,null,0,52.699999999999996,0,0,0,1.9000000000000004,3.1000000000000005,3.4000000000000004,0.40000000000000036,0.60000000000000009,2.1000000000000005,0,0.20000000000000018,0.1,0,1,0.30000000000000027,2.7,28,0.5,0.30000000000000027,0.30000000000000027,0.1,1.1000000000000001,35.5,3.6000000000000005,1.1000000000000001,11.399999999999999,0,2.7,19.5,0,4.0999999999999996,1.2999999999999998,0.29999999999999982,20.3,0,4.5999999999999996,6.2000000000000455]
[35,"Res","Taylor",3.13,203.2,null,0.80000000000000027,6.3999999999999995,4.7,0.10000000000000009,1.9000000000000004,1.2999999999999998,10.7,37.000000000000007,9.6999999999999993,2.1000000000000005,1.7000000000000002,0.90000000000000036,1.1000000000000001,4.2,2.8,1.7000000000000002,2.8,9.4,4.2,2.2000000000000002,4.8,2.9000000000000004,2.7,2.7,5.3999999999999995,2,0,19.2,2.9000000000000004,19.099999999999998,0.70000000000000018,0,0,0,0.19999999999999973,13,2,1.3999999999999995,18.499999999999972]
[36,"Comm","Madison",3.21,205.7,null,1,46.9,9.5,3.3,1.6000000000000005,0.20000000000000018,3.5,22.799999999999997,3.8,2.2999999999999998,1.1000000000000001,0,0.70000000000000018,2.2999999999999998,1.5,0.60000000000000009,4.1000000000000005,9,7.8,0,4.2,0,1,1.2999999999999998,0,0,7.2,28,0,16.899999999999999,0.90000000000000036,0,0.5,0,1,2.8999999999999995,0,3.8999999999999995,15.900000000000006]
[37,"Comm","Taylor",11.82,203.4,null,0,90.5,1.1000000000000001,0.1,0.1,0.1,0.70000000000000018,10.899999999999999,1.1000000000000001,0,0.1,0,0.2,0.1,0.5,0.40000000000000036,0.2,5.7000000000000011,0.30000000000000027,0,0,0,1,0,0.2,0,14.499999999999996,0.2,0,0.1,0,0,0,0,1,0,39.200000000000003,1.5999999999999996,33.500000000000057]
[38,"Comm","Madison",5.49,215,null,0.1,35.200000000000003,5.8999999999999995,0.5,2,1,17.7,24.299999999999997,4.2,1.1000000000000001,0,0,0.9,2.1,1.7999999999999998,0.5,1.6000000000000005,20.299999999999997,7.6000000000000005,0,6.0000000000000009,1,1.7999999999999998,2.1000000000000005,0.30000000000000027,1,0,25.4,0,9.1000000000000014,0.20000000000000018,0,0,0,0.1,17.400000000000002,0,1,22.800000000000011]
[39,"Comm","Taylor",14.38,205.8,null,0.5,32.799999999999997,2.6000000000000005,4,5.1000000000000005,1.2999999999999998,5.7,32.9,4,1.1000000000000001,0.30000000000000027,0.3,1,4.5,1.9000000000000004,3.4000000000000004,1,23.6,5.2,0,0.2,0,2.8,2.1000000000000005,0.70000000000000018,0,0,24.3,0,1.6000000000000005,0.80000000000000027,0,0,0.5,7.9999999999999991,9.1000000000000014,0,0.5,24.000000000000028]
[40,"Comm","Taylor",5.77,212.5,null,0,0,0,0.1,0.2,6.3999999999999995,0.1,2.6000000000000005,1.7000000000000002,0,0,0,0.40000000000000036,1,0.2,0.5,0.5,82.2,0.30000000000000027,0,0.70000000000000018,0,0.5,0,0,0,0,110.3,0,0,0,0,0,0,0.2,0.39999999999999991,0,0,4.2000000000000171]
[]
[]
["FDEP Category","Waste Comp Category","Percentage in waste stream"]
["Newspapers","Newspaper",3.0000000000000001E-3]
["Glass","Green",2E-3]
[null,"Clear ",0.02,null,"Number",null,1,2,3,4,5,6,7,8,9,10,11,12,13,14,15,16,17,18,19,20,21,22,23,24,25,26,27,28,29,30,31,32,33,34,35,36,37,38,"unsorted"]
[null,"Brown",7.0000000000000001E-3,null,1,null,{"$f":"G2/$E2","v":6.5975494816211139E-3},{"$f":"H2/$E2","v":0.1347785108388313},1.4137606032045254E-3,4.7125353440150843E-4,2.1677662582469372E-2,4.2412818096135736E-3,3.9585296889726666E-2,0.14797360980207352,5.089538171536287E-2,1.7436380772855798E-2,8.0113100848256368E-3,3.298774740810557E-3,2.3091423185673896E-2,4.2412818096135736E-3,2.2148916116870879E-2,1.6965127238454291E-2,6.5975494816211139E-3,0.16163996229971728,1.5551366635249765E-2,0,4.7125353440150806E-3,3.298774740810557E-3,1.7436380772855798E-2,5.1837888784165885E-3,9.4250706880301687E-4,1.4137606032045254E-3,4.7125353440150843E-4,0.10697455230914232,0,3.7700282752120657E-3,4.7125353440150843E-4,0,0,0,1.2252591894439207E-2,2.1677662582469368E-2,2.3562676720075403E-3,1.8850141376060318E-3,0.13053722902921766]
["Aluminum Cans","Aluminum cans and tin foil",1.2999999999999999E-2,null,2,null,0,1.533894111825829E-2,3.4636318654131626E-3,9.8960910440376148E-4,4.9480455220188074E-4,4.9480455220188074E-4,1.9792182088075212E-2,2.3255813953488375E-2,5.9376546264225645E-3,2.9688273132112823E-3,2.9688273132112823E-3,2.9688273132112823E-3,0,4.9480455220188031E-3,9.8960910440376148E-4,2.4740227610094015E-3,2.9688273132112823E-3,1.9297377535873333E-2,5.0470064324591786E-2,0,1.1875309252845129E-2,2.9688273132112823E-3,2.4740227610094015E-3,6.9272637308263251E-3,0.10143493320138545,1.4844136566056422E-3,4.9480455220188074E-4,1.533894111825829E-2,0,1.1875309252845129E-2,0.17862444334487879,0.1632855022266205,0.14943097476496783,8.9064819396338438E-3,1.2370113805047007E-2,9.7971301335972302E-2,1.583374567046017E-2,3.4636318654131604E-3,5.5418109846610678E-2]
["Plastic Bottles","#1 PET Bottles",3.7999999999999999E-2,null,3,null,7.32421875E-3,8.935546875E-2,2.24609375E-2,3.4179687500000009E-3,7.32421875E-3,1.6113281249999997E-2,4.78515625E-2,0.2138671875,2.44140625E-2,6.3476562499999991E-3,3.4179687500000009E-3,1.9531250000000017E-3,2.9296875000000004E-3,4.3945312500000017E-3,1.07421875E-2,6.3476562499999991E-3,1.318359375E-2,5.3222656249999993E-2,1.46484375E-2,0,2.978515625E-2,6.8359375000000017E-3,6.8359375000000017E-3,9.765625E-3,1.4648437500000013E-3,0,1.3671874999999998E-2,4.4433593750000007E-2,5.8105468749999993E-2,0.140625,0,0,2.9296874999999983E-3,0,0,5.4199218750000007E-2,5.8593749999999983E-3,3.9062499999999991E-3,7.2265625000000056E-2]
[null,"#2 HDPE Bottles- translucent ",5.0000000000000001E-3,null,4,null,0,0.10074441687344914,0,0,0,0,1.9851116625310191E-3,7.4441687344913151E-3,1.4888337468982643E-3,8.4367245657568247E-3,1.4888337468982643E-3,0,0,1.8858560794044663E-2,0,0,1.9851116625310191E-3,9.4292803970223351E-3,3.5235732009925559E-2,0,6.9478908188585625E-3,0,0,1.4888337468982643E-3,0.13200992555831265,0,0.12258064516129032,0,0,4.9627791563275478E-4,0.25508684863523579,0,0,1.9851116625310169E-3,0,0.1846153846153846,9.2803970223325052E-2,0,1.4888337468982771E-2]
[null,"#2 HDPE Bottles- colored",4.0000000000000001E-3,null,5,null,0,7.4000986679822398E-3,0.15342871238283176,0,3.9467192895905291E-3,1.4800197335964494E-3,5.9200789343857932E-3,0.39763196842624565,1.0853478046373953E-2,1.9733596447952658E-3,1.9733596447952658E-3,0,1.4800197335964494E-3,9.8667982239763197E-3,5.9200789343857932E-3,4.4400592007893458E-3,4.9333991119881646E-4,3.9467192895905279E-2,3.4533793783917128E-3,0,0,0,2.9600394671928966E-3,0,3.4533793783917128E-3,0,0,3.4533793783917128E-3,0,0,0.21608288110508145,0,0,0,3.9467192895905279E-2,2.9600394671928944E-3,1.9733596447952637E-3,5.2294030587074505E-2,2.762703502713381E-2]
[null,"#3-7 (Other Plastic Bottles)",2E-3,null,6,null,1.8484288354898351E-3,0.26848428835489835,3.0961182994454713E-2,9.2421441774491757E-4,2.3105360443622918E-3,2.7264325323475044E-2,1.4787430683918669E-2,0.15942698706099814,1.2014787430683922E-2,2.7726432532347509E-3,1.2476894639556377E-2,1.8484288354898351E-3,1.8484288354898351E-3,5.5452865064695017E-3,9.704251386321628E-3,4.6210720887245836E-3,6.469500924214419E-3,7.8096118299445461E-2,0.11737523105360444,0,1.756007393715342E-2,1.3863216266173765E-3,4.1589648798521272E-3,9.2421441774491757E-4,9.2421441774491757E-4,0,3.6968576709796685E-3,3.6968576709796669E-2,0,1.987060998151571E-2,5.7301293900184833E-2,0,0,0,4.6210720887245836E-3,3.0036968576709792E-2,0,1.3863216266173743E-3,6.238447319778162E-2]
["Steel Cans","Steel/Tin Cans",1.0999999999999999E-2,null,7,null,1.9083969465648872E-3,0.1875,1.4312977099236654E-3,9.5419847328244358E-4,2.8625954198473287E-3,5.7251908396946573E-3,1.9083969465648856E-2,0.10209923664122136,2.67175572519084E-2,6.2022900763358769E-3,6.2022900763358769E-3,2.8625954198473287E-3,4.7709923664122179E-4,2.8625954198473287E-3,6.6793893129771008E-3,1.4312977099236654E-3,5.1049618320610696E-2,5.7251908396946573E-3,1.9083969465648872E-3,1.3358778625954198E-2,1.2404580152671759E-2,{"$f":"AB8/$E8","v":1.9083969465648872E-3},2.8625954198473287E-3,3.8167938931297726E-3,1.9083969465648872E-3,1.9083969465648872E-3,0.17318702290076338,0,0,0.17080152671755727,2.8625954198473287E-3,0,0,4.7709923664121967E-4,3.3396946564885482E-3,2.3377862595419845E-2,4.2938931297709917E-3,2.3854961832061069E-3,0.14742366412213745]
["Corrugated Boxes","Corrugated Cardboard (OCC)",0.11899999999999999,null,8,null,{"$f":"G9/$E9","v":0},8.3368779242875363E-2,0,4.2535091450446658E-4,8.5070182900893316E-4,2.9774564015312643E-3,2.89238621863037E-2,0.10931518502764782,4.5937898766482355E-2,3.8281582305401971E-3,8.0816673755848591E-3,3.8281582305401971E-3,1.2760527435133997E-3,1.1484474691620589E-2,1.4036580178647383E-2,2.126754572522331E-3,7.6563164610803907E-3,5.572096980008507E-2,6.4653339004678859E-2,0,1.0633772862611655E-2,2.5521054870267976E-3,1.7439387494683115E-2,1.7014036580178648E-2,4.6788600595491286E-3,7.2309655465759258E-3,3.0199914929817103E-2,0.11059123777116121,0,5.4444917056571673E-2,0,0,0,8.507018290089312E-4,3.7005529561888559E-2,6.9332199064227995E-2,5.061675882603147E-2,5.1042109740535935E-3,0.13781369629944706]
["Office Paper","High Grade Paper (Office Type)",2.1999999999999999E-2,null,9,null,6.9272637308263251E-3,8.8570014844136555E-2,4.9480455220188074E-4,1.4844136566056422E-3,2.0781791192478971E-2,9.8960910440376148E-4,9.8960910440376061E-3,8.1147946561108353E-2,3.3646709549727857E-2,3.9584364176150433E-3,9.8960910440376148E-4,3.4636318654131626E-3,3.4636318654131626E-3,0,4.9480455220188031E-3,9.8960910440376061E-3,1.1380504700643246E-2,0.22167243938644238,1.0885700148441367E-2,0,1.3359722909450767E-2,0,6.4324591786244422E-3,7.4220682830282037E-3,1.4844136566056422E-3,0,0,4.8985650667986137E-2,0,5.937654626422563E-2,0.14943097476496783,0,0,0,3.4636318654131604E-3,4.6511627906976737E-2,9.8960910440375931E-4,4.9480455220187846E-4,0.14745175655616038]
["Yard Trash","Yard Trash",2.1000000000000001E-2,null,10,null,5.3895149436550714E-3,2.5967662910338068E-2,8.8192062714355698E-3,2.9397354238118573E-3,6.3694267515923561E-3,1.4698677119059297E-3,4.5075943165115137E-2,8.2312591866731996E-2,2.1558059774620286E-2,7.8392944634982885E-3,1.4698677119059297E-3,1.959823615874573E-3,2.4497795198432141E-3,5.8794708476237146E-3,1.3718765311121999E-2,2.9397354238118573E-3,1.6168544830965213E-2,1.6168544830965217E-2,5.1935325820676149E-2,0,1.1268985791278784E-2,7.8392944634982885E-3,1.4698677119059285E-2,5.8794708476237146E-3,9.3091621754042148E-3,1.518863302302793E-2,4.4096031357177875E-3,9.701126898579128E-2,0,6.7613914747672713E-2,1.4208721215090644E-2,4.8995590396864325E-4,4.7525722684958353E-2,6.8593826555609968E-3,1.2738853503184712E-2,9.407153356197942E-2,1.1268985791278784E-2,3.5276825085742286E-2,0.22390984811366971]
["Other Plastics","Expanded Polystyrene (Food Service)",4.0000000000000001E-3,null,11,null,9.8522167487684808E-4,0.23990147783251234,2.9064039408866992E-2,1.4778325123152723E-3,1.4778325123152723E-3,4.9261083743842365E-3,3.1527093596059111E-2,7.9802955665024627E-2,3.4482758620689662E-2,4.9261083743842365E-3,0,0,6.8965517241379327E-3,1.4778325123152723E-3,5.911330049261085E-3,9.3596059113300514E-3,3.4482758620689663E-3,7.6354679802955669E-2,0.10147783251231526,0,2.46305418719212E-3,2.266009852216749E-2,8.3743842364532028E-3,1.2807881773399017E-2,2.1182266009852214E-2,3.9408866995073906E-3,0,0.10541871921182265,0,9.8522167487684808E-4,4.9753694581280795E-2,0,0,0,5.9113300492610824E-3,2.4137931034482755E-2,8.6206896551724158E-2,1.3793103448275862E-2,8.8669950738915412E-3]
[null,"Expanded Polystyrene",1.7999999999999999E-2,null,12,null,4.9726504226752857E-3,6.1163600198906022E-2,1.5415216310293389E-2,6.4644455494778713E-3,1.093983092988563E-2,4.9726504226752909E-4,2.8841372451516658E-2,0.11685728493286922,1.9393336648433616E-2,3.9781203381402301E-3,7.9562406762804603E-3,0,1.5912481352560917E-2,1.6907011437095974E-2,7.9562406762804603E-3,7.4589756340129295E-3,7.9562406762804603E-3,0.10343112879164594,1.6907011437095974E-2,0,1.7901541521631033E-2,5.4699154649428148E-3,1.4420686225758331E-2,1.1437095972153158E-2,1.9890601690701143E-2,3.9781203381402301E-3,3.9781203381402286E-2,3.4311287916459474E-2,0,2.5857782197911489E-2,5.469915464942815E-2,0,0,1.9890601690701138E-3,2.3371456986573846E-2,0.15017404276479362,0,2.4863252113376429E-3,0.14122327200397816]
[null,"Rigid Plastic (Tubs, Cups, Lids)",8.9999999999999993E-3,null,13,null,1.0961634280019932E-2,3.3383158943697061E-2,8.470353761833584E-3,2.4912805181863478E-3,5.6801195814648722E-2,2.9895366218236179E-3,1.0463378176382664E-2,0.1195814648729447,0.11410064773293473,6.9755854509217759E-3,2.9895366218236179E-3,0,1.2456402590931739E-2,4.9825610363726956E-3,3.986048829098158E-3,2.79023418036871E-2,1.2456402590931739E-2,7.3243647234678633E-2,8.6696562032884894E-2,0,7.9720976581963161E-3,2.9895366218236179E-3,1.5445939212755359E-2,1.9930244145490803E-3,1.49476831091181E-3,1.14598903836572E-2,1.0961634280019932E-2,0.10214250124564027,2.9895366218236179E-3,1.9930244145490782E-2,6.5271549576482304E-2,0,0,0,0,6.9755854509217716E-3,4.982561036372678E-4,1.4947683109118079E-3,0.1574489287493773]
[null,"Rigid Plastic (Food Service)",6.0000000000000001E-3,null,14,null,2.9455081001472762E-3,1.1782032400589105E-2,2.9455081001472762E-3,1.963672066764852E-3,9.8183603338242598E-4,2.4545900834560628E-3,5.2037309769268542E-2,0.10358370152184584,5.7928325969563078E-2,8.3456062837506152E-3,1.0309278350515467E-2,4.4182621502209148E-3,3.4364261168384892E-3,1.4236622484045168E-2,9.8183603338242512E-3,4.4182621502209148E-3,1.1782032400589105E-2,5.2037309769268535E-2,3.7309769268532161E-2,1.4727540500736392E-3,6.9710358370152187E-2,{"$f":"AB15/$E15","v":6.0382916053019153E-2},3.6327933235149733E-2,2.012763868433972E-2,7.3637702503681892E-3,3.4364261168384892E-3,4.9091801669121299E-4,0.13500245459008348,5.400098183603339E-3,2.1600392734413356E-2,2.9455081001472762E-3,0,0,8.3456062837506152E-3,7.3637702503681892E-3,0.1242022582228768,7.3637702503681892E-3,2.4545900834560628E-3,9.3274423171330528E-2]
[null,"Grocery Bags",0.01,null,15,null,{"$f":"G16/$E16","v":0},0.16548463356973994,0,1.4184397163120579E-3,3.3096926713947999E-3,4.7281323877068599E-4,7.0921985815602835E-3,9.7872340425531917E-2,1.796690307328605E-2,3.3096926713947999E-3,6.6193853427895999E-3,9.4562647754137198E-4,2.3640661938534278E-3,2.8368794326241141E-3,7.5650118203309715E-3,3.7825059101654858E-3,5.2009456264775419E-3,6.0047281323877072E-2,9.9290780141843994E-3,8.037825059101656E-3,1.2765957446808512E-2,7.0921985815602835E-3,7.5650118203309715E-3,2.9787234042553189E-2,4.0189125295508277E-2,0,0.23877068557919628,3.0732860520094565E-2,0,4.7281323877068557E-3,6.6193853427895999E-3,0,0,0,1.5602836879432624E-2,7.2813238770685587E-2,4.7281323877068388E-4,2.8368794326241119E-3,0.12576832151300232]
[null,"Other Flexible Plastic",7.0999999999999994E-2,null,16,null,0,2.3809523809523808E-2,3.1584062196307099E-2,4.3731778425655995E-3,1.1175898931000971E-2,7.2886297376093291E-3,2.9640427599611274E-2,0.29737609329446063,0.11127308066083574,4.859086491739553E-3,1.1175898931000971E-2,2.9154518950437322E-3,1.4577259475218658E-2,9.2322643343051517E-3,1.0204081632653064E-2,5.3449951409135082E-3,1.1175898931000971E-2,5.4421768707482998E-2,9.2322643343051517E-3,0,3.7900874635568509E-2,0,1.6520894071914483E-2,1.5549076773566569E-2,9.2322643343051517E-3,4.859086491739557E-4,4.859086491739557E-4,8.6977648202137992E-2,0,2.8182701652089404E-2,0,0,0,0,4.8590864917395354E-4,3.4499514091350825E-2,4.8590864917395354E-4,1.6520894071914476E-2,0.1030126336248786]
[null,"Other Plastics",3.9E-2,null,17,null,0,8.6575875486381335E-2,6.6634241245136186E-2,9.7276264591439777E-4,4.8638132295719845E-3,4.8638132295719888E-4,1.313229571984436E-2,0.11964980544747081,3.939688715953308E-2,2.4319066147859923E-3,4.3774319066147878E-3,0,4.3774319066147878E-3,9.727626459143969E-3,6.80933852140078E-3,3.8910505836575889E-3,1.6050583657587547E-2,3.4046692607003895E-2,4.2801556420233471E-2,3.2101167315175101E-2,4.231517509727626E-2,6.322957198443579E-3,4.3774319066147878E-3,3.3073929961089495E-2,1.4591439688715967E-3,7.2957198443579768E-3,3.40466926070039E-3,0.11381322957198443,-1.3618677042801557E-2,2.5778210116731516E-2,8.7548638132295721E-3,1.4591439688715954E-2,0,2.3346303501945526E-2,2.4319066147859923E-3,7.6848249027237359E-2,1.9941634241245135E-2,3.3560311284046691E-2,0.10797665369649773]
["Ferrous Metals","Other Ferrous Metals",1.9E-2,null,18,null,1.3241785188818049E-2,5.4438450220696426E-2,3.8744482589504657E-2,7.3565473271211372E-3,1.96174595389897E-2,4.9043648847474251E-3,6.7189798921039726E-2,0.16037273173124078,7.1113290828837661E-2,9.8087297694948502E-3,6.866110838646397E-3,1.9617459538989719E-3,6.3756743501716517E-3,1.1770475723393821E-2,1.96174595389897E-2,7.3565473271211372E-3,1.8146150073565473E-2,5.4438450220696419E-2,2.6974006866110841E-2,5.3948013732221679E-3,1.520353114271702E-2,5.8852378616969106E-3,1.7655713585090733E-2,1.3732221677292789E-2,5.8852378616969106E-3,0,0,0.11574301128003922,2.4521824423737125E-3,5.3457577243746925E-2,1.3241785188818049E-2,0,0,0,1.4713094654242266E-3,2.599313388916135E-2,4.9043648847474251E-3,1.1280039234919078E-2,0.1074055909759685]
["White Goods","White Goods",0,null,19,null,3.6832412523020272E-3,0.15515653775322283,2.3941068139963169E-2,2.7624309392265201E-3,4.6040515653775326E-3,1.8416206261510147E-3,1.0589318600368323E-2,6.4456721915285467E-2,1.289134438305709E-2,5.0644567219152864E-3,5.0644567219152864E-3,1.8416206261510147E-3,3.2228360957642734E-3,3.9594843462246787E-2,5.9852670349907914E-3,2.7624309392265201E-3,7.3664825046040544E-3,5.6169429097605902E-2,8.0570902394106816E-2,0,0.18738489871086558,9.2081031307550735E-4,3.9594843462246787E-2,1.7955801104972378E-2,1.3812154696132609E-3,3.6832412523020272E-3,0,3.1307550644567222E-2,0,1.3812154696132609E-3,5.9852670349907919E-2,0,0,0,6.1233885819521182E-2,2.1178637200736646E-2,4.6040515653775161E-4,2.3020257826887663E-3,8.3793738489871039E-2]
["Nonferrous Metals","Other Non-Ferrous Metals ",4.0000000000000001E-3,null,20,null,8.9197224975222974E-3,3.6669970267591667E-2,2.4281466798810703E-2,9.9108027750247855E-4,9.4152626362735397E-3,8.4241823587710603E-3,4.4598612487611496E-2,0.14321110009910801,4.8562933597621406E-2,1.3379583746283449E-2,6.9375619425173455E-3,5.4509415262636272E-3,2.4777006937561942E-3,8.4241823587710603E-3,1.2388503468780971E-2,5.9464816650148669E-3,1.2884043607532212E-2,4.8067393458870171E-2,2.6263627353815655E-2,0,1.7839444995044602E-2,8.9197224975222974E-3,1.7839444995044602E-2,1.7839444995044602E-2,0,2.9732408325074335E-3,0,0.19970267591674926,1.6848364717542121E-2,5.5996035678889992E-2,0,0,0,9.4152626362735345E-3,4.9554013875123711E-4,6.3429137760158572E-2,3.4192269573835476E-2,4.4598612487611487E-3,8.275520317145682E-2]
["Other Paper","Polycoated Aseptic Containers",0,null,21,null,1.1656143759106364E-2,5.0024283632831471E-2,1.4084507042253523E-2,4.8567265662943218E-4,1.06847984458475E-2,5.3423992229237501E-3,5.1966974259349194E-2,0.14861583292860611,5.536668285575521E-2,6.7994171928120462E-3,2.4283632831471587E-3,1.4570179698882965E-3,9.2277804759592057E-3,1.942690626517727E-2,1.1170471102476929E-2,6.3137445361826118E-3,1.3598834385624089E-2,5.2938319572608063E-2,4.1767848470131139E-2,0,1.8455560951918405E-2,{"$f":"AB22/$E22","v":3.20543953375425E-2},2.2826614861583293E-2,1.8455560951918405E-2,2.2340942204953862E-2,1.9426906265177287E-3,9.7134531325886436E-4,0.18601262748907238,2.4283632831471587E-3,4.6624575036425454E-2,9.7134531325886436E-4,0,2.9140359397765887E-3,0,4.8567265662943174E-3,5.9252064108790671E-2,4.8567265662943001E-4,5.8280718795531801E-3,6.0223409422049699E-2]
[null,"Food Service Container (Polycoated)",8.0000000000000002E-3,null,22,null,{"$f":"G23/$E23","v":5.7361376673040164E-3},5.6405353728489489E-2,4.3021032504780132E-3,3.8240917782026785E-3,7.1701720841300196E-3,1.0516252390057363E-2,3.4894837476099429E-2,0.11998087954110899,4.6367112810707455E-2,5.2581261950286817E-3,1.0516252390057363E-2,1.4340344168260052E-3,5.7361376673040164E-3,1.4340344168260039E-2,1.5774378585086041E-2,3.8240917782026785E-3,2.2944550669216062E-2,5.3059273422562149E-2,8.126195028680689E-3,1.9120458891013403E-3,3.9196940726577437E-2,8.126195028680689E-3,2.0076481835564056E-2,2.1988527724665394E-2,3.8240917782026785E-3,9.5602294455067016E-4,1.9120458891013403E-3,0.21988527724665394,2.3900573613766731E-3,3.3460803059273431E-2,9.5602294455067016E-4,0,0,9.5602294455066799E-4,1.1950286806883367E-2,6.6921606118546847E-2,0,6.6921606118546823E-3,0.12858508604206489]
[null,"Other Compsite (Metal Coated)",6.0000000000000001E-3,null,23,null,9.0497737556561166E-4,9.864253393665158E-2,4.3438914027149327E-2,5.0678733031674202E-2,4.5248868778280547E-3,4.5248868778280547E-3,2.7601809954751134E-2,0.14796380090497738,2.4886877828054304E-2,4.5248868778280547E-3,1.8099547511312233E-3,0,6.3348416289592778E-3,5.9276018099547502E-2,1.5384615384615385E-2,1.5384615384615385E-2,4.0723981900452509E-3,0.11176470588235293,1.9909502262443441E-2,0,1.0407239819004524E-2,6.3348416289592778E-3,9.9547511312217205E-3,1.67420814479638E-2,2.2624434389140274E-3,9.0497737556561166E-4,3.1674208144796389E-3,6.1538461538461528E-2,2.2624434389140274E-3,9.5927601809954743E-2,8.1447963800904966E-3,1.3574660633484175E-3,0,1.3574660633484156E-3,8.1447963800904966E-3,4.5248868778280547E-3,1.8099547511312214E-3,6.7873303167420816E-3,0.11674208144796372]
[null,"Boxboards",2.8000000000000001E-2,null,24,null,0,0.26057365094798252,2.0418084589207585E-2,1.4584346135148288E-3,1.2639766650461841E-2,3.403014098201265E-3,2.479338842975207E-2,0.11959163830821584,3.2085561497326207E-2,1.9445794846864384E-3,2.9168692270296554E-3,4.8614487117160961E-4,4.8614487117160914E-3,1.8959649975692758E-2,5.3475935828877011E-3,1.4098201263976668E-2,1.2639766650461841E-2,0.10695187165775402,7.2435585804569755E-2,0,1.118133203694701E-2,0,1.3612056392805055E-2,0,4.0836169178415163E-2,0,0,8.5075352455031603E-2,3.8891589693728747E-3,0,1.9445794846864366E-2,0,0,0,3.8891589693728725E-3,1.9931939718035974E-2,9.7228974234321705E-4,0,8.5561497326203051E-2]
[null,"Other Paper",0.121,null,25,null,3.9800995024875637E-3,3.0348258706467665E-2,4.3781094527363187E-2,6.2686567164179099E-2,6.9651741293532358E-3,5.9701492537313442E-3,9.9502487562189053E-3,0.18457711442786071,0.1810945273631841,1.9900497512437827E-3,4.9751243781094568E-4,4.9751243781094568E-4,0,1.9900497512437827E-3,9.9502487562189053E-3,9.9502487562189053E-3,6.4676616915422874E-3,0.1044776119402985,7.9601990049751273E-3,0,5.4726368159203984E-3,9.9502487562189135E-4,1.0945273631840797E-2,2.9850746268656721E-3,2.4875621890547263E-3,1.9900497512437811E-2,0,0.11592039800995026,0,0,1.4925373134328371E-3,4.9751243781094568E-4,0,0,4.5273631840796025E-2,6.7661691542288571E-2,1.3930348258706466E-2,1.6915422885572136E-2,2.2388059701492678E-2]
["Textiles","Clothing, Footwear, Other Textiles",6.3E-2,null,26,null,5.3816046966731904E-3,5.1369863013698627E-2,3.424657534246576E-3,1.9569471624266161E-3,1.3698630136986301E-2,2.446183953033268E-3,5.4794520547945202E-2,0.15998043052837574,4.5009784735812131E-2,5.870841487279844E-3,5.870841487279844E-3,4.4031311154598841E-3,2.935420743639922E-3,1.3698630136986301E-2,1.4187866927592956E-2,3.9138943248532305E-3,7.3385518590998039E-3,5.0880626223091967E-2,2.2994129158512719E-2,4.8923679060665359E-3,3.5714285714285712E-2,2.0547945205479451E-2,2.2994129158512719E-2,1.4677103718199608E-2,1.9569471624266161E-3,1.223091976516634E-2,2.8864970645792559E-2,0.1022504892367906,0,0.13454011741682975,1.4677103718199621E-3,1.0763209393346381E-2,0,3.4246575342465739E-3,4.4031311154598823E-3,2.5440313111545987E-2,9.2954990215264165E-3,4.4031311154598823E-3,9.1976516634050792E-2]
["C&D Debris","Wood",4.7E-2,null,27,null,4.7755491881566422E-4,9.7898758357211083E-2,7.1155682903533898E-2,2.5787965616045842E-2,1.4804202483285581E-2,2.7698185291308498E-2,8.5959885386819469E-3,0.15950334288443174,3.5339063992359115E-2,1.2416427889207261E-2,3.3428844317096472E-3,4.7755491881566422E-4,1.9102196752626569E-3,2.8175740210124162E-2,1.6714422158548233E-2,1.6236867239732569E-2,2.8653295128939832E-3,9.646609360076408E-2,4.9188156638013375E-2,0,3.8204393505253116E-3,5.7306590257879663E-3,6.6857688634192943E-3,1.4326647564469913E-2,0,2.8653295128939832E-3,1.0983763132760267E-2,0.13323782234957018,1.9102196752626569E-3,5.7306590257879663E-3,4.7755491881566422E-4,0,0,0,3.3428844317096454E-3,6.6857688634192908E-3,1.4326647564469905E-3,1.0506208213944605E-2,0.12320916905444118]
[null,"Asphalt Shingles",5.0000000000000001E-3,null,28,null,2.91545189504373E-3,0.22691933916423712,8.2604470359572413E-3,1.0204081632653064E-2,1.1661807580174929E-2,4.859086491739557E-4,6.3168124392614183E-2,7.2886297376093284E-2,3.0612244897959179E-2,0,5.3449951409135082E-3,4.3731778425655995E-3,2.4295432458697765E-3,0.15111758989310009,1.0689990281827016E-2,4.859086491739553E-3,1.0204081632653064E-2,6.1224489795918352E-2,0,0,9.2322643343051517E-3,{"$f":"AB29/$E29","v":1.0204081632653064E-2},1.2633624878522839E-2,3.0126336248785229E-2,3.8872691933916435E-3,0,1.4577259475218672E-3,0.10495626822157433,0,1.1661807580174929E-2,1.9436345966958228E-3,0,0,0,1.6520894071914476E-2,1.9922254616132163E-2,0,8.7463556851311939E-3,9.1350826044703515E-2]
[null,"Gypsum Drywall",6.0000000000000001E-3,null,29,null,{"$f":"G30/$E30","v":0},0.27536231884057977,1.999000499750125E-2,4.9975012493753165E-4,1.4992503748125952E-3,9.995002498750633E-4,0,5.9470264867566208E-2,1.5492253873063471E-2,0,0,0,2.4987506246876563E-3,4.9975012493753126E-3,1.9990004997501266E-3,2.4987506246876563E-3,0,2.3488255872063973E-2,2.0989505247376312E-2,0,0,0,4.9975012493753165E-4,2.9985007496251877E-3,6.0469765117441274E-2,0,1.6491754122938532E-2,9.9950024987506252E-3,0,1.4992503748125952E-3,7.8960519740129936E-2,0,0,0,0,0.34382808595702147,0,9.9950024987506113E-4,5.4472763618190936E-2]
[null,"Concrete/Bricks/Ceramics",3.0000000000000001E-3,null,30,null,6.9808027923211197E-3,0.39834205933682371,2.6614310645724261E-2,5.2356020942408389E-3,4.7993019197207689E-3,3.0541012216404894E-3,1.4834205933682376E-2,7.8970331588132645E-2,6.6317626527050616E-2,1.7452006980802808E-3,1.3089005235602106E-3,0,1.7452006980802808E-3,5.6719022687609071E-3,2.6178010471204194E-3,4.7993019197207689E-3,4.7993019197207689E-3,4.232111692844677E-2,3.7085514834205933E-2,0,1.0034904013961605E-2,0,2.3996509598603843E-2,1.0907504363001745E-2,1.4834205933682376E-2,0,0,2.0942408376963352E-2,0,6.9808027923211197E-3,8.3333333333333329E-2,0,0,0,3.0104712041884817E-2,7.2425828970331604E-2,0,1.0907504363001745E-2,8.2897033158813513E-3]
["Food Waste","Food Waste",9.2999999999999999E-2,null,31,null,0,0,0,0,0,0,0,1.2185215272136486E-3,0,0,0,0,0,0,0,0,0,0,0.1031681559707555,0,0,0,0,0,1.949634443541836E-2,0,0,0,0,0,0.4041429731925264,0,0,3.9805036555645823E-2,0,0.20105605199025184,0,1.5434606011372868E-2,0.21567831031681547]
["Miscellaneous","Animal- By-Product",3.0000000000000001E-3,null,32,null,4.5641259698767729E-4,1.6430853491556371E-2,2.0082154267457783E-2,9.1282519397535458E-4,3.1948881789137388E-3,3.6513007759014162E-3,5.9333637608397993E-2,0.11729803742583293,7.4395253308991327E-2,7.7590141487905075E-3,2.7384755819260618E-3,9.1282519397535458E-4,3.6513007759014162E-3,1.0497489730716568E-2,1.5061615700593336E-2,3.1948881789137388E-3,1.5974440894568689E-2,8.1697854860794158E-2,3.5600182565038795E-2,3.1948881789137388E-3,3.3318119580100412E-2,2.1451392058420813E-2,4.6097672295755357E-2,1.3692377909630305E-2,2.0994979461433139E-2,1.3692377909630318E-3,1.3692377909630318E-3,0.16522136010953903,9.1282519397535376E-3,3.3318119580100412E-2,1.8256503879507092E-3,0,0,0,9.1282519397535252E-4,2.0538566864445461E-2,1.4148790506617982E-2,4.4728434504792337E-2,9.5846645367412012E-2]
[null,"Other Organics",3.5999999999999997E-2,null,33,null,5.3501945525291838E-3,6.809338521400779E-2,6.322957198443579E-3,1.9455252918287955E-3,5.8365758754863823E-3,1.6536964980544751E-2,3.7937743190661476E-2,0.18287937743190663,4.7665369649805452E-2,8.2684824902723754E-3,5.3501945525291838E-3,3.8910505836575889E-3,3.8910505836575889E-3,4.3774319066147878E-3,2.0428015564202335E-2,3.8910505836575889E-3,1.3618677042801557E-2,3.7451361867704286E-2,7.3443579766536954E-2,0,1.6050583657587547E-2,2.9182879377431911E-3,1.5077821011673155E-2,1.7996108949416344E-2,6.80933852140078E-3,1.7996108949416344E-2,2.4319066147859923E-3,4.8638132295719845E-2,2.2373540856031132E-2,7.4416342412451361E-2,5.3988326848249037E-2,0,3.4046692607003879E-3,0,3.4046692607003879E-3,6.955252918287938E-2,2.7237354085603117E-2,8.7548638132295721E-3,6.1770428015564288E-2]
[null,"Rubber and Leather",1.0999999999999999E-2,null,34,null,0,0.2516714422158548,0,0,0,9.0735434574976143E-3,1.4804202483285581E-2,1.6236867239732569E-2,1.9102196752626569E-3,2.8653295128939832E-3,1.0028653295128942E-2,0,9.5510983763132844E-4,4.7755491881566384E-4,0,4.7755491881566383E-3,1.4326647564469927E-3,1.2893982808022923E-2,0.13371537726838587,2.3877745940783192E-3,1.4326647564469927E-3,1.4326647564469927E-3,4.7755491881566384E-4,5.2531041069723023E-3,0.16953199617956063,1.7191977077363901E-2,5.2531041069723023E-3,5.4441260744985662E-2,0,1.2893982808022923E-2,9.3123209169054436E-2,0,1.9579751671442214E-2,6.2082139446036286E-3,1.4326647564469905E-3,9.6943648519579748E-2,0,2.1967526265520534E-2,2.9608404966571373E-2]
[null,"Small Appliances/Electronics",1.4999999999999999E-2,null,35,null,3.9370078740157497E-3,3.1496062992125984E-2,2.312992125984252E-2,4.9212598425196893E-4,9.350393700787404E-3,6.3976377952755905E-3,5.2657480314960627E-2,0.18208661417322838,4.7736220472440943E-2,1.0334645669291341E-2,8.3661417322834653E-3,4.4291338582677182E-3,5.4133858267716543E-3,2.0669291338582679E-2,1.3779527559055118E-2,8.3661417322834653E-3,1.3779527559055118E-2,4.625984251968504E-2,2.0669291338582679E-2,1.0826771653543309E-2,2.3622047244094488E-2,{"$f":"AB36/$E36","v":1.4271653543307089E-2},1.3287401574803152E-2,1.3287401574803152E-2,2.6574803149606297E-2,9.8425196850393699E-3,0,9.4488188976377951E-2,1.4271653543307089E-2,9.3996062992125984E-2,3.4448818897637808E-3,0,0,0,9.8425196850393569E-4,6.3976377952755903E-2,9.8425196850393699E-3,6.8897637795275572E-3,9.1043307086614039E-2]
[null,"Hazardous Waste",0.01,null,36,null,{"$f":"G37/$E37","v":4.8614487117160914E-3},0.22800194457948469,4.6183762761302871E-2,1.6042780748663103E-2,7.7783179387457494E-3,9.7228974234321922E-4,1.7015070491006319E-2,0.11084103062712687,1.8473505104521146E-2,1.118133203694701E-2,5.3475935828877011E-3,0,3.403014098201265E-3,1.118133203694701E-2,7.2921730675741371E-3,2.9168692270296554E-3,1.9931939718035977E-2,4.3753038405444825E-2,3.7919299951385516E-2,0,2.0418084589207585E-2,0,4.8614487117160914E-3,6.3198833252309187E-3,0,0,3.5002430724355861E-2,0.13612056392805055,0,8.2158483228001941E-2,4.3753038405444844E-3,0,2.4307243558580457E-3,0,4.8614487117160914E-3,1.4098201263976663E-2,0,1.8959649975692754E-2,7.729703451628589E-2]
[null,"Residuals ",9.5000000000000001E-2,null,37,null,0,0.44493608652900685,5.4080629301868242E-3,4.9164208456243857E-4,4.9164208456243857E-4,4.9164208456243857E-4,3.4414945919370708E-3,5.3588987217305796E-2,5.4080629301868242E-3,0,4.9164208456243857E-4,0,9.8328416912487715E-4,4.9164208456243857E-4,2.4582104228121925E-3,1.966568338249756E-3,9.8328416912487715E-4,2.8023598820059E-2,1.4749262536873169E-3,0,0,0,4.9164208456243851E-3,0,9.8328416912487715E-4,0,7.1288102261553576E-2,9.8328416912487715E-4,0,4.9164208456243857E-4,0,0,0,0,4.9164208456243851E-3,0,0.19272369714847593,7.8662733529990155E-3,0.1647000983284172]
["Tires","Tires",0,null,38,null,4.6511627906976747E-4,0.16372093023255815,2.7441860465116277E-2,2.3255813953488372E-3,9.3023255813953487E-3,4.6511627906976744E-3,8.2325581395348832E-2,0.11302325581395348,1.9534883720930235E-2,5.1162790697674423E-3,0,0,4.1860465116279073E-3,9.7674418604651175E-3,8.3720930232558128E-3,2.3255813953488372E-3,7.4418604651162812E-3,9.441860465116278E-2,3.5348837209302326E-2,0,2.790697674418605E-2,4.6511627906976744E-3,8.3720930232558128E-3,9.7674418604651193E-3,1.3953488372093037E-3,4.6511627906976744E-3,0,0.11813953488372092,0,4.2325581395348845E-2,9.3023255813953569E-4,0,0,0,4.6511627906976747E-4,8.0930232558139539E-2,0,4.6511627906976744E-3,0.10604651162790703]
[null,null,"sum",null,39,null,2.4295432458697765E-3,0.1593780369290573,1.2633624878522839E-2,1.9436345966958212E-2,2.478134110787172E-2,6.3168124392614178E-3,2.769679300291545E-2,0.15986394557823128,1.9436345966958212E-2,5.3449951409135082E-3,1.4577259475218672E-3,1.4577259475218656E-3,4.859086491739553E-3,2.1865889212827987E-2,9.2322643343051517E-3,1.6520894071914483E-2,4.859086491739553E-3,0.11467444120505345,2.5267249757045675E-2,0,9.7181729834791054E-4,0,1.3605442176870746E-2,1.0204081632653064E-2,3.4013605442176878E-3,0,0,0.11807580174927114,0,7.7745383867832869E-3,3.8872691933916435E-3,0,0,2.4295432458697765E-3,3.8872691933916417E-2,4.4217687074829939E-2,0,2.4295432458697765E-3,0.1166180758017494]
[null,null,{"$f":"SUM(C45:C85)","v":0.99700000000000011},null,40,null,0,0,0,4.7058823529411766E-4,9.4117647058823532E-4,3.0117647058823527E-2,4.7058823529411766E-4,1.2235294117647061E-2,8.0000000000000002E-3,0,0,0,1.8823529411764722E-3,4.7058823529411761E-3,9.4117647058823532E-4,2.352941176470588E-3,2.352941176470588E-3,0.38682352941176473,1.4117647058823541E-3,0,3.2941176470588245E-3,0,2.352941176470588E-3,0,0,0,0,0.51905882352941179,0,0,0,0,0,0,9.4117647058823532E-4,1.8823529411764702E-3,0,0,1.9764705882353021E-2]
[]
[null,null,null,"Mass Fraction Average",null,null,{"$f":"AVERAGE(G48:G87)","v":3.2809407993006114E-3},{"$f":"AVERAGE(H48:H87)","v":0.11948721509830637},2.1505653068615394E-2,6.1703418611382009E-3,8.4982495473835996E-3,5.942272783751033E-3,2.7857400603147675E-2,0.12070126899968341,3.8392638232341028E-2,5.4065563773924184E-3,4.4298382557275088E-3,1.5884080701566775E-3,4.4004231956832566E-3,1.4723990794156747E-2,9.0132732435216877E-3,6.441357489164452E-3,9.7431215517832757E-3,7.0556653324869698E-2,3.8818872117280523E-2,2.0894793661307503E-3,2.0013374409120314E-2,6.9037838753330362E-3,1.2667362588911985E-2,1.1061329538286816E-2,1.9194397022476085E-2,3.8582761980769029E-3,2.0545020085420987E-2,9.2847254939978169E-2,3.2707665684926597E-3,3.6264300337392016E-2,4.745296800900959E-2,4.7746271428452704E-3,5.7053891544425854E-3,2.9088987550670172E-3,1.0722602819233268E-2,6.2619890372517847E-2,1.5310026858115828E-2,1.0021322304542182E-2,9.4810454241203129E-2]
[null,null,null,"Mass Fraction Percentage",null,null,{"$f":"G89*100","v":0.32809407993006112},{"$f":"H89*100","v":11.948721509830637},2.1505653068615396,0.6170341861138201,0.84982495473835995,0.59422727837510325,2.7857400603147675,12.07012689996834,3.839263823234103,0.54065563773924186,0.4429838255727509,0.15884080701566775,0.44004231956832568,1.4723990794156747,0.90132732435216878,0.64413574891644521,0.97431215517832759,7.0556653324869698,3.8818872117280523,0.20894793661307504,2.0013374409120313,0.69037838753330361,1.2667362588911986,1.1061329538286817,1.9194397022476086,0.38582761980769031,2.0545020085420989,9.2847254939978168,0.32707665684926596,3.6264300337392017,4.7452968009009586,0.47746271428452702,0.5705389154442585,0.2908898755067017,1.0722602819233267,6.2619890372517846,1.5310026858115828,1.0021322304542182,9.4810454241203121]
[null,null,null,null,null,null,"News ","Cardboard","Office Pap","Polycoated Cont","Food service pap","metal coated","boxboard","other pap","PET","HDPE trans","HDEP color","3-7 plastic","food styro","reg styro","plastic tubs and lids","food serv. Plastic","grocery bag","flex plastic","other plasticgreen glass","green glass","clear glass","brown glass","aluminum can","steel","other ferrous","non-ferr","yard waste","food waste","animal","other org","wood","asphalt","gypsum","concrete","rubber","textiles","appliances","haz waste","residuals"]
[]
[null,null,null,"Madison","Jefferson","Dixie","Taylor","Lafayatte","Average","Percent"]
[null,null,"Landfilled Tons ( Plus Combustor Ash, minus C&D disposed)",10829,10839,7546,16120,3295]
["Newspaper",{"$f":"C45","v":3.0000000000000001E-3},null,{"$f":"$D$94*B95","v":32.487000000000002},{"$f":"$E$94*B95","v":32.517000000000003},{"$f":"$F$94*B95","v":22.638000000000002},{"$f":"$G$94*B95","v":48.36},{"$f":"$H$94*B95","v":9.8849999999999998},{"$f":"AVERAGE(D95:H95)","v":29.177399999999999},{"$f":"I95/$I$114*$L$95","v":0.30090270812437314},null,100]
["Glass",{"$f":"SUM(C46:C48)","v":2.8999999999999998E-2},null,{"$f":"$D$94*B96","v":314.041},{"$f":"$E$94*B96","v":314.33099999999996},{"$f":"$F$94*B96","v":218.83399999999997},{"$f":"$G$94*B96","v":467.47999999999996},{"$f":"$H$94*B96","v":95.554999999999993},{"$f":"AVERAGE(D96:H96)","v":282.04820000000001},{"$f":"I96/$I$114*$L$95","v":2.9087261785356073}]
["Aluminum Cans",{"$f":"C49","v":1.2999999999999999E-2},null,140.77699999999999,140.90699999999998,98.097999999999999,209.56,42.835000000000001,126.4354,1.3039117352056171]
["Plastic Botles",{"$f":"SUM(C50:C53)","v":4.9000000000000002E-2},null,530.62099999999998,531.11099999999999,369.75400000000002,789.88,161.45500000000001,476.56419999999997,4.9147442326980952]
["Steel Cans",{"$f":"C54","v":1.0999999999999999E-2},null,119.119,119.229,83.006,177.32,36.244999999999997,106.9838,1.1033099297893683]
["Corrugated Paper",{"$f":"C55","v":0.11899999999999999},null,1288.6509999999998,1289.8409999999999,897.97399999999993,1918.28,392.10499999999996,1157.3701999999998,11.9358074222668]
["Office Paper",{"$f":"C56","v":2.1999999999999999E-2},null,238.238,238.458,166.012,354.64,72.489999999999995,213.9676,2.2066198595787365]
["Yard Trash",{"$f":"C57","v":2.1000000000000001E-2},null,227.40900000000002,227.61900000000003,158.46600000000001,338.52000000000004,69.195000000000007,204.24180000000004,2.1063189568706129]
["Other Plastics",{"$f":"SUM(C58:C64)","v":0.157},null,1700.153,1701.723,1184.722,2530.84,517.31500000000005,1526.9506000000001,15.747241725175529]
["Ferrous Metals",{"$f":"C65","v":1.9E-2},null,205.751,205.941,143.374,306.27999999999997,62.604999999999997,184.7902,1.9057171514543634]
["White Goods",{"$f":"C66","v":0},null,0,0,0,0,0,0,0]
["NonFerous Metals",{"$f":"C67","v":4.0000000000000001E-3},null,43.316000000000003,43.356000000000002,30.184000000000001,64.48,13.18,38.903200000000005,0.40120361083249756]
["Other Paper",{"$f":"SUM(C68:C72)","v":0.16300000000000001},null,1765.127,1766.7570000000001,1229.998,2627.56,537.08500000000004,1585.3053999999997,16.349047141424272]
["Textiles",{"$f":"C73","v":6.3E-2},null,682.22699999999998,682.85699999999997,475.39800000000002,1015.5600000000001,207.58500000000001,612.72540000000004,6.3189568706118378]
["C&D Debris",{"$f":"SUM(C74:C77)","v":6.0999999999999999E-2},null,660.56899999999996,661.17899999999997,460.30599999999998,983.31999999999994,200.995,593.27379999999994,6.1183550651955869]
["Food",{"$f":"C78","v":9.2999999999999999E-2},null,1007.097,1008.027,701.77800000000002,1499.16,306.435,904.49940000000004,9.3279839518555683]
["Miscellaneous",{"$f":"SUM(C79:C84)","v":0.16999999999999998},null,1840.9299999999998,1842.6299999999999,1282.82,2740.3999999999996,560.15,1653.3859999999997,17.051153460381144]
["Tires",{"$f":"C85","v":0},null,0,0,0,0,0,0,0]
[null,"total"]
[null,{"$f":"SUM(B95:B112)","v":0.99699999999999989},null,{"$f":"SUM(D95:D112)","v":10796.513000000001},{"$f":"SUM(E95:E112)","v":10806.482999999998},{"$f":"SUM(F95:F112)","v":7523.3619999999992},{"$f":"SUM(G95:G112)","v":16071.639999999998},{"$f":"SUM(H95:H112)","v":3285.1149999999998},{"$f":"AVERAGE(D114:H114)","v":9696.6225999999988},{"$f":"SUM(J95:J112)","v":100.00000000000001}]
[]
[]
[null,{"$f":"10829*0.3","v":3248.7}]

{"sheet":"18 Pinellas County Factor","index":18,"n_rows":187,"n_cols":18,"rows_kept":187,"cut":false,"hidden":true,"merged":[[83,8,83,9],[86,1,88,1],[86,2,88,2],[86,3,88,3],[86,4,88,4],[87,8,87,10],[61,0,61,1],[165,0,165,1],[2,0,2,1],[20,0,20,1],[83,0,83,1],[111,0,111,1],[113,0,113,1],[135,0,135,1],[137,0,137,1],[163,0,163,1],[86,0,88,0]]}
[]
["Finding County Factors for Pinellas County"]
[1]
["Information from annual solid waste report 2017"]
["County","Pinellas County"]
["Waste comp study",2015]
["Year",2017]
["Population",960949]
["Landfilled tons",531298]
["C&D collected",545000]
["C&D disposed",16876]
[]
["Recycled tons",1178041]
["Recycled C&D",528124]
["combustor recy metals",152359]
["Combustor input",790520]
["Combustor ash",200389]
["Total Tons MSW collected",2499859]
["Comb input (-ash -metals)",{"$f":"B16-B17-B15","v":437772}]
[]
[2]
[]
["Pinellas Waste Composition Study Results"]
["FDEP Categorty","Waste Comp Category","Percentage in waste stream"]
["Newspaper","Newspaper",2.3E-2]
["Courrugated Boxes","Corrugated Containers",8.1000000000000003E-2]
["Office Paper","office paper",0.01]
["Other Papers","other recyclable paper",0.108]
[null,"low grade paper",6.0999999999999999E-2]
[null,"aseptic containers",4.0000000000000001E-3]
["Glass Packaging","glass containers",0.04]
[null,"other glass",3.0000000000000001E-3]
["Steel Cans","tin/steel cans`",1.0999999999999999E-2]
["Aluminum Cans","aluminum cans",8.0000000000000002E-3]
["Other Ferrous Metals","other ferrous",1.2E-2]
["Other NonFerrous ","other non ferrous",3.0000000000000001E-3]
["Textiles","textiles",3.5999999999999997E-2]
["Yard Trash","yard waste",8.5000000000000006E-2]
["Food Waste","food waste",0.16300000000000001]
["Tires","tires and rubber",7.0000000000000001E-3]
["White Goods","white goods/small appliances",0]
["Plastic Containers","PET bottles",1.6E-2]
[null,"HDPEBottles",8.9999999999999993E-3]
["Other Plastics","non-plastic bottles 1 and 2",8.9999999999999993E-3]
[null,"other plastic container 3-7",8.9999999999999993E-3]
[null,"bulky rigid palstic",1.7000000000000001E-2]
[null,"non rigid plastic film",5.5E-2]
[null,"All other plastics",7.0000000000000001E-3]
[null,"expanded polyestyrene",8.9999999999999993E-3]
["Other Miscellanous","special waste",2E-3]
[null,"electronics",1.7000000000000001E-2]
[null,"household batteries",1E-3]
[null,"all other garbage",9.4E-2]
[null,"liquids",0.01]
[null,"grit",4.0000000000000001E-3]
["C&D","clean wood waste",2.1999999999999999E-2]
[null,"treated wood waste",2.5999999999999999E-2]
[null,"C&D DEBRIS",3.7999999999999999E-2]
[null,null,"sum"]
[null,null,{"$f":"SUM(C25:C58)","v":1.0000000000000002}]
[]
["Recycled tons from Pinellas"]
["Material ","Tons"]
["Newspaper",22759]
["Glass",19524]
["Aluminum Cans",1929]
["Plastic Bottles",1737]
["Steel Cans",16068]
["Corrugated Paper",99968]
["Office Paper",17292]
["Yard Trash",43175]
["Other Plastics",9073]
["Ferrous Metals",58287]
["White Goods",11308]
["NonFerous Metals",21197]
["Other Paper",35387]
["Textiles",1081]
["C&D Debris",874174]
["Food",1464]
["Miscellaneous",46743]
["Tires",10379]
["Total",{"$f":"SUM(B64:B81)","v":1291545}]
[]
[3,null,null,null,null,null,null,null,4]
[]
["Calculating waste compositon percentage utalizing waste compsition study"]
["FDEP Category","Landfilled tons\nPLUS combusor ash, minus C&D  disposed)","Collected C&D \n(disposal + recycled)","Combusted\n(minus recycled metals, minus combustor ash)","Recycled Materials\n(Minus recycled c&D)"]
[]
[null,null,null,null,null,"Sum"]
[null,{"$f":"B9+B17-B11","v":714811},{"$f":"B11+B14","v":545000},{"$f":"B16-B15-B17","v":437772},{"$f":"B13-B14","v":649917},null,null,null,"FDEP Category","Percentage"]
["Newspaper",{"$f":"C25*B90","v":16440.652999999998},null,{"$f":"C25*D90","v":10068.755999999999},17534,{"$f":"SUM(B91:E91)","v":44043.409},null,null,"Newspaper",{"$f":"F91/$F$110","v":1.8761835569755064E-2}]
["Glass",{"$f":"SUM(C31:C32)*B90","v":30736.873000000003},null,{"$f":"SUM(C31:C32)*D90","v":18824.196},10892,{"$f":"SUM(B92:E92)","v":60453.069000000003},null,null,"Glass",2.5752106070287547E-2]
["Aluminum Cans",{"$f":"C34*B90","v":5718.4880000000003},null,{"$f":"C34*D90","v":3502.1759999999999},992,{"$f":"SUM(B93:E93)","v":10212.664000000001},null,null,"Aluminum Cans",4.3504425985090535E-3]
["Plastic Bottles",{"$f":"SUM(C42:C43)*B90","v":17870.275000000001},null,{"$f":"SUM(C42:C43)*D90","v":10944.300000000001},1158,29972.575000000004,null,null,"Plastic Botles",1.2767870074547395E-2]
["Steel Cans",{"$f":"C33*B90","v":7862.9209999999994},null,{"$f":"C33*D90","v":4815.4919999999993},1091,13769.412999999999,null,null,"Steel Cans",5.8655646432374869E-3]
["Corrugated Paper",{"$f":"C26*B90","v":57899.690999999999},null,{"$f":"C26*D90","v":35459.531999999999},58487,151846.223,null,null,"Corrugated Paper",6.4684227050053264E-2]
["Office Paper",{"$f":"C27*B90","v":7148.1100000000006},null,{"$f":"C27*D90","v":4377.72},18275,29800.83,null,null,"Office Paper",1.2694709265175722E-2]
["Yard Trash",{"$f":"C38*B90","v":60758.935000000005},null,{"$f":"C38*D90","v":37210.620000000003},274678,372647.55499999999,null,null,"Yard Trash",0.15874230244941429]
["Other Plastics",{"$f":"SUM(C44:C49)*B90","v":75769.966},null,{"$f":"SUM(C44:C49)*D90","v":46403.832000000002},6752,128925.79800000001,null,null,"Other Plastics",5.492046773162941E-2]
["Ferrous Metals",{"$f":"C35*B90","v":8577.732},null,{"$f":"C35*D90","v":5253.2640000000001},67171,81001.995999999999,null,null,"Ferrous Metals",3.4505642598509058E-2]
["White Goods",{"$f":"C41*B90","v":0},null,{"$f":"C41*D90","v":0},7648,7648,null,null,"White Goods",3.2579339723109698E-3]
["NonFerous Metals",{"$f":"C36*B90","v":2144.433},null,{"$f":"C36*D90","v":1313.316},11270,14727.749,null,null,"NonFerous Metals",6.2738014909478178E-3]
["Other Paper",{"$f":"SUM(C28:C30)*B90","v":123662.30299999999},null,{"$f":"SUM(C28:C30)*D90","v":75734.555999999997},13506,212902.859,null,null,"Other Paper",9.069344366347179E-2]
["Textiles",{"$f":"C37*B90","v":25733.195999999996},null,{"$f":"C37*D90","v":15759.791999999999},10471,51963.987999999998,null,null,"Textiles",2.2135884132055382E-2]
["C&D Debris",{"$f":"SUM(C56:C58)*B90","v":61473.745999999992},{"$f":"C90","v":545000},{"$f":"SUM(C56:C58)*D90","v":37648.392},null,644122.13800000004,null,null,"C&D Debris",0.27438642726304585]
["Food",{"$f":"C39*B90","v":116514.193},null,{"$f":"C39*D90","v":71356.835999999996},5791,193662.02899999998,null,null,"Food",8.2497136954206615E-2]
["Miscellaneous",{"$f":"SUM(C50:C55)*B90","v":91495.808000000005},null,{"$f":"SUM(C50:C55)*D90","v":56034.815999999999},143730,291260.62400000001,null,null,"Miscellaneous",0.12407268328008522]
["Tires",{"$f":"C40*B90","v":5003.6769999999997},null,{"$f":"C40*D90","v":3064.404},471,{"$f":"SUM(B108:E108)","v":8539.0810000000001},null,null,"Tires",3.6375211927582541E-3]
[null,"Total","total","total","total","total Msw collected",null,null,null,"total"]
[null,{"$f":"SUM(B91:B108)","v":714811},{"$f":"C105","v":545000},{"$f":"SUM(D91:D108)","v":437771.99999999994},{"$f":"SUM(E91:E108)","v":649917},{"$f":"SUM(F91:F108)","v":2347499.9999999995},null,null,null,{"$f":"SUM(J91:J108)","v":1}]
[]
[5]
[]
["US EPA Data and Moisture Content"]
["Category","Moisture Content  (MC) ","US EPA DATA (lbs-dry/person)","US EPA DATA             (lbs-WET/person)    [US EPA DATA/(1-MC)"]
["Newspaper",0.27850000000000003,41.931464174454831,58.117067462861854]
["Glass",3.2000000000000001E-2,56.822429906542055,58.700857341469067]
["Aluminum Cans",0.129,8.4112149532710276,9.6569632069701807]
["Plastic Bottles",4.8000000000000001E-2,23.302180685358255,24.477080551846907]
["Steel Cans",5.8000000000000003E-2,10.841121495327103,11.508621544933231]
["Corrugated Paper",0.24049999999999999,195.20249221183801,257.01447295831201]
["Office Paper",0.13400000000000001,28.22429906542056,32.591569359608037]
["Yard Waste",0.50600000000000001,216.3239875389408,437.90280878328099]
["Other Plastics",0.11700000000000001,154.90485396035913,175.43018568557093]
["Non-ferrous Metal",5.3999999999999999E-2,46.762277712979795,49.431583206109721]
["White Goods","x",30.280373831775702,30.280373831775702]
["Ferrous Metal",0.16900000000000001,12.133426323463874,14.600994372399368]
["Other Paper",0.2545,158.56697819314641,212.69883057430772]
["Textiles",0.17,76.349308411214949,91.987118567728857]
["C&D Debris",8.8999999999999996E-2,"-","-"]
["Food Waste",0.59750000000000003,247.53894080996884,615.00357965209651]
["Miscellaneous",0.313,206.19904324930312,300.14416775735532]
["Tires","x",36.386292834890966,36.386292834890966]
[]
[]
[6]
[]
["Finding County Factor"]
["Category ","tons-DRY/county-us data ","tons-WET/county-us data ","County Factor","Category"]
["equation","US DATA * County Population/2000","tons-DRY/(1-MoistureContent)","ton-wet-composition/tons-wet-Usdata"]
["Newspaper",{"$f":"C116*$B$8/2000","v":20146.999283489098},{"$f":"B141/(1-B116)","v":27923.768930684819},{"$f":"F91/C141","v":1.5772730790506457},"Newspaper"]
["Glass",27301.728598130841,28204.265080713682,2.1434016744275435,"Glass"]
["Aluminum Cans",4041.3742990654205,4639.9245683873942,2.2010409543251286,"Aluminum Cans"]
["Plastic Bottles",11196.103613707164,11760.613039608366,2.5485554961340777,"Plastic Bottles"]
["Steel Cans",5208.8824299065427,5529.5991824910225,2.4901285871857772,"Steel Cans"]
["Corrugated Paper",93789.819844236757,123488.90038740849,1.2296345867817198,"Corrugated Paper"]
["Office Paper",13561.055981308409,15659.417992272989,1.9030611491886209,"Office Paper"]
["Yard Waste",103938.15975077881,210401.13309874255,1.771129031064268,"Yard Waste"]
["Other Plastics",74427.832254176566,84289.730752181844,1.5295552239815733,"Other Plastics"]
["Ferrous Metal",{"$f":"C127*$B$8/2000","v":5829.8019460531432},{"$f":"B150/(1-B127)","v":7015.4054705813996},{"$f":"(B100+D100)/C150","v":1.9715176917427353},"Ferrous Metal"]
["White Goods",{"$f":"C126*B8/2000","v":14548.947476635514},{"$f":"B151","v":14548.947476635514},{"$f":"F101/C151","v":0.52567376521786868},"White Goods"]
["Non-ferrous Metal",{"$f":"C125*$B$8/2000","v":22468.082003005111},{"$f":"B152/(1-B125)","v":23750.615225163965},{"$f":"(B102+D102)/C152","v":0.14558566029634834},"Non-ferrous Metal"]
["Other Paper",{"$f":"C128*$B$8/2000","v":76187.389563862918},{"$f":"B153/(1-B128)","v":102196.3642707752},{"$f":"F103/C153","v":2.0832723406470852},"Other Paper"]
["Textiles",{"$f":"C129*$B$8/2000","v":36683.895784224296},{"$f":"B154/(1-B129)","v":44197.464800270238},{"$f":"F104/C154","v":1.1757232736046497},"Textiles"]
["C&D Debris",{"$f":"C130*$B$8/2000","v":{"$error":"#VALUE!"}},{"$f":"B155/(1-B130)","v":{"$error":"#VALUE!"}},{"$f":"#REF!/C155","v":{"$error":"#REF!"}},"C&D Debris"]
["Food Waste",{"$f":"C131*$B$8/2000","v":118936.14881619938},{"$f":"B156/(1-B131)","v":295493.53743155126},{"$f":"F106/C156","v":0.65538498974739934},"Food Waste"]
["Miscellaneous",{"$f":"C132*$B$8/2000","v":99073.382205687289},{"$f":"B157/(1-B132)","v":144211.61893113141},{"$f":"F107/C157","v":2.0196751562652673},"Miscellaneous"]
["Tires",{"$f":"C133*B8/2000","v":17482.685856697819},{"$f":"B158","v":17482.685856697819},{"$f":"F108/C158","v":0.48843072912212626},"Tires"]
[]
["Link to \"New WasteCalc County Factors\""]
["Newspaper","Glass","Aluminum Cans","Plastic Bottles","Steel Cans","Corrugated Paper","Office Paper","Yard Waste","Other Plastics","Ferrous Metals","White Goods","Non-Ferrous Metal","Other Paper","Textiles","C&D Debris","Food Waste","Misc","Tires"]
[{"$f":"D141","v":1.5772730790506457},{"$f":"D142","v":2.1434016744275435},{"$f":"D143","v":2.2010409543251286},{"$f":"D144","v":2.5485554961340777},{"$f":"D145","v":2.4901285871857772},{"$f":"D146","v":1.2296345867817198},{"$f":"D147","v":1.9030611491886209},{"$f":"D148","v":1.771129031064268},{"$f":"D149","v":1.5295552239815733},{"$f":"D150","v":1.9715176917427353},{"$f":"D151","v":0.52567376521786868},{"$f":"D152","v":0.14558566029634834},{"$f":"D153","v":2.0832723406470852},{"$f":"D154","v":1.1757232736046497},{"$f":"D155","v":{"$error":"#REF!"}},{"$f":"D156","v":0.65538498974739934},{"$f":"D157","v":2.0196751562652673},{"$f":"D158","v":0.48843072912212626}]
[]
[7]
[]
["Check"]
["Category","Calculated ","Accepted (larger values of calculated vs recycled","Percent","Waste Comp Percent","Percentage Point Difference"]
["Newspaper",{"$f":"$B$8*D116*D141/2000","v":44043.409},{"$f":"B168","v":44043.409},{"$f":"C168/$C$187","v":1.8761835569755064E-2},{"$f":"J91","v":1.8761835569755064E-2},{"$f":"ABS(D168-E168)","v":0}]
["Glass",60453.068999999996,{"$f":"B169","v":60453.068999999996},2.5752106070287543E-2,2.5752106070287547E-2,{"$f":"ABS(D169-E169)","v":3.4694469519536142E-18}]
["Aluminum Cans",10212.664000000001,10212.664000000001,4.3504425985090535E-3,4.3504425985090535E-3,0]
["Plastic Bottles",29972.575000000004,29972.575000000004,1.2767870074547395E-2,1.2767870074547395E-2,0]
["Steel Cans",13769.412999999997,13769.412999999997,5.8655646432374869E-3,5.8655646432374869E-3,0]
["Corrugated Paper",151846.22299999997,151846.22299999997,6.468422705005325E-2,6.4684227050053264E-2,1.3877787807814457E-17]
["Office Paper",29800.830000000009,29800.830000000009,1.2694709265175725E-2,1.2694709265175722E-2,3.4694469519536142E-18]
["Yard Waste",372647.55499999999,372647.55499999999,0.15874230244941429,0.15874230244941429,0]
["Other Plastics",128925.79800000002,128925.79800000002,5.4920467731629417E-2,5.492046773162941E-2,6.9388939039072284E-18]
["Ferrous Metal",{"$f":"(B8*D127*D150/2000)+E100","v":81001.995999999999},81001.995999999999,3.4505642598509058E-2,3.4505642598509058E-2,0]
["White Goods",{"$f":"B8*C126/2000","v":14548.947476635514},14548.947476635514,6.1976347078319559E-3,3.2579339723109698E-3,2.9397007355209861E-3]
["Non-ferrous Metal",{"$f":"(B8*D152*D125/2000)+E102","v":14727.749},14727.749,6.2738014909478178E-3,6.2738014909478178E-3,0]
["Other Paper",{"$f":"$B$8*D128*D153/2000","v":212902.85900000003},212902.85900000003,9.0693443663471804E-2,9.069344366347179E-2,1.3877787807814457E-17]
["Textiles",{"$f":"$B$8*D129*D154/2000","v":51963.987999999998},51963.987999999998,2.2135884132055382E-2,2.2135884132055382E-2,0]
["C&D Debris",{"$f":"B10+(B9*0.075)+(B19*0.075)","v":617680.25},617680.25,0.2631225772097977,0.27438642726304585,1.1263850053248148E-2]
["Food Waste",{"$f":"$B$8*D131*D156/2000","v":193662.02899999998},193662.02899999998,8.2497136954206615E-2,8.2497136954206615E-2,0]
["Miscellaneous",{"$f":"F110-B187","v":301857.95966666634},301857.95966666634,0.12858699027334031,0.12407268328008522,4.514306993255085E-3]
["Tires",{"$f":"B8*C133/2000","v":17482.685856697819},17482.685856697819,7.4473635172301695E-3,3.6375211927582541E-3,3.8098423244719154E-3]
[null,"sum (Minus misc)","TOTAL","TOTAL","TOTAL"]
[null,{"$f":"SUM(B168:B183,B185)","v":2045642.0403333332},{"$f":"SUM(C168:C185)","v":2347499.9999999995},{"$f":"SUM(D168:D185)","v":1},{"$f":"SUM(E168:E185)","v":1}]

{"sheet":"19 Broward County Factor","index":19,"n_rows":145,"n_cols":19,"rows_kept":145,"cut":false,"hidden":true,"merged":[[67,9,67,10],[93,1,93,2],[95,1,95,2],[117,1,117,2],[119,1,119,2],[2,1,2,2],[3,1,3,2],[19,1,19,2],[43,1,43,2],[67,1,67,2]]}
[null,"Finding County Factors for Broward"]
[]
[null,1]
[null,"Information from annual solid waste report 2017"]
[null,"County","Broward"]
[null,"Waste comp study","NONE"]
[null,"Year",2017]
[null,"Population",1873970]
[null,"Landfilled tons ",1956284]
[null,"C&D collected",1691767]
[null,"C&D disposed",{"$f":"C10-C13","v":817593}]
[null,"Recycled tons",{"$f":"C64","v":1291545}]
[null,"Recycled C&D",{"$f":"C60","v":874174}]
[null,"Combustor input",866256]
[null,"combustor recy metals",14892]
[null,"Combustor ash",210075]
[null,"Process fuel",0]
[null,"Total Tons MSW collected",{"$f":"(C14-C15)+(C9)+C12","v":4099193}]
[]
[null,2]
[]
[null,"Average disposal LANDFILLED from Pinellas, Seminole, and Miami Dade"]
[null,"Materials","Pinellas (tons) ","Seminole (tons)","Orange (tons) ","Miami -Dade (tons)","Hillsborough (tons)","Averaged","Percent"]
[null,"Newspaper",{"$f":"'18 Pinellas County Factor'!B91","v":16440.652999999998},{"$f":"'20 Seminole County Factor'!B80","v":20734.13},{"$f":"'21 Orange County Factor'!C97","v":5199.777},{"$f":"'22 Miami-Dade County Factor'!B87","v":91286.080000000002},{"$f":"'23 Hillsborough County Factor'!B94","v":23838.416000000001},{"$f":"AVERAGE(Table1[[#This Row],[Pinellas (tons) ]:[Hillsborough (tons)]])","v":31499.811200000004},{"$f":"Table1[[#This Row],[Averaged]]/$H$42","v":2.4062851748578185E-2}]
[null,"Glass",{"$f":"'18 Pinellas County Factor'!B92","v":30736.873000000003},{"$f":"'20 Seminole County Factor'!B81","v":14083.560000000001},{"$f":"'21 Orange County Factor'!C98","v":62397.324000000008},{"$f":"'22 Miami-Dade County Factor'!B88","v":122665.67000000001},{"$f":"'23 Hillsborough County Factor'!B95","v":40014.483999999997},{"$f":"AVERAGE(Table1[[#This Row],[Pinellas (tons) ]:[Hillsborough (tons)]])","v":53979.582200000004},{"$f":"Table1[[#This Row],[Averaged]]/$H$42","v":4.1235252988715998E-2}]
[null,"Aluminum Cans",{"$f":"'18 Pinellas County Factor'!B93","v":5718.4880000000003},{"$f":"'20 Seminole County Factor'!B82","v":2738.4700000000003},{"$f":"'21 Orange County Factor'!C99","v":19065.848999999998},{"$f":"'22 Miami-Dade County Factor'!B89","v":14263.45},{"$f":"'23 Hillsborough County Factor'!B96","v":6810.9760000000006},{"$f":"AVERAGE(Table1[[#This Row],[Pinellas (tons) ]:[Hillsborough (tons)]])","v":9719.4465999999993},{"$f":"Table1[[#This Row],[Averaged]]/$H$42","v":7.4247302985111932E-3}]
[null,"Plastic Bottles",{"$f":"'18 Pinellas County Factor'!B94","v":17870.275000000001},{"$f":"'20 Seminole County Factor'!B83","v":8215.41},{"$f":"'21 Orange County Factor'!C100","v":65863.842000000004},{"$f":"'22 Miami-Dade County Factor'!B90","v":105549.53000000001},{"$f":"'23 Hillsborough County Factor'!B97","v":32352.136000000006},{"$f":"AVERAGE(Table1[[#This Row],[Pinellas (tons) ]:[Hillsborough (tons)]])","v":45970.238600000004},{"$f":"Table1[[#This Row],[Averaged]]/$H$42","v":3.5116878296672656E-2}]
[null,"Steel Cans",{"$f":"'18 Pinellas County Factor'!B95","v":7862.9209999999994},{"$f":"'20 Seminole County Factor'!B84","v":5085.7299999999996},{"$f":"'21 Orange County Factor'!C101","v":13866.072},{"$f":"'22 Miami-Dade County Factor'!B91","v":39937.660000000003},{"$f":"'23 Hillsborough County Factor'!B98","v":11919.208000000001},{"$f":"AVERAGE(Table1[[#This Row],[Pinellas (tons) ]:[Hillsborough (tons)]])","v":15734.3182},{"$f":"Table1[[#This Row],[Averaged]]/$H$42","v":1.2019518587195707E-2}]
[null,"Corrugated Paper",{"$f":"'18 Pinellas County Factor'!B96","v":57899.690999999999},{"$f":"'20 Seminole County Factor'!B85","v":25428.65},{"$f":"'21 Orange County Factor'!C102","v":98795.763000000006},{"$f":"'22 Miami-Dade County Factor'!B92","v":205393.68},{"$f":"'23 Hillsborough County Factor'!B99","v":75772.107999999993},{"$f":"AVERAGE(Table1[[#This Row],[Pinellas (tons) ]:[Hillsborough (tons)]])","v":92657.978399999993},{"$f":"Table1[[#This Row],[Averaged]]/$H$42","v":7.0781859084989032E-2}]
[null,"Office Paper",{"$f":"'18 Pinellas County Factor'!B97","v":7148.1100000000006},{"$f":"'20 Seminole County Factor'!B86","v":21125.34},{"$f":"'21 Orange County Factor'!C103","v":24265.626},{"$f":"'22 Miami-Dade County Factor'!B93","v":94138.77},{"$f":"'23 Hillsborough County Factor'!B100","v":21284.300000000003},{"$f":"AVERAGE(Table1[[#This Row],[Pinellas (tons) ]:[Hillsborough (tons)]])","v":33592.429199999999},{"$f":"Table1[[#This Row],[Averaged]]/$H$42","v":2.5661412336154214E-2}]
[null,"Yard Trash",{"$f":"'18 Pinellas County Factor'!B98","v":60758.935000000005},{"$f":"'20 Seminole County Factor'!B87","v":15648.4},{"$f":"'21 Orange County Factor'!C104","v":48531.252},{"$f":"'22 Miami-Dade County Factor'!B94","v":179719.47},{"$f":"'23 Hillsborough County Factor'!B101","v":48528.204000000005},{"$f":"AVERAGE(Table1[[#This Row],[Pinellas (tons) ]:[Hillsborough (tons)]])","v":70637.252200000017},{"$f":"Table1[[#This Row],[Averaged]]/$H$42","v":5.3960124294825246E-2}]
[null,"Other Plastics",{"$f":"'18 Pinellas County Factor'!B99","v":75769.966},{"$f":"'20 Seminole County Factor'!B88","v":42641.89},{"$f":"'21 Orange County Factor'!C105","v":329319.21000000002},{"$f":"'22 Miami-Dade County Factor'!B95","v":350880.87},{"$f":"'23 Hillsborough County Factor'!B102","v":97907.78},{"$f":"AVERAGE(Table1[[#This Row],[Pinellas (tons) ]:[Hillsborough (tons)]])","v":179303.94320000001},{"$f":"Table1[[#This Row],[Averaged]]/$H$42","v":0.13697111312073779}]
[null,"Ferrous Metals",{"$f":"'18 Pinellas County Factor'!B100","v":8577.732},{"$f":"'20 Seminole County Factor'!B89","v":2738.4700000000003},{"$f":"'21 Orange County Factor'!C106","v":22532.366999999998},{"$f":"'22 Miami-Dade County Factor'!B96","v":28526.9},{"$f":"'23 Hillsborough County Factor'!B103","v":6810.9760000000006},{"$f":"AVERAGE(Table1[[#This Row],[Pinellas (tons) ]:[Hillsborough (tons)]])","v":13837.289000000001},{"$f":"Table1[[#This Row],[Averaged]]/$H$42","v":1.057036919031539E-2}]
[null,"White Goods",{"$f":"'18 Pinellas County Factor'!B101","v":0},{"$f":"'20 Seminole County Factor'!B90","v":0},{"$f":"'21 Orange County Factor'!C107","v":0},{"$f":"'22 Miami-Dade County Factor'!B97","v":0},{"$f":"'23 Hillsborough County Factor'!B104","v":4256.8599999999997},{"$f":"AVERAGE(Table1[[#This Row],[Pinellas (tons) ]:[Hillsborough (tons)]])","v":851.37199999999996},{"$f":"Table1[[#This Row],[Averaged]]/$H$42","v":6.5036701613279833E-4}]
[null,"NonFerous Metals",{"$f":"'18 Pinellas County Factor'!B102","v":2144.433},{"$f":"'20 Seminole County Factor'!B91","v":2347.2600000000002},{"$f":"'21 Orange County Factor'!C108","v":8666.2950000000001},{"$f":"'22 Miami-Dade County Factor'!B98","v":17116.14},{"$f":"'23 Hillsborough County Factor'!B105","v":3405.4880000000003},{"$f":"AVERAGE(Table1[[#This Row],[Pinellas (tons) ]:[Hillsborough (tons)]])","v":6735.9232000000002},{"$f":"Table1[[#This Row],[Averaged]]/$H$42","v":5.1456029473411049E-3}]
[null,"Other Paper",{"$f":"'18 Pinellas County Factor'!B103","v":123662.30299999999},{"$f":"'20 Seminole County Factor'!B92","v":88413.459999999992},{"$f":"'21 Orange County Factor'!C109","v":341452.02299999999},{"$f":"'22 Miami-Dade County Factor'!B99","v":547716.48},{"$f":"'23 Hillsborough County Factor'!B106","v":148138.728},{"$f":"AVERAGE(Table1[[#This Row],[Pinellas (tons) ]:[Hillsborough (tons)]])","v":249876.59879999998},{"$f":"Table1[[#This Row],[Averaged]]/$H$42","v":0.19088189177347667}]
[null,"Textiles",{"$f":"'18 Pinellas County Factor'!B104","v":25733.195999999996},{"$f":"'20 Seminole County Factor'!B93","v":21516.55},{"$f":"'21 Orange County Factor'!C110","v":117861.61200000001},{"$f":"'22 Miami-Dade County Factor'!B100","v":96991.46},{"$f":"'23 Hillsborough County Factor'!B107","v":34906.252},{"$f":"AVERAGE(Table1[[#This Row],[Pinellas (tons) ]:[Hillsborough (tons)]])","v":59401.813999999998},{"$f":"Table1[[#This Row],[Averaged]]/$H$42","v":4.53773209878355E-2}]
[null,"C&D Debris",{"$f":"'18 Pinellas County Factor'!B105","v":61473.745999999992},{"$f":"'20 Seminole County Factor'!B94","v":15257.19},{"$f":"'21 Orange County Factor'!C111","v":45064.734000000004},{"$f":"'22 Miami-Dade County Factor'!B101","v":225362.51},{"$f":"'23 Hillsborough County Factor'!B108","v":53636.436000000002},{"$f":"AVERAGE(Table1[[#This Row],[Pinellas (tons) ]:[Hillsborough (tons)]])","v":80158.92319999999},{"$f":"Table1[[#This Row],[Averaged]]/$H$42","v":6.1233772895986874E-2}]
[null,"Food",{"$f":"'18 Pinellas County Factor'!B106","v":116514.193},{"$f":"'20 Seminole County Factor'!B95","v":53204.560000000005},{"$f":"'21 Orange County Factor'!C112","v":176792.41799999998},{"$f":"'22 Miami-Dade County Factor'!B102","v":419345.43},{"$f":"'23 Hillsborough County Factor'!B109","v":120043.45199999999},{"$f":"AVERAGE(Table1[[#This Row],[Pinellas (tons) ]:[Hillsborough (tons)]])","v":177180.01060000001},{"$f":"Table1[[#This Row],[Averaged]]/$H$42","v":0.13534863116510715}]
[null,"Miscellaneous",{"$f":"'18 Pinellas County Factor'!B107","v":91495.808000000005},{"$f":"'20 Seminole County Factor'!B96","v":50857.3},{"$f":"'21 Orange County Factor'!C113","v":353584.83600000001},{"$f":"'22 Miami-Dade County Factor'!B103","v":308090.52},{"$f":"'23 Hillsborough County Factor'!B110","v":117489.33600000001},{"$f":"AVERAGE(Table1[[#This Row],[Pinellas (tons) ]:[Hillsborough (tons)]])","v":184303.56},{"$f":"Table1[[#This Row],[Averaged]]/$H$42","v":0.14079034356292217}]
[null,"Tires",{"$f":"'18 Pinellas County Factor'!B108","v":5003.6769999999997},{"$f":"'20 Seminole County Factor'!B97","v":0},{"$f":"'21 Orange County Factor'!C114","v":0},{"$f":"'22 Miami-Dade County Factor'!B104","v":11410.76},{"$f":"'23 Hillsborough County Factor'!B111","v":1702.7440000000001},{"$f":"AVERAGE(Table1[[#This Row],[Pinellas (tons) ]:[Hillsborough (tons)]])","v":3623.4361999999992},{"$f":"Table1[[#This Row],[Averaged]]/$H$42","v":2.7679597045023388E-3}]
[null,"Total",{"$f":"SUM(C24:C41)","v":714811},{"$f":"SUM(D24:D41)","v":390036.37},1733259,2858395.38,{"$f":"SUM(G24:G41)","v":848817.88399999996},{"$f":"SUM(H24:H41)","v":1309063.9268},{"$f":"SUM(I24:I41)","v":1.0000000000000002}]
[]
[null,"Recycled tons from Broward County"]
[null,"Material","Tons"]
[null,"Newspaper",22759]
[null,"Glass",19524]
[null,"Aluminum Cans",1929]
[null,"Plastic Bottles",1737]
[null,"Steel Cans",16068]
[null,"Corrugated Paper",99968]
[null,"Office Paper",17292]
[null,"Yard Trash",43175]
[null,"Other Plastics",9073]
[null,"Ferrous Metals",58287]
[null,"White Goods",11308]
[null,"NonFerous Metals",21197]
[null,"Other Paper",35387]
[null,"Textiles",1081]
[null,"C&D Debris",874174]
[null,"Food",1464]
[null,"Miscellaneous",46743]
[null,"Tires",10379]
[null,"Total",{"$f":"SUM(C46:C63)","v":1291545}]
[]
[]
[]
[null,3,null,null,null,null,null,null,null,4]
[]
[null,"Calculating waste compositon percentage utalizing waste compsition study"]
[null,"FDEP Category","Landfilled tons\n(Plus combusor ash, minus C&D  disposed)","Collected C&D \n(disposal c&d LANDFILL + recycled)","Combusted\n(minus recycled metals, minus combustor ash)","Recycled Materials\n(Minus recycled c&D)","Total Collected Tons"]
[null,null,{"$f":"C9-C11+C16","v":1348766},{"$f":"C11+C13","v":1691767},{"$f":"C14-C15-C16","v":641289},{"$f":"C64","v":1291545},null,null,null,"FDEP Category","Percentage"]
[null,"Newspaper",{"$f":"$C$72*I24","v":32455.156301522806},null,{"$f":"$E$72*I24","v":15431.242134993956},{"$f":"C46","v":22759},{"$f":"SUM(C73:F73)","v":70645.398436516756},null,null,"Newspaper",{"$f":"G73/$G$92","v":1.7233977135625661E-2}]
[null,"Glass",{"$f":"$C$72*I25","v":55616.707232578519},null,{"$f":"$E$72*I25","v":26443.714153880694},19524,{"$f":"SUM(C74:F74)","v":101584.42138645922},null,null,"Glass",2.4781565880518244E-2]
[null,"Aluminum Cans",10014.223785801749,null,4761.3978684019448,1929,16704.621654203693,null,null,"Aluminum Cans",4.0751000634036243E-3]
[null,"Plastic Bottles",47364.451472689994,null,22520.067765994911,1737,71621.519238684908,null,null,"Plastic Botles",1.747210225004895E-2]
[null,"Steel Cans",16211.518006777605,null,7707.9850552641474,16068,39987.503062041753,null,null,"Steel Cans",9.7549695908540415E-3]
[null,"Corrugated Paper",95468.164950624312,null,45391.62763075353,99968,240827.79258137784,null,null,"Corrugated Paper",5.8750049724757496E-2]
[null,"Office Paper",34611.240470985373,null,16456.381455639999,17292,68359.621926625376,null,null,"Office Paper",1.6676360914605722E-2]
[null,"Yard Trash",72779.581004634267,null,34604.034148904189,43175,150558.61515353847,null,null,"Yard Trash",3.6728842763328898E-2]
[null,"Other Plastics",184741.98035940502,null,87838.068162084819,9073,281653.04852148984,null,null,"Other Plastics",6.8709389511908761E-2]
[null,"Ferrous Metals",14256.954571344928,null,6778.6614876881658,58287,79322.616059033098,null,null,"Ferrous Metals",1.9350788328100946E-2]
[null,"White Goods",877.19291888136991,null,417.0732134087861,11308,12602.266132290157,null,null,"White Goods",3.0743285647419276E-3]
[null,"NonFerous Metals",6940.2143048734724,null,3299.8185684974296,21197,31437.032873370903,null,null,"NonFerous Metals",7.6690784926132785E-3]
[null,"Other Paper",257455.00563974504,null,122410.45749352108,35387,415252.46313326614,null,null,"Other Paper",0.10130102757622443]
[null,"Textiles",61203.387719478938,null,29099.97679896804,1081,91384.364518446979,null,null,"Textiles",2.2293257360277249E-2]
[null,"C&D Debris",82590.030933828632,{"$f":"C10","v":1691767},39268.544986694527,0,1813625.5759205231,null,null,"C&D Debris",0.44243478555913884]
[null,"Food",182553.63186203691,null,86797.588331240404,{"$f":"C61","v":1464},270815.22019327735,null,null,"Food",6.6065496353374276E-2]
[null,"Miscellaneous",189893.22852598829,null,90287.298633122788,{"$f":"C62","v":46743},326923.52715911111,null,null,"Miscellaneous",7.9753143401423435E-2]
[null,"Tires",3733.3299388028013,null,1775.0621109406004,{"$f":"C63","v":10379},15887.392049743401,null,null,"Tires",3.8757365290542313E-3]
[null,null,"Total","Total","Total","Total","Total",null,null,null,"total"]
[null,null,{"$f":"SUM(C73:C90)","v":1348766.0000000002},{"$f":"D87","v":1691767},{"$f":"SUM(E73:E90)","v":641289},{"$f":"SUM(F73:F90)","v":417371},{"$f":"SUM(C92:F92)","v":4099193},null,null,null,{"$f":"SUM(K73:K90)","v":1}]
[]
[null,5]
[]
[null,"US EPA Data and Moisture Content"]
[null,"Category","Moisture Content  (MC) ","US EPA DATA (lbs-dry/person)","US EPA DATA             (lbs-WET/person)    [US EPA DATA/(1-MC)"]
[null,"Newspaper",0.27850000000000003,41.931464174454831,58.117067462861854]
[null,"Glass",3.2000000000000001E-2,56.822429906542055,58.700857341469067]
[null,"Aluminum Cans",0.129,8.4112149532710276,9.6569632069701807]
[null,"Plastic Bottles",4.8000000000000001E-2,23.302180685358255,24.477080551846907]
[null,"Steel Cans",5.8000000000000003E-2,10.841121495327103,11.508621544933231]
[null,"Corrugated Paper",0.24049999999999999,195.20249221183801,257.01447295831201]
[null,"Office Paper",0.13400000000000001,28.22429906542056,32.591569359608037]
[null,"Yard Waste",0.50600000000000001,216.3239875389408,437.90280878328099]
[null,"Other Plastics",0.11700000000000001,154.90485396035913,175.43018568557093]
[null,"Non-ferrous Metal",5.3999999999999999E-2,46.762277712979795,49.431583206109721]
[null,"White Goods","x",30.280373831775702,30.280373831775702]
[null,"Ferrous Metal",0.16900000000000001,12.133426323463874,14.600994372399368]
[null,"Other Paper",0.2545,158.56697819314641,212.69883057430772]
[null,"Textiles",0.17,76.349308411214949,91.987118567728857]
[null,"C&D Debris",8.8999999999999996E-2,"-","-"]
[null,"Food Waste",0.59750000000000003,247.53894080996884,615.00357965209651]
[null,"Miscellaneous",0.313,206.19904324930312,300.14416775735532]
[null,"Tires","x",36.386292834890966,36.386292834890966]
[]
[]
[null,6]
[]
[null,"Finding County Factor"]
[null,"Category","tons-DRY/county-us data ","tons-WET/county-us data ","County Factor","Category   "]
[null,"equation","US DATA * County Population/2000","tons-DRY/(1-MoistureContent)","ton-wet-composition/tons-wet-Usdata"]
[null,"Newspaper ",{"$f":"D98*$C$8/2000","v":39289.15295950156},{"$f":"C123/(1-C98)","v":54454.820456689617},{"$f":"G73/D123","v":1.2973212994560186},"Newspaper "]
[null,"Glass ",{"$f":"D99*$C$8/2000","v":53241.764485981308},{"$f":"C124/(1-C99)","v":55001.822816096392},{"$f":"G74/D124","v":1.8469282686524042},"Glass "]
[null,"Aluminum Cans ",7881.1822429906542,9048.4296704829558,{"$f":"G75/D125","v":1.8461348833484486},"Aluminum Cans "]
[null,"Plastic Bottles ",21833.793769470405,22934.657320872277,3.1228510736676189,"Plastic Bottles "]
[null,"Steel Cans ",10157.968224299066,10783.405758279263,3.7082443115284076,"Steel Cans "]
[null,"Corrugated Paper",182901.80716510903,240818.705944844,1.0000377322704157,"Corrugated Paper"]
[null,"Office Paper ",26445.744859813083,30537.811616412335,2.238523925201175,"Office Paper "]
[null,"Yard Waste ",202692.33146417444,410308.36328780249,0.36694015678138198,"Yard Waste "]
[null,"Other Plastics ",145143.52458804712,164375.45253459469,1.7134739048837766,"Other Plastics "]
[null,"Ferrous Metal ",{"$f":"D109*$C$8/2000","v":11368.838463690799},{"$f":"C132/(1-C109)","v":13680.912712022624},{"$f":"C82/D132","v":1.0421055138240949},"Ferrous Metal "]
[null,"White Goods ",{"$f":"D108*$C$8/2000","v":28372.256074766356},{"$f":"Table7[[#This Row],[tons-DRY/county-us data ]]","v":28372.256074766356},{"$f":"G83/Table7[[#This Row],[tons-WET/county-us data ]]","v":0.44417567989943274},"White Goods "]
[null,"Non-ferrous Metal ",{"$f":"D107*$C$8/2000","v":43815.552782896375},{"$f":"C134/(1-C107)","v":46316.651990376718},{"$f":"C84/D134","v":0.14984274567849704},"Non-ferrous Metal "]
[null,"Other Paper ",{"$f":"D110*$C$8/2000","v":148574.88006230531},{"$f":"C135/(1-C110)","v":199295.61376566775},{"$f":"G85/D135","v":2.0836006136167198},"Other Paper "]
[null,"Textiles ",71538.156741682251,{"$f":"C136/(1-C111)","v":86190.550291183434},{"$f":"G86/D136","v":1.0602596712715828},"Textiles "]
[null,"C&D Debris",{"$error":"#VALUE!"},{"$f":"C137/(1-C112)","v":{"$error":"#VALUE!"}},{"$f":"#REF!/D137","v":{"$error":"#REF!"}},"C&D Debris"]
[null,"Food Waste",231940.27445482864,{"$f":"C138/(1-C113)","v":576249.12908031966},{"$f":"G88/D138","v":0.46996204684160164},"Food Waste"]
[null,"Miscellaneous ",193205.41053894826,{"$f":"C139/(1-C114)","v":281230.58302612556},{"$f":"G89/D139","v":1.1624750183330552},"Miscellaneous "]
[null,"Tires ",34093.410591900312,{"$f":"Table7[[#This Row],[tons-DRY/county-us data ]]","v":34093.410591900312},{"$f":"G90/Table7[[#This Row],[tons-WET/county-us data ]]","v":0.46599597323706365},"Tires "]
[]
[]
[null,"Link to \"New WasteCalc County Factors\""]
[null,"Newspaper","Glass","Aluminum Cans","Plastic Bottles","Steel Cans","Corrugated Paper","Office Paper","Yard Waste","Other Plastics","Ferrous Metals","White Goods","Non-Ferrous Metal","Other Paper","Textiles","C&D Debris","Food Waste","Misc","Tires"]
[null,{"$f":"E123","v":1.2973212994560186},{"$f":"E124","v":1.8469282686524042},{"$f":"E125","v":1.8461348833484486},{"$f":"E126","v":3.1228510736676189},{"$f":"E127","v":3.7082443115284076},{"$f":"E128","v":1.0000377322704157},{"$f":"E129","v":2.238523925201175},{"$f":"E130","v":0.36694015678138198},{"$f":"E131","v":1.7134739048837766},{"$f":"E132","v":1.0421055138240949},{"$f":"E133","v":0.44417567989943274},{"$f":"E134","v":0.14984274567849704},{"$f":"E135","v":2.0836006136167198},{"$f":"E136","v":1.0602596712715828},{"$f":"E137","v":{"$error":"#REF!"}},{"$f":"E138","v":0.46996204684160164},{"$f":"E139","v":1.1624750183330552},{"$f":"E140","v":0.46599597323706365}]

{"sheet":"20 Seminole County Factor","index":20,"n_rows":175,"n_cols":18,"rows_kept":175,"cut":false,"hidden":true,"merged":[[153,0,153,1],[2,0,2,1],[19,0,19,1],[72,0,72,1],[72,8,72,9],[75,1,77,1],[75,2,77,2],[75,3,77,3],[75,4,77,4],[76,8,76,10],[100,0,100,1],[102,0,102,1],[123,0,123,1],[125,0,125,1],[151,0,151,1],[50,0,50,1]]}
["Finding County Factors for Seminole County"]
[]
[1]
["Information from annual solid waste report 2017"]
["County","Seminole County"]
["Waste comp study",2003]
["Year",2017]
["Population",454757]
["Landfilled tons",422041]
["C&D collected",153678]
["C&D disposed",30831]
[]
["Recycled tons",283124]
["Recycled C&D",122847]
["combustor recy metals",0]
["Combustor input",0]
["Combustor ash",0]
["Total Tons MSW collected",705165]
["Comb input (-ash -metals)",{"$f":"B16-B17-B15","v":0}]
[2]
[]
["Pinellas Waste Composition Study Results"]
["FDEP Categorty","Waste Comp Category","Percentage in waste stream"]
["Newspaper","Newspaper",5.2999999999999999E-2]
["Corrugated Cardboard","Corrugated Cardboard",6.5000000000000002E-2]
["Office Paper","Office Paper",5.3999999999999999E-2]
["Other Paper","Other Paper",0.17599999999999999]
[null,"Magazines/glossy",0.05]
["Glass Packaging","Clear Glass Continers",1.7999999999999999E-2]
[null,"Brown Glass Containers",1.4E-2]
[null,"Green Glass Containers",4.0000000000000001E-3]
["Steel Cans","tin/steel cans",1.2999999999999999E-2]
["Other Ferrous","Other Ferrous",7.0000000000000001E-3]
["Aluminum Cans","Aluminum Cans",7.0000000000000001E-3]
["Other Non-Ferrous","Other Nonferrous",6.0000000000000001E-3]
["Textiles","textiles",5.5E-2]
["Yard Trash","Yard Waste",0.04]
["Food Waste","Food Waste",0.13600000000000001]
["Tires","Tires",0]
["White Goods","White Goods",0]
["Plastic Containers","HDPE Containers",8.0000000000000002E-3]
[null,"PET Containers",1.0999999999999999E-2]
[null,"#3-#7 Platic bottles",2E-3]
["Other Plastic","Other Platics",0.109]
["C&D","C&D debris",3.9E-2]
["MISC","HHW/ELEC/Fluorescent",3.6999999999999998E-2]
[null,"Other MISC",9.2999999999999999E-2]
[null,null,"TOTAL"]
[null,null,{"$f":"SUM(C24:C47)","v":0.99700000000000011}]
[]
["Recycled tons from Seminole County"]
["Material","Tons"]
["Newspaper",5501]
["Glass",4562]
["Aluminum Cans",1305]
["Plastic Bottles",877]
["Steel Cans",453]
["Corrugated Paper",21498]
["Office Paper",4441]
["Yard Trash",20722]
["Other Plastics",2429]
["Ferrous Metals",47609]
["White Goods",0]
["NonFerous Metals",18938]
["Other Paper",27909]
["Textiles",1084]
["C&D Debris"]
["Food",1406]
["Miscellaneous",922]
["Tires",551]
["Total",{"$f":"SUM(B53:B70)","v":160207}]
[]
[3,null,null,null,null,null,null,null,4]
[]
["Calculating waste compositon percentage utalizing waste compsition study"]
[null,"Landfilled tons\nPLUS combusor ash, minus C&D  disposed)","Collected C&D \n(disposal + recycled)","Combusted\n(minus recycled metals, minus combustor ash)","Recycled Materials\n(Minus recycled c&D)"]
[]
["FDEP Category",null,null,null,null,"Sum"]
[null,{"$f":"B9+B17-B11","v":391210},{"$f":"B11+B14","v":153678},{"$f":"B16-B15-B17","v":0},{"$f":"B13-B14","v":160277},null,null,null,"FDEP Category","Percentage"]
["Newspaper",{"$f":"C24*B79","v":20734.13},null,{"$f":"C24*D79","v":0},{"$f":"B53","v":5501},{"$f":"SUM(B80:E80)","v":26235.13},null,null,"Newspaper",{"$f":"F80/$F$99","v":3.726997235500891E-2}]
["Glass",{"$f":"SUM(C29:C31)*B79","v":14083.560000000001},null,{"$f":"SUM(C29:C31)*D79","v":0},4562,18645.560000000001,null,null,"Glass",{"$f":"F81/$F$99","v":2.6488128922694872E-2}]
["Aluminum Cans",{"$f":"C34*B79","v":2738.4700000000003},null,{"$f":"C34*D79","v":0},1305,4043.4700000000003,null,null,"Aluminum Cans",{"$f":"F82/$F$99","v":5.7442069133374933E-3}]
["Plastic Bottles",{"$f":"SUM(C41:C43)*B79","v":8215.41},null,{"$f":"SUM(C41:C43)*D79","v":0},877,9092.41,null,null,"Plastic Botles",1.2916797795185559E-2]
["Steel Cans",{"$f":"C32*B79","v":5085.7299999999996},null,{"$f":"C32*D79","v":0},453,5538.73,null,null,"Steel Cans",7.8683930280451612E-3]
["Corrugated Paper",{"$f":"C25*B79","v":25428.65},null,{"$f":"C25*D79","v":0},21498,46926.65,null,null,"Corrugated Paper",6.6664619089487218E-2]
["Office Paper",{"$f":"C26*B79","v":21125.34},null,{"$f":"C26*D79","v":0},4441,25566.34,null,null,"Office Paper",3.6319880443464868E-2]
["Yard Trash",{"$f":"C37*B79","v":15648.4},null,{"$f":"C37*D79","v":0},20722,36370.400000000001,null,null,"Yard Trash",5.1668270846785054E-2]
["Other Plastics",{"$f":"C44*B79","v":42641.89},null,{"$f":"SUM(C44)*D79","v":0},2429,45070.89,null,null,"Other Plastics",6.4028301911050078E-2]
["Ferrous Metals",{"$f":"C33*B79","v":2738.4700000000003},null,{"$f":"C33*D79","v":0},47609,50347.47,null,null,"Ferrous Metals",7.1524281184985189E-2]
["White Goods",{"$f":"C40*B79","v":0},null,{"$f":"C40*D79","v":0},0,0,null,null,"White Goods",0]
["NonFerous Metals",{"$f":"C35*B79","v":2347.2600000000002},null,{"$f":"C35*D79","v":0},18938,21285.260000000002,null,null,"NonFerous Metals",3.0238121624294484E-2]
["Other Paper",{"$f":"SUM(C27:C28)*B79","v":88413.459999999992},null,{"$f":"SUM(C27:C28)*D79","v":0},27909,116322.45999999999,null,null,"Other Paper",{"$f":"F92/$F$99","v":0.1652492237875943}]
["Textiles",{"$f":"C36*B79","v":21516.55},null,{"$f":"C36*D79","v":0},1084,22600.55,null,null,"Textiles",3.2106639978837406E-2]
["C&D Debris",{"$f":"C45*B79","v":15257.19},{"$f":"C79","v":153678},{"$f":"D79*C45","v":0},0,{"$f":"SUM(B94:E94)","v":168935.19},null,null,"C&D Debris",0.2399915632622433]
["Food",{"$f":"C38*B79","v":53204.560000000005},null,{"$f":"C38*D79","v":0},1406,54610.560000000005,null,null,"Food",7.7580483172431602E-2]
["Miscellaneous",{"$f":"SUM(C46:C47)*B79","v":50857.3},null,{"$f":"SUM(C46:C47)*D79","v":0},922,51779.3,null,null,"Miscellaneous",7.3558357803514329E-2]
["Tires",{"$f":"C39*B79","v":0},null,{"$f":"C39*D79","v":0},551,{"$f":"SUM(B97:E97)","v":551},null,null,"Tires",{"$f":"F97/$F$99","v":7.8275788104003707E-4}]
[null,"Total","total","total","total","totalMsw collected",null,null,null,"total"]
[null,{"$f":"SUM(B80:B97)","v":390036.37},{"$f":"C94","v":153678},{"$f":"SUM(D80:D97)","v":0},{"$f":"SUM(E80:E97)","v":160207},{"$f":"SUM(F80:F97)","v":703921.37000000011},null,null,null,{"$f":"SUM(J80:J97)","v":1}]
[]
[5]
[]
["US EPA Data and Moisture Content"]
["Category","Moisture Content  (MC) ","US EPA DATA (lbs-dry/person)","US EPA DATA             (lbs-WET/person)    [US EPA DATA/(1-MC)"]
["Newspaper",0.27850000000000003,41.931464174454831,58.117067462861854]
["Glass",3.2000000000000001E-2,56.822429906542055,58.700857341469067]
["Aluminum Cans",0.129,8.4112149532710276,9.6569632069701807]
["Plastic Bottles",4.8000000000000001E-2,23.302180685358255,24.477080551846907]
["Steel Cans",5.8000000000000003E-2,10.841121495327103,11.508621544933231]
["Corrugated Paper",0.24049999999999999,195.20249221183801,257.01447295831201]
["Office Paper",0.13400000000000001,28.22429906542056,32.591569359608037]
["Yard Waste",0.50600000000000001,216.3239875389408,437.90280878328099]
["Other Plastics",0.11700000000000001,154.90485396035913,175.43018568557093]
["Non-ferrous Metal",5.3999999999999999E-2,46.762277712979795,49.431583206109721]
["White Goods","x",30.280373831775702,30.280373831775702]
["Ferrous Metal",0.16900000000000001,12.133426323463874,14.600994372399368]
["Other Paper",0.2545,158.56697819314641,212.69883057430772]
["Textiles",0.17,76.349308411214949,91.987118567728857]
["C&D Debris",8.8999999999999996E-2,"-","-"]
["Food Waste",0.59750000000000003,247.53894080996884,615.00357965209651]
["Miscellaneous",0.313,206.19904324930312,300.14416775735532]
["Tires","x",36.386292834890966,36.386292834890966]
[]
[6]
[]
["Finding County Factor"]
["Category","tons-DRY/county-us data ","tons-WET/county-us data ","County Factor"]
["equation","US DATA * County Population/2000","tons-DRY/(1-MoistureContent)","ton-wet-composition/tons-wet-Usdata"]
["Newspaper",{"$f":"C105*$B$8/2000","v":9534.3134267912792},{"$f":"B129/(1-B105)","v":13214.571624104337},{"$f":"F80/C129","v":1.9853182340126123}]
["Glass",12920.198878504672,13347.312891017224,1.3969523418117]
["Aluminum Cans",1912.5294392523363,2195.7858085560692,1.8414683181958231]
["Plastic Bottles",5298.4148909657315,5565.5618602581217,1.6336913016682038]
["Steel Cans",2465.0379439252338,2616.8131039546006,2.1165936503565033]
["Corrugated Paper",44384.849875389402,58439.565339551547,0.80299450769939806]
["Office Paper",6417.5987850467282,7410.6221536336352,3.4499586498906991]
["Yard Waste",49187.423800623052,99569.683806929257,0.36527584109360112]
["Other Plastics",35222.033336225519,39889.052475906588,1.1299062575433021]
["Ferrous Metal",{"$f":"C116*$B$8/2000","v":2758.8802772897307},{"$f":"B138/(1-B116)","v":3319.9521989046098},{"$f":"(B89+D89)/C138","v":0.8248522376025581}]
["White Goods",{"$f":"C115*$B$8/2000","v":6885.1059813084121},{"$f":"B139","v":6885.1059813084121},{"$f":"F90/C139","v":0}]
["Non-ferrous Metal",{"$f":"C114*$B$8/2000","v":10632.736562960776},{"$f":"B140/(1-B114)","v":11239.679242030419},{"$f":"(B91+D91)/C140","v":0.20883692047211605}]
["Other Paper",{"$f":"C117*$B$8/2000","v":36054.721651090338},{"$f":"B141/(1-B117)","v":48363.141047740224},{"$f":"F92/C141","v":2.405188279338097}]
["Textiles",17360.191222579437,{"$f":"B142/(1-B118)","v":20915.893039252336},{"$f":"F93/C142","v":1.0805443476683549}]
["C&D Debris",{"$error":"#VALUE!"},{"$f":"B143/(1-B119)","v":{"$error":"#VALUE!"}},{"$f":"#REF!/C143","v":{"$error":"#REF!"}}]
["Food Waste",56285.033052959501,{"$f":"B144/(1-B120)","v":139838.59143592423},{"$f":"F95/C144","v":0.39052567277197753}]
["Miscellaneous",46885.229155461668,{"$f":"B145/(1-B121)","v":68246.330648415809},{"$f":"F96/C145","v":0.75871185319473211}]
["Tires",8273.4606853582554,{"$f":"B146","v":8273.4606853582554},{"$f":"F97/C146","v":6.659849136348929E-2}]
[]
["Link to \"New WasteCalc County Factors\""]
["Newspaper","Glass","Aluminum Cans","Plastic Bottles","Steel Cans","Corrugated Paper","Office Paper","Yard Waste","Other Plastics","Ferrous Metals","White Goods","Non-Ferrous Metal","Other Paper","Textiles","C&D Debris","Food Waste","Misc","Tires"]
[{"$f":"D129","v":1.9853182340126123},{"$f":"D130","v":1.3969523418117},{"$f":"D131","v":1.8414683181958231},{"$f":"D132","v":1.6336913016682038},{"$f":"D133","v":2.1165936503565033},{"$f":"D134","v":0.80299450769939806},{"$f":"D135","v":3.4499586498906991},{"$f":"D136","v":0.36527584109360112},{"$f":"D137","v":1.1299062575433021},{"$f":"D138","v":0.8248522376025581},{"$f":"D139","v":0},{"$f":"D140","v":0.20883692047211605},{"$f":"D141","v":2.405188279338097},{"$f":"D142","v":1.0805443476683549},{"$f":"E141","v":0},{"$f":"D144","v":0.39052567277197753},{"$f":"D145","v":0.75871185319473211},{"$f":"D146","v":6.659849136348929E-2}]
[]
[7]
[]
["Check"]
["Category","Calculated ","Accepted (larger values of calculated vs recycled","Percent","Waste Comp Percent","Percentage Point Difference"]
["Newspaper",{"$f":"$B$8*D105*D129/2000","v":26235.129999999997},{"$f":"B156","v":26235.129999999997},{"$f":"C156/$C$175","v":3.7269972355008903E-2},{"$f":"J80","v":3.726997235500891E-2},{"$f":"ABS(D156-E156)","v":6.9388939039072284E-18}]
["Glass",18645.560000000005,18645.560000000005,2.6488128922694879E-2,2.6488128922694872E-2,6.9388939039072284E-18]
["Aluminum Cans",4043.4700000000003,4043.4700000000003,5.7442069133374933E-3,5.7442069133374933E-3,0]
["Plastic Bottles",9092.41,9092.41,1.2916797795185559E-2,1.2916797795185559E-2,0]
["Steel Cans",5538.73,5538.73,7.8683930280451612E-3,7.8683930280451612E-3,0]
["Corrugated Paper",46926.65,46926.65,6.6664619089487218E-2,6.6664619089487218E-2,0]
["Office Paper",25566.340000000004,25566.340000000004,3.6319880443464868E-2,3.6319880443464868E-2,0]
["Yard Waste",36370.400000000001,36370.400000000001,5.1668270846785054E-2,5.1668270846785054E-2,0]
["Other Plastics",45070.89,45070.89,6.4028301911050078E-2,6.4028301911050078E-2,0]
["Ferrous Metal",{"$f":"(B8*D116*D138/2000)+E89","v":50347.47},50347.47,7.1524281184985189E-2,7.1524281184985189E-2,0]
["White Goods",{"$f":"B8*C115/2000","v":6885.1059813084121},6885.1059813084121,9.7810725384120823E-3,0,9.7810725384120823E-3]
["Non-ferrous Metal",{"$f":"(B8*D140*D114/2000)+E91","v":21285.260000000002},21285.260000000002,3.0238121624294484E-2,3.0238121624294484E-2,0]
["Other Paper",{"$f":"$B$8*D117*D141/2000","v":116322.46000000002},116322.46000000002,0.16524922378759435,0.1652492237875943,5.5511151231257827E-17]
["Textiles",{"$f":"$B$8*D118*D142/2000","v":22600.550000000003},22600.550000000003,3.2106639978837406E-2,3.2106639978837406E-2,0]
["C&D Debris",{"$f":"B10+(B9*0.075)+(B19*0.075)","v":185331.07500000001},185331.07500000001,0.26328377415221815,0.2399915632622433,2.3292210889974851E-2]
["Food Waste",{"$f":"$B$8*D120*D144/2000","v":54610.560000000005},54610.560000000005,7.7580483172431602E-2,7.7580483172431602E-2,0]
["Miscellaneous",{"$f":"F99-B175","v":20775.84833333327},20775.84833333327,2.9514444679145439E-2,7.3558357803514329E-2,4.4043913124368894E-2]
["Tires",{"$f":"B8*C122/2000","v":8273.4606853582554},8273.4606853582554,1.1753387577021926E-2,7.8275788104003707E-4,1.0970629695981889E-2]
[null,"sum (Minus misc)","TOTAL","TOTAL","TOTAL"]
[null,{"$f":"SUM(B156:B171,B173)","v":683145.52166666684},{"$f":"SUM(C156:C173)","v":703921.37000000011},{"$f":"SUM(D156:D173)","v":0.99999999999999989},{"$f":"SUM(E156:E173)","v":1}]

{"sheet":"21 Orange County Factor","index":21,"n_rows":168,"n_cols":19,"rows_kept":168,"cut":false,"hidden":true,"merged":[[2,1,2,2],[3,1,3,2],[19,1,19,2],[67,1,67,2],[91,1,91,2],[91,9,91,10],[117,1,117,2],[119,1,119,2],[140,1,140,2],[142,1,142,2]]}
[null,"Finding County Factors for Orange"]
[]
[null,1]
[null,"Information from annual solid waste report 2017"]
[null,"County","Orange"]
[null,"Waste comp study",2019]
[null,"Year",2017]
[null,"Population",1313880]
[null,"Landfilled tons ",2302860]
[null,"C&D collected",1029746]
[null,"C&D disposed",{"$f":"C10-C14","v":569601}]
[]
[null,"Recycled tons",{"$f":"1046851","v":1046851}]
[null,"Recycled C&D",460145]
[null,"Combustor input",0]
[null,"Combustor ash",0]
[null,"combustor recy metals",0]
[null,"Total Tons MSW collected",{"$f":"C15-C17+C9+C13","v":3349711}]
[]
[null,2]
[]
[null,"Orange Waste Composition Study Results"]
[null,"FDEP Category","Waste Comp Category","Percentage in waste stream"]
[null,"Newspapers","Newspaper",3.0000000000000001E-3]
[null,"Glass","Green",7.0000000000000001E-3]
[null,null,"Clear ",2.1000000000000001E-2]
[null,null,"Brown",8.0000000000000002E-3]
[null,"Aluminum Cans","Aluminum cans and tin foil",1.0999999999999999E-2]
[null,"Plastic Bottles","#1 PET Bottles",2.7E-2]
[null,null,"#2 HDPE Bottles- translucent ",5.0000000000000001E-3]
[null,null,"#2 HDPE Bottles- colored",4.0000000000000001E-3]
[null,null,"#3-7 (Other Plastic Bottles)",2E-3]
[null,"Steel Cans","Steel/Tin Cans",8.0000000000000002E-3]
[null,"Corrugated Boxes","Corrugated Cardboard (OCC)",5.7000000000000002E-2]
[null,"Office Paper","High Grade Paper (Office Type)",1.4E-2]
[null,"Yard Trash","Yard Trash",2.8000000000000001E-2]
[null,"Other Plastics","Expanded Polystyrene (Food Service)",8.0000000000000002E-3]
[null,null,"Expanded Polystyrene",8.9999999999999993E-3]
[null,null,"Rigid Plastic (Tubs, Cups, Lids)",1.4999999999999999E-2]
[null,null,"Rigid Plastic (Food Service)",1.0999999999999999E-2]
[null,null,"Grocery Bags",1.6E-2]
[null,null,"Other Flexible Plastic",7.9000000000000001E-2]
[null,null,"Other Plastics",5.1999999999999998E-2]
[null,"Ferrous Metals","Other Ferrous Metals",1.2999999999999999E-2]
[null,"White Goods","White Goods",0]
[null,"Nonferrous Metals","Other Non-Ferrous Metals ",5.0000000000000001E-3]
[null,"Other Paper","Polycoated Aseptic Containers",5.0000000000000001E-3]
[null,null,"Food Service Container (Polycoated)",1.0999999999999999E-2]
[null,null,"Other Compsite (Metal Coated)",5.0000000000000001E-3]
[null,null,"Boxboards",2.1999999999999999E-2]
[null,null,"Other Paper",0.154]
[null,"Textiles","Clothing, Footwear, Other Textiles",6.8000000000000005E-2]
[null,"C&D Debris","Wood",1.9E-2]
[null,null,"Asphalt Shingles",1E-3]
[null,null,"Gypsum Drywall",0]
[null,null,"Concrete/Bricks/Ceramics",6.0000000000000001E-3]
[null,"Food Waste","Food Waste",0.10199999999999999]
[null,"Miscellaneous","Animal- By-Product",1.7999999999999999E-2]
[null,null,"Other Organics",3.4000000000000002E-2]
[null,null,"Rubber and Leather",8.9999999999999993E-3]
[null,null,"Small Appliances/Electronics",2.1000000000000001E-2]
[null,null,"Hazardous Waste",0.01]
[null,null,"Residuals ",0.112]
[null,"Tires","Tires",0]
[null,null,null,"sum"]
[null,null,null,{"$f":"SUM(D24:D64)","v":1.0000000000000002}]
[]
[null,"Recycled tons from Orange County"]
[null,"Material","Tons"]
[null,"Newspaper",18899]
[null,"Glass",8656]
[null,"Aluminum Cans",1867]
[null,"Plastic Bottles",2566]
[null,"Steel Cans",1430]
[null,"Corrugated Paper",103407]
[null,"Office Paper",17740]
[null,"Yard Trash",138719]
[null,"Other Plastics",10737]
[null,"Ferrous Metals",107617]
[null,"White Goods",18616]
[null,"NonFerous Metals",15875]
[null,"Other Paper",49464]
[null,"Textiles",3266]
[null,"C&D Debris",460145]
[null,"Food",57023]
[null,"Miscellaneous",21562]
[null,"Tires",9262]
[null,"Total",{"$f":"SUM(C70:C87)","v":1046851}]
[]
[]
[null,null,null,"]"]
[null,3,null,null,null,null,null,null,null,4]
[]
[null,"Calculating waste compositon percentage utalizing waste compsition study"]
[null,"FDEP Category","Landfilled tons\n(PLus combusor ash, minus C&D  disposed)","Collected C&D \n(disposal c&d LANDFILL + recycled)","Combusted\n(minus recycled metals, minus ash)","Recycled Materials\n(Minus recycled c&D)","Total Collected Tons"]
[null,null,{"$f":"C9-C11","v":1733259},{"$f":"C11+C14","v":1029746},{"$f":"C15-C17","v":0},{"$f":"C88-C14","v":586706},null,null,null,"FDEP Category","Percentage"]
[null,"Newspaper",{"$f":"$C$96*D24","v":5199.777},null,{"$f":"$E$96*D24","v":0},{"$f":"C70","v":18899},{"$f":"SUM(C97:F97)","v":24098.777000000002},null,null,"Newspaper",{"$f":"Table512[[#This Row],[Total Collected Tons]]/$G$116","v":7.1942854174584011E-3}]
[null,"Glass",{"$f":"$C$96*SUM(D25:D27)","v":62397.324000000008},null,{"$f":"$E$96*SUM(D25:D27)","v":0},{"$f":"C71","v":8656},{"$f":"SUM(C98:F98)","v":71053.324000000008},null,null,"Glass",{"$f":"Table512[[#This Row],[Total Collected Tons]]/$G$116","v":2.1211777374227209E-2}]
[null,"Aluminum Cans",{"$f":"$C$96*D28","v":19065.848999999998},null,{"$f":"$E$96*D28","v":0},{"$f":"C72","v":1867},{"$f":"SUM(C99:F99)","v":20932.848999999998},null,null,"Aluminum Cans",{"$f":"Table512[[#This Row],[Total Collected Tons]]/$G$116","v":6.2491507476316599E-3}]
[null,"Plastic Bottles",{"$f":"$C$96*SUM(D29:D32)","v":65863.842000000004},null,{"$f":"$E$96*SUM(D29:D32)","v":0},2566,68429.842000000004,null,null,"Plastic Botles",{"$f":"Table512[[#This Row],[Total Collected Tons]]/$G$116","v":2.0428580853691557E-2}]
[null,"Steel Cans",{"$f":"$C$96*D33","v":13866.072},null,{"$f":"$E$96*D33","v":0},1430,15296.072,null,null,"Steel Cans",{"$f":"Table512[[#This Row],[Total Collected Tons]]/$G$116","v":4.5663855777408847E-3}]
[null,"Corrugated Paper",{"$f":"$C$96*D34","v":98795.763000000006},null,{"$f":"$E$96*D34","v":0},103407,202202.76300000001,null,null,"Corrugated Paper",{"$f":"Table512[[#This Row],[Total Collected Tons]]/$G$116","v":6.0364241273351632E-2}]
[null,"Office Paper",{"$f":"$C$96*D35","v":24265.626},null,{"$f":"$E$96*D35","v":0},17740,42005.626000000004,null,null,"Office Paper",{"$f":"Table512[[#This Row],[Total Collected Tons]]/$G$116","v":1.2540074651216178E-2}]
[null,"Yard Trash",{"$f":"$C$96*D36","v":48531.252},null,{"$f":"$E$96*D36","v":0},138719,187250.25200000001,null,null,"Yard Trash",{"$f":"Table512[[#This Row],[Total Collected Tons]]/$G$116","v":5.5900420066089279E-2}]
[null,"Other Plastics",{"$f":"$C$96*SUM(D37:D43)","v":329319.21000000002},null,{"$f":"$E$96*SUM(D37:D43)","v":0},10737,340056.21,null,null,"Other Plastics",{"$f":"Table512[[#This Row],[Total Collected Tons]]/$G$116","v":0.10151807424580807}]
[null,"Ferrous Metals",{"$f":"$C$96*D44","v":22532.366999999998},null,{"$f":"$E$96*D44","v":0},107617,130149.367,null,null,"Ferrous Metals",{"$f":"Table512[[#This Row],[Total Collected Tons]]/$G$116","v":3.885390918798666E-2}]
[null,"White Goods",{"$f":"$C$96*D45","v":0},null,{"$f":"$E$96*D45","v":0},18616,18616,null,null,"White Goods",{"$f":"Table512[[#This Row],[Total Collected Tons]]/$G$116","v":5.5574943629465344E-3}]
[null,"NonFerous Metals",{"$f":"$C$96*D46","v":8666.2950000000001},null,{"$f":"$E$96*D46","v":0},15875,24541.294999999998,null,null,"NonFerous Metals",{"$f":"Table512[[#This Row],[Total Collected Tons]]/$G$116","v":7.3263917394664774E-3}]
[null,"Other Paper",{"$f":"$C$96*SUM(D47:D51)","v":341452.02299999999},null,{"$f":"$E$96*SUM(D47:D51)","v":0},49464,390916.02299999999,null,null,"Other Paper",{"$f":"Table512[[#This Row],[Total Collected Tons]]/$G$116","v":0.11670141782380627}]
[null,"Textiles",{"$f":"$C$96*D52","v":117861.61200000001},null,{"$f":"$E$96*D52","v":0},3266,121127.61200000001,null,null,"Textiles",{"$f":"Table512[[#This Row],[Total Collected Tons]]/$G$116","v":3.6160615647140903E-2}]
[null,"C&D Debris",{"$f":"$C$96*SUM(D53:D56)","v":45064.734000000004},{"$f":"C10","v":1029746},{"$f":"$E$96*SUM(D53:D56)","v":0},0,1074810.7339999999,null,null,"C&D Debris",{"$f":"Table512[[#This Row],[Total Collected Tons]]/$G$116","v":0.32086670581432242}]
[null,"Food",{"$f":"$C$96*D57","v":176792.41799999998},null,{"$f":"$E$96*D57","v":0},{"$f":"C85","v":57023},233815.41799999998,null,null,"Food",{"$f":"Table512[[#This Row],[Total Collected Tons]]/$G$116","v":6.9801668860388244E-2}]
[null,"Miscellaneous",{"$f":"$C$96*SUM(D58:D63)","v":353584.83600000001},null,{"$f":"$E$96*SUM(D58:D63)","v":0},{"$f":"C86","v":21562},375146.83600000001,null,null,"Miscellaneous",{"$f":"Table512[[#This Row],[Total Collected Tons]]/$G$116","v":0.11199379170322453}]
[null,"Tires",{"$f":"$C$96*D64","v":0},null,{"$f":"$E$96*D64","v":0},{"$f":"C87","v":9262},{"$f":"SUM(C114:F114)","v":9262},null,null,"Tires",{"$f":"Table512[[#This Row],[Total Collected Tons]]/$G$116","v":2.7650146535029437E-3}]
[null,null,"Total","Total","Total","Total","Total",null,null,null,"total"]
[null,null,{"$f":"SUM(C97:C114)","v":1733259},{"$f":"D111","v":1029746},{"$f":"SUM(E97:E114)","v":0},{"$f":"SUM(F97:F114)","v":586706},{"$f":"SUM(G97:G114)","v":3349711.0000000005},null,null,null,{"$f":"SUM(K97:K114)","v":0.99999999999999978}]
[]
[null,5]
[]
[null,"US EPA Data and Moisture Content"]
[null,"Category","Moisture Content  (MC) ","US EPA DATA (lbs-dry/person)","US EPA DATA             (lbs-WET/person)    [US EPA DATA/(1-MC)"]
[null,"Newspaper",0.27850000000000003,41.931464174454831,58.117067462861854]
[null,"Glass",3.2000000000000001E-2,56.822429906542055,58.700857341469067]
[null,"Aluminum Cans",0.129,8.4112149532710276,9.6569632069701807]
[null,"Plastic Bottles",4.8000000000000001E-2,23.302180685358255,24.477080551846907]
[null,"Steel Cans",5.8000000000000003E-2,10.841121495327103,11.508621544933231]
[null,"Corrugated Paper",0.24049999999999999,195.20249221183801,257.01447295831201]
[null,"Office Paper",0.13400000000000001,28.22429906542056,32.591569359608037]
[null,"Yard Waste",0.50600000000000001,216.3239875389408,437.90280878328099]
[null,"Other Plastics",0.11700000000000001,154.90485396035913,175.43018568557093]
[null,"Non-ferrous Metal",5.3999999999999999E-2,46.762277712979795,49.431583206109721]
[null,"White Goods","x",30.280373831775702,30.280373831775702]
[null,"Ferrous Metal",0.16900000000000001,12.133426323463874,14.600994372399368]
[null,"Other Paper",0.2545,158.56697819314641,212.69883057430772]
[null,"Textiles",0.17,76.349308411214949,91.987118567728857]
[null,"C&D Debris",8.8999999999999996E-2,"-","-"]
[null,"Food Waste",0.59750000000000003,247.53894080996884,615.00357965209651]
[null,"Miscellaneous",0.313,206.19904324930312,300.14416775735532]
[null,"Tires","x",36.386292834890966,36.386292834890966]
[]
[null,6]
[]
[null,"Finding County Factor"]
[null,"Category","tons-DRY/county-us data ","tons-WET/county-us data ","County Factor","Category   "]
[null,"equation","US DATA * County Population/2000","tons-DRY/(1-MoistureContent)","ton-wet-composition/tons-wet-Usdata"]
[null,"Newspaper ",{"$f":"D122*$C$8/2000","v":27546.456074766356},{"$f":"C146/(1-C122)","v":38179.426299052466},{"$f":"G97/D146","v":0.63119798635104385},"Newspaper "]
[null,"Glass ",{"$f":"D123*$C$8/2000","v":37328.92710280374},{"$f":"C147/(1-C123)","v":38562.941221904694},{"$f":"G98/D147","v":1.8425286492317652},"Glass "]
[null,"Aluminum Cans ",5525.6635514018681,6344.0454091869897,3.299605795646821,"Aluminum Cans "]
[null,"Plastic Bottles ",15308.134579439253,16079.973297730308,4.2555942558473587,"Plastic Bottles "]
[null,"Steel Cans ",7121.9663551401873,7560.4738377284366,2.0231631413985216,"Steel Cans "]
[null,"Corrugated Paper",128236.32523364486,168843.08786523351,1.1975779734696239,"Corrugated Paper"]
[null,"Office Paper ",18541.671028037385,21410.705575100907,1.9618982593852252,"Office Paper "]
[null,"Yard Waste ",142111.88037383178,287675.8712020886,0.65090704763507645,"Yard Waste "]
[null,"Other Plastics ",101763.19476071832,115247.10618427896,2.9506702706812749,"Other Plastics "]
[null,"Ferrous Metal ",{"$f":"D133*$C$8/2000","v":7970.9330889363573},{"$f":"C155/(1-C133)","v":9591.9772430040412},{"$f":"C106/D155","v":2.3490847016379339},"Ferrous Metal "]
[null,"White Goods ",{"$f":"D132*$C$8/2000","v":19892.388785046729},{"$f":"Table714[[#This Row],[tons-DRY/county-us data ]]","v":19892.388785046729},{"$f":"G107/Table714[[#This Row],[tons-WET/county-us data ]]","v":0.93583531878251847},"White Goods "]
[null,"Non-ferrous Metal ",{"$f":"D131*$C$8/2000","v":30720.010720764945},{"$f":"C157/(1-C131)","v":32473.584271421721},{"$f":"C108/D157","v":0.26687214221765926},"Non-ferrous Metal "]
[null,"Other Paper ",{"$f":"D134*$C$8/2000","v":104168.99065420561},{"$f":"C158/(1-C134)","v":139730.36975748572},{"$f":"G109/D158","v":2.7976453771536489},"Other Paper "]
[null,"Textiles ",50156.91466766355,{"$f":"C159/(1-C135)","v":60430.017671883797},{"$f":"G110/D159","v":2.0044278765180126},"Textiles "]
[null,"C&D Debris",{"$error":"#VALUE!"},{"$f":"C160/(1-C136)","v":{"$error":"#VALUE!"}},{"$f":"#REF!/D160","v":{"$error":"#REF!"}},"C&D Debris"]
[null,"Food Waste",162618.23177570093,{"$f":"C161/(1-C137)","v":404020.45161664829},{"$f":"G112/D161","v":0.5787217381308557},"Food Waste"]
[null,"Miscellaneous ",135460.39947219717,{"$f":"C162/(1-C138)","v":197176.70956651698},{"$f":"G113/D162","v":1.9025920293768031},"Miscellaneous "]
[null,"Tires ",23903.611214953271,{"$f":"Table714[[#This Row],[tons-DRY/county-us data ]]","v":23903.611214953271},{"$f":"G114/Table714[[#This Row],[tons-WET/county-us data ]]","v":0.38747283482447265},"Tires "]
[]
[]
[null,"Link to \"New WasteCalc County Factors\""]
[null,"Newspaper","Glass","Aluminum Cans","Plastic Bottles","Steel Cans","Corrugated Paper","Office Paper","Yard Waste","Other Plastics","Ferrous Metals","White Goods","Non-Ferrous Metal","Other Paper","Textiles","C&D Debris","Food Waste","Misc","Tires"]
[null,{"$f":"E146","v":0.63119798635104385},{"$f":"E147","v":1.8425286492317652},{"$f":"E148","v":3.299605795646821},{"$f":"E149","v":4.2555942558473587},{"$f":"E150","v":2.0231631413985216},{"$f":"E151","v":1.1975779734696239},{"$f":"E152","v":1.9618982593852252},{"$f":"E153","v":0.65090704763507645},{"$f":"E154","v":2.9506702706812749},{"$f":"E155","v":2.3490847016379339},{"$f":"E156","v":0.93583531878251847},{"$f":"E157","v":0.26687214221765926},{"$f":"E158","v":2.7976453771536489},{"$f":"E159","v":2.0044278765180126},{"$f":"E160","v":{"$error":"#REF!"}},{"$f":"E161","v":0.5787217381308557},{"$f":"E162","v":1.9025920293768031},{"$f":"E163","v":0.38747283482447265}]

{"sheet":"22 Miami-Dade County Factor","index":22,"n_rows":182,"n_cols":18,"rows_kept":182,"cut":false,"hidden":true,"merged":[[2,0,2,1],[20,0,20,1],[79,0,79,1],[79,8,79,9],[82,1,84,1],[82,2,84,2],[82,3,84,3],[82,4,84,4],[83,8,83,10],[57,0,57,1],[159,0,159,1],[107,0,107,1],[109,0,109,1],[131,0,131,1],[133,0,133,1]]}
["Finding County Factors for Miami Dade County"]
[]
[1]
["Information from annual solid waste report 2017"]
["County","Miami Dade"]
["Waste comp study",2010]
["Year",2017]
["Population",2733125]
["Landfilled tons",3314773]
["C&D collected",708736]
["C&D disposed",602380]
[]
["Recycled tons",870817]
["Recycled C&D",106356]
["combustor recy metals",0]
["Combustor input",968180]
["Combustor ash",140297]
["Combusted ( -metals,- process fuel)"]
["Total Tons MSW collected",{"$f":"B13+(B9-B17)+(B16-B20)","v":4964546}]
["Processed Fuel",48927]
[2]
[]
["Miami Dade Waste Composition Study Results"]
["FDEP Categorty","Waste Comp Category","Percentage in waste stream"]
["Newspaper","Newspaper",3.2000000000000001E-2]
["Corrugated Cardboard","Corrugated Cardboard",7.1999999999999995E-2]
["Office Paper","Office Paper",3.3000000000000002E-2]
["Other Paper","Other recyclable paper",5.1999999999999998E-2]
[null,"non recyclable paper",0.13400000000000001]
[null,"aseptic containers",6.0000000000000001E-3]
["Glass Packaging","reyclable glass containers",0.04]
[null,"other glass",3.0000000000000001E-3]
["Steel Cans","tin/steel cans",1.4E-2]
["Other Ferrous","Other Ferrous",0.01]
["Aluminum Cans","Aluminum Cans",5.0000000000000001E-3]
["Other Non-Ferrous","Other Nonferrous",6.0000000000000001E-3]
["Textiles","textiles",3.4000000000000002E-2]
["Yard Trash","Yard Waste-accepted",6.3E-2]
[null,"yard waste non processable",0]
["Food Waste","Food Waste",0.14699999999999999]
["Tires","Tires/rubber",4.0000000000000001E-3]
["White Goods","White Goods",0]
["Plastic Containers","other narrow neck pplastic",6.0000000000000001E-3]
[null,"hdpe containers",1.2E-2]
[null,"pet containers",1.9E-2]
["Other Plastic","all other plastic",3.1E-2]
[null,"non rigid plastic",7.6999999999999999E-2]
[null,"styrofoam",1.4999999999999999E-2]
["C&D","C&D Debris",7.9000000000000001E-2]
["MISC","household hazardous waste",3.0000000000000001E-3]
[null,"electronics",1.4999999999999999E-2]
[null,"household batteries",0]
[null,"ALL OTHER garbage",7.4999999999999997E-2]
[null,"grit",1.4999999999999999E-2]
[null,null,"TOTAL"]
[null,null,{"$f":"SUM(C25:C54)","v":1.002}]
[]
["Recycled tons from Miami-Dade "]
["Material","Tons"]
["Newspaper",6424]
["Glass",14426]
["Aluminum Cans",1343]
["Plastic Bottles",4023]
["Steel Cans",155667]
["Corrugated Paper",109196]
["Office Paper",14566]
["Yard Trash",107370]
["Other Plastics",5298]
["Ferrous Metals",226587]
["White Goods",31753]
["NonFerous Metals",51643]
["Other Paper",20775]
["Textiles",5835]
["C&D Debris"]
["Food",0]
["Miscellaneous",9126]
["Tires",429]
["Total",{"$f":"SUM(B60:B77)","v":764461}]
[]
[3,null,null,null,null,null,null,null,4]
[]
["Calculating waste compositon percentage utalizing waste compsition study"]
[null,"Landfilled tons\n(PLUS combusor ash, minus C&D  disposed)","Collected C&D \n(disposal + recycled)","Combusted\n(minus recycled metals,minus combustor ash)","Recycled Materials\n(Minus recycled c&D)"]
[]
["FDEP Category",null,null,null,null,"Sum"]
[null,{"$f":"B9+B17-B11","v":2852690},{"$f":"B11+B14","v":708736},{"$f":"B16-B15-B17","v":827883},{"$f":"B13-B14","v":764461},null,null,null,"FDEP Category","Percentage"]
["Newspaper",{"$f":"C25*B86","v":91286.080000000002},null,{"$f":"C25*D86","v":26492.256000000001},{"$f":"B60","v":6424},{"$f":"SUM(B87:E87)","v":124202.33600000001},null,null,"Newspaper",{"$f":"F87/$F$106","v":2.4064944774026872E-2}]
["Glass",{"$f":"SUM(C31:C32)*B86","v":122665.67000000001},null,{"$f":"SUM(C31:C32)*D86","v":35598.969000000005},14426,{"$f":"SUM(B88:E88)","v":172690.63900000002},null,null,"Glass",3.3459843223290188E-2]
["Aluminum Cans",{"$f":"C35*B86","v":14263.45},null,{"$f":"C35*D86","v":4139.415},1343,19745.865000000002,null,null,"Aluminum Cans",3.8258793356381808E-3]
["Plastic Bottles",{"$f":"SUM(C43:C45)*B86","v":105549.53000000001},null,{"$f":"SUM(C43:C45)*D86","v":30631.671000000006},4023,140204.20100000003,null,null,"Plastic Botles",2.7165401737303585E-2]
["Steel Cans",{"$f":"C33*B86","v":39937.660000000003},null,{"$f":"C33*D86","v":11590.362000000001},155667,207195.022,null,null,"Steel Cans",4.0145273611305363E-2]
["Corrugated Paper",{"$f":"C26*B86","v":205393.68},null,{"$f":"C26*D86","v":59607.575999999994},109196,374197.25599999999,null,null,"Corrugated Paper",7.2502954374645531E-2]
["Office Paper",{"$f":"C27*B86","v":94138.77},null,{"$f":"C27*D86","v":27320.139000000003},14566,136024.90900000001,null,null,"Office Paper",2.6355638938844361E-2]
["Yard Trash",{"$f":"SUM(C38:C39)*B86","v":179719.47},null,{"$f":"SUM(C38:C39)*D86","v":52156.629000000001},107370,339246.09899999999,null,null,"Yard Trash",6.5730958854421637E-2]
["Other Plastics",{"$f":"SUM(C46:C48)*B86","v":350880.87},null,{"$f":"SUM(C46:C48)*D86","v":101829.609},5298,458008.47899999999,null,null,"Other Plastics",8.8741879646861435E-2]
["Ferrous Metals",{"$f":"C34*B86","v":28526.9},null,{"$f":"C34*D86","v":8278.83},226587,263392.73,null,null,"Ferrous Metals",5.103391534705249E-2]
["White Goods",{"$f":"C42*B86","v":0},null,{"$f":"C42*D86","v":0},31753,31753,null,null,"White Goods",6.1523334908103111E-3]
["NonFerous Metals",{"$f":"C36*B86","v":17116.14},null,{"$f":"C36*D86","v":4967.2979999999998},51643,73726.437999999995,null,null,"NonFerous Metals",1.4284937916592131E-2]
["Other Paper",{"$f":"SUM(C28:C30)*B86","v":547716.48},null,{"$f":"SUM(C28:C30)*D86","v":158953.53599999999},20775,727445.01599999995,null,null,"Other Paper",0.14094681871507708]
["Textiles",{"$f":"C37*B86","v":96991.46},null,{"$f":"C37*D86","v":28148.022000000001},5835,130974.482,null,null,"Textiles",2.5377088528647129E-2]
["C&D Debris",{"$f":"SUM(C49)*B86","v":225362.51},{"$f":"C86","v":708736},{"$f":"C49*D86","v":65402.756999999998},0,999501.26699999999,null,null,"C&D Debris",0.19365934302495635]
["Food",{"$f":"C40*B86","v":419345.43},null,{"$f":"C40*D86","v":121698.80099999999},0,541044.23100000003,null,null,"Food",0.10483055277898184]
["Miscellaneous",{"$f":"SUM(C50:C54)*B86","v":308090.52},null,{"$f":"SUM(C50:C54)*D86","v":89411.364000000001},9126,406627.88400000002,null,null,"Miscellaneous",7.8786582339638159E-2]
["Tires",{"$f":"C41*B86","v":11410.76},null,{"$f":"C41*D86","v":3311.5320000000002},429,15151.292000000001,null,null,"Tires",2.9356533619074214E-3]
[null,"Total","total","total","total","totalMsw collected",null,null,null,"total"]
[null,{"$f":"SUM(B87:B104)","v":2858395.38},{"$f":"C101","v":708736},{"$f":"SUM(D87:D104)","v":829538.76599999995},{"$f":"SUM(E87:E104)","v":764461},{"$f":"SUM(F87:F104)","v":5161131.1459999997},null,null,null,{"$f":"SUM(J87:J104)","v":1.0000000000000002}]
[]
[5]
[]
["US EPA Data and Moisture Content"]
["Category","Moisture Content  (MC) ","US EPA DATA (lbs-dry/person)","US EPA DATA             (lbs-WET/person)    [US EPA DATA/(1-MC)"]
["Newspaper",0.27850000000000003,41.931464174454831,58.117067462861854]
["Glass",3.2000000000000001E-2,56.822429906542055,58.700857341469067]
["Aluminum Cans",0.129,8.4112149532710276,9.6569632069701807]
["Plastic Bottles",4.8000000000000001E-2,23.302180685358255,24.477080551846907]
["Steel Cans",5.8000000000000003E-2,10.841121495327103,11.508621544933231]
["Corrugated Paper",0.24049999999999999,195.20249221183801,257.01447295831201]
["Office Paper",0.13400000000000001,28.22429906542056,32.591569359608037]
["Yard Waste",0.50600000000000001,216.3239875389408,437.90280878328099]
["Other Plastics",0.11700000000000001,154.90485396035913,175.43018568557093]
["Non-ferrous Metal",5.3999999999999999E-2,46.762277712979795,49.431583206109721]
["White Goods","x",30.280373831775702,30.280373831775702]
["Ferrous Metal",0.16900000000000001,12.133426323463874,14.600994372399368]
["Other Paper",0.2545,158.56697819314641,212.69883057430772]
["Textiles",0.17,76.349308411214949,91.987118567728857]
["C&D Debris",8.8999999999999996E-2,"-","-"]
["Food Waste",0.59750000000000003,247.53894080996884,615.00357965209651]
["Miscellaneous",0.313,206.19904324930312,300.14416775735532]
["Tires","x",36.386292834890966,36.386292834890966]
[]
[]
[6]
[]
["Findig County Factor"]
["Category","tons-DRY/county-us data ","tons-WET/county-us data ","County Factor"]
["equation","US DATA * County Population/2000","tons-DRY/(1-MoistureContent)","ton-wet-composition/tons-wet-Usdata"]
["Newspaper",{"$f":"C112*$B$8/2000","v":57301.966510903432},{"$f":"B137/(1-B112)","v":79420.605004717159},{"$f":"F87/C137","v":1.5638553243534603}]
["Glass",77651.401869158872,80218.39036070132,2.1527562224010981]
["Aluminum Cans",11494.450934579439,13196.843782525189,1.4962566296455522]
["Plastic Bottles",31843.88629283489,33449.460391633293,4.1915235510067985]
["Steel Cans",14815.070093457945,15727.250629997819,13.174268463987003]
["Corrugated Paper",266756.40576323983,351226.34070209321,1.0654020289366353]
["Office Paper",38570.268691588783,44538.416502989356,3.0541029448334838]
["Yard Waste",295620.24922118377,598421.5571279024,0.56690153447712766]
["Other Plastics",211687.16449020329,239736.31312593803,1.9104676843820463]
["Ferrous Metal",{"$f":"C123*$B$8/2000","v":16581.085410158601},{"$f":"B146/(1-B123)","v":19953.171372032011},{"$f":"(B96+D96)/C146","v":1.8446055172758107}]
["White Goods",{"$f":"C122*$B$8/2000","v":41380.023364485976},{"$f":"B147","v":41380.023364485976},{"$f":"F97/C147","v":0.76735094420588756}]
["Non-ferrous Metal",{"$f":"C121*$B$8/2000","v":63903.575137143955},{"$f":"B148/(1-B121)","v":67551.347925099326},{"$f":"B98/C148","v":0.25337969597554605}]
["Other Paper",{"$f":"C124*$B$8/2000","v":216691.68613707164},{"$f":"B149/(1-B124)","v":290666.24565670238},{"$f":"F99/C149","v":2.5026814322952537}]
["Textiles",104336.10177570092,{"$f":"B150/(1-B125)","v":125706.14671771196},{"$f":"F100/C150","v":1.041909925805925}]
["C&D Debris",{"$error":"#VALUE!"},{"$f":"B151/(1-B126)","v":{"$error":"#VALUE!"}},{"$f":"#REF!/C151","v":{"$error":"#REF!"}}]
["Food Waste",338277.43380062305,{"$f":"B152/(1-B127)","v":840440.82931831817},{"$f":"F102/C152","v":0.64376243053165461}]
["Miscellaneous",281783.88004037575,{"$f":"B153/(1-B128)","v":410165.76425091078},{"$f":"F103/C153","v":0.99137451108974928}]
["Tires",49724.143302180688,{"$f":"B154","v":49724.143302180688},{"$f":"F104/C154","v":0.30470694905538032}]
[]
["Link to \"New WasteCalc County Factors\""]
["Newspaper","Glass","Aluminum Cans","Plastic Bottles","Steel Cans","Corrugated Paper","Office Paper","Yard Waste","Other Plastics","Ferrous Metals","White Goods","Non-Ferrous Metal","Other Paper","Textiles","C&D Debris","Food Waste","Misc","Tires"]
[{"$f":"D137","v":1.5638553243534603},{"$f":"D138","v":2.1527562224010981},{"$f":"D139","v":1.4962566296455522},{"$f":"D140","v":4.1915235510067985},{"$f":"D141","v":13.174268463987003},{"$f":"D142","v":1.0654020289366353},{"$f":"D143","v":3.0541029448334838},{"$f":"D144","v":0.56690153447712766},{"$f":"D145","v":1.9104676843820463},{"$f":"D146","v":1.8446055172758107},{"$f":"D147","v":0.76735094420588756},{"$f":"D148","v":0.25337969597554605},{"$f":"D149","v":2.5026814322952537},{"$f":"D150","v":1.041909925805925},{"$f":"D151","v":{"$error":"#REF!"}},{"$f":"D152","v":0.64376243053165461},{"$f":"D153","v":0.99137451108974928},{"$f":"D154","v":0.30470694905538032}]
[]
[7]
[]
["Category","Calculated ","Accepted (larger values of calculated vs recycled","Percent","Waste Comp Percent","Percentage Point Difference"]
["Newspaper",{"$f":"$B$8*D112*D137/2000","v":124202.336},{"$f":"B163","v":124202.336},{"$f":"C163/$C$182","v":2.5017863869123178E-2},{"$f":"J87","v":2.4064944774026872E-2},{"$f":"ABS(D163-E163)","v":9.5291909509630582E-4}]
["Glass",172690.63900000002,172690.63900000002,3.4784779716010288E-2,3.3459843223290188E-2,1.3249364927200996E-3]
["Aluminum Cans",19745.864999999998,19745.864999999998,3.9773757761535494E-3,3.8258793356381808E-3,1.5149644051536864E-4]
["Plastic Bottles",140204.201,140204.201,2.8241092136118792E-2,2.7165401737303585E-2,1.0756903988152072E-3]
["Steel Cans",207195.02199999997,207195.02199999997,4.1734938501929476E-2,4.0145273611305363E-2,1.5896648906241137E-3]
["Corrugated Paper",374197.25600000005,374197.25600000005,7.5373912539031779E-2,7.2502954374645531E-2,2.8709581643862475E-3]
["Office Paper",136024.90900000004,136024.90900000004,2.7399264504750293E-2,2.6355638938844361E-2,1.0436255659059326E-3]
["Yard Waste",339246.09899999999,339246.09899999999,6.8333760831302603E-2,6.5730958854421637E-2,2.6028019768809668E-3]
["Other Plastics",458008.47899999999,458008.47899999999,9.2255863678169167E-2,8.8741879646861435E-2,3.513984031307732E-3]
["Ferrous Metal",{"$f":"(B8*D123*D146/2000)+E96","v":263392.73},263392.73,5.3054746597171215E-2,5.103391534705249E-2,2.0208312501187251E-3]
["White Goods",{"$f":"B8*C122/2000","v":41380.023364485976},41380.023364485976,8.3351072513953902E-3,6.1523334908103111E-3,2.1827737605850791E-3]
["Non-ferrous Metal",{"$f":"(B8*D148*D121/2000)+E98","v":68759.14},68759.14,1.3850035834092382E-2,1.4284937916592131E-2,4.3490208249974925E-4]
["Other Paper",{"$f":"$B$8*D124*D149/2000","v":727445.01599999995},727445.01599999995,0.1465280039705544,0.14094681871507708,5.5811852554773222E-3]
["Textiles",{"$f":"$B$8*D125*D150/2000","v":130974.482},130974.482,2.638196564197411E-2,2.5377088528647129E-2,1.004877113326981E-3]
["C&D Debris",{"$f":"B10+(B9*0.075)+(B18*0.075)","v":957343.97499999998},957343.97499999998,0.19283615762649797,0.19365934302495635,8.2318539845838146E-4]
["Food Waste",{"$f":"$B$8*D127*D152/2000","v":541044.23100000003},541044.23100000003,0.10898161302161366,0.10483055277898184,4.1510602426318155E-3]
["Miscellaneous",{"$f":"B19-B182","v":212967.45333333313},212967.45333333313,4.2897669461282692E-2,7.8786582339638159E-2,3.5888912878355467E-2]
["Tires",{"$f":"B8*C129/2000","v":49724.143302180688},49724.143302180688,1.0015849042829029E-2,2.9356533619074214E-3,7.0801956809216074E-3]
[null,"sum (Minus misc)","TOTAL","TOTAL","TOTAL"]
[null,{"$f":"SUM(B163:B178,B180)","v":4751578.5466666669},{"$f":"SUM(C163:C180)","v":4964546},{"$f":"SUM(D163:D180)","v":1.0000000000000002},{"$f":"SUM(E163:E180)","v":1.0000000000000002}]

{"sheet":"23 Hillsborough County Factor","index":23,"n_rows":191,"n_cols":18,"rows_kept":191,"cut":false,"hidden":true,"merged":[[2,0,2,1],[20,0,20,1],[85,0,85,1],[85,8,85,9],[88,1,90,1],[88,2,90,2],[88,3,90,3],[88,4,90,4],[89,8,89,10],[166,0,166,1],[168,0,168,1],[63,0,63,1],[114,0,114,1],[116,0,116,1],[138,0,138,1],[140,0,140,1]]}
["Finding County Factors for Hillsborough County"]
[]
[1]
["Information from annual solid waste report 2017"]
["County","Hllsborough"]
["Waste comp study",2015]
["Year",2017]
["Population",1379302]
["Landfilled tons",905603]
["C&D collected",753217]
["C&D disposed",99081]
[]
["Recycled tons",1551822]
["Recycled C&D",654136]
["combustor recy metals",170630]
["Combustor input",828669]
["Combustor ash",44850]
["Total Tons MSW collected",{"$f":"B9+B13+B16","v":3286094}]
["Combusted minus ash and recy",{"$f":"B16-B17-B15","v":613189}]
[]
[2]
[]
["HIllsborough Waste Composition Study Results"]
["FDEP Categorty","Waste Comp Category","Percentage in waste stream"]
["Newspaper","Newspaper",2.8000000000000001E-2]
["Corrugated Cardboard","Corrugated Cardboard",8.8999999999999996E-2]
["Office Paper","Office Paper",2.5000000000000001E-2]
["Other Paper","other recyclable paper",8.1000000000000003E-2]
[null,"low grade paper",0.09]
[null,"aseptic containers",3.0000000000000001E-3]
["Glass Packaging"," glass containers",4.2999999999999997E-2]
[null,"other glass",4.0000000000000001E-3]
["Steel Cans","tin/steel cans",1.4E-2]
["Other Ferrous","Other Ferrous",8.0000000000000002E-3]
["Aluminum Cans","Aluminum Cans",8.0000000000000002E-3]
["Other Non-Ferrous","Other Nonferrous",4.0000000000000001E-3]
["Textiles","textiles",4.1000000000000002E-2]
["Yard Trash","yard waste",5.7000000000000002E-2]
["Food Waste","Food Waste",0.14099999999999999]
["Tires","Tires/rubber",2E-3]
["White Goods","White Goods/small appliances",5.0000000000000001E-3]
["Plastic Bottles","colored HDPE bottles",1.0999999999999999E-2]
[null,"natural HDPE Bottles",6.0000000000000001E-3]
[null,"PET bottles ",2.1000000000000001E-2]
["Other Plastic","non-bottle plastic #1",7.0000000000000001E-3]
[null,"non bottle plastic #2",2E-3]
[null,"other plastic containers #3-#7",1.4E-2]
[null,"bulky rigid plastics",1.7999999999999999E-2]
[null,"non rigid plastic film",6.7000000000000004E-2]
[null,"all other plastic",7.0000000000000001E-3]
["C&D","clean wood waste",1.4E-2]
[null,"treated wood waste",2.1000000000000001E-2]
[null,"C&D debris",2.8000000000000001E-2]
["MISC","expanded polyesterene",1.4999999999999999E-2]
[null,"special wastes",6.0000000000000001E-3]
[null,"electronics",1.4999999999999999E-2]
[null,"household batteries",1E-3]
[null,"all other garbage",8.2000000000000003E-2]
[null,"liquids",1.4E-2]
[null,"grit",5.0000000000000001E-3]
[null,null,"total"]
[null,null,{"$f":"SUM(C25:C60)","v":0.997}]
[]
["Recycled tons from Hillsborough"]
["Material","Tons"]
["Newspaper",21084]
["Glass",14673]
["Aluminum Cans",2150]
["Plastic Bottles",1180]
["Steel Cans",1613]
["Corrugated Paper",84924]
["Office Paper",12056]
["Yard Trash",177260]
["Other Plastics",15257]
["Ferrous Metals",282445]
["White Goods",82]
["NonFerous Metals",32098]
["Other Paper",27797]
["Textiles",1149]
["C&D Debris"]
["Food",4876]
["Miscellaneous",217896]
["Tires",1146]
["Total",{"$f":"SUM(B66:B83)","v":897686}]
[]
[3,null,null,null,null,null,null,null,4]
[]
["Calculating waste compositon percentage utalizing waste compsition study"]
[null,"Landfilled tons\n(PLUS combusor ash, minus C&D  disposed)","Collected C&D \n(disposal + recycled)","Combusted\n(minus recycled metals,minus combustor ash)","Recycled Materials\n(Minus recycled c&D)"]
[]
["Category",null,null,null,null,"Sum"]
[null,{"$f":"B9+B17-B11","v":851372},{"$f":"B11+B14","v":753217},{"$f":"B16-B15-B17","v":613189},{"$f":"B13-B14","v":897686}]
["FDEP Category",null,null,null,null,null,null,null,"FDEP Category","Percentage"]
["Newspaper",{"$f":"C25*B92","v":23838.416000000001},null,{"$f":"C25*D92","v":17169.292000000001},21084,{"$f":"SUM(B94:E94)","v":62091.707999999999},null,null,"Newspaper",{"$f":"F94/$F$113","v":1.9958310701210676E-2}]
["Glass",{"$f":"SUM(C31:C32)*B92","v":40014.483999999997},null,{"$f":"SUM(C31:C32)*D92","v":28819.883000000002},14673,83507.366999999998,null,null,"Glass",2.6842005641494471E-2]
["Aluminum Cans",{"$f":"C35*B92","v":6810.9760000000006},null,{"$f":"C35*D92","v":4905.5119999999997},2150,13866.488000000001,null,null,"Aluminum Cans",4.4571438723929038E-3]
["Plastic Bottles",{"$f":"SUM(C42:C44)*B92","v":32352.136000000006},null,{"$f":"SUM(C42:C44)*D92","v":23301.182000000004},1180,56833.318000000014,null,null,"Plastic Botles",1.8268091752681528E-2]
["Steel Cans",{"$f":"C33*B92","v":11919.208000000001},null,{"$f":"C33*D92","v":8584.6460000000006},1613,22116.853999999999,null,null,"Steel Cans",7.1090820027903592E-3]
["Corrugated Paper",{"$f":"C26*B92","v":75772.107999999993},null,{"$f":"C26*D92","v":54573.820999999996},84924,215269.929,null,null,"Corrugated Paper",6.9194813059572507E-2]
["Office Paper",{"$f":"C27*B92","v":21284.300000000003},null,{"$f":"C27*D92","v":15329.725},12056,48670.025000000001,null,null,"Office Paper",1.5644141739275256E-2]
["Yard Trash",{"$f":"C38*B92","v":48528.204000000005},null,{"$f":"C38*D92","v":34951.773000000001},177260,260739.97700000001,null,null,"Yard Trash",8.381037727602092E-2]
["Other Plastics",{"$f":"SUM(C45:C50)*B92","v":97907.78},null,{"$f":"SUM(C45:C50)*D92","v":70516.735000000001},15257,183681.51500000001,null,null,"Other Plastics",5.9041261136496513E-2]
["Ferrous Metals",{"$f":"C34*B92","v":6810.9760000000006},null,{"$f":"C34*D92","v":4905.5119999999997},282445,294161.48800000001,null,null,"Ferrous Metals",9.4553146675147942E-2]
["White Goods",{"$f":"C41*B92","v":4256.8599999999997},null,{"$f":"C41*D92","v":3065.9450000000002},82,7404.8050000000003,null,null,"White Goods",2.3801471022810057E-3]
["NonFerous Metals",{"$f":"C36*B92","v":3405.4880000000003},null,{"$f":"C36*D92","v":2452.7559999999999},32098,37956.243999999999,null,null,"NonFerous Metals",1.2200381261906397E-2]
["Other Paper",{"$f":"SUM(C28:C30)*B92","v":148138.728},null,{"$f":"SUM(C28:C30)*D92","v":106694.886},27797,282630.614,null,null,"Other Paper",9.0846745718219643E-2]
["Textiles",{"$f":"C37*B92","v":34906.252},null,{"$f":"C37*D92","v":25140.749},1149,61196.001000000004,null,null,"Textiles",1.9670401104598369E-2]
["C&D Debris",{"$f":"SUM(C51:C53)*B92","v":53636.436000000002},{"$f":"C92","v":753217},{"$f":"SUM(C51:C53)*D92","v":38630.906999999999},null,845484.34299999999,null,null,"C&D Debris",0.27176638804335967]
["Food",{"$f":"C39*B92","v":120043.45199999999},null,{"$f":"C39*D92","v":86459.64899999999},4876,211379.10099999997,null,null,"Food",6.794417337497935E-2]
["Miscellaneous",{"$f":"SUM(C54:C60)*B92","v":117489.33600000001},null,{"$f":"SUM(C54:C60)*D92","v":84620.082000000009},217896,420005.41800000001,null,null,"Miscellaneous",0.13500351171908273]
["Tires",{"$f":"C40*B92","v":1702.7440000000001},null,{"$f":"C40*D92","v":1226.3779999999999},1146,4075.1220000000003,null,null,"Tires",1.3098778184896936E-3]
[null,"Total","total","total","total","totalMsw collected",null,null,null,"total"]
[null,{"$f":"SUM(B94:B111)","v":848817.88399999996},{"$f":"C108","v":753217},{"$f":"SUM(D94:D111)","v":611349.43300000008},{"$f":"SUM(E94:E111)","v":897686},{"$f":"SUM(B113:E113)","v":3111070.3170000003},null,null,null,{"$f":"SUM(J94:J111)","v":1}]
[]
[5]
[]
["US EPA Data and Moisture Content"]
["Category","Moisture Content  (MC) ","US EPA DATA (lbs-dry/person)","US EPA DATA             (lbs-WET/person)    [US EPA DATA/(1-MC)"]
["Newspaper",0.27850000000000003,41.931464174454831,58.117067462861854]
["Glass",3.2000000000000001E-2,56.822429906542055,58.700857341469067]
["Aluminum Cans",0.129,8.4112149532710276,9.6569632069701807]
["Plastic Bottles",4.8000000000000001E-2,23.302180685358255,24.477080551846907]
["Steel Cans",5.8000000000000003E-2,10.841121495327103,11.508621544933231]
["Corrugated Paper",0.24049999999999999,195.20249221183801,257.01447295831201]
["Office Paper",0.13400000000000001,28.22429906542056,32.591569359608037]
["Yard Waste",0.50600000000000001,216.3239875389408,437.90280878328099]
["Other Plastics",0.11700000000000001,154.90485396035913,175.43018568557093]
["Non-ferrous Metal",5.3999999999999999E-2,46.762277712979795,49.431583206109721]
["White Goods","x",30.280373831775702,30.280373831775702]
["Ferrous Metal",0.16900000000000001,12.133426323463874,14.600994372399368]
["Other Paper",0.2545,158.56697819314641,212.69883057430772]
["Textiles",0.17,76.349308411214949,91.987118567728857]
["C&D Debris",8.8999999999999996E-2,"-","-"]
["Food Waste",0.59750000000000003,247.53894080996884,615.00357965209651]
["Miscellaneous",0.313,206.19904324930312,300.14416775735532]
["Tires","x",36.386292834890966,36.386292834890966]
[]
[]
[6]
[]
["Finding County Factor"]
["Category","tons-DRY/county-us data ","tons-WET/county-us data ","County Factor"]
["equation","US DATA * County Population/2000","tons-DRY/(1-MoistureContent)","ton-wet-composition/tons-wet-Usdata"]
["Newspaper",{"$f":"C119*$B$8/2000","v":28918.076199376948},{"$f":"B144/(1-B119)","v":40080.493692830139},{"$f":"F94/C144","v":1.5491752291241705}]
["Glass",39187.645607476639,40483.104966401486,2.0627708044950119]
["Aluminum Cans",5800.8028037383174,6659.9343326501921,2.0820757844442741]
["Plastic Bottles",16070.372211838006,16880.643079661771,3.3667744606527603]
["Steel Cans",7476.5902803738318,7936.9323570847473,2.7865745863712474]
["Corrugated Paper",134621.59395638629,177250.28829017284,1.2144969188856041]
["Office Paper",19464.916074766352,22476.80840042304,2.1653441241721834]
["Yard Waste",149188.05433021806,302000.1099801985,0.86337709286627806]
["Other Plastics",106830.28743861563,120985.60298823967,1.5182096915932606]
["Ferrous Metal",{"$f":"C130*$B$8/2000","v":8367.8295974031844},{"$f":"B153/(1-B130)","v":10069.590369919597},{"$f":"(B103+D103)/C153","v":1.1635516013640537}]
["White Goods",{"$f":"C129*$B$8/2000","v":20882.890093457943},{"$f":"B154","v":20882.890093457943},{"$f":"F104/C154","v":0.35458717480487673}]
["Non-ferrous Metal",{"$f":"C128*$B$8/2000","v":32249.65158703423},{"$f":"B155/(1-B128)","v":34090.540789676779},{"$f":"(B105+D105)/C155","v":0.17184368051368609}]
["Other Paper",{"$f":"C131*$B$8/2000","v":109355.87507788162},{"$f":"B156/(1-B131)","v":146687.96120440189},{"$f":"F106/C156","v":1.9267471691570466}]
["Textiles",52654.376895102796,{"$f":"B157/(1-B132)","v":63439.008307352771},{"$f":"F107/C157","v":0.96464308999778614}]
["C&D Debris",{"$error":"#VALUE!"},{"$f":"B158/(1-B133)","v":{"$error":"#VALUE!"}},{"$f":"#REF!/C158","v":{"$error":"#REF!"}}]
["Food Waste",170715.4780685358,{"$f":"B159/(1-B134)","v":424137.833710648},{"$f":"F109/C159","v":0.49837360452075435}]
["Miscellaneous",142205.37637592515,{"$f":"B160/(1-B135)","v":206994.72543802785},{"$f":"F110/C160","v":2.0290633836742153}]
["Tires",25093.84323987539,{"$f":"B161","v":25093.84323987539},{"$f":"F111/C161","v":0.16239529198637953}]
[]
["Link to \"New WasteCalc County Factors\""]
["Newspaper","Glass","Aluminum Cans","Plastic Bottles","Steel Cans","Corrugated Paper","Office Paper","Yard Waste","Other Plastics","Ferrous Metals","White Goods","Non-Ferrous Metal","Other Paper","Textiles","C&D Debris","Food Waste","Misc","Tires"]
[{"$f":"D144","v":1.5491752291241705},{"$f":"D145","v":2.0627708044950119},{"$f":"D146","v":2.0820757844442741},{"$f":"D147","v":3.3667744606527603},{"$f":"D148","v":2.7865745863712474},{"$f":"D149","v":1.2144969188856041},{"$f":"D150","v":2.1653441241721834},{"$f":"D151","v":0.86337709286627806},{"$f":"D152","v":1.5182096915932606},{"$f":"D153","v":1.1635516013640537},{"$f":"D154","v":0.35458717480487673},{"$f":"D155","v":0.17184368051368609},{"$f":"D156","v":1.9267471691570466},{"$f":"D157","v":0.96464308999778614},{"$error":"#REF!"},{"$f":"D159","v":0.49837360452075435},{"$f":"D160","v":2.0290633836742153},{"$f":"D161","v":0.16239529198637953}]
[]
[7]
[]
["Check"]
["Material","Calculated ","Accepted (larger values of calculated vs recycled","Percent","Waste Comp Percent","Percentage Point Difference"]
["Newspaper",{"$f":"$B$8*D119*D144/2000","v":62091.707999999999},{"$f":"B171","v":62091.707999999999},{"$f":"C171/$C$190","v":1.9958310701210676E-2},{"$f":"J94","v":1.9958310701210676E-2},{"$f":"ABS(D171-E171)","v":0}]
["Glass",83507.366999999998,83507.366999999998,2.6842005641494471E-2,2.6842005641494471E-2,0]
["Aluminum Cans",13866.488000000001,13866.488000000001,4.4571438723929038E-3,4.4571438723929038E-3,0]
["Plastic Bottles",56833.318000000014,56833.318000000014,1.8268091752681528E-2,1.8268091752681528E-2,0]
["Steel Cans",22116.853999999999,22116.853999999999,7.1090820027903592E-3,7.1090820027903592E-3,0]
["Corrugated Paper",215269.929,215269.929,6.9194813059572507E-2,6.9194813059572507E-2,0]
["Office Paper",48670.025000000009,48670.025000000009,1.5644141739275256E-2,1.5644141739275256E-2,0]
["Yard Waste",260739.97700000004,260739.97700000004,8.381037727602092E-2,8.381037727602092E-2,0]
["Other Plastics",183681.51500000004,183681.51500000004,5.9041261136496527E-2,5.9041261136496513E-2,1.3877787807814457E-17]
["Ferrous Metal",{"$f":"(B8*D130*D153/2000)+E103","v":294161.48800000001},294161.48800000001,9.4553146675147942E-2,9.4553146675147942E-2,0]
["White Goods",{"$f":"B8*C129/2000","v":20882.890093457943},20882.890093457943,6.7124455462630878E-3,2.3801471022810057E-3,4.3322984439820821E-3]
["Non-ferrous Metal",{"$f":"(B8*D155*D128/2000)+E105","v":37956.243999999999},37956.243999999999,1.2200381261906397E-2,1.2200381261906397E-2,0]
["Other Paper",{"$f":"$B$8*D131*D156/2000","v":282630.614},282630.614,9.0846745718219643E-2,9.0846745718219643E-2,0]
["Textiles",{"$f":"$B$8*D132*D157/2000","v":61196.001000000004},61196.001000000004,1.9670401104598369E-2,1.9670401104598369E-2,0]
["C&D Debris",{"$f":"B10+(B9*0.075)+(B19*0.075)","v":867126.4},867126.4,0.27872285472356939,0.27176638804335967,6.9564666802097164E-3]
["Food Waste",{"$f":"$B$8*D134*D159/2000","v":211379.10099999997},211379.10099999997,6.794417337497935E-2,6.794417337497935E-2,0]
["Miscellaneous",{"$f":"F113-B190","v":363866.55466666678},363866.55466666678,0.1169586404647847,0.13500351171908273,1.8044871254298031E-2]
["Tires",{"$f":"B8*C136/2000","v":25093.84323987539},25093.84323987539,8.0659839485959731E-3,1.3098778184896936E-3,6.7561061301062795E-3]
[null,"sum (Minus misc)","TOTAL","TOTAL","TOTAL"]
[null,{"$f":"SUM(B171:B186,B188)","v":2747203.7623333335},{"$f":"SUM(C171:C188)","v":3111070.3170000003},{"$f":"SUM(D171:D188)","v":1},{"$f":"SUM(E171:E188)","v":1}]
[" "]

{"sheet":"24 Duval County Factor","index":24,"n_rows":142,"n_cols":19,"rows_kept":142,"cut":false,"hidden":true,"merged":[[64,9,64,10],[90,1,90,2],[92,1,92,2],[114,1,114,2],[116,1,116,2],[2,1,2,2],[3,1,3,2],[18,1,18,2],[42,1,42,2],[64,1,64,2]]}
[null,"Finding County Factors for Duval"]
[]
[null,1]
[null,"Information from annual solid waste report 2017"]
[null,"County","Duval "]
[null,"Waste comp study","NONE"]
[null,"Year",2017]
[null,"Population",936811]
[null,"Landfilled tons ",{"$f":"1243167","v":1243167}]
[null,"C&D collected",1371828]
[null,"C&D disposed",{"$f":"C10-C14","v":497837}]
[]
[null,"Recycled tons",1584641]
[null,"Recycled C&D",873991]
[null,"combustor recy metals",0]
[null,"Combustor input",0]
[null,"Total Tons MSW collected",0]
[]
[null,2]
[]
[null,"Average disposal LANDFILLED from  Pinellas, Seminole, Orange, Miami-Dade, and Hillsborough"]
[null,"Materials","Pinellas (tons) ","Seminole (tons)","Orange (tons) ","Miami -Dade (tons)","Hillsborough (tons)","Averaged","Percent"]
[null,"Newspaper",{"$f":"'18 Pinellas County Factor'!B91","v":16440.652999999998},{"$f":"'20 Seminole County Factor'!B80","v":20734.13},{"$f":"'21 Orange County Factor'!C97","v":5199.777},{"$f":"'22 Miami-Dade County Factor'!B87","v":91286.080000000002},{"$f":"'23 Hillsborough County Factor'!B94","v":23838.416000000001},{"$f":"AVERAGE(C23:G23)","v":31499.811200000004},{"$f":"H23/$H$41","v":2.4062851748578185E-2}]
[null,"Glass",{"$f":"'18 Pinellas County Factor'!B92","v":30736.873000000003},{"$f":"'20 Seminole County Factor'!B81","v":14083.560000000001},{"$f":"'21 Orange County Factor'!C98","v":62397.324000000008},{"$f":"'22 Miami-Dade County Factor'!B88","v":122665.67000000001},{"$f":"'23 Hillsborough County Factor'!B95","v":40014.483999999997},{"$f":"AVERAGE(C24:G24)","v":53979.582200000004},{"$f":"H24/$H$41","v":4.1235252988715998E-2}]
[null,"Aluminum Cans",{"$f":"'18 Pinellas County Factor'!B93","v":5718.4880000000003},{"$f":"'20 Seminole County Factor'!B82","v":2738.4700000000003},{"$f":"'21 Orange County Factor'!C99","v":19065.848999999998},{"$f":"'22 Miami-Dade County Factor'!B89","v":14263.45},{"$f":"'23 Hillsborough County Factor'!B96","v":6810.9760000000006},9719.4465999999993,7.4247302985111932E-3]
[null,"Plastic Bottles",{"$f":"'18 Pinellas County Factor'!B94","v":17870.275000000001},{"$f":"'20 Seminole County Factor'!B83","v":8215.41},{"$f":"'21 Orange County Factor'!C100","v":65863.842000000004},{"$f":"'22 Miami-Dade County Factor'!B90","v":105549.53000000001},{"$f":"'23 Hillsborough County Factor'!B97","v":32352.136000000006},45970.238600000004,3.5116878296672656E-2]
[null,"Steel Cans",{"$f":"'18 Pinellas County Factor'!B95","v":7862.9209999999994},{"$f":"'20 Seminole County Factor'!B84","v":5085.7299999999996},{"$f":"'21 Orange County Factor'!C101","v":13866.072},{"$f":"'22 Miami-Dade County Factor'!B91","v":39937.660000000003},{"$f":"'23 Hillsborough County Factor'!B98","v":11919.208000000001},15734.3182,1.2019518587195707E-2]
[null,"Corrugated Paper",{"$f":"'18 Pinellas County Factor'!B96","v":57899.690999999999},{"$f":"'20 Seminole County Factor'!B85","v":25428.65},{"$f":"'21 Orange County Factor'!C102","v":98795.763000000006},{"$f":"'22 Miami-Dade County Factor'!B92","v":205393.68},{"$f":"'23 Hillsborough County Factor'!B99","v":75772.107999999993},92657.978399999993,7.0781859084989032E-2]
[null,"Office Paper",{"$f":"'18 Pinellas County Factor'!B97","v":7148.1100000000006},{"$f":"'20 Seminole County Factor'!B86","v":21125.34},{"$f":"'21 Orange County Factor'!C103","v":24265.626},{"$f":"'22 Miami-Dade County Factor'!B93","v":94138.77},{"$f":"'23 Hillsborough County Factor'!B100","v":21284.300000000003},33592.429199999999,2.5661412336154214E-2]
[null,"Yard Trash",{"$f":"'18 Pinellas County Factor'!B98","v":60758.935000000005},{"$f":"'20 Seminole County Factor'!B87","v":15648.4},{"$f":"'21 Orange County Factor'!C104","v":48531.252},{"$f":"'22 Miami-Dade County Factor'!B94","v":179719.47},{"$f":"'23 Hillsborough County Factor'!B101","v":48528.204000000005},70637.252200000017,5.3960124294825246E-2]
[null,"Other Plastics",{"$f":"'18 Pinellas County Factor'!B99","v":75769.966},{"$f":"'20 Seminole County Factor'!B88","v":42641.89},{"$f":"'21 Orange County Factor'!C105","v":329319.21000000002},{"$f":"'22 Miami-Dade County Factor'!B95","v":350880.87},{"$f":"'23 Hillsborough County Factor'!B102","v":97907.78},179303.94320000001,0.13697111312073779]
[null,"Ferrous Metals",{"$f":"'18 Pinellas County Factor'!B100","v":8577.732},{"$f":"'20 Seminole County Factor'!B89","v":2738.4700000000003},{"$f":"'21 Orange County Factor'!C106","v":22532.366999999998},{"$f":"'22 Miami-Dade County Factor'!B96","v":28526.9},{"$f":"'23 Hillsborough County Factor'!B103","v":6810.9760000000006},13837.289000000001,1.057036919031539E-2]
[null,"White Goods",{"$f":"'18 Pinellas County Factor'!B101","v":0},{"$f":"'20 Seminole County Factor'!B90","v":0},{"$f":"'21 Orange County Factor'!C107","v":0},{"$f":"'22 Miami-Dade County Factor'!B97","v":0},{"$f":"'23 Hillsborough County Factor'!B104","v":4256.8599999999997},851.37199999999996,6.5036701613279833E-4]
[null,"NonFerous Metals",{"$f":"'18 Pinellas County Factor'!B102","v":2144.433},{"$f":"'20 Seminole County Factor'!B91","v":2347.2600000000002},{"$f":"'21 Orange County Factor'!C108","v":8666.2950000000001},{"$f":"'22 Miami-Dade County Factor'!B98","v":17116.14},{"$f":"'23 Hillsborough County Factor'!B105","v":3405.4880000000003},6735.9232000000002,5.1456029473411049E-3]
[null,"Other Paper",{"$f":"'18 Pinellas County Factor'!B103","v":123662.30299999999},{"$f":"'20 Seminole County Factor'!B92","v":88413.459999999992},{"$f":"'21 Orange County Factor'!C109","v":341452.02299999999},{"$f":"'22 Miami-Dade County Factor'!B99","v":547716.48},{"$f":"'23 Hillsborough County Factor'!B106","v":148138.728},249876.59879999998,0.19088189177347667]
[null,"Textiles",{"$f":"'18 Pinellas County Factor'!B104","v":25733.195999999996},{"$f":"'20 Seminole County Factor'!B93","v":21516.55},{"$f":"'21 Orange County Factor'!C110","v":117861.61200000001},{"$f":"'22 Miami-Dade County Factor'!B100","v":96991.46},{"$f":"'23 Hillsborough County Factor'!B107","v":34906.252},59401.813999999998,4.53773209878355E-2]
[null,"C&D Debris",{"$f":"'18 Pinellas County Factor'!B105","v":61473.745999999992},{"$f":"'20 Seminole County Factor'!B94","v":15257.19},{"$f":"'21 Orange County Factor'!C111","v":45064.734000000004},{"$f":"'22 Miami-Dade County Factor'!B101","v":225362.51},{"$f":"'23 Hillsborough County Factor'!B108","v":53636.436000000002},80158.92319999999,6.1233772895986874E-2]
[null,"Food",{"$f":"'18 Pinellas County Factor'!B106","v":116514.193},{"$f":"'20 Seminole County Factor'!B95","v":53204.560000000005},{"$f":"'21 Orange County Factor'!C112","v":176792.41799999998},{"$f":"'22 Miami-Dade County Factor'!B102","v":419345.43},{"$f":"'23 Hillsborough County Factor'!B109","v":120043.45199999999},177180.01060000001,0.13534863116510715]
[null,"Miscellaneous",{"$f":"'18 Pinellas County Factor'!B107","v":91495.808000000005},{"$f":"'20 Seminole County Factor'!B96","v":50857.3},{"$f":"'21 Orange County Factor'!C113","v":353584.83600000001},{"$f":"'22 Miami-Dade County Factor'!B103","v":308090.52},{"$f":"'23 Hillsborough County Factor'!B110","v":117489.33600000001},184303.56,0.14079034356292217]
[null,"Tires",{"$f":"'18 Pinellas County Factor'!B108","v":5003.6769999999997},{"$f":"'20 Seminole County Factor'!B97","v":0},{"$f":"'21 Orange County Factor'!C114","v":0},{"$f":"'22 Miami-Dade County Factor'!B104","v":11410.76},{"$f":"'23 Hillsborough County Factor'!B111","v":1702.7440000000001},{"$f":"AVERAGE(C40:G40)","v":3623.4361999999992},{"$f":"H40/$H$41","v":2.7679597045023388E-3}]
[null,"Total",{"$f":"SUM(C23:C40)","v":714811},390036.37,1733259,2858395.38,848817.88399999996,{"$f":"SUM(H23:H40)","v":1309063.9268},1.0000000000000002]
[]
[null,"Recycled tons from Duval"]
[null,"Material","Tons"]
[null,"Newspaper",1118]
[null,"Glass",17278]
[null,"Aluminum Cans",2077]
[null,"Plastic Bottles",4439]
[null,"Steel Cans",1341]
[null,"Corrugated Paper",63909]
[null,"Office Paper",9764]
[null,"Yard Trash",8063]
[null,"Other Plastics",4559]
[null,"Ferrous Metals",406702]
[null,"White Goods",77456]
[null,"NonFerous Metals",12599]
[null,"Other Paper",43198]
[null,"Textiles",62]
[null,"C&D Debris",873991]
[null,"Food",1654]
[null,"Miscellaneous",38998]
[null,"Tires",17379]
[null,"Total",{"$f":"SUM(C45:C62)","v":1584587}]
[]
[null,3,null,null,null,null,null,null,null,4]
[]
[null,"Calculating waste compositon percentage utalizing waste compsition study"]
[null,"FDEP Category","Landfilled tons\n(PLus combusor ash, minus C&D  disposed)","Collected C&D \n(disposal c&d LANDFILL + recycled)","Combusted\n(minus recycled metals, minus ash)","Recycled Materials\n(Minus recycled c&D)","Total Collected Tons"]
[null,null,{"$f":"C9-C11","v":745330},{"$f":"C11+C14","v":1371828},{"$f":"C16-C15","v":0},{"$f":"C63","v":1584587},null,null,null,"FDEP Category","Percentage"]
[null,"Newspaper",{"$f":"$C$69*I23","v":17934.765293767778},null,{"$f":"$E$69*I23","v":0},{"$f":"C45","v":1118},{"$f":"SUM(C70:F70)","v":19052.765293767778},null,null,"Newspaper",{"$f":"G70/$G$89","v":6.7377732623728152E-3}]
[null,"Glass",30733.871110079694,null,0,17278,{"$f":"SUM(C71:F71)","v":48011.871110079694},null,null,"Glass",1.6978800528645595E-2]
[null,"Aluminum Cans",5533.8742333893479,null,0,2077,7610.8742333893479,null,null,"Aluminum Cans",2.6914909265053988E-3]
[null,"Plastic Bottles",26173.662900859032,null,0,4439,{"$f":"SUM(C73:F73)","v":30612.662900859032},null,null,"Plastic Botles",1.0825787144447159E-2]
[null,"Steel Cans",8958.5077885945757,null,0,1341,10299.507788594576,null,null,"Steel Cans",3.6422927130841565E-3]
[null,"Corrugated Paper",52755.843031814875,null,0,63909,116664.84303181487,null,null,"Corrugated Paper",4.1257069402718512E-2]
[null,"Office Paper",{"$f":"$C$69*I29","v":19126.22045650582},null,0,9764,28890.22045650582,null,null,"Office Paper",1.0216666816316349E-2]
[null,"Yard Trash",40218.099440662103,null,0,8063,48281.099440662103,null,null,"Yard Trash",1.7074009776190609E-2]
[null,"Other Plastics",102088.67974227949,null,0,4559,106647.67974227949,null,null,"Other Plastics",3.7714624306880828E-2]
[null,"Ferrous Metals",7878.4132686177691,null,0,406702,414580.41326861776,null,null,"Ferrous Metals",0.14661120213024817]
[null,"White Goods",484.73804813425858,null,0,77456,77940.738048134255,null,null,"White Goods",2.7562771743275497E-2]
[null,"NonFerous Metals",3835.1722447417455,null,0,12599,16434.172244741745,null,null,"NonFerous Metals",5.8117404288851662E-3]
[null,"Other Paper",142270.00039552536,null,0,43198,185468.00039552536,null,null,"Other Paper",6.5588449488719794E-2]
[null,"Textiles",33821.078651863434,null,0,62,33883.078651863434,null,null,"Textiles",1.1982328962089147E-2]
[null,"C&D Debris",45639.367952565895,{"$f":"C10","v":1371828},0,0,1417467.3679525659,null,null,"C&D Debris",0.50126968893070822]
[null,"Food",100879.39526628931,null,0,{"$f":"C60","v":1654},102533.39526628931,null,null,"Food",3.6259658819787474E-2]
[null,"Miscellaneous",104935.26676775278,null,0,{"$f":"C61","v":38998},143933.26676775276,null,null,"Miscellaneous",5.0900207998203793E-2]
[null,"Tires",2063.0434065567283,null,0,{"$f":"C62","v":17379},19442.043406556728,null,null,"Tires",6.8754366209213139E-3]
[null,null,"Total","Total","Total","Total","Total",null,null,null,"total"]
[null,null,{"$f":"SUM(C70:C87)","v":745330.00000000012},{"$f":"D84","v":1371828},{"$f":"SUM(E70:E87)","v":0},{"$f":"SUM(F70:F87)","v":710596},{"$f":"SUM(C89:F89)","v":2827754},null,null,null,{"$f":"SUM(K70:K87)","v":1}]
[]
[null,5]
[]
[null,"US EPA Data and Moisture Content"]
[null,"Category","Moisture Content  (MC) ","US EPA DATA (lbs-dry/person)","US EPA DATA             (lbs-WET/person)    [US EPA DATA/(1-MC)"]
[null,"Newspaper",0.27850000000000003,41.931464174454831,58.117067462861854]
[null,"Glass",3.2000000000000001E-2,56.822429906542055,58.700857341469067]
[null,"Aluminum Cans",0.129,8.4112149532710276,9.6569632069701807]
[null,"Plastic Bottles",4.8000000000000001E-2,23.302180685358255,24.477080551846907]
[null,"Steel Cans",5.8000000000000003E-2,10.841121495327103,11.508621544933231]
[null,"Corrugated Paper",0.24049999999999999,195.20249221183801,257.01447295831201]
[null,"Office Paper",0.13400000000000001,28.22429906542056,32.591569359608037]
[null,"Yard Waste",0.50600000000000001,216.3239875389408,437.90280878328099]
[null,"Other Plastics",0.11700000000000001,154.90485396035913,175.43018568557093]
[null,"Non-ferrous Metal",5.3999999999999999E-2,46.762277712979795,49.431583206109721]
[null,"White Goods","x",30.280373831775702,30.280373831775702]
[null,"Ferrous Metal",0.16900000000000001,12.133426323463874,14.600994372399368]
[null,"Other Paper",0.2545,158.56697819314641,212.69883057430772]
[null,"Textiles",0.17,76.349308411214949,91.987118567728857]
[null,"C&D Debris",8.8999999999999996E-2,"-","-"]
[null,"Food Waste",0.59750000000000003,247.53894080996884,615.00357965209651]
[null,"Miscellaneous",0.313,206.19904324930312,300.14416775735532]
[null,"Tires","x",36.386292834890966,36.386292834890966]
[]
[]
[null,6]
[]
[null,"Finding County Factor"]
[null,"Category","tons-DRY/county-us data ","tons-WET/county-us data ","County Factor","Category    "]
[null,"equation","US DATA * County Population/2000","tons-DRY/(1-MoistureContent)","ton-wet-composition/tons-wet-Usdata"]
[null,"Newspaper ",{"$f":"D95*$C$8/2000","v":19640.928442367604},{"$f":"C120/(1-C95)","v":27222.354043475541},{"$f":"G70/D120","v":0.69989411141077296},"Newspaper "]
[null,"Glass ",26615.938691588784,27495.804433459489,1.7461526258040416,"Glass "]
[null,"Aluminum Cans ",3939.8593457943921,4523.3746794424706,1.6825655119790845,"Aluminum Cans "]
[null,"Plastic Bottles ",10914.869595015576,11465.199154428126,2.6700506889176636,"Plastic Bottles "]
[null,"Steel Cans ",5078.0409345794396,5390.7016290652227,1.9106061691603151,"Steel Cans "]
[null,"Corrugated Paper",91433.92096573209,120386.99271327464,0.96908179532048955,"Corrugated Paper",null,"`"]
[null,"Office Paper ",13220.416915887849,15266.070341671881,1.8924464390579949,"Office Paper "]
[null,"Yard Waste ",101327.34554517134,205116.08409953711,0.23538426863313475,"Yard Waste "]
[null,"Other Plastics ",72558.285571729008,82172.4638411427,1.2978517955656377,"Other Plastics "]
[null,"Ferrous Metal ",{"$f":"D106*$C$8/2000","v":5683.3636237552573},{"$f":"C129/(1-C106)","v":6839.1860695009118},{"$f":"C79/D129","v":1.1519518826591444},"Ferrous Metal "]
[null,"White Goods ",{"$f":"D105*$C$8/2000","v":14183.493644859813},{"$f":"Table71419[[#This Row],[tons-DRY/county-us data ]]","v":14183.493644859813},{"$f":"G80/Table71419[[#This Row],[tons-WET/county-us data ]]","v":5.4951720640690294},"White Goods "]
[null,"Non-ferrous Metal ",{"$f":"D104*$C$8/2000","v":21903.708073287158},{"$f":"C131/(1-C104)","v":23154.025447449429},{"$f":"C81/D131","v":0.16563738575160872},"Non-ferrous Metal "]
[null,"Other Paper ",{"$f":"D107*$C$8/2000","v":74273.644704049846},{"$f":"C132/(1-C107)","v":99629.302084573894},{"$f":"G82/D132","v":1.8615808453429115},"Other Paper "]
[null,"Textiles ",35762.435981009345,{"$f":"C133/(1-C108)","v":43087.272266276319},{"$f":"G83/D133","v":0.78638254105454586},"Textiles "]
[null,"C&D Debris",{"$error":"#VALUE!"},{"$f":"C134/(1-C109)","v":{"$error":"#VALUE!"}},{"$f":"#REF!/D134","v":{"$error":"#REF!"}},"C&D Debris"]
[null,"Food Waste",115948.60133956386,{"$f":"C135/(1-C110)","v":288071.0592287301},{"$f":"G85/D135","v":0.35593091350727185},"Food Waste"]
[null,"Miscellaneous ",96584.765952711445,{"$f":"C136/(1-C111)","v":140589.17897046788},{"$f":"G86/D136","v":1.0237862388967172},"Miscellaneous "]
[null,"Tires ",17043.53968847352,{"$f":"Table71419[[#This Row],[tons-DRY/county-us data ]]","v":17043.53968847352},{"$f":"G87/Table71419[[#This Row],[tons-WET/county-us data ]]","v":1.1407280272715477},"Tires "]
[]
[]
[null,"Link to \"New WasteCalc County Factors\""]
[null,"Newspaper","Glass","Aluminum Cans","Plastic Bottles","Steel Cans","Corrugated Paper","Office Paper","Yard Waste","Other Plastics","Ferrous Metals","White Goods","Non-Ferrous Metal","Other Paper","Textiles","C&D Debris","Food Waste","Misc","Tires"]
[null,{"$f":"E120","v":0.69989411141077296},{"$f":"E121","v":1.7461526258040416},{"$f":"E122","v":1.6825655119790845},{"$f":"E123","v":2.6700506889176636},{"$f":"E124","v":1.9106061691603151},{"$f":"E125","v":0.96908179532048955},{"$f":"E126","v":1.8924464390579949},{"$f":"E127","v":0.23538426863313475},{"$f":"E128","v":1.2978517955656377},{"$f":"E129","v":1.1519518826591444},{"$f":"E130","v":5.4951720640690294},{"$f":"E131","v":0.16563738575160872},{"$f":"E132","v":1.8615808453429115},{"$f":"E133","v":0.78638254105454586},{"$error":"#REF!"},{"$f":"E135","v":0.35593091350727185},{"$f":"E136","v":1.0237862388967172},{"$f":"E137","v":1.1407280272715477}]

{"sheet":"25 Lee County Factor","index":25,"n_rows":144,"n_cols":19,"rows_kept":144,"cut":false,"hidden":true,"merged":[[2,1,2,2],[3,1,3,2],[19,1,19,2],[43,1,43,2],[65,1,65,2],[65,9,65,10],[91,1,91,2],[93,1,93,2],[115,1,115,2],[117,1,117,2]]}
[null,"Finding County Factors for Lee"]
[]
[null,1]
[null,"Information from annual solid waste report 2017"]
[null,"County","Lee"]
[null,"Waste comp study","NONE"]
[null,"Year",2017]
[null,"Population",698468]
[null,"Landfilled tons",359673]
[null,"C&D collected",509083]
[null,"C&D disposed",{"$f":"C10-C14","v":179273}]
[]
[null,"Recycled tons",806306]
[null,"Recycled C&D",329810]
[null,"combustor recy metals",21958]
[null,"Combustor input",603267]
[null,"combutsor ash",145941]
[null,"Total Tons MSW collected",{"$f":"(C16-C15)+C13+C9","v":1747288}]
[]
[null,2]
[]
[null,"Average disposal LANDFILLED from Sarasota, Palm Beach, and Manatee"]
[null,"Materials","Sarasota (tons)","Palm Beach (tons)","Manatee (tons)","Average","Percent"]
[null,"Newspaper",{"$f":"'27 Sarasota County Factor'!B96","v":9714.2549999999992},{"$f":"'28 Palm Beach County Factor'!C96","v":13509.742999999999},{"$f":"'32 Manatee County Factor'!B94","v":2718.8},{"$f":"AVERAGE(C24:E24)","v":8647.5993333333336},{"$f":"F24/$F$42","v":1.3213249381530897E-2}]
[null,"Glass",{"$f":"'27 Sarasota County Factor'!B97","v":22018.978000000003},{"$f":"'28 Palm Beach County Factor'!C97","v":32215.541000000001},{"$f":"'32 Manatee County Factor'!B95","v":7884.5199999999995},{"$f":"AVERAGE(C25:E25)","v":20706.346333333331},{"$f":"F25/$F$42","v":3.163862100179185E-2}]
[null,"Aluminum Cans",{"$f":"'27 Sarasota County Factor'!B98","v":4533.3190000000004},{"$f":"'28 Palm Beach County Factor'!C98","v":10392.11},{"$f":"'32 Manatee County Factor'!B96","v":2718.8},5881.4096666666665,8.9866019047690811E-3]
[null,"Plastic Bottles",{"$f":"'27 Sarasota County Factor'!B99","v":14895.190999999999},{"$f":"'28 Palm Beach County Factor'!C99","v":34293.963000000003},{"$f":"'32 Manatee County Factor'!B97","v":7068.880000000001},{"$f":"AVERAGE(C27:E27)","v":18752.678},2.8653479588309792E-2]
[null,"Steel Cans",{"$f":"'27 Sarasota County Factor'!B100","v":7123.7869999999994},{"$f":"'28 Palm Beach County Factor'!C100","v":7274.4769999999999},{"$f":"'32 Manatee County Factor'!B98","v":2990.68},5796.3146666666662,8.8565795236687801E-3]
[null,"Corrugated Paper",{"$f":"'27 Sarasota County Factor'!B101","v":29142.764999999999},{"$f":"'28 Palm Beach County Factor'!C101","v":73783.981},{"$f":"'32 Manatee County Factor'!B99","v":26916.120000000003},43280.955333333339,6.613188634744406E-2]
[null,"Office Paper",{"$f":"'27 Sarasota County Factor'!B102","v":7771.4040000000005},{"$f":"'28 Palm Beach County Factor'!C102","v":33254.752},{"$f":"'32 Manatee County Factor'!B100","v":1903.16},14309.772000000003,2.1864864309799757E-2]
[null,"Yard Trash",{"$f":"'27 Sarasota County Factor'!B103","v":14895.190999999999},{"$f":"'28 Palm Beach County Factor'!C103","v":25980.275000000001},{"$f":"'32 Manatee County Factor'!B101","v":6797},15890.822,2.4280657078336449E-2]
[null,"Other Plastics",{"$f":"'27 Sarasota County Factor'!B104","v":98437.784000000014},{"$f":"'28 Palm Beach County Factor'!C104","v":154842.43899999998},{"$f":"'32 Manatee County Factor'!B102","v":33984.999999999993},95755.074333333338,0.14631062656156382]
[null,"Ferrous Metals",{"$f":"'27 Sarasota County Factor'!B105","v":8419.0209999999988},{"$f":"'28 Palm Beach County Factor'!C105","v":7274.4769999999999},{"$f":"'32 Manatee County Factor'!B103","v":4350.08},6681.1926666666668,1.0208644210704115E-2]
[null,"White Goods",{"$f":"'27 Sarasota County Factor'!B106","v":647.61699999999996},{"$f":"'28 Palm Beach County Factor'!C106","v":0},{"$f":"'32 Manatee County Factor'!B104","v":1631.28},759.63233333333335,1.1606933984461745E-3]
[null,"NonFerous Metals",{"$f":"'27 Sarasota County Factor'!B107","v":5180.9359999999997},{"$f":"'28 Palm Beach County Factor'!C107","v":3117.6330000000003},{"$f":"'32 Manatee County Factor'!B105","v":815.64},3038.0696666666663,4.6420712381291069E-3]
[null,"Other Paper",{"$f":"'27 Sarasota County Factor'!B108","v":119809.145},{"$f":"'28 Palm Beach County Factor'!C108","v":176665.87},{"$f":"'32 Manatee County Factor'!B106","v":45947.719999999994},114140.91166666667,0.1744035855909169]
[null,"Textiles",{"$f":"'27 Sarasota County Factor'!B109","v":33028.466999999997},{"$f":"'28 Palm Beach County Factor'!C109","v":37411.595999999998},{"$f":"'32 Manatee County Factor'!B107","v":13322.12},27920.727666666662,4.2661960083119316E-2]
[null,"C&D Debris",{"$f":"'27 Sarasota County Factor'!B110","v":47923.657999999996},{"$f":"'28 Palm Beach County Factor'!C110","v":30137.118999999999},{"$f":"'32 Manatee County Factor'!B108","v":25284.84},34448.538999999997,5.2636242625378291E-2]
[null,"Food",{"$f":"'27 Sarasota County Factor'!B111","v":127580.549},{"$f":"'28 Palm Beach County Factor'!C111","v":178744.29199999999},{"$f":"'32 Manatee County Factor'!B109","v":48666.52},118330.45366666668,0.18080506895139306]
[null,"Miscellaneous",{"$f":"'27 Sarasota County Factor'!B112","v":97142.550000000017},{"$f":"'28 Palm Beach County Factor'!C112","v":223430.36499999996},{"$f":"'32 Manatee County Factor'!B110","v":38335.08},119635.99833333334,0.18279989856761958]
[null,"Tires",{"$f":"'27 Sarasota County Factor'!B113","v":647.61699999999996},{"$f":"'28 Palm Beach County Factor'!C113","v":0},{"$f":"'32 Manatee County Factor'!B111","v":815.64},487.75233333333335,7.4526963707888239E-4]
[null,"Total",{"$f":"SUM(C24:C41)","v":648912.23400000005},{"$f":"SUM(D24:D41)","v":1042328.6329999999},{"$f":"SUM(E24:E41)","v":272151.88},{"$f":"SUM(F24:F41)","v":654464.24900000007},{"$f":"SUM(G24:G41)","v":0.99999999999999978}]
[null,null,null,null,null,null,null,null,null,{"$f":"SUM(I24:I41)","v":0}]
[null,"Recycled tons from Lee",null,null,null,null,null,null,null,null,null,null,null,null,null,null,{"$f":"SUM( G24:G41)","v":0.99999999999999978}]
[null,"Materials","Tons"]
[null,"Newspaper",15545]
[null,"Glass",25143]
[null,"Aluminum Cans",1554]
[null,"Plastic Bottles",5038]
[null,"Steel Cans",1764]
[null,"Corrugated Paper",52982]
[null,"Office Paper",7238]
[null,"Yard Trash",223272]
[null,"Other Plastics",1451]
[null,"Ferrous Metals",83650]
[null,"White Goods",15879]
[null,"NonFerous Metals",23081]
[null,"Other Paper",13460]
[null,"Textiles",2932]
[null,"C&D Debris",329810]
[null,"Food",747]
[null,"Miscellaneous",2218]
[null,"Tires",542]
[null,"Total",{"$f":"SUM(C46:C63)","v":806306}]
[]
[null,3,null,null,null,null,null,null,null,4]
[]
[null,"Calculating waste compositon percentage utalizing waste compsition study"]
[null,"FDEP Category","Landfilled tons\n(PLus combusor ash, minus C&D  disposed)","Collected C&D \n(disposal c&d LANDFILL + recycled)","Combusted\n(minus recycled metals, minus ash)","Recycled Materials\n(Minus recycled c&D)","Total Collected Tons"]
[null,null,{"$f":"C9-C11+C17","v":326341},{"$f":"C11+C14","v":509083},{"$f":"C16-C15-C17","v":435368},{"$f":"C64","v":806306},null,null,null,"FDEP Category","Percentage"]
[null,"Newspaper",{"$f":"$C$70*G24","v":4312.0250164181743},null,{"$f":"$E$70*G24","v":5752.6259567383431},{"$f":"C46","v":15545},{"$f":"SUM(C71:F71)","v":25609.650973156517},null,null,"Newspaper",{"$f":"G71/$G$90","v":1.4656800122908483E-2}]
[null,"Glass",{"$f":"$C$70*G25","v":10324.979216345755},null,13774.443148308113,25143,49242.422364653867,null,null,"Glass",2.818220142566873E-2]
[null,"Aluminum Cans",2932.6966522042467,null,3912.4788980755052,1554,8399.1755502797514,null,null,"Aluminum Cans",4.8069783288614996E-3]
[null,"Plastic Bottles",9350.805182328606,null,12474.808101403258,5038,26863.613283731866,null,null,"Plastic Botles",1.5374462185817029E-2]
[null,"Steel Cans",2890.2650183335932,null,3855.8713140606296,1764,8510.1363323942223,null,null,"Steel Cans",4.8704829040170953E-3]
[null,"Corrugated Paper",21581.545922511243,null,28791.707095314025,52982,103355.25301782526,null,null,"Corrugated Paper",5.9151812991232851E-2]
[null,"Office Paper",7135.4016837243626,null,9519.2622448289003,7238,23892.663928553262,null,null,"Office Paper",1.3674141829253828E-2]
[null,"Yard Trash",7923.7739116013954,null,10571.021110881184,223272,241766.79502248258,null,null,"Yard Trash",0.13836688343448966]
[null,"Other Plastics",47747.156182727296,null,63698.964864854919,1451,112897.12104758222,null,null,"Other Plastics",6.4612771934324631E-2]
[null,"Ferrous Metals",3331.4991603653916,null,4444.5170127258289,83650,91426.016173091222,null,null,"Ferrous Metals",5.2324525878442031E-2]
[null,"White Goods",378.78184434232304,null,505.32876349471411,15879,16763.110607837036,null,null,"White Goods",9.5937879776184787E-3]
[null,"NonFerous Metals",1514.8981699222909,null,2021.009270801793,23081,26616.907440724084,null,null,"NonFerous Metals",1.5233268608680472E-2]
[null,"Other Paper",56915.040525325414,null,75929.740251546304,13460,146304.78077687172,null,null,"Other Paper",8.3732493313564638E-2]
[null,"Textiles",13922.346715485241,null,18573.65223746749,2932,35427.99895295273,null,null,"Textiles",2.0275992825998193E-2]
[null,"C&D Debris",17177.364054608577,{"$f":"C10","v":509083},22916.135679325696,0,549176.4997339343,null,null,"C&D Debris",0.31430222134755936]
[null,"Food",59004.107006666563,null,78716.741259230097,{"$f":"C61","v":747},138467.84826589667,null,null,"Food",7.9247295389138286E-2]
[null,"Miscellaneous",59655.101698455539,null,79585.226239587399,{"$f":"C62","v":2218},141458.32793804293,null,null,"Miscellaneous",8.095879324876204E-2]
[null,"Tires",243.21203863395957,null,324.4665513557589,{"$f":"C63","v":542},{"$f":"SUM(C88:F88)","v":1109.6785899897186},null,null,"Tires",6.3508625366265814E-4]
[null,null,"Total","Total","Total","Total","Total",null,null,null,"total"]
[null,null,{"$f":"SUM(C71:C88)","v":326340.99999999988},{"$f":"D85","v":509083},{"$f":"SUM(E71:E88)","v":435368},{"$f":"SUM(F71:F88)","v":476496},{"$f":"SUM(C90:F90)","v":1747288},null,null,null,{"$f":"SUM(K71:K88)","v":1}]
[]
[null,5]
[]
[null,"US EPA Data and Moisture Content"]
[null,"Category","Moisture Content  (MC) ","US EPA DATA (lbs-dry/person)","US EPA DATA             (lbs-WET/person)    [US EPA DATA/(1-MC)"]
[null,"Newspaper",0.27850000000000003,41.931464174454831,58.117067462861854]
[null,"Glass",3.2000000000000001E-2,56.822429906542055,58.700857341469067]
[null,"Aluminum Cans",0.129,8.4112149532710276,9.6569632069701807]
[null,"Plastic Bottles",4.8000000000000001E-2,23.302180685358255,24.477080551846907]
[null,"Steel Cans",5.8000000000000003E-2,10.841121495327103,11.508621544933231]
[null,"Corrugated Paper",0.24049999999999999,195.20249221183801,257.01447295831201]
[null,"Office Paper",0.13400000000000001,28.22429906542056,32.591569359608037]
[null,"Yard Waste",0.50600000000000001,216.3239875389408,437.90280878328099]
[null,"Other Plastics",0.11700000000000001,154.90485396035913,175.43018568557093]
[null,"Non-ferrous Metal",5.3999999999999999E-2,46.762277712979795,49.431583206109721]
[null,"White Goods","x",30.280373831775702,30.280373831775702]
[null,"Ferrous Metal",0.16900000000000001,12.133426323463874,14.600994372399368]
[null,"Other Paper",0.2545,158.56697819314641,212.69883057430772]
[null,"Textiles",0.17,76.349308411214949,91.987118567728857]
[null,"C&D Debris",8.8999999999999996E-2,"-","-"]
[null,"Food Waste",0.59750000000000003,247.53894080996884,615.00357965209651]
[null,"Miscellaneous",0.313,206.19904324930312,300.14416775735532]
[null,"Tires","x",36.386292834890966,36.386292834890966]
[]
[]
[null,6]
[]
[null,"Finding County Factor"]
[null,"Category ","tons-DRY/county-us data ","tons-WET/county-us data ","County Factor","Category   "]
[null,"equation","US DATA * County Population/2000","tons-DRY/(1-MoistureContent)","ton-wet-composition/tons-wet-Usdata"]
[null,"Newspaper ",{"$f":"D96*$C$8/2000","v":14643.89295950156},{"$f":"C121/(1-C96)","v":20296.4559383251},{"$f":"G71/D121","v":1.2617794481448701},"Newspaper "]
[null,"Glass ",19844.324485981309,20500.335212790611,2.4020301060214098,"Glass "]
[null,"Aluminum Cans ",2937.482242990654,3372.5398886230241,2.4904599582687381,"Aluminum Cans "]
[null,"Plastic Bottles ",8137.913769470405,8548.2287494437023,3.1425941058818863,"Plastic Bottles "]
[null,"Steel Cans ",3786.0882242990651,4019.2019366232116,2.1173696834810274,"Steel Cans "]
[null,"Corrugated Paper",68171.347165109037,89758.192449123148,1.1514854543935833,"Corrugated Paper"]
[null,"Office Paper ",9856.8848598130826,11382.084133733351,2.0991466631090883,"Office Paper "]
[null,"Yard Waste ",75547.691464174452,152930.54952262033,1.5808927371095483,"Yard Waste "]
[null,"Other Plastics ",54098.041767992065,61266.185467714684,1.8427313563870462,"Other Plastics "]
[null,"Ferrous Metal ",{"$f":"D107*$C$8/2000","v":4237.4050086485831},{"$f":"C130/(1-C107)","v":5099.1636686505217},{"$f":"C80/D130","v":0.65334226882093061},"Ferrous Metal "]
[null,"White Goods ",{"$f":"D106*$C$8/2000","v":10574.936074766354},{"$f":"Table7141955[[#This Row],[tons-DRY/county-us data ]]","v":10574.936074766354},{"$f":"G81/Table7141955[[#This Row],[tons-WET/county-us data ]]","v":1.5851737059514477},"White Goods "]
[null,"Non-ferrous Metal ",{"$f":"D105*$C$8/2000","v":16330.977294814786},{"$f":"C132/(1-C105)","v":17263.189529402523},{"$f":"C82/D132","v":8.7753086840767672E-2},"Non-ferrous Metal "]
[null,"Other Paper ",{"$f":"D108*$C$8/2000","v":55376.980062305294},{"$f":"C133/(1-C108)","v":74281.663396787786},{"$f":"G83/D133","v":1.9695948378990995},"Other Paper "]
[null,"Textiles ",26663.774373682241,{"$f":"C134/(1-C109)","v":32125.029365882219},{"$f":"G84/D134","v":1.1028160799310698},"Textiles "]
[null,"C&D Debris",{"$error":"#VALUE!"},{"$f":"C135/(1-C110)","v":{"$error":"#VALUE!"}},{"$f":"#REF!/D135","v":{"$error":"#REF!"}},"C&D Debris"]
[null,"Food Waste",86449.014454828648,{"$f":"C136/(1-C111)","v":214780.16013622025},{"$f":"G86/D136","v":0.64469571201584008},"Food Waste"]
[null,"Miscellaneous ",72011.71667012712,{"$f":"C137/(1-C112)","v":104820.54828257221},{"$f":"G87/D137","v":1.3495286015553329},"Miscellaneous "]
[null,"Tires ",12707.330591900311,{"$f":"Table7141955[[#This Row],[tons-DRY/county-us data ]]","v":12707.330591900311},{"$f":"G88/Table7141955[[#This Row],[tons-WET/county-us data ]]","v":8.7325861396651702E-2},"Tires "]
[]
[]
[]
[null,"Link to \"New WasteCalc County Factors\""]
[null,"Newspaper","Glass","Aluminum Cans","Plastic Bottles","Steel Cans","Corrugated Paper","Office Paper","Yard Waste","Other Plastics","Ferrous Metals","White Goods","Non-Ferrous Metal","Other Paper","Textiles","C&D Debris","Food Waste","Misc","Tires"]
[null,{"$f":"E121","v":1.2617794481448701},{"$f":"E122","v":2.4020301060214098},{"$f":"E123","v":2.4904599582687381},{"$f":"E124","v":3.1425941058818863},{"$f":"E125","v":2.1173696834810274},{"$f":"E126","v":1.1514854543935833},{"$f":"E127","v":2.0991466631090883},{"$f":"E128","v":1.5808927371095483},{"$f":"E129","v":1.8427313563870462},{"$f":"E130","v":0.65334226882093061},{"$f":"E131","v":1.5851737059514477},{"$f":"E132","v":8.7753086840767672E-2},{"$f":"E133","v":1.9695948378990995},{"$f":"E134","v":1.1028160799310698},{"$error":"#REF!"},{"$f":"E136","v":0.64469571201584008},{"$f":"E137","v":1.3495286015553329},{"$f":"E138","v":8.7325861396651702E-2}]

{"sheet":"27 Sarasota County Factor","index":26,"n_rows":192,"n_cols":18,"rows_kept":192,"cut":false,"hidden":true,"merged":[[170,0,170,1],[2,0,2,1],[19,0,19,1],[88,0,88,1],[88,8,88,9],[91,1,93,1],[91,2,93,2],[91,3,93,3],[91,4,93,4],[92,8,92,10],[116,0,116,1],[118,0,118,1],[140,0,140,1],[142,0,142,1],[168,0,168,1],[66,0,66,1]]}
["Finding County Factors for Sarasota County"]
[]
[1]
["Information from annual solid waste report 2017"]
["County","Sarasota"]
["Waste comp study",2016]
["Year",2017]
["Population",407260]
["Landfilled tons",697863]
["C&D collected",331096]
["C&D disposed",50246]
[]
["Recycled tons",513632]
["Recycled C&D",280850]
["combustor recy metals",0]
["Combustor input",0]
["Combustor ash",0]
["Total Tons MSW collected",{"$f":"B9+B13+B16","v":1211495}]
[]
[2]
[]
["Sarasota Waste Composition Study Results"]
["FDEP Categorty","Waste Comp Category","Percentage in waste stream"]
["Newspaper","Newspaper",1.4999999999999999E-2]
["Courrugated Boxes","Courrgated Boxes",4.4999999999999998E-2]
["Office Paper","Office Paper",1.2E-2]
["Other Papers","Mixed recyclable paper",8.3000000000000004E-2]
[null,"Ploycoated/ Aseptic containers",5.0000000000000001E-3]
[null,"Compostable Paper",9.7000000000000003E-2]
["Glass Packaging","Other Glass",6.0000000000000001E-3]
[null,"Glass Containers",2.8000000000000001E-2]
["Steel Cans","Steel Cans",1.0999999999999999E-2]
["Aluminum Cans","Aluminum Cans",7.0000000000000001E-3]
["Other Ferrous Metals","Other Ferrous Metals",1.2999999999999999E-2]
["Other NonFerrous ","Other NonFerrous",8.0000000000000002E-3]
["Textiles","Textile",4.2999999999999997E-2]
[null,"Carpet",8.0000000000000002E-3]
["Yard Trash","Yard Waste",2.3E-2]
["Food Waste","Food Waste",0.19700000000000001]
["Tires","Tires",1E-3]
["White Goods","White goods ",1E-3]
["Plastic Bottles","Pet Bottles",1.4999999999999999E-2]
[null,"HDPE Bottles",8.0000000000000002E-3]
["Other Plastics","3-7 Containers",5.0000000000000001E-3]
[null,"Other Rigid Plastic",1.2999999999999999E-2]
[null,"Retail Carryout Bags",1.4E-2]
[null,"Other Rigid plastic packaging",3.5999999999999997E-2]
[null,"Film Plastic",7.3999999999999996E-2]
[null,"Expanded Ploystyrene",0.01]
["Other Miscellanous","Other Bulky Waste",3.0000000000000001E-3]
[null,"Diapers ",2.5999999999999999E-2]
[null,"Other Organics",3.3000000000000002E-2]
[null,"Rubber",5.0000000000000001E-3]
[null,"All other Garbage ",5.2999999999999999E-2]
[null,"Other Inorganics",6.0000000000000001E-3]
[null,"Fines",5.0000000000000001E-3]
[null,"HHW",4.0000000000000001E-3]
[null,"Other electronics and electronic goods",0.01]
[null,"electronics",5.0000000000000001E-3]
["C&D","Wood-Untreated",0.01]
[null,"Drywall",5.0000000000000001E-3]
[null,"Wood-Treated",1.6E-2]
[null,"Other C&D",4.2999999999999997E-2]
[null,null,"sum"]
[null,null,{"$f":"SUM(C24:C63)","v":1.0020000000000002}]
[]
["Recycled tons from Lee"]
["Materials","Tons"]
["Newspaper",16869]
["Glass",9884]
["Aluminum Cans",1253]
["Plastic Bottles",1878]
["Steel Cans",1201]
["Corrugated Paper",23674]
["Office Paper",4491]
["Yard Trash",98542]
["Other Plastics",2949]
["Ferrous Metals",33522]
["White Goods",6323]
["NonFerous Metals",11105]
["Other Paper",4394]
["Textiles",2823]
["C&D Debris"]
["Food",5295]
["Miscellaneous",5289]
["Tires",3191]
["Total",{"$f":"SUM(B69:B86)","v":232683}]
[]
[3,null,null,null,null,null,null,null,4]
[]
["Calculating waste compositon percentage utalizing waste compsition study"]
[null,"Landfilled tons\n(PLUS combusor ash, minus C&D  disposed)","Collected C&D \n(disposal + recycled)","Combusted\n(minus recycled metals,minus combustor ash)","Recycled Materials\n(Minus recycled c&D)"]
[]
["FDEP Category",null,null,null,null,"Sum"]
[null,{"$f":"B9+B15-B11","v":647617},{"$f":"B11+B14","v":331096},0,{"$f":"B13-B14-B17","v":232782},null,null,null,"FDEP Category","Percentage"]
["Newspaper",{"$f":"C24*B95","v":9714.2549999999992},null,{"$f":"$D$95*C24","v":0},{"$f":"B69","v":16869},{"$f":"SUM(B96:E96)","v":26583.254999999997},null,null,"Newspaper",{"$f":"F96/$F$115","v":2.1920876687066083E-2}]
["Glass",{"$f":"SUM(C30:C31)*B95","v":22018.978000000003},null,{"$f":"$D$95*SUM(C30:C31)","v":0},{"$f":"B70","v":9884},{"$f":"SUM(B97:E97)","v":31902.978000000003},null,null,"Glass",2.6307585233192182E-2]
["Aluminum Cans",{"$f":"C33*B95","v":4533.3190000000004},null,{"$f":"$D$95*C33","v":0},1253,5786.3190000000004,null,null,"Aluminum Cans",4.7714693054340994E-3]
["Plastic Bottles",{"$f":"SUM(C42:C43)*B95","v":14895.190999999999},null,{"$f":"$D$95*SUM(C42:C43)","v":0},1878,16773.190999999999,null,null,"Plastic Botles",1.3831378119782797E-2]
["Steel Cans",{"$f":"C32*B95","v":7123.7869999999994},null,{"$f":"$D$95*C32","v":0},1201,8324.7870000000003,null,null,"Steel Cans",6.864721016033996E-3]
["Corrugated Paper",{"$f":"C25*B95","v":29142.764999999999},null,{"$f":"$D$95*C25","v":0},23674,52816.764999999999,null,null,"Corrugated Paper",4.3553349376317829E-2]
["Office Paper",{"$f":"C26*B95","v":7771.4040000000005},null,{"$f":"$D$95*C26","v":0},4491,12262.404,null,null,"Office Paper",1.0111728077354934E-2]
["Yard Trash",{"$f":"C38*B95","v":14895.190999999999},null,{"$f":"$D$95*C38","v":0},98542,113437.19099999999,null,null,"Yard Trash",9.3541692905483642E-2]
["Other Plastics",{"$f":"SUM(C44:C49)*B95","v":98437.784000000014},null,{"$f":"$D$95*SUM(C44:C49)","v":0},2949,101386.78400000001,null,null,"Other Plastics",8.3604780143071461E-2]
["Ferrous Metals",{"$f":"C34*B95","v":8419.0209999999988},null,{"$f":"$D$95*C34","v":0},33522,41941.021000000001,null,null,"Ferrous Metals",3.4585078067777969E-2]
["White Goods",{"$f":"C41*B95","v":647.61699999999996},null,{"$f":"$D$95*C41","v":0},6323,6970.6170000000002,null,null,"White Goods",5.7480558979615751E-3]
["NonFerous Metals",{"$f":"C35*B95","v":5180.9359999999997},null,{"$f":"$D$95*C35","v":0},11105,16285.936,null,null,"NonFerous Metals",1.3429581696803129E-2]
["Other Paper",{"$f":"SUM(C27:C29)*B95","v":119809.145},null,{"$f":"$D$95*SUM(C27:C29)","v":0},4394,124203.145,null,null,"Other Paper",0.10241943003935329]
["Textiles",{"$f":"SUM(C36:C37)*B95","v":33028.466999999997},null,{"$f":"$D$95*SUM(C36:C37)","v":0},2823,35851.466999999997,null,null,"Textiles",2.9563557478473536E-2]
["C&D Debris",{"$f":"SUM(C60:C63)*B95","v":47923.657999999996},{"$f":"C95","v":331096},{"$f":"$D$95*SUM(C60:C63)","v":0},0,379019.658,null,null,"C&D Debris",0.31254423828052508]
["Food",{"$f":"C39*B95","v":127580.549},null,{"$f":"$D$95*C39","v":0},5295,132875.549,null,null,"Food",0.10957080027841613]
["Miscellaneous",{"$f":"SUM(C50:C59)*B95","v":97142.550000000017},null,{"$f":"$D$95*SUM(C50:C59)","v":0},5289,102431.55000000002,null,null,"Miscellaneous",8.4466306944542505E-2]
["Tires",{"$f":"C40*B95","v":647.61699999999996},null,{"$f":"$D$95*C40","v":0},3191,3838.6170000000002,null,null,"Tires",3.1653704524098178E-3]
[null,"Total","total","total","total","totalMsw collected",null,null,null,"total"]
[null,{"$f":"SUM(B96:B113)","v":648912.23400000005},{"$f":"C110","v":331096},0,{"$f":"SUM(E96:E113)","v":232683},{"$f":"SUM(F96:F113)","v":1212691.2339999999},null,null,null,{"$f":"SUM(J96:J113)","v":1}]
[]
[5]
[]
["US EPA Data and Moisture Content"]
["Category","Moisture Content  (MC) ","US EPA DATA (lbs-dry/person)","US EPA DATA             (lbs-WET/person)    [US EPA DATA/(1-MC)"]
["Newspaper",0.27850000000000003,41.931464174454831,58.117067462861854]
["Glass",3.2000000000000001E-2,56.822429906542055,58.700857341469067]
["Aluminum Cans",0.129,8.4112149532710276,9.6569632069701807]
["Plastic Bottles",4.8000000000000001E-2,23.302180685358255,24.477080551846907]
["Steel Cans",5.8000000000000003E-2,10.841121495327103,11.508621544933231]
["Corrugated Paper",0.24049999999999999,195.20249221183801,257.01447295831201]
["Office Paper",0.13400000000000001,28.22429906542056,32.591569359608037]
["Yard Waste",0.50600000000000001,216.3239875389408,437.90280878328099]
["Other Plastics",0.11700000000000001,154.90485396035913,175.43018568557093]
["Non-ferrous Metal",5.3999999999999999E-2,46.762277712979795,49.431583206109721]
["White Goods","x",30.280373831775702,30.280373831775702]
["Ferrous Metal",0.16900000000000001,12.133426323463874,14.600994372399368]
["Other Paper",0.2545,158.56697819314641,212.69883057430772]
["Textiles",0.17,76.349308411214949,91.987118567728857]
["C&D Debris",8.8999999999999996E-2,"-","-"]
["Food Waste",0.59750000000000003,247.53894080996884,615.00357965209651]
["Miscellaneous",0.313,206.19904324930312,300.14416775735532]
["Tires","x",36.386292834890966,36.386292834890966]
[]
[]
[6]
[]
["Finding County Factor"]
["Material ","tons-DRY/county-us data ","tons-WET/county-us data ","County Factor"]
["equation","US DATA * County Population/2000","tons-DRY/(1-MoistureContent)","ton-wet-composition/tons-wet-Usdata"]
["Newspaper",{"$f":"C121*$B$8/2000","v":8538.5040498442377},{"$f":"B146/(1-B121)","v":11834.378447462561},{"$f":"F96/C146","v":2.2462738637279069}]
["Glass",11570.75140186916,11953.255580443347,2.6689781528804826]
["Aluminum Cans",1712.7757009345794,1966.447417835338,2.9425241415148391]
["Plastic Bottles",4745.0230529595019,4984.267912772586,3.3652266077064903]
["Steel Cans",2207.5775700934582,2343.5006051947539,3.552287113366535]
["Corrugated Paper",39749.083489096578,52335.857128501084,1.0091888792480868]
["Office Paper",5747.314018691588,6636.6212686969839,1.8476877771884017]
["Yard Waste",44050.053582554508,89170.148952539486,1.2721431144000506]
["Other Plastics",31543.275411947932,35722.848711152808,2.8381494661803575]
["Ferrous Metal",{"$f":"C132*$B$8/2000","v":2470.7296022469486},{"$f":"B155/(1-B132)","v":2973.2004840516834},{"$f":"B105/C155","v":2.8316358231339676}]
["White Goods",{"$f":"C131*$B$8/2000","v":6165.9925233644863},{"$f":"B156","v":6165.9925233644863},{"$f":"F106/C156","v":1.1304939105239895}]
["Non-ferrous Metal",{"$f":"C130*$B$8/2000","v":9522.2026106940757},{"$f":"B157/(1-B130)","v":10065.753288260123},{"$f":"B107/C157","v":0.51470921764420974}]
["Other Paper",{"$f":"C133*$B$8/2000","v":32288.993769470406},{"$f":"B158/(1-B133)","v":43311.862869846285},{"$f":"F108/C158","v":2.8676472626733913}]
["Textiles",15547.009671775701,{"$f":"B159/(1-B134)","v":18731.336953946629},{"$f":"F109/C159","v":1.9139833471655217}]
["C&D Debris",{"$error":"#VALUE!"},{"$f":"B160/(1-B135)","v":{"$error":"#VALUE!"}},{"$f":"#REF!/C160","v":{"$error":"#REF!"}}]
["Food Waste",50406.35451713395,{"$f":"B161/(1-B136)","v":125233.17892455641},{"$f":"F111/C161","v":1.0610251224242062}]
["Miscellaneous",41988.311176855597,{"$f":"B162/(1-B137)","v":61118.35688043027},{"$f":"F112/C162","v":1.6759539233097083}]
["Tires",7409.3408099688477,{"$f":"B163","v":7409.3408099688477},{"$f":"F113/C163","v":0.51807807178141396}]
[]
["Link to \"New WasteCalc County Factors\""]
["Newspaper","Glass","Aluminum Cans","Plastic Bottles","Steel Cans","Corrugated Paper","Office Paper","Yard Waste","Other Plastics","Ferrous Metals","White Goods","Non-Ferrous Metal","Other Paper","Textiles","C&D Debris","Food Waste","Misc","Tires"]
[{"$f":"D146","v":2.2462738637279069},{"$f":"D147","v":2.6689781528804826},{"$f":"D148","v":2.9425241415148391},{"$f":"D149","v":3.3652266077064903},{"$f":"D150","v":3.552287113366535},{"$f":"D151","v":1.0091888792480868},{"$f":"D152","v":1.8476877771884017},{"$f":"D153","v":1.2721431144000506},{"$f":"D154","v":2.8381494661803575},{"$f":"D155","v":2.8316358231339676},{"$f":"D156","v":1.1304939105239895},{"$f":"D157","v":0.51470921764420974},{"$f":"D158","v":2.8676472626733913},{"$f":"D159","v":1.9139833471655217},null,{"$f":"D161","v":1.0610251224242062},{"$f":"D162","v":1.6759539233097083},{"$f":"D163","v":0.51807807178141396}]
[]
[7]
[]
["Check"]
["Category","Calculated ","Accepted (larger values of calculated vs recycled","Percent","Waste Comp Percent","Percentage Point Difference"]
["Newspaper",{"$f":"$B$8*D121*D146/2000","v":26583.25499999999},{"$f":"B173","v":26583.25499999999},{"$f":"C173/$C$192","v":2.1920876687066077E-2},{"$f":"J96","v":2.1920876687066083E-2},{"$f":"ABS(D173-E173)","v":6.9388939039072284E-18}]
["Glass",31902.978000000003,31902.978000000003,2.6307585233192182E-2,2.6307585233192182E-2,0]
["Aluminum Cans",5786.3189999999995,5786.3189999999995,4.7714693054340986E-3,4.7714693054340994E-3,8.6736173798840355E-19]
["Plastic Bottles",16773.190999999999,16773.190999999999,1.3831378119782797E-2,1.3831378119782797E-2,0]
["Steel Cans",8324.7870000000003,8324.7870000000003,6.864721016033996E-3,6.864721016033996E-3,0]
["Corrugated Paper",52816.764999999992,52816.764999999992,4.3553349376317829E-2,4.3553349376317829E-2,0]
["Office Paper",12262.404000000002,12262.404000000002,1.0111728077354934E-2,1.0111728077354934E-2,0]
["Yard Waste",113437.19100000002,113437.19100000002,9.3541692905483656E-2,9.3541692905483642E-2,1.3877787807814457E-17]
["Other Plastics",101386.78400000001,101386.78400000001,8.3604780143071461E-2,8.3604780143071461E-2,0]
["Ferrous Metal",{"$f":"(B8*D132*D155/2000)+E105","v":41941.021000000001},41941.021000000001,3.4585078067777969E-2,3.4585078067777969E-2,0]
["White Goods",{"$f":"B8*C131/2000","v":6165.9925233644863},6165.9925233644863,5.084552729078675E-3,5.7480558979615751E-3,6.6350316888290004E-4]
["Non-ferrous Metal",{"$f":"(B8*D157*D130/2000)+E107","v":16285.935999999998},16285.935999999998,1.3429581696803127E-2,1.3429581696803129E-2,1.7347234759768071E-18]
["Other Paper",{"$f":"$B$8*D133*D158/2000","v":124203.14499999999},124203.14499999999,0.10241943003935328,0.10241943003935329,1.3877787807814457E-17]
["Textiles",{"$f":"$B$8*D134*D159/2000","v":35851.46699999999},35851.46699999999,2.9563557478473529E-2,2.9563557478473536E-2,6.9388939039072284E-18]
["C&D Debris",{"$f":"B10+(B9*0.075)+(B16*0.075)","v":383435.72499999998},383435.72499999998,0.31618578105430584,0.31254423828052508,3.6415427737807593E-3]
["Food Waste",{"$f":"$B$8*D136*D161/2000","v":132875.549},132875.549,0.10957080027841613,0.10957080027841613,0]
["Miscellaneous",{"$f":"F115-B192","v":95249.383666666923},95249.383666666923,7.854380488303829E-2,8.4466306944542505E-2,5.9225020615042145E-3]
["Tires",{"$f":"B8*C138/2000","v":7409.3408099688477},7409.3408099688477,6.1098329090163508E-3,3.1653704524098178E-3,2.9444624566065331E-3]
[null,"sum (Minus misc)","TOTAL","TOTAL","TOTAL"]
[null,{"$f":"SUM(B173:B188,B190)","v":1117441.850333333},{"$f":"SUM(C173:C190)","v":1212691.2339999999},{"$f":"SUM(D173:D190)","v":1.0000000000000002},{"$f":"SUM(E173:E190)","v":1}]

{"sheet":"28 Palm Beach County Factor","index":27,"n_rows":168,"n_cols":29,"rows_kept":168,"cut":false,"hidden":true,"merged":[[2,1,2,2],[3,1,3,2],[19,1,19,2],[90,1,90,2],[90,9,90,10],[116,1,116,2],[118,1,118,2],[140,1,140,2],[142,1,142,2],[56,12,56,13],[67,1,67,2]]}
[null,"Finding County Factors for Palm Beach County"]
[]
[null,1]
[null,"Information from annual solid waste report 2018",null,null,null,null,null,null,null,null,null,null,null,null,null,null,null,null,null,null,null,null,null,null,null,null,null,null,"Renewable Energy Combusted"]
[null,"County","Palm"]
[null,"Waste comp study",2019]
[null,"Year",2017]
[null,"Population",1411246]
[null,"Landfilled tons ",756235]
[null,"C&D collected",773062]
[null,"C&D disposed",{"$f":"C10-C14","v":40332}]
[]
[null,"Recycled tons",1558716]
[null,"Recycled C&D",732730]
[null,"combustor recycled metals",78546]
[null,"Combustor input",1534698]
[null,"Combustor ash",323308]
[null,"Total Tons MSW collected",{"$f":"(C16-C15)+C13+C9","v":3771103}]
[]
[null,2]
[]
[null,"Palm Beach Waste Composition Study Results"]
[null,"FDEP Category","Waste Comp Category","Percentage in waste stream"]
[null,"Newspapers","Newspaper",1.2999999999999999E-2]
[null,"Glass","Green",8.0000000000000002E-3]
[null,null,"Clear ",1.7000000000000001E-2]
[null,null,"Brown",6.0000000000000001E-3]
[null,"Aluminum Cans","Aluminum cans and tin foil",0.01]
[null,"Plastic Bottles","#1 PET Bottles",2.1999999999999999E-2]
[null,null,"#2 HDPE Bottles- translucent ",4.0000000000000001E-3]
[null,null,"#2 HDPE Bottles- colored",5.0000000000000001E-3]
[null,null,"#3-7 (Other Plastic Bottles)",2E-3]
[null,"Steel Cans","Steel/Tin Cans",7.0000000000000001E-3]
[null,"Corrugated Boxes","Corrugated Cardboard (OCC)",7.0999999999999994E-2]
[null,"Office Paper","High Grade Paper (Office Type)",3.2000000000000001E-2]
[null,"Yard Trash","Yard Trash",2.5000000000000001E-2]
[null,"Other Plastics","Expanded Polystyrene (Food Service)",4.0000000000000001E-3]
[null,null,"Expanded Polystyrene",6.0000000000000001E-3]
[null,null,"Rigid Plastic (Tubs, Cups, Lids)",1.2E-2]
[null,null,"Rigid Plastic (Food Service)",1.4E-2]
[null,null,"Grocery Bags",1.2E-2]
[null,null,"Other Flexible Plastic",7.1999999999999995E-2]
[null,null,"Other Plastics",2.9000000000000001E-2]
[null,"Ferrous Metals","Other Ferrous Metals",7.0000000000000001E-3]
[null,"White Goods","White Goods",0]
[null,"Nonferrous Metals","Other Non-Ferrous Metals ",3.0000000000000001E-3]
[null,"Other Paper","Polycoated Aseptic Containers",6.0000000000000001E-3]
[null,null,"Food Service Container (Polycoated)",1.4E-2]
[null,null,"Other Compsite (Metal Coated)",6.0000000000000001E-3]
[null,null,"Boxboards",1.7999999999999999E-2]
[null,null,"Other Paper",0.126]
[null,"Textiles","Clothing, Footwear, Other Textiles",3.5999999999999997E-2]
[null,"C&D Debris","Wood",1.9E-2]
[null,null,"Asphalt Shingles",0]
[null,null,"Gypsum Drywall",2E-3]
[null,null,"Concrete/Bricks/Ceramics",8.0000000000000002E-3]
[null,"Food Waste","Food Waste",0.17199999999999999]
[null,"Miscellaneous","Animal- By-Product",1.4999999999999999E-2]
[null,null,"Other Organics",2.5999999999999999E-2]
[null,null,"Rubber and Leather",5.0000000000000001E-3]
[null,null,"Small Appliances/Electronics",1.2999999999999999E-2]
[null,null,"Hazardous Waste",6.0000000000000001E-3]
[null,null,"Residuals ",0.15]
[null,"Tires","Tires",0]
[null,null,null,"sum"]
[null,null,null,{"$f":"SUM(D24:D64)","v":1.0030000000000003}]
[]
[null,"Recycled tons from Palm Beach "]
[null,"Materials","Tons"]
[null,"Newspaper",17007]
[null,"Glass",17589]
[null,"Aluminum Cans",1957]
[null,"Plastic Bottles",5154]
[null,"Steel Cans",751]
[null,"Corrugated Paper",68814]
[null,"Office Paper",12752]
[null,"Yard Trash",215091]
[null,"Other Plastics",2674]
[null,"Ferrous Metals",96670]
[null,"White Goods",18400]
[null,"NonFerous Metals",19130]
[null,"Other Paper",26159]
[null,"Textiles",6181]
[null,"C&D Debris",732730]
[null,"Food",922]
[null,"Miscellaneous",306165]
[null,"Tires",10570]
[null,"Total",{"$f":"SUM(C70:C87)","v":1558716}]
[]
[]
[null,3,null,null,null,null,null,null,null,4]
[]
[null,"Calculating waste compositon percentage utalizing waste compsition study"]
[".","FDEP Category","Landfilled tons\n(PLus combusor ash, minus C&D  disposed)","Collected C&D \n(disposal c&d LANDFILL + recycled)","Combusted\n(minus recycled metals, minus ash)","Recycled Materials\n(Minus recycled c&D)","Total Collected Tons",null,null,"FDEP Category","Percentage"]
[null,null,{"$f":"C9-C11+C17","v":1039211},{"$f":"C11+C14","v":773062},{"$f":"C16-C15-C17","v":1132844},{"$f":"C88","v":1558716},null,null,null,"Newspaper",{"$f":"G96/$G$115","v":1.0031089244949842E-2}]
[null,"Newspaper",{"$f":"$C$95*D24","v":13509.742999999999},null,{"$f":"$E$95*D24","v":14726.972},{"$f":"C70","v":17007},{"$f":"SUM(C96:F96)","v":45243.714999999997},null,null,"Glass",{"$f":"G97/$G$115","v":1.882841037208258E-2}]
[null,"Glass",{"$f":"$C$95*SUM(D25:D27)","v":32215.541000000001},null,{"$f":"$E$95*SUM(D25:D27)","v":35118.163999999997},17589,{"$f":"SUM(C97:F97)","v":84922.705000000002},null,null,"Aluminum Cans",5.2496046611504414E-3]
[null,"Aluminum Cans",{"$f":"$C$95*D28","v":10392.11},null,{"$f":"$E$95*D28","v":11328.44},1957,23677.550000000003,null,null,"Plastic Botles",1.7034560338744863E-2]
[null,"Plastic Bottles",{"$f":"$C$95*SUM(D29:D32)","v":34293.963000000003},null,{"$f":"$E$95*SUM(D29:D32)","v":37383.851999999999},5154,76831.815000000002,null,null,"Steel Cans",3.5375055048537467E-3]
[null,"Steel Cans",{"$f":"$C$95*D33","v":7274.4769999999999},null,{"$f":"$E$95*D33","v":7929.9080000000004},751,15955.385,null,null,"Corrugated Paper",4.9448478785344772E-2]
[null,"Corrugated Paper",{"$f":"$C$95*D34","v":73783.981},null,{"$f":"$E$95*D34","v":80431.923999999999},68814,{"$f":"SUM(C101:F101)","v":223029.905},null,null,"Office Paper",1.8237559220096435E-2]
[null,"Office Paper",{"$f":"$C$95*D35","v":33254.752},null,{"$f":"$E$95*D35","v":36251.008000000002},12752,82257.760000000009,null,null,"Yard Trash",5.9727609802466365E-2]
[null,"Yard Trash",{"$f":"$C$95*D36","v":25980.275000000001},null,{"$f":"$E$95*D36","v":28321.100000000002},215091,269392.375,null,null,"Other Plastics",7.234699200943126E-2]
[null,"Other Plastics",{"$f":"$C$95*SUM(D37:D43)","v":154842.43899999998},null,{"$f":"$E$95*SUM(D37:D43)","v":168793.75599999999},2674,326310.19499999995,null,null,"Ferrous Metals",2.4803930007933208E-2]
[null,"Ferrous Metals",{"$f":"$C$95*D44","v":7274.4769999999999},null,{"$f":"$E$95*D44","v":7929.9080000000004},96670,111874.38499999999,null,null,"White Goods",4.079506780269416E-3]
[null,"White Goods",{"$f":"$C$95*D45","v":0},null,{"$f":"$E$95*D45","v":0},18400,18400,null,null,"NonFerous Metals",5.686070869859141E-3]
[null,"NonFerous Metals",{"$f":"$C$95*D46","v":3117.6330000000003},null,{"$f":"$E$95*D46","v":3398.5320000000002},19130,25646.165000000001,null,null,"Other Paper",8.7666904608703383E-2]
[null,"Other Paper",{"$f":"$C$95*SUM(D47:D51)","v":176665.87},null,{"$f":"$E$95*SUM(D47:D51)","v":192583.47999999998},26159,395408.35,null,null,"Textiles",1.8706972988863934E-2]
[null,"Textiles",{"$f":"$C$95*D52","v":37411.595999999998},null,{"$f":"$E$95*D52","v":40782.383999999998},6181,84374.98,null,null,"C&D Debris",0.34781821486762876]
[null,"C&D Debris",{"$f":"$C$95*SUM(D53:D56)","v":30137.118999999999},{"$f":"C10","v":773062},{"$f":"$E$95*SUM(D53:D56)","v":32852.475999999995},732730,1568781.595,null,null,"Food",8.3034693390528214E-2]
[null,"Food",{"$f":"$C$95*D57","v":178744.29199999999},null,{"$f":"$E$95*D57","v":194849.16799999998},922,374515.45999999996,null,null,"Miscellaneous",{"$f":"G112/$G$115","v":0.17141839727168881}]
[null,"Miscellaneous",{"$f":"$C$95*SUM(D58:D63)","v":223430.36499999996},null,{"$f":"$E$95*SUM(D58:D63)","v":243561.45999999996},306165,773156.82499999995,null,null,"Tires",2.3434992754047678E-3]
[null,"Tires",{"$f":"$C$95*D64","v":0},null,{"$f":"$E$95*D64","v":0},10570,10570,null,null,null,"total"]
[null,null,"Total","Total","Total","Total","Total",null,null,null,{"$f":"SUM(K95:K112)","v":0.99999999999999989}]
[null,null,{"$f":"SUM(C96:C113)","v":1042328.6329999999},{"$f":"D110","v":773062},{"$f":"SUM(E96:E113)","v":1136242.5319999999},{"$f":"SUM(F96:F113)","v":1558716},{"$f":"SUM(G96:G113)","v":4510349.165}]
[]
[null,5]
[]
[null,"US EPA Data and Moisture Content"]
[null,"Category","Moisture Content  (MC) ","US EPA DATA (lbs-dry/person)","US EPA DATA             (lbs-WET/person)    [US EPA DATA/(1-MC)"]
[null,"Newspaper",0.27850000000000003,41.931464174454831,58.117067462861854]
[null,"Glass",3.2000000000000001E-2,56.822429906542055,58.700857341469067]
[null,"Aluminum Cans",0.129,8.4112149532710276,9.6569632069701807]
[null,"Plastic Bottles",4.8000000000000001E-2,23.302180685358255,24.477080551846907]
[null,"Steel Cans",5.8000000000000003E-2,10.841121495327103,11.508621544933231]
[null,"Corrugated Paper",0.24049999999999999,195.20249221183801,257.01447295831201]
[null,"Office Paper",0.13400000000000001,28.22429906542056,32.591569359608037]
[null,"Yard Waste",0.50600000000000001,216.3239875389408,437.90280878328099]
[null,"Other Plastics",0.11700000000000001,154.90485396035913,175.43018568557093]
[null,"Non-ferrous Metal",5.3999999999999999E-2,46.762277712979795,49.431583206109721]
[null,"White Goods","x",30.280373831775702,30.280373831775702]
[null,"Ferrous Metal",0.16900000000000001,12.133426323463874,14.600994372399368]
[null,"Other Paper",0.2545,158.56697819314641,212.69883057430772]
[null,"Textiles",0.17,76.349308411214949,91.987118567728857]
[null,"C&D Debris",8.8999999999999996E-2,"-","-"]
[null,"Food Waste",0.59750000000000003,247.53894080996884,615.00357965209651]
[null,"Miscellaneous",0.313,206.19904324930312,300.14416775735532]
[null,"Tires","x",36.386292834890966,36.386292834890966]
[]
[]
[null,6]
[]
[null,"Finding County Factor"]
[null,"Material","tons-DRY/county-us data ","tons-WET/county-us data ","County Factor","Column1"]
[null,"equation","US DATA * County Population/2000","tons-DRY/(1-MoistureContent)","ton-wet-composition/tons-wet-Usdata"]
[null,"Newspaper ",{"$f":"D121*$C$8/2000","v":29587.805545171344},{"$f":"C146/(1-C121)","v":41008.739494346977},{"$f":"G96/D146","v":1.1032700726204181},"Newspaper "]
[null,"Glass ",40095.213457943923,41420.675059859423,2.0502491781525354,"Glass "]
[null,"Aluminum Cans ",5935.1467289719621,6814.1753489919201,3.4747491497269478,"Aluminum Cans "]
[null,"Plastic Bottles ",16442.554641744548,17271.591010235868,4.4484503456842077,"Plastic Bottles "]
[null,"Steel Cans ",7649.7446728971963,8120.7480604004213,1.9647678860773898,"Steel Cans "]
[null,"Corrugated Paper",137739.36816199377,181355.32345226302,1.2297951929638653,"Corrugated Paper"]
[null,"Office Paper ",19915.714579439253,22997.360946234705,3.5768347590973408,"Office Paper "]
[null,"Yard Waste ",152643.18105919004,308994.2936420851,0.87183608417067771,"Yard Waste "]
[null,"Other Plastics ",109304.4277660705,123787.57391400963,2.6360496831990168,"Other Plastics "]
[null,"Ferrous Metal ",{"$f":"D132*$C$8/2000","v":8561.6246826415481},{"$f":"C155/(1-C132)","v":10302.797452035558},{"$f":"C105/D155","v":0.7060681367236582},"Ferrous Metal "]
[null,"White Goods ",{"$f":"D131*$C$8/2000","v":21366.528224299065},{"$f":"Table714195561[[#This Row],[tons-DRY/county-us data ]]","v":21366.528224299065},{"$f":"G106/Table714195561[[#This Row],[tons-WET/county-us data ]]","v":0.86116002594537644},"White Goods "]
[null,"Non-ferrous Metal ",{"$f":"D130*$C$8/2000","v":32996.538686665939},{"$f":"C157/(1-C130)","v":34880.062036644755},{"$f":"C107/D157","v":8.9381521074264045E-2},"Non-ferrous Metal "]
[null,"Other Paper ",{"$f":"D133*$C$8/2000","v":111888.50685358254},{"$f":"C158/(1-C133)","v":150085.18692633472},{"$f":"G108/D158","v":2.634559466512012},"Other Paper "]
[null,"Textiles ",53873.828049046722,{"$f":"C159/(1-C134)","v":64908.226565116536},{"$f":"G109/D159","v":1.2999119597783839},"Textiles "]
[null,"C&D Debris",{"$error":"#VALUE!"},{"$f":"C160/(1-C135)","v":{"$error":"#VALUE!"}},{"$f":"#REF!/D160","v":{"$error":"#REF!"}},"C&D Debris"]
[null,"Food Waste",174669.17003115264,{"$f":"C161/(1-C136)","v":433960.67088485131},{"$f":"G111/D161","v":0.86301705460164901},"Food Waste"]
[null,"Miscellaneous ",145498.78749470302,{"$f":"C162/(1-C137)","v":211788.62808544835},{"$f":"G112/D162","v":3.650605946075923},"Miscellaneous "]
[null,"Tires ",25675.005109034271,{"$f":"Table714195561[[#This Row],[tons-DRY/county-us data ]]","v":25675.005109034271},{"$f":"G113/Table714195561[[#This Row],[tons-WET/county-us data ]]","v":0.41168443609309086},"Tires "]
[]
[]
[null,"Link to \"New WasteCalc County Factors\""]
[null,"Newspaper","Glass","Aluminum Cans","Plastic Bottles","Steel Cans","Corrugated Paper","Office Paper","Yard Waste","Other Plastics","Ferrous Metals","White Goods","Non-Ferrous Metal","Other Paper","Textiles","C&D Debris","Food Waste","Misc","Tires"]
[null,{"$f":"E146","v":1.1032700726204181},{"$f":"E147","v":2.0502491781525354},{"$f":"E148","v":3.4747491497269478},{"$f":"E149","v":4.4484503456842077},{"$f":"E150","v":1.9647678860773898},{"$f":"E151","v":1.2297951929638653},{"$f":"E152","v":3.5768347590973408},{"$f":"E153","v":0.87183608417067771},{"$f":"E154","v":2.6360496831990168},{"$f":"E155","v":0.7060681367236582},{"$f":"E156","v":0.86116002594537644},{"$f":"E157","v":8.9381521074264045E-2},{"$f":"E158","v":2.634559466512012},{"$f":"E159","v":1.2999119597783839},{"$error":"#REF!"},{"$f":"E161","v":0.86301705460164901},{"$f":"E162","v":3.650605946075923},{"$f":"E163","v":0.41168443609309086}]

{"sheet":"29 Pasco County Factor","index":28,"n_rows":144,"n_cols":19,"rows_kept":144,"cut":false,"hidden":true,"merged":[[65,9,65,10],[91,1,91,2],[93,1,93,2],[115,1,115,2],[117,1,117,2],[2,1,2,2],[3,1,3,2],[19,1,19,2],[43,1,43,2],[65,1,65,2]]}
[null,"Finding County Factors for Pasco"]
[]
[null,1]
[null,"Information from annual solid waste report 2017"]
[null,"County","Pasco"]
[null,"Waste comp study","NONE"]
[null,"Year",2017]
[null,"Population",505709]
[null,"Landfilled tons ",345787]
[null,"C&D collected",443223]
[null,"C&D disposed",{"$f":"C10-C14","v":253207}]
[]
[null,"Recycled tons",381905]
[null,"Recycled C&D",190016]
[null,"WTE metals",11548]
[null,"WTE input",337848]
[null,"WTE ash",323308]
[null,"Total Tons MSW collected",{"$f":"C9+(C16-C15)+C13","v":1053992}]
[]
[null,2]
[]
[null,"Average disposal LANDFILLED from Sarasota, Palm Beach, and Manatee Counties"]
[null,"Category ","Sarasota (tons)","Palm Beach (tons)","Manatee (tons)","Average","Percent"]
[null,"Newspaper",{"$f":"'27 Sarasota County Factor'!B96","v":9714.2549999999992},{"$f":"'28 Palm Beach County Factor'!C96","v":13509.742999999999},{"$f":"'32 Manatee County Factor'!B94","v":2718.8},{"$f":"AVERAGE(C24:E24)","v":8647.5993333333336},{"$f":"F24/$F$42","v":1.3213249381530897E-2}]
[null,"Glass",{"$f":"'27 Sarasota County Factor'!B97","v":22018.978000000003},{"$f":"'28 Palm Beach County Factor'!C97","v":32215.541000000001},{"$f":"'32 Manatee County Factor'!B95","v":7884.5199999999995},{"$f":"AVERAGE(C25:E25)","v":20706.346333333331},{"$f":"F25/$F$42","v":3.163862100179185E-2}]
[null,"Aluminum Cans",{"$f":"'27 Sarasota County Factor'!B98","v":4533.3190000000004},{"$f":"'28 Palm Beach County Factor'!C98","v":10392.11},{"$f":"'32 Manatee County Factor'!B96","v":2718.8},5881.4096666666665,8.9866019047690811E-3]
[null,"Plastic Bottles",{"$f":"'27 Sarasota County Factor'!B99","v":14895.190999999999},{"$f":"'28 Palm Beach County Factor'!C99","v":34293.963000000003},{"$f":"'32 Manatee County Factor'!B97","v":7068.880000000001},{"$f":"AVERAGE(C27:E27)","v":18752.678},2.8653479588309792E-2]
[null,"Steel Cans",{"$f":"'27 Sarasota County Factor'!B100","v":7123.7869999999994},{"$f":"'28 Palm Beach County Factor'!C100","v":7274.4769999999999},{"$f":"'32 Manatee County Factor'!B98","v":2990.68},5796.3146666666662,8.8565795236687801E-3]
[null,"Corrugated Paper",{"$f":"'27 Sarasota County Factor'!B101","v":29142.764999999999},{"$f":"'28 Palm Beach County Factor'!C101","v":73783.981},{"$f":"'32 Manatee County Factor'!B99","v":26916.120000000003},43280.955333333339,6.613188634744406E-2]
[null,"Office Paper",{"$f":"'27 Sarasota County Factor'!B102","v":7771.4040000000005},{"$f":"'28 Palm Beach County Factor'!C102","v":33254.752},{"$f":"'32 Manatee County Factor'!B100","v":1903.16},14309.772000000003,2.1864864309799757E-2]
[null,"Yard Trash",{"$f":"'27 Sarasota County Factor'!B103","v":14895.190999999999},{"$f":"'28 Palm Beach County Factor'!C103","v":25980.275000000001},{"$f":"'32 Manatee County Factor'!B101","v":6797},15890.822,2.4280657078336449E-2]
[null,"Other Plastics",{"$f":"'27 Sarasota County Factor'!B104","v":98437.784000000014},{"$f":"'28 Palm Beach County Factor'!C104","v":154842.43899999998},{"$f":"'32 Manatee County Factor'!B102","v":33984.999999999993},95755.074333333338,0.14631062656156382]
[null,"Ferrous Metals",{"$f":"'27 Sarasota County Factor'!B105","v":8419.0209999999988},{"$f":"'28 Palm Beach County Factor'!C105","v":7274.4769999999999},{"$f":"'32 Manatee County Factor'!B103","v":4350.08},6681.1926666666668,1.0208644210704115E-2]
[null,"White Goods",{"$f":"'27 Sarasota County Factor'!B106","v":647.61699999999996},{"$f":"'28 Palm Beach County Factor'!C106","v":0},{"$f":"'32 Manatee County Factor'!B104","v":1631.28},759.63233333333335,1.1606933984461745E-3]
[null,"NonFerous Metals",{"$f":"'27 Sarasota County Factor'!B107","v":5180.9359999999997},{"$f":"'28 Palm Beach County Factor'!C107","v":3117.6330000000003},{"$f":"'32 Manatee County Factor'!B105","v":815.64},3038.0696666666663,4.6420712381291069E-3]
[null,"Other Paper",{"$f":"'27 Sarasota County Factor'!B108","v":119809.145},{"$f":"'28 Palm Beach County Factor'!C108","v":176665.87},{"$f":"'32 Manatee County Factor'!B106","v":45947.719999999994},114140.91166666667,0.1744035855909169]
[null,"Textiles",{"$f":"'27 Sarasota County Factor'!B109","v":33028.466999999997},{"$f":"'28 Palm Beach County Factor'!C109","v":37411.595999999998},{"$f":"'32 Manatee County Factor'!B107","v":13322.12},27920.727666666662,4.2661960083119316E-2]
[null,"C&D Debris",{"$f":"'27 Sarasota County Factor'!B110","v":47923.657999999996},{"$f":"'28 Palm Beach County Factor'!C110","v":30137.118999999999},{"$f":"'32 Manatee County Factor'!B108","v":25284.84},34448.538999999997,5.2636242625378291E-2]
[null,"Food",{"$f":"'27 Sarasota County Factor'!B111","v":127580.549},{"$f":"'28 Palm Beach County Factor'!C111","v":178744.29199999999},{"$f":"'32 Manatee County Factor'!B109","v":48666.52},118330.45366666668,0.18080506895139306]
[null,"Miscellaneous",{"$f":"'27 Sarasota County Factor'!B112","v":97142.550000000017},{"$f":"'28 Palm Beach County Factor'!C112","v":223430.36499999996},{"$f":"'32 Manatee County Factor'!B110","v":38335.08},119635.99833333334,0.18279989856761958]
[null,"Tires",{"$f":"'27 Sarasota County Factor'!B113","v":647.61699999999996},{"$f":"'28 Palm Beach County Factor'!C113","v":0},{"$f":"'32 Manatee County Factor'!B111","v":815.64},487.75233333333335,7.4526963707888239E-4]
[null,"Total",{"$f":"SUM(C24:C41)","v":648912.23400000005},{"$f":"SUM(D24:D41)","v":1042328.6329999999},{"$f":"SUM(E24:E41)","v":272151.88},{"$f":"SUM(F24:F41)","v":654464.24900000007},1]
[]
[null,"Recycled tons from Pasco"]
[null,"Materials","Tons"]
[null,"Newspaper",950]
[null,"Glass",1058]
[null,"Aluminum Cans",888]
[null,"Plastic Bottles",33]
[null,"Steel Cans",0]
[null,"Corrugated Paper",18684]
[null,"Office Paper",2177]
[null,"Yard Trash",28301]
[null,"Other Plastics",1614]
[null,"Ferrous Metals",87248]
[null,"White Goods",14581]
[null,"NonFerous Metals",24764]
[null,"Other Paper",5132]
[null,"Textiles",671]
[null,"C&D Debris",190016]
[null,"Food",1473]
[null,"Miscellaneous",3494]
[null,"Tires",821]
[null,"Total",{"$f":"SUM(C46:C63)","v":381905}]
[]
[null,3,null,null,null,null,null,null,null,4]
[]
[null,"Calculating waste compositon percentage utalizing waste compsition study"]
[".","FDEP Category","Landfilled tons\n(PLus combusor ash, minus C&D  disposed)","Collected C&D \n(disposal c&d LANDFILL + recycled)","Combusted\n(minus recycled metals, minus ash)","Recycled Materials\n(Minus recycled c&D)","Total Collected Tons",null,null,"FDEP Category","Percentage"]
[null,null,{"$f":"C9-C11+C17","v":415888},{"$f":"C11+C14","v":443223},{"$f":"C16-C15-C17","v":2992},{"$f":"C64","v":381905},null,null,null,"Newspaper",{"$f":"G71/$G$90","v":6.1525760166449674E-3}]
[null,"Newspaper",{"$f":"$C$70*G24","v":5495.2318587861218},null,{"$f":"$E$70*G24","v":39.534042149540447},{"$f":"C46","v":950},{"$f":"SUM(C71:F71)","v":6484.7659009356621},null,null,"Glass",{"$f":"G72/$G$90","v":1.3577698469467102E-2}]
[null,"Glass",13158.122811193209,null,94.662754037361211,1058,{"$f":"SUM(C72:F72)","v":14310.78556523057},null,null,"Aluminum Cans",4.4139877777721968E-3]
[null,"Aluminum Cans",3737.4198929706035,null,26.887912899069089,888,4652.3078058696728,null,null,"Plastic Botles",1.1418843340320615E-2]
[null,"Plastic Bottles",11916.638319022983,null,85.731210928222893,33,12035.369529951206,null,null,"Steel Cans",3.5198028361452254E-3]
[null,"Steel Cans",3683.3451449395616,null,26.49888593481699,0,3709.8440308743784,null,null,"Corrugated Paper",4.4009180860212757E-2]
[null,"Corrugated Paper",27503.457949265816,null,197.86660395155263,18684,46385.324553217368,null,null,"Office Paper",1.0755066795657766E-2]
[null,"Office Paper",9093.334688074001,null,65.419674014920872,2177,11335.754362088921,null,null,"Yard Trash",3.6500923761255848E-2]
[null,"Yard Trash",10098.033910995189,null,72.647725978382653,28301,38471.681636973575,null,null,"Other Plastics",5.9678437079321141E-2]
[null,"Other Plastics",60848.833859435654,null,437.76139467219895,1614,62900.595254107851,null,null,"Ferrous Metals",8.6835760505753118E-2]
[null,"Ferrous Metals",4245.6526235013125,null,30.544263478426711,87248,91524.196886979742,null,null,"White Goods",1.4295356369631966E-2]
[null,"White Goods",482.71845609298259,null,3.4727946481509542,14581,15067.191250741134,null,null,"NonFerous Metals",2.5340297459779126E-2]
[null,"NonFerous Metals",1930.581723083038,null,13.889077144482288,24764,26708.470800227522,null,null,"Other Paper",7.4180993719424118E-2]
[null,"Other Paper",72532.358404235245,null,521.81552808802337,5132,78186.173932323261,null,null,"Textiles",1.7591444564680776E-2]
[null,"Textiles",17742.597255048327,null,127.64458456869299,671,18541.241839617021,null,null,"C&D Debris",0.44143719241789164]
[null,"C&D Debris",21890.781672983325,{"$f":"C10","v":443223},157.48763793513186,0,465271.26931091846,null,null,"Food",7.32535230650323E-2]
[null,"Food",75194.658516056952,null,540.96876630256804,{"$f":"C61","v":1473},77208.627282359521,null,null,"Miscellaneous",{"$f":"G87/$G$90","v":7.5963784840875917E-2}]
[null,"Miscellaneous",76024.284215490174,null,546.93729651431772,{"$f":"C62","v":3494},80065.221512004486,null,null,"Tires",1.0751301201333619E-3]
[null,"Tires",309.94869882546226,null,2.229846754140016,{"$f":"C63","v":821},{"$f":"SUM(C88:F88)","v":1133.1785455796023},null,null,null,"total"]
[null,null,"Total","Total","Total","Total","Total",null,null,null,{"$f":"SUM(K70:K87)","v":1}]
[null,null,{"$f":"SUM(C71:C88)","v":415887.99999999994},{"$f":"D85","v":443223},{"$f":"SUM(E71:E88)","v":2992.0000000000005},{"$f":"SUM(F71:F88)","v":191889},{"$f":"SUM(C90:F90)","v":1053992}]
[]
[null,5]
[]
[null,"US EPA Data and Moisture Content"]
[null,"Category","Moisture Content  (MC) ","US EPA DATA (lbs-dry/person)","US EPA DATA             (lbs-WET/person)    [US EPA DATA/(1-MC)"]
[null,"Newspaper",0.27850000000000003,41.931464174454831,58.117067462861854]
[null,"Glass",3.2000000000000001E-2,56.822429906542055,58.700857341469067]
[null,"Aluminum Cans",0.129,8.4112149532710276,9.6569632069701807]
[null,"Plastic Bottles",4.8000000000000001E-2,23.302180685358255,24.477080551846907]
[null,"Steel Cans",5.8000000000000003E-2,10.841121495327103,11.508621544933231]
[null,"Corrugated Paper",0.24049999999999999,195.20249221183801,257.01447295831201]
[null,"Office Paper",0.13400000000000001,28.22429906542056,32.591569359608037]
[null,"Yard Waste",0.50600000000000001,216.3239875389408,437.90280878328099]
[null,"Other Plastics",0.11700000000000001,154.90485396035913,175.43018568557093]
[null,"Non-ferrous Metal",5.3999999999999999E-2,46.762277712979795,49.431583206109721]
[null,"White Goods","x",30.280373831775702,30.280373831775702]
[null,"Ferrous Metal",0.16900000000000001,12.133426323463874,14.600994372399368]
[null,"Other Paper",0.2545,158.56697819314641,212.69883057430772]
[null,"Textiles",0.17,76.349308411214949,91.987118567728857]
[null,"C&D Debris",8.8999999999999996E-2,"-","-"]
[null,"Food Waste",0.59750000000000003,247.53894080996884,615.00357965209651]
[null,"Miscellaneous",0.313,206.19904324930312,300.14416775735532]
[null,"Tires","x",36.386292834890966,36.386292834890966]
[]
[]
[null,6]
[]
[null,"Finding County Factor"]
[null,"Category","tons-DRY/county-us data ","tons-WET/county-us data ","County Factor","Category "]
[null,"equation","US DATA * County Population/2000","tons-DRY/(1-MoistureContent)","ton-wet-composition/tons-wet-Usdata"]
[null,"Newspaper ",{"$f":"D96*$C$8/2000","v":10602.559408099689},{"$f":"C121/(1-C96)","v":14695.162034788204},{"$f":"G71/D121","v":0.44128577048583217},"Newspaper "]
[null,"Glass ",14367.807102803739,14842.775932648492,0.96415829694984856,"Glass "]
[null,"Aluminum Cans ",2126.8135514018691,2441.8066032168417,1.9052728417314917,"Aluminum Cans "]
[null,"Plastic Bottles ",5892.0612461059191,6189.1399643969744,1.944594822412268,"Plastic Bottles "]
[null,"Steel Cans ",2741.226355140187,2910.0067464333197,1.2748575361281851,"Steel Cans "]
[null,"Corrugated Paper",49357.828566978191,64987.266052637504,0.71376020827906217,"Corrugated Paper"]
[null,"Office Paper ",7136.641028037383,8240.9249746390105,1.3755439343246147,"Office Paper "]
[null,"Yard Waste ",54698.493707165107,110725.69576349213,0.34745034900614502,"Yard Waste "]
[null,"Other Plastics ",39168.389395719627,44358.311886432195,1.4180114747186119,"Other Plastics "]
[null,"Ferrous Metal ",{"$f":"D107*$C$8/2000","v":3067.991446306296},{"$f":"C130/(1-C107)","v":3691.9271315358556},{"$f":"C80/D130","v":1.1499827792470825},"Ferrous Metal "]
[null,"White Goods ",{"$f":"D106*$C$8/2000","v":7656.5287850467294},{"$f":"Table7141925[[#This Row],[tons-DRY/county-us data ]]","v":7656.5287850467294},{"$f":"G81/Table7141925[[#This Row],[tons-WET/county-us data ]]","v":1.9678880173698943},"White Goods "]
[null,"Non-ferrous Metal ",{"$f":"D105*$C$8/2000","v":11824.05234997665},{"$f":"C132/(1-C105)","v":12498.998255789271},{"$f":"C82/D132","v":0.15445891611264395},"Non-ferrous Metal "]
[null,"Other Paper ",{"$f":"D108*$C$8/2000","v":40094.373987538944},{"$f":"C133/(1-C108)","v":53781.856455451292},{"$f":"G83/D133","v":1.4537648769541194},"Other Paper "]
[null,"Textiles ",19305.266203663552,{"$f":"C134/(1-C109)","v":23259.3568718838},{"$f":"G84/D134","v":0.79715195659729976},"Textiles "]
[null,"C&D Debris",{"$error":"#VALUE!"},{"$f":"C135/(1-C110)","v":{"$error":"#VALUE!"}},{"$f":"#REF!/D135","v":{"$error":"#REF!"}},"C&D Debris"]
[null,"Food Waste",62591.335109034262,{"$f":"C136/(1-C111)","v":155506.42263114103},{"$f":"G86/D136","v":0.49649799652003607},"Food Waste"]
[null,"Miscellaneous ",52138.355981280918,{"$f":"C137/(1-C112)","v":75892.803466202196},{"$f":"G87/D137","v":1.0549777825464099},"Miscellaneous "]
[null,"Tires ",9200.4378816199369,{"$f":"Table7141925[[#This Row],[tons-DRY/county-us data ]]","v":9200.4378816199369},{"$f":"G88/Table7141925[[#This Row],[tons-WET/county-us data ]]","v":0.12316571886685915},"Tires "]
[]
[]
[]
[null,"Link to \"New WasteCalc County Factors\""]
[null,"Newspaper","Glass","Aluminum Cans","Plastic Bottles","Steel Cans","Corrugated Paper","Office Paper","Yard Waste","Other Plastics","Ferrous Metals","White Goods","Non-Ferrous Metal","Other Paper","Textiles","C&D Debris","Food Waste","Misc","Tires"]
[null,{"$f":"E121","v":0.44128577048583217},{"$f":"E122","v":0.96415829694984856},{"$f":"E123","v":1.9052728417314917},{"$f":"E124","v":1.944594822412268},{"$f":"E125","v":1.2748575361281851},{"$f":"E126","v":0.71376020827906217},{"$f":"E127","v":1.3755439343246147},{"$f":"E128","v":0.34745034900614502},{"$f":"E129","v":1.4180114747186119},{"$f":"E130","v":1.1499827792470825},{"$f":"E131","v":1.9678880173698943},{"$f":"E132","v":0.15445891611264395},{"$f":"E133","v":1.4537648769541194},{"$f":"E134","v":0.79715195659729976},{"$error":"#REF!"},{"$f":"E136","v":0.49649799652003607},{"$f":"E137","v":1.0549777825464099},{"$f":"E138","v":0.12316571886685915}]

{"sheet":"30 Brevard County Factor","index":29,"n_rows":144,"n_cols":19,"rows_kept":144,"cut":false,"hidden":true,"merged":[[2,1,2,2],[3,1,3,2],[19,1,19,2],[43,1,43,2],[65,1,65,2],[65,9,65,10],[91,1,91,2],[93,1,93,2],[115,1,115,2],[117,1,117,2]]}
[null,"Finding County Factors for Brevard"]
[]
[null,1]
[null,"Information from annual solid waste report 2017"]
[null,"County","Brevard"]
[null,"Waste comp study","NONE"]
[null,"Year",2017]
[null,"Population",575211]
[null,"Landfilled tons ",714271]
[null,"C&D collected",407865]
[null,"C&D disposed",{"$f":"C10-C14","v":152071}]
[]
[null,"Recycled tons",735054]
[null,"Recycled C&D",255794]
[null,"combustor recy metals",0]
[null,"Combustor input",0]
[null,"Process Fuel",143189]
[null,"Total Tons MSW collected",{"$f":"C9+(C16-C15)+C13","v":1449325}]
[]
[null,2]
[]
[null,"Average disposal LANDFILLED from Sarasota, Palm Beach, Manatee"]
[null,"Category ","Sarasota (tons)","Palm Beach (tons)","Manatee (tons)","Average","Percent"]
[null,"Newspaper",{"$f":"'27 Sarasota County Factor'!B96","v":9714.2549999999992},{"$f":"'28 Palm Beach County Factor'!C96","v":13509.742999999999},{"$f":"'32 Manatee County Factor'!B94","v":2718.8},{"$f":"AVERAGE(C24:E24)","v":8647.5993333333336},{"$f":"F24/$F$42","v":1.3213249381530897E-2}]
[null,"Glass",{"$f":"'27 Sarasota County Factor'!B97","v":22018.978000000003},{"$f":"'28 Palm Beach County Factor'!C97","v":32215.541000000001},{"$f":"'32 Manatee County Factor'!B95","v":7884.5199999999995},{"$f":"AVERAGE(C25:E25)","v":20706.346333333331},{"$f":"F25/$F$42","v":3.163862100179185E-2}]
[null,"Aluminum Cans",{"$f":"'27 Sarasota County Factor'!B98","v":4533.3190000000004},{"$f":"'28 Palm Beach County Factor'!C98","v":10392.11},{"$f":"'32 Manatee County Factor'!B96","v":2718.8},5881.4096666666665,8.9866019047690811E-3]
[null,"Plastic Bottles",{"$f":"'27 Sarasota County Factor'!B99","v":14895.190999999999},{"$f":"'28 Palm Beach County Factor'!C99","v":34293.963000000003},{"$f":"'32 Manatee County Factor'!B97","v":7068.880000000001},18752.678,2.8653479588309792E-2]
[null,"Steel Cans",{"$f":"'27 Sarasota County Factor'!B100","v":7123.7869999999994},{"$f":"'28 Palm Beach County Factor'!C100","v":7274.4769999999999},{"$f":"'32 Manatee County Factor'!B98","v":2990.68},5796.3146666666662,8.8565795236687801E-3]
[null,"Corrugated Paper",{"$f":"'27 Sarasota County Factor'!B101","v":29142.764999999999},{"$f":"'28 Palm Beach County Factor'!C101","v":73783.981},{"$f":"'32 Manatee County Factor'!B99","v":26916.120000000003},43280.955333333339,6.613188634744406E-2]
[null,"Office Paper",{"$f":"'27 Sarasota County Factor'!B102","v":7771.4040000000005},{"$f":"'28 Palm Beach County Factor'!C102","v":33254.752},{"$f":"'32 Manatee County Factor'!B100","v":1903.16},14309.772000000003,2.1864864309799757E-2]
[null,"Yard Trash",{"$f":"'27 Sarasota County Factor'!B103","v":14895.190999999999},{"$f":"'28 Palm Beach County Factor'!C103","v":25980.275000000001},{"$f":"'32 Manatee County Factor'!B101","v":6797},15890.822,2.4280657078336449E-2]
[null,"Other Plastics",{"$f":"'27 Sarasota County Factor'!B104","v":98437.784000000014},{"$f":"'28 Palm Beach County Factor'!C104","v":154842.43899999998},{"$f":"'32 Manatee County Factor'!B102","v":33984.999999999993},95755.074333333338,0.14631062656156382]
[null,"Ferrous Metals",{"$f":"'27 Sarasota County Factor'!B105","v":8419.0209999999988},{"$f":"'28 Palm Beach County Factor'!C105","v":7274.4769999999999},{"$f":"'32 Manatee County Factor'!B103","v":4350.08},6681.1926666666668,1.0208644210704115E-2]
[null,"White Goods",{"$f":"'27 Sarasota County Factor'!B106","v":647.61699999999996},{"$f":"'28 Palm Beach County Factor'!C106","v":0},{"$f":"'32 Manatee County Factor'!B104","v":1631.28},759.63233333333335,1.1606933984461745E-3]
[null,"NonFerous Metals",{"$f":"'27 Sarasota County Factor'!B107","v":5180.9359999999997},{"$f":"'28 Palm Beach County Factor'!C107","v":3117.6330000000003},{"$f":"'32 Manatee County Factor'!B105","v":815.64},3038.0696666666663,4.6420712381291069E-3]
[null,"Other Paper",{"$f":"'27 Sarasota County Factor'!B108","v":119809.145},{"$f":"'28 Palm Beach County Factor'!C108","v":176665.87},{"$f":"'32 Manatee County Factor'!B106","v":45947.719999999994},114140.91166666667,0.1744035855909169]
[null,"Textiles",{"$f":"'27 Sarasota County Factor'!B109","v":33028.466999999997},{"$f":"'28 Palm Beach County Factor'!C109","v":37411.595999999998},{"$f":"'32 Manatee County Factor'!B107","v":13322.12},27920.727666666662,4.2661960083119316E-2]
[null,"C&D Debris",{"$f":"'27 Sarasota County Factor'!B110","v":47923.657999999996},{"$f":"'28 Palm Beach County Factor'!C110","v":30137.118999999999},{"$f":"'32 Manatee County Factor'!B108","v":25284.84},34448.538999999997,5.2636242625378291E-2]
[null,"Food",{"$f":"'27 Sarasota County Factor'!B111","v":127580.549},{"$f":"'28 Palm Beach County Factor'!C111","v":178744.29199999999},{"$f":"'32 Manatee County Factor'!B109","v":48666.52},118330.45366666668,0.18080506895139306]
[null,"Miscellaneous",{"$f":"'27 Sarasota County Factor'!B112","v":97142.550000000017},{"$f":"'28 Palm Beach County Factor'!C112","v":223430.36499999996},{"$f":"'32 Manatee County Factor'!B110","v":38335.08},119635.99833333334,0.18279989856761958]
[null,"Tires",{"$f":"'27 Sarasota County Factor'!B113","v":647.61699999999996},{"$f":"'28 Palm Beach County Factor'!C113","v":0},{"$f":"'32 Manatee County Factor'!B111","v":815.64},487.75233333333335,7.4526963707888239E-4]
[null,"Total",{"$f":"SUM(C24:C41)","v":648912.23400000005},{"$f":"SUM(D24:D41)","v":1042328.6329999999},272151.88,654464.24900000007,0.99999999999999978]
[]
[null,"Recycled tons from Brevard County "]
[null,"Materials","Tons"]
[null,"Newspaper",6859]
[null,"Glass",13681]
[null,"Aluminum Cans",1661]
[null,"Plastic Bottles",2598]
[null,"Steel Cans",1360]
[null,"Corrugated Paper",34689]
[null,"Office Paper",2079]
[null,"Yard Trash",272455]
[null,"Other Plastics",3791]
[null,"Ferrous Metals",54279]
[null,"White Goods",8621]
[null,"NonFerous Metals",24153]
[null,"Other Paper",7516]
[null,"Textiles",1873]
[null,"C&D Debris",255794]
[null,"Food",886]
[null,"Miscellaneous",35490]
[null,"Tires",7269]
[null,"Total",{"$f":"SUM(C46:C63)","v":735054}]
[]
[null,3,null,null,null,null,null,null,null,4]
[]
[null,"Calculating waste compositon percentage utalizing waste compsition study"]
[".","FDEP Category","Landfilled tons\n(PLus combusor ash, minus C&D  disposed)","Collected C&D \n(disposal c&d LANDFILL + recycled)","Combusted\n(minus recycled metals, minus ash)","Recycled Materials\n(Minus recycled c&D)","Total Collected Tons"]
[null,null,{"$f":"C9-C11","v":562200},{"$f":"C11+C14","v":407865},{"$f":"C16-C15","v":0},{"$f":"C64-C14","v":479260},null,null,null,"FDEP Category","Percentage"]
[null,"Newspaper",{"$f":"$C$70*G24","v":7428.4888022966707},null,{"$f":"$E$70*G24","v":0},{"$f":"C46","v":6859},{"$f":"SUM(C71:F71)","v":14287.48880229667},null,null,"Newspaper",{"$f":"G71/$G$90","v":9.8580296360696665E-3}]
[null,"Glass",17787.232727207378,null,0,13681,{"$f":"SUM(C72:F72)","v":31468.232727207378},null,null,"Glass",2.1712336934233092E-2]
[null,"Aluminum Cans",5052.2675908611773,null,0,1661,{"$f":"SUM(C73:F73)","v":6713.2675908611773},null,null,"Aluminum Cans",4.6319959918314918E-3]
[null,"Plastic Bottles",16108.986224547765,null,0,2598,18706.986224547763,null,null,"Plastic Botles",1.2907378417227167E-2]
[null,"Steel Cans",4979.1690082065879,null,0,1360,6339.1690082065879,null,null,"Steel Cans",4.37387681038179E-3]
[null,"Corrugated Paper",37179.346504533052,null,0,34689,71868.346504533052,null,null,"Corrugated Paper",4.9587460717598231E-2]
[null,"Office Paper",12292.426714969422,null,0,2079,14371.426714969422,null,null,"Office Paper",9.9159448122190831E-3]
[null,"Yard Trash",13650.585409440751,null,0,272455,286105.58540944074,null,null,"Yard Trash",0.19740609277383661]
[null,"Other Plastics",82255.834252911183,null,0,3791,86046.834252911183,null,null,"Other Plastics",5.9370282202343284E-2]
[null,"Ferrous Metals",5739.2997752578531,null,0,54279,60018.299775257852,null,null,"Ferrous Metals",4.1411208511036413E-2]
[null,"White Goods",652.54182860643925,null,0,8621,9273.5418286064396,null,null,"White Goods",6.3985247122670483E-3]
[null,"NonFerous Metals",2609.7724500761838,null,0,24153,26762.772450076183,null,null,"NonFerous Metals",1.8465680540994036E-2]
[null,"Other Paper",98049.695819213477,null,0,7516,105565.69581921348,null,null,"Other Paper",7.283783541939419E-2]
[null,"Textiles",23984.553958729681,null,0,1873,25857.553958729681,null,null,"Textiles",1.7841101173808278E-2]
[null,"C&D Debris",29592.095603987676,{"$f":"C10","v":407865},0,0,437457.09560398769,null,null,"C&D Debris",0.30183505811601102]
[null,"Food",101648.60976447318,null,0,{"$f":"C61","v":886},102534.60976447318,null,null,"Food",7.0746457671311255E-2]
[null,"Miscellaneous",102770.10297471573,null,0,{"$f":"C62","v":35490},138260.10297471573,null,null,"Miscellaneous",9.5396203732576013E-2]
[null,"Tires",418.99058996574769,null,0,{"$f":"C63","v":7269},{"$f":"SUM(C88:F88)","v":7687.9905899657479},null,null,"Tires",5.3045318268612959E-3]
[null,null,"Total","Total","Total","Total","Total",null,null,null,"total"]
[null,null,{"$f":"SUM(C71:C88)","v":562199.99999999988},{"$f":"D85","v":407865},{"$f":"SUM(E71:E88)","v":0},{"$f":"SUM(F71:F88)","v":479260},{"$f":"SUM(C90:F90)","v":1449325},null,null,null,{"$f":"SUM(K71:K88)","v":0.99999999999999989}]
[]
[null,5]
[]
[null,"US EPA Data and Moisture Content"]
[null,"Category","Moisture Content  (MC) ","US EPA DATA (lbs-dry/person)","US EPA DATA             (lbs-WET/person)    [US EPA DATA/(1-MC)"]
[null,"Newspaper",0.27850000000000003,41.931464174454831,58.117067462861854]
[null,"Glass",3.2000000000000001E-2,56.822429906542055,58.700857341469067]
[null,"Aluminum Cans",0.129,8.4112149532710276,9.6569632069701807]
[null,"Plastic Bottles",4.8000000000000001E-2,23.302180685358255,24.477080551846907]
[null,"Steel Cans",5.8000000000000003E-2,10.841121495327103,11.508621544933231]
[null,"Corrugated Paper",0.24049999999999999,195.20249221183801,257.01447295831201]
[null,"Office Paper",0.13400000000000001,28.22429906542056,32.591569359608037]
[null,"Yard Waste",0.50600000000000001,216.3239875389408,437.90280878328099]
[null,"Other Plastics",0.11700000000000001,154.90485396035913,175.43018568557093]
[null,"Non-ferrous Metal",5.3999999999999999E-2,46.762277712979795,49.431583206109721]
[null,"White Goods","x",30.280373831775702,30.280373831775702]
[null,"Ferrous Metal",0.16900000000000001,12.133426323463874,14.600994372399368]
[null,"Other Paper",0.2545,158.56697819314641,212.69883057430772]
[null,"Textiles",0.17,76.349308411214949,91.987118567728857]
[null,"C&D Debris",8.8999999999999996E-2,"-","-"]
[null,"Food Waste",0.59750000000000003,247.53894080996884,615.00357965209651]
[null,"Miscellaneous",0.313,206.19904324930312,300.14416775735532]
[null,"Tires","x",36.386292834890966,36.386292834890966]
[]
[]
[null,6]
[]
[null,"Finding County Factor"]
[null,"Category","tons-DRY/county-us data ","tons-WET/county-us data ","County Factor","Category   "]
[null,"equation","US DATA * County Population/2000","tons-DRY/(1-MoistureContent)","ton-wet-composition/tons-wet-Usdata"]
[null,"Newspaper ",{"$f":"D96*$C$8/2000","v":12059.71971962617},{"$f":"C121/(1-C96)","v":16714.788246190117},{"$f":"G71/D121","v":0.85478132249466499},"Newspaper "]
[null,"Glass ",16342.44336448598,16882.68942612188,1.863934822997922,"Glass "]
[null,"Aluminum Cans ",2419.1116822429904,2777.3957316222622,2.4171087736712238,"Aluminum Cans "]
[null,"Plastic Bottles ",6701.8353271028036,7039.7429906542056,2.657339372954767,"Plastic Bottles "]
[null,"Steel Cans ",3117.9661682242995,3309.9428537412946,1.9151898652997281,"Steel Cans "]
[null,"Corrugated Paper",56141.31037383178,73918.776002411818,0.97226104639757749,"Corrugated Paper"]
[null,"Office Paper ",8117.463644859813,9373.5146014547499,1.5331951062133096,"Office Paper "]
[null,"Yard Waste ",62215.968598130836,125943.25627151992,2.2717023037154789,"Yard Waste "]
[null,"Other Plastics ",44551.487975696073,50454.686269191472,1.7054279912439552,"Other Plastics "]
[null,"Ferrous Metal ",{"$f":"D107*$C$8/2000","v":3489.640144472989},{"$f":"C130/(1-C107)","v":4199.3262869711061},{"$f":"C80/D130","v":1.3667191789941859},"Ferrous Metal "]
[null,"White Goods ",{"$f":"D106*$C$8/2000","v":8708.8020560747664},{"$f":"Table714192567[[#This Row],[tons-DRY/county-us data ]]","v":8708.8020560747664},{"$f":"G81/Table714192567[[#This Row],[tons-WET/county-us data ]]","v":1.0648470098292959},"White Goods "]
[null,"Non-ferrous Metal ",{"$f":"D105*$C$8/2000","v":13449.088262780411},{"$f":"C132/(1-C105)","v":14216.79520378479},{"$f":"C82/D132","v":0.18356967323981788},"Non-ferrous Metal "]
[null,"Other Paper ",{"$f":"D108*$C$8/2000","v":45604.735046728965},{"$f":"C133/(1-C108)","v":61173.353516739051},{"$f":"G83/D133","v":1.7256810318618092},"Other Paper "]
[null,"Textiles ",21958.481020261683,{"$f":"C134/(1-C109)","v":26456.001229230944},{"$f":"G84/D134","v":0.97737952665952987},"Textiles "]
[null,"C&D Debris",{"$error":"#VALUE!"},{"$f":"C135/(1-C110)","v":{"$error":"#VALUE!"}},{"$f":"#REF!/D135","v":{"$error":"#REF!"}},"C&D Debris"]
[null,"Food Waste",71193.560841121493,{"$f":"C136/(1-C111)","v":176878.41202763104},{"$f":"G86/D136","v":0.57968979136049537},"Food Waste"]
[null,"Miscellaneous ",59303.978933237449,{"$f":"C137/(1-C112)","v":86323.113439938053},{"$f":"G87/D137","v":1.6016579739204428},"Miscellaneous "]
[null,"Tires ",10464.897943925234,{"$f":"Table714192567[[#This Row],[tons-DRY/county-us data ]]","v":10464.897943925234},{"$f":"G88/Table714192567[[#This Row],[tons-WET/county-us data ]]","v":0.73464553893987539},"Tires "]
[]
[]
[]
[null,"Link to \"New WasteCalc County Factors\""]
[null,"Newspaper","Glass","Aluminum Cans","Plastic Bottles","Steel Cans","Corrugated Paper","Office Paper","Yard Waste","Other Plastics","Ferrous Metals","White Goods","Non-Ferrous Metal","Other Paper","Textiles","C&D Debris","Food Waste","Misc","Tires"]
[null,{"$f":"E121","v":0.85478132249466499},{"$f":"E122","v":1.863934822997922},{"$f":"E123","v":2.4171087736712238},{"$f":"E124","v":2.657339372954767},{"$f":"E125","v":1.9151898652997281},{"$f":"E126","v":0.97226104639757749},{"$f":"E127","v":1.5331951062133096},{"$f":"E128","v":2.2717023037154789},{"$f":"E129","v":1.7054279912439552},{"$f":"E130","v":1.3667191789941859},{"$f":"E131","v":1.0648470098292959},{"$f":"E132","v":0.18356967323981788},{"$f":"E133","v":1.7256810318618092},{"$f":"E134","v":0.97737952665952987},{"$error":"#REF!"},{"$f":"E136","v":0.57968979136049537},{"$f":"E137","v":1.6016579739204428},{"$f":"E138","v":0.73464553893987539}]

{"sheet":"31 St. Lucie County Factor","index":30,"n_rows":146,"n_cols":19,"rows_kept":146,"cut":false,"hidden":true,"merged":[[2,1,2,2],[3,1,3,2],[18,1,18,2],[42,1,42,2],[66,1,66,2],[66,9,66,10],[92,1,92,2],[94,1,94,2],[116,1,116,2],[118,1,118,2]]}
[null,"Finding County Factors for St. Lucie"]
[]
[null,1]
[null,"Information from annual solid waste report 2017"]
[null,"County","St. Lucie"]
[null,"Waste comp study","NONE"]
[null,"Year",2017]
[null,"Population",297634]
[null,"Landfilled tons ",239103]
[null,"C&D collected",141104]
[null,"C&D disposed",{"$f":"C10-C14","v":26413}]
[]
[null,"Recycled tons",264839]
[null,"Recycled C&D",114691]
[null,"combustor recy metals",0]
[null,"Combustor input",0]
[null,"Total Tons MSW collected",{"$f":"C9+(C16-C15)+C13","v":503942}]
[]
[null,2]
[]
[null,"Average disposal LANDFILLED from Sarasota, Palm Beach, Manatee"]
[null,"Category ","Sarasota (tons)","Palm Beach (tons)","Manatee (tons)","Average","Percent"]
[null,"Newspaper",{"$f":"'27 Sarasota County Factor'!B96","v":9714.2549999999992},{"$f":"'28 Palm Beach County Factor'!C96","v":13509.742999999999},{"$f":"'32 Manatee County Factor'!B94","v":2718.8},{"$f":"AVERAGE(C23:E23)","v":8647.5993333333336},{"$f":"F23/$F$41","v":1.3213249381530897E-2}]
[null,"Glass",{"$f":"'27 Sarasota County Factor'!B97","v":22018.978000000003},{"$f":"'28 Palm Beach County Factor'!C97","v":32215.541000000001},{"$f":"'32 Manatee County Factor'!B95","v":7884.5199999999995},{"$f":"AVERAGE(C24:E24)","v":20706.346333333331},{"$f":"F24/$F$41","v":3.163862100179185E-2}]
[null,"Aluminum Cans",{"$f":"'27 Sarasota County Factor'!B98","v":4533.3190000000004},{"$f":"'28 Palm Beach County Factor'!C98","v":10392.11},{"$f":"'32 Manatee County Factor'!B96","v":2718.8},5881.4096666666665,8.9866019047690811E-3]
[null,"Plastic Bottles",{"$f":"'27 Sarasota County Factor'!B99","v":14895.190999999999},{"$f":"'28 Palm Beach County Factor'!C99","v":34293.963000000003},{"$f":"'32 Manatee County Factor'!B97","v":7068.880000000001},18752.678,2.8653479588309792E-2]
[null,"Steel Cans",{"$f":"'27 Sarasota County Factor'!B100","v":7123.7869999999994},{"$f":"'28 Palm Beach County Factor'!C100","v":7274.4769999999999},{"$f":"'32 Manatee County Factor'!B98","v":2990.68},5796.3146666666662,8.8565795236687801E-3]
[null,"Corrugated Paper",{"$f":"'27 Sarasota County Factor'!B101","v":29142.764999999999},{"$f":"'28 Palm Beach County Factor'!C101","v":73783.981},{"$f":"'32 Manatee County Factor'!B99","v":26916.120000000003},43280.955333333339,6.613188634744406E-2]
[null,"Office Paper",{"$f":"'27 Sarasota County Factor'!B102","v":7771.4040000000005},{"$f":"'28 Palm Beach County Factor'!C102","v":33254.752},{"$f":"'32 Manatee County Factor'!B100","v":1903.16},14309.772000000003,2.1864864309799757E-2]
[null,"Yard Trash",{"$f":"'27 Sarasota County Factor'!B103","v":14895.190999999999},{"$f":"'28 Palm Beach County Factor'!C103","v":25980.275000000001},{"$f":"'32 Manatee County Factor'!B101","v":6797},15890.822,2.4280657078336449E-2]
[null,"Other Plastics",{"$f":"'27 Sarasota County Factor'!B104","v":98437.784000000014},{"$f":"'28 Palm Beach County Factor'!C104","v":154842.43899999998},{"$f":"'32 Manatee County Factor'!B102","v":33984.999999999993},95755.074333333338,0.14631062656156382]
[null,"Ferrous Metals",{"$f":"'27 Sarasota County Factor'!B105","v":8419.0209999999988},{"$f":"'28 Palm Beach County Factor'!C105","v":7274.4769999999999},{"$f":"'32 Manatee County Factor'!B103","v":4350.08},6681.1926666666668,1.0208644210704115E-2]
[null,"White Goods",{"$f":"'27 Sarasota County Factor'!B106","v":647.61699999999996},{"$f":"'28 Palm Beach County Factor'!C106","v":0},{"$f":"'32 Manatee County Factor'!B104","v":1631.28},759.63233333333335,1.1606933984461745E-3]
[null,"NonFerous Metals",{"$f":"'27 Sarasota County Factor'!B107","v":5180.9359999999997},{"$f":"'28 Palm Beach County Factor'!C107","v":3117.6330000000003},{"$f":"'32 Manatee County Factor'!B105","v":815.64},3038.0696666666663,4.6420712381291069E-3]
[null,"Other Paper",{"$f":"'27 Sarasota County Factor'!B108","v":119809.145},{"$f":"'28 Palm Beach County Factor'!C108","v":176665.87},{"$f":"'32 Manatee County Factor'!B106","v":45947.719999999994},114140.91166666667,0.1744035855909169]
[null,"Textiles",{"$f":"'27 Sarasota County Factor'!B109","v":33028.466999999997},{"$f":"'28 Palm Beach County Factor'!C109","v":37411.595999999998},{"$f":"'32 Manatee County Factor'!B107","v":13322.12},27920.727666666662,4.2661960083119316E-2]
[null,"C&D Debris",{"$f":"'27 Sarasota County Factor'!B110","v":47923.657999999996},{"$f":"'28 Palm Beach County Factor'!C110","v":30137.118999999999},{"$f":"'32 Manatee County Factor'!B108","v":25284.84},34448.538999999997,5.2636242625378291E-2]
[null,"Food",{"$f":"'27 Sarasota County Factor'!B111","v":127580.549},{"$f":"'28 Palm Beach County Factor'!C111","v":178744.29199999999},{"$f":"'32 Manatee County Factor'!B109","v":48666.52},118330.45366666668,0.18080506895139306]
[null,"Miscellaneous",{"$f":"'27 Sarasota County Factor'!B112","v":97142.550000000017},{"$f":"'28 Palm Beach County Factor'!C112","v":223430.36499999996},{"$f":"'32 Manatee County Factor'!B110","v":38335.08},119635.99833333334,0.18279989856761958]
[null,"Tires",{"$f":"'27 Sarasota County Factor'!B113","v":647.61699999999996},{"$f":"'28 Palm Beach County Factor'!C113","v":0},{"$f":"'32 Manatee County Factor'!B111","v":815.64},487.75233333333335,7.4526963707888239E-4]
[null,"Total",{"$f":"SUM(C23:C40)","v":648912.23400000005},{"$f":"SUM(D23:D40)","v":1042328.6329999999},272151.88,{"$f":"SUM(F23:F40)","v":654464.24900000007},0.99999999999999978]
[]
[null,"Recycled tons from St. Lucie "]
[null,"Material","Tons"]
[null,"Newspaper",2422]
[null,"Glass",16142]
[null,"Aluminum Cans",709]
[null,"Plastic Bottles",2901]
[null,"Steel Cans",1694]
[null,"Corrugated Paper",13542]
[null,"Office Paper",520]
[null,"Yard Trash",51949]
[null,"Other Plastics",963]
[null,"Ferrous Metals",25977]
[null,"White Goods",1404]
[null,"NonFerous Metals",542]
[null,"Other Paper",20355]
[null,"Textiles",26]
[null,"C&D Debris",114691]
[null,"Food",589]
[null,"Miscellaneous",5353]
[null,"Tires",5060]
[null,"Total",{"$f":"SUM(C45:C62)","v":264839}]
[]
[]
[]
[null,3,null,null,null,null,null,null,null,4]
[]
[null,"Calculating waste compositon percentage utalizing waste compsition study"]
[".","FDEP Category","Landfilled tons\n(Plus combusor ash, minus C&D  disposed)","Collected C&D \n(disposal C&D LANDFILL + recycled)","Combusted\n(minus recycled metals, minus ash)","Recycled Materials\n(Minus recycled C&D)","Total Collected Tons"]
[null,null,{"$f":"C9-C11","v":212690},{"$f":"C11+C14","v":141104},{"$f":"C16-C15","v":0},{"$f":"C63","v":264839},null,null,null,"FDEP Category","Percentage"]
[null,"Newspaper",{"$f":"$C$71*G23","v":2810.3260109578064},null,{"$f":"$E$71*G23","v":0},{"$f":"C45","v":2422},{"$f":"SUM(C72:F72)","v":5232.3260109578059},null,null,"Newspaper",{"$f":"G72/$G$91","v":1.0382794073440607E-2}]
[null,"Glass",6729.218300871109,null,0,16142,{"$f":"SUM(C73:F73)","v":22871.218300871107},null,null,"Glass",4.5384624224357378E-2]
[null,"Aluminum Cans",1911.3603591253359,null,0,709,2620.3603591253359,null,null,"Aluminum Cans",5.1997260778528795E-3]
[null,"Plastic Bottles",6094.3085736376097,null,0,2901,8995.3085736376088,null,null,"Plastic Botles",1.7849888625352934E-2]
[null,"Steel Cans",1883.7058988891129,null,0,1694,3577.7058988891131,null,null,"Steel Cans",7.0994398142824235E-3]
[null,"Corrugated Paper",14065.590907237878,null,0,13542,27607.590907237878,null,null,"Corrugated Paper",5.4783270509776674E-2]
[null,"Office Paper",4650.4379900513104,null,0,520,5170.4379900513104,null,null,"Office Paper",1.0259986248519294E-2]
[null,"Yard Trash",5164.2529539913794,null,0,51949,57113.252953991381,null,null,"Yard Trash",0.11333298862565808]
[null,"Other Plastics",31118.80716337901,null,0,963,32081.80716337901,null,null,"Other Plastics",6.3661705441060701E-2]
[null,"Ferrous Metals",2171.2765371746582,null,0,25977,28148.276537174657,null,null,"Ferrous Metals",5.585618292814383E-2]
[null,"White Goods",246.86787891551685,null,0,1404,1650.8678789155169,null,null,"White Goods",3.2759084952544478E-3]
[null,"NonFerous Metals",987.32213163767972,null,0,542,1529.3221316376798,null,null,"NonFerous Metals",3.0347185422879615E-3]
[null,"Other Paper",37093.898619332118,null,0,20355,57448.898619332118,null,null,"Other Paper",0.11399902889485718]
[null,"Textiles",9073.7722900786466,null,0,26,9099.7722900786466,null,null,"Textiles",1.8057181759168012E-2]
[null,"C&D Debris",11195.20244399171,{"$f":"C10","v":141104},0,0,152299.2024439917,null,null,"C&D Debris",0.30221573602516105]
[null,"Food",38455.430115271789,null,0,{"$f":"C60","v":589},39044.430115271789,null,null,"Food",7.7478023493322223E-2]
[null,"Miscellaneous",38879.71042634701,null,0,{"$f":"C61","v":5353},{"$f":"SUM(C88:F88)","v":44232.71042634701},null,null,"Miscellaneous",8.7773415246887559E-2]
[null,"Tires",158.51139911030751,null,0,{"$f":"C62","v":5060},5218.5113991103071,null,null,"Tires",1.0355380974616735E-2]
[null,null,"Total","Total","Total","Total","Total",null,null,null,"total"]
[null,null,{"$f":"SUM(C72:C89)","v":212690},{"$f":"D86","v":141104},{"$f":"SUM(E72:E89)","v":0},{"$f":"SUM(F72:F89)","v":150148},{"$f":"SUM(C91:F91)","v":503942},null,null,null,{"$f":"SUM(K72:K89)","v":1}]
[]
[null,5]
[]
[null,"US EPA Data and Moisture Content"]
[null,"Category","Moisture Content  (MC) ","US EPA DATA (lbs-dry/person)","US EPA DATA             (lbs-WET/person)    [US EPA DATA/(1-MC)"]
[null,"Newspaper",0.27850000000000003,41.931464174454831,58.117067462861854]
[null,"Glass",3.2000000000000001E-2,56.822429906542055,58.700857341469067]
[null,"Aluminum Cans",0.129,8.4112149532710276,9.6569632069701807]
[null,"Plastic Bottles",4.8000000000000001E-2,23.302180685358255,24.477080551846907]
[null,"Steel Cans",5.8000000000000003E-2,10.841121495327103,11.508621544933231]
[null,"Corrugated Paper",0.24049999999999999,195.20249221183801,257.01447295831201]
[null,"Office Paper",0.13400000000000001,28.22429906542056,32.591569359608037]
[null,"Yard Waste",0.50600000000000001,216.3239875389408,437.90280878328099]
[null,"Other Plastics",0.11700000000000001,154.90485396035913,175.43018568557093]
[null,"Non-ferrous Metal",5.3999999999999999E-2,46.762277712979795,49.431583206109721]
[null,"White Goods","x",30.280373831775702,30.280373831775702]
[null,"Ferrous Metal",0.16900000000000001,12.133426323463874,14.600994372399368]
[null,"Other Paper",0.2545,158.56697819314641,212.69883057430772]
[null,"Textiles",0.17,76.349308411214949,91.987118567728857]
[null,"C&D Debris",8.8999999999999996E-2,"-","-"]
[null,"Food Waste",0.59750000000000003,247.53894080996884,615.00357965209651]
[null,"Miscellaneous",0.313,206.19904324930312,300.14416775735532]
[null,"Tires","x",36.386292834890966,36.386292834890966]
[]
[]
[null,6]
[]
[null,"Finding County Factor"]
[null,"Category","tons-DRY/county-us data ","tons-WET/county-us data ","County Factor","Category   "]
[null,"equation","US DATA * County Population/2000","tons-DRY/(1-MoistureContent)","ton-wet-composition/tons-wet-Usdata"]
[null,"Newspaper ",{"$f":"D97*$C$8/2000","v":6240.1147040498445},{"$f":"C122/(1-C97)","v":8648.8076286207124},{"$f":"G72/D122","v":0.60497657430175056},"Newspaper "]
[null,"Glass ",8456.1435514018685,8735.6854869854014,2.6181366459386735,"Glass "]
[null,"Aluminum Cans ",1251.7317757009346,1437.1202935716815,1.8233410041221689,"Aluminum Cans "]
[null,"Plastic Bottles ",3467.7606230529595,3642.6056964842014,2.4694708467402253,"Plastic Bottles "]
[null,"Steel Cans ",1613.3431775700935,1712.6785324523287,2.0889535491323712,"Steel Cans "]
[null,"Corrugated Paper",29049.449283489095,38248.122822237121,0.72180250611376584,"Corrugated Paper"]
[null,"Office Paper ",4200.2555140186914,4850.1795773887889,1.0660302175522622,"Office Paper "]
[null,"Yard Waste ",32192.686853582552,65167.382294701521,0.87640857961291796,"Yard Waste "]
[null,"Other Plastics ",23052.475651818764,26106.993943169608,1.2288587201274699,"Other Plastics "]
[null,"Ferrous Metal ",{"$f":"D108*$C$8/2000","v":1805.6601051789235},{"$f":"C131/(1-C108)","v":2172.8761795173568},{"$f":"C81/D131","v":0.99926381339269232},"Ferrous Metal "]
[null,"White Goods ",{"$f":"D107*$C$8/2000","v":4506.2343925233645},{"$f":"Table71419256773[[#This Row],[tons-DRY/county-us data ]]","v":4506.2343925233645},{"$f":"G82/Table71419256773[[#This Row],[tons-WET/county-us data ]]","v":0.36635197708636663},"White Goods "]
[null,"Non-ferrous Metal ",{"$f":"D106*$C$8/2000","v":6959.021882412515},{"$f":"C133/(1-C106)","v":7356.2599179836316},{"$f":"C83/D133","v":0.13421523201267024},"Non-ferrous Metal "]
[null,"Other Paper ",{"$f":"D109*$C$8/2000","v":23597.46199376947},{"$f":"C134/(1-C109)","v":31653.201869576751},{"$f":"G84/D134","v":1.8149474690125651},"Other Paper "]
[null,"Textiles ",11362.075029831774,{"$f":"C135/(1-C110)","v":13689.247023893704},{"$f":"G85/D135","v":0.66473870141984992},"Textiles "]
[null,"C&D Debris",{"$error":"#VALUE!"},{"$f":"C136/(1-C111)","v":{"$error":"#VALUE!"}},{"$f":"#REF!/D136","v":{"$error":"#REF!"}},"C&D Debris"]
[null,"Food Waste",36838.002554517137,{"$f":"C137/(1-C112)","v":91522.98771308607},{"$f":"G87/D137","v":0.42660790573917384},"Food Waste"]
[null,"Miscellaneous ",30685.923019231544,{"$f":"C138/(1-C113)","v":44666.554613146349},{"$f":"G88/D138","v":0.99028704607828322},"Miscellaneous "]
[null,"Tires ",5414.8989408099687,{"$f":"Table71419256773[[#This Row],[tons-DRY/county-us data ]]","v":5414.8989408099687},{"$f":"G89/Table71419256773[[#This Row],[tons-WET/county-us data ]]","v":0.96373200241659807},"Tires "]
[]
[]
[]
[]
[null,"Link to \"New WasteCalc County Factors\""]
[null,"Newspaper","Glass","Aluminum Cans","Plastic Bottles","Steel Cans","Corrugated Paper","Office Paper","Yard Waste","Other Plastics","Ferrous Metals","White Goods","Non-Ferrous Metal","Other Paper","Textiles","C&D Debris","Food Waste","Misc","Tires"]
[null,{"$f":"E122","v":0.60497657430175056},{"$f":"E123","v":2.6181366459386735},{"$f":"E124","v":1.8233410041221689},{"$f":"E125","v":2.4694708467402253},{"$f":"E126","v":2.0889535491323712},{"$f":"E127","v":0.72180250611376584},{"$f":"E128","v":1.0660302175522622},{"$f":"E129","v":0.87640857961291796},{"$f":"E130","v":1.2288587201274699},{"$f":"E131","v":0.99926381339269232},{"$f":"E132","v":0.36635197708636663},{"$f":"E133","v":0.13421523201267024},{"$f":"E134","v":1.8149474690125651},{"$f":"E135","v":0.66473870141984992},{"$error":"#REF!"},{"$f":"E137","v":0.42660790573917384},{"$f":"E138","v":0.99028704607828322},{"$f":"E139","v":0.96373200241659807}]

{"sheet":"32 Manatee County Factor","index":31,"n_rows":191,"n_cols":18,"rows_kept":191,"cut":false,"hidden":true,"merged":[[169,0,169,1],[2,0,2,1],[20,0,20,1],[86,0,86,1],[86,8,86,9],[89,1,91,1],[89,2,91,2],[89,3,91,3],[89,4,91,4],[90,8,90,10],[114,0,114,1],[116,0,116,1],[138,0,138,1],[140,0,140,1],[167,0,167,1]]}
["Finding County Factors for Manatee County"]
[]
[1]
["Information from annual solid waste report 2017"]
["County","Manatee"]
["Waste comp study",2019]
["Year",2017]
["Population",358782]
["Landfilled tons",395630]
["C&D collected",266878]
["C&D disposed",123750]
[]
["Recycled tons",471352]
["Recycled C&D",143128]
["combustor recy metals",0]
["Combustor input",0]
["Combustor ash",0]
["Combusted (-ash, -metals,- process fuel)",0]
["Total Tons MSW collected",866982]
["Processed Fuel",0]
[2]
[]
["Manatee Waste Composition Study Results"]
["FDEP Category","Waste Comp Category","Percentage in waste stream"]
["Newspapers","Newspaper",0.01]
["Glass","Glass Containers",2.5999999999999999E-2]
[null,"Other Glass",3.0000000000000001E-3]
["Aluminum Cans","Aluminum cans",7.0000000000000001E-3]
[null,"Aluminum Foil and Trays",3.0000000000000001E-3]
["Plastic Bottles","PET Bottles (#1)",1.7000000000000001E-2]
[null,"HDPE Bottles (#2)",8.9999999999999993E-3]
["Steel Cans","Tin/Steel Cans",1.0999999999999999E-2]
["Corrugated Boxes","Cardboard",9.9000000000000005E-2]
["Office Paper","Office paper",7.0000000000000001E-3]
["Yard Trash","Yard Waste",2.5000000000000001E-2]
["Other Plastics","Non-Bottle PET (#1)",5.0000000000000001E-3]
[null,"Non-Bottle HDPE (#2)",2E-3]
[null,"Other Plastic (#3-#7)",0.01]
[null,"Bulky Rigid Plastics",1.2E-2]
[null,"Non-Rigid Plastic Film",7.3999999999999996E-2]
[null,"All Other Plastics",1.0999999999999999E-2]
[null,"Expanded Polystyrene Foam ",1.0999999999999999E-2]
["Ferrous Metals","Ferrous Scrap Metals",1.6E-2]
["White Goods","White Goods & Small Appliances",6.0000000000000001E-3]
["Nonferrous Metals","Non Ferrous Scrap Metals",3.0000000000000001E-3]
["Other Paper","Mixed Recyclable Paper",7.6999999999999999E-2]
[null,"All Other Paper",2.7E-2]
[null,"Compostable Paper",6.0999999999999999E-2]
[null,"Aseptic/ Polycoated Containers",4.0000000000000001E-3]
["Textiles","Textiles/ Leather",4.9000000000000002E-2]
["C&D Debris","Clean Wood Waste",1.7000000000000001E-2]
[null,"C&D Debris",4.2999999999999997E-2]
[null,"Treated Wood Waste",3.3000000000000002E-2]
["Food Waste","Food waste",0.17899999999999999]
["Miscellaneous","Other Organics",2.1000000000000001E-2]
[null,"Special Wastes",2E-3]
[null,"Electronics (E-Waste)",3.0000000000000001E-3]
[null,"Household Batteries",0]
[null,"Diapers",2.7E-2]
[null,"Composite Materials",7.0999999999999994E-2]
[null,"Lquids",1.2E-2]
[null,"Grit",5.0000000000000001E-3]
["Tires","Tires & Rubber",3.0000000000000001E-3]
[null,null,"sum"]
[null,null,{"$f":"SUM(C25:C63)","v":1.0010000000000001}]
[]
["Recycled tons from Manatee County"]
["Newspaper",5540]
["Glass",19222]
["Aluminum Cans",638]
["Plastic Bottles",544]
["Steel Cans",707]
["Corrugated Paper",26232]
["Office Paper",5514]
["Yard Trash",137292]
["Other Plastics",3110]
["Ferrous Metals",19929]
["White Goods",949]
["NonFerous Metals",4807]
["Other Paper",9717]
["Textiles",3046]
["C&D Debris"]
["Food",67186]
["Miscellaneous",23469]
["Tires",322]
[]
[3,null,null,null,null,null,null,null,4]
[]
["Calculating waste compositon percentage utalizing waste compsition study"]
[null,"Landfilled tons\n(PLUS combusor ash, minus C&D  disposed)","Collected C&D \n(disposal + recycled)","Combusted\n(minus recycled metals,minus combustor ash)","Recycled Materials\n(Minus recycled c&D)"]
[]
["FDEP Category",null,null,null,null,"Sum"]
[null,{"$f":"B9+B17-B11","v":271880},{"$f":"B11+B14","v":266878},{"$f":"B16-B15","v":0},{"$f":"B13-B14-B17","v":328224},null,null,null,"FDEP Category","Percentage"]
["Newspaper",{"$f":"C25*B93","v":2718.8},null,{"$f":"C25*D93","v":0},5540,{"$f":"SUM(B94:E94)","v":8258.7999999999993},null,null,"Newspaper",{"$f":"F94/$F$113","v":9.5229323159672676E-3}]
["Glass",{"$f":"SUM(C26:C27)*B93","v":7884.5199999999995},null,{"$f":"SUM(C26:C27)*D93","v":0},19222,{"$f":"SUM(B95:E95)","v":27106.52},null,null,"Glass",3.1255576510075683E-2]
["Aluminum Cans",{"$f":"SUM(C28:C29)*B93","v":2718.8},null,{"$f":"SUM(C28:C29)*D93","v":0},638,3356.8,null,null,"Aluminum Cans",3.8706082237418178E-3]
["Plastic Bottles",{"$f":"SUM(C30:C31)*B93","v":7068.880000000001},null,{"$f":"SUM(C30:C31)*D93","v":0},544,7612.880000000001,null,null,"Plastic Botles",8.778144642028007E-3]
["Steel Cans",{"$f":"C32*B93","v":2990.68},null,{"$f":"C32*D93","v":0},707,3697.68,null,null,"Steel Cans",4.2636649835455327E-3]
["Corrugated Paper",{"$f":"C33*B93","v":26916.120000000003},null,{"$f":"C33*D93","v":0},26232,53148.12,null,null,"Corrugated Paper",6.1283231157178562E-2]
["Office Paper",{"$f":"C34*B93","v":1903.16},null,{"$f":"C34*D93","v":0},5514,7417.16,null,null,"Office Paper",8.5524667816994932E-3]
["Yard Trash",{"$f":"C35*B93","v":6797},null,{"$f":"C35*D93","v":0},137292,144089,null,null,"Yard Trash",0.16614396697769745]
["Other Plastics",{"$f":"SUM(C36:C42)*B93","v":33984.999999999993},null,{"$f":"SUM(C36:C42)*D93","v":0},3110,37094.999999999993,null,null,"Other Plastics",4.2772942105488175E-2]
["Ferrous Metals",{"$f":"C43*B93","v":4350.08},null,{"$f":"C43*D93","v":0},19929,24279.08,null,null,"Ferrous Metals",2.799535471666036E-2]
["White Goods",{"$f":"C44*B93","v":1631.28},null,{"$f":"C44*D93","v":0},949,2580.2799999999997,null,null,"White Goods",2.9752302751300452E-3]
["NonFerous Metals",{"$f":"C45*B93","v":815.64},null,{"$f":"C45*D93","v":0},4807,5622.64,null,null,"NonFerous Metals",6.4832687747675448E-3]
["Other Paper",{"$f":"SUM(C46:C49)*B93","v":45947.719999999994},null,{"$f":"SUM(C46:C49)*D93","v":0},9717,55664.719999999994,null,null,"Other Paper",6.4185034260094614E-2]
["Textiles",{"$f":"C50*B93","v":13322.12},null,{"$f":"C50*D93","v":0},3046,16368.12,null,null,"Textiles",1.8873504492133261E-2]
["C&D Debris",{"$f":"SUM(C51:C53)*B93","v":25284.84},{"$f":"C93","v":266878},{"$f":"SUM(C51:C53)*D93","v":0},null,292162.84000000003,null,null,"C&D Debris",0.33688271305283751]
["Food",{"$f":"C54*B93","v":48666.52},null,{"$f":"C54*D93","v":0},67186,115852.51999999999,null,null,"Food",0.13358547326418416]
["Miscellaneous",{"$f":"SUM(C55:C62)*B93","v":38335.08},null,{"$f":"SUM(C55:C62)*D93","v":0},23469,61804.08,null,null,"Miscellaneous",7.1264114724975333E-2]
["Tires",{"$f":"C63*B93","v":815.64},null,{"$f":"C63*D93","v":0},322,1137.6399999999999,null,null,"Tires",1.3117727417950552E-3]
[null,"Total","total","total","total","totalMsw collected",null,null,null,"total"]
[null,{"$f":"SUM(B94:B111)","v":272151.88},{"$f":"C108","v":266878},{"$f":"SUM(D94:D111)","v":0},{"$f":"SUM(E94:E111)","v":328224},{"$f":"SUM(F94:F111)","v":867253.88000000012},null,null,null,{"$f":"SUM(J94:J111)","v":0.99999999999999978}]
[]
[5]
[]
["US EPA Data and Moisture Content"]
["Category","Moisture Content  (MC) ","US EPA DATA (lbs-dry/person)","US EPA DATA             (lbs-WET/person)    [US EPA DATA/(1-MC)"]
["Newspaper",0.27850000000000003,41.931464174454831,58.117067462861854]
["Glass",3.2000000000000001E-2,56.822429906542055,58.700857341469067]
["Aluminum Cans",0.129,8.4112149532710276,9.6569632069701807]
["Plastic Bottles",4.8000000000000001E-2,23.302180685358255,24.477080551846907]
["Steel Cans",5.8000000000000003E-2,10.841121495327103,11.508621544933231]
["Corrugated Paper",0.24049999999999999,195.20249221183801,257.01447295831201]
["Office Paper",0.13400000000000001,28.22429906542056,32.591569359608037]
["Yard Waste",0.50600000000000001,216.3239875389408,437.90280878328099]
["Other Plastics",0.11700000000000001,154.90485396035913,175.43018568557093]
["Non-ferrous Metal",5.3999999999999999E-2,46.762277712979795,49.431583206109721]
["White Goods","x",30.280373831775702,30.280373831775702]
["Ferrous Metal",0.16900000000000001,12.133426323463874,14.600994372399368]
["Other Paper",0.2545,158.56697819314641,212.69883057430772]
["Textiles",0.17,76.349308411214949,91.987118567728857]
["C&D Debris",8.8999999999999996E-2,"-","-"]
["Food Waste",0.59750000000000003,247.53894080996884,615.00357965209651]
["Miscellaneous",0.313,206.19904324930312,300.14416775735532]
["Tires","x",36.386292834890966,36.386292834890966]
[]
[]
[6]
[]
["Finding County Factor"]
["Category","tons-DRY/county-us data ","tons-WET/county-us data ","County Factor"]
["equation","US DATA * County Population/2000","tons-DRY/(1-MoistureContent)","ton-wet-composition/tons-wet-Usdata"]
["Newspaper",{"$f":"C119*$B$8/2000","v":7522.1272897196259},{"$f":"B144/(1-B119)","v":10425.678849230249},{"$f":"F94/C144","v":0.79215944778596015}]
["Glass",10193.432523364487,10530.405499343478,2.5741192968960185]
["Aluminum Cans",1508.8962616822428,1732.3722866615876,1.9376897366955734]
["Plastic Bottles",4180.2014953271027,4390.9679572763689,1.7337589511179492]
["Steel Cans",1944.7996261682242,2064.5431275671172,1.7910403278217739]
["Corrugated Paper",35017.570280373831,46106.083318464553,1.1527355215339936]
["Office Paper",5063.1852336448601,5846.6342189894458,1.2686204955168223]
["Yard Waste",38806.576448598134,78555.822770441562,1.8342243123219735]
["Other Plastics",27788.536656802786,31470.596440320256,1.1787193188519849]
["Ferrous Metal",{"$f":"C130*$B$8/2000","v":2176.627481592508},{"$f":"B153/(1-B130)","v":2619.2869814590954},{"$f":"(B103+D103)/C153","v":1.6607878521110933}]
["White Goods",{"$f":"C129*$B$8/2000","v":5432.0265420560754},{"$f":"B154","v":5432.0265420560754},{"$f":"F104/C154","v":0.47501240651584492}]
["Non-ferrous Metal",{"$f":"C128*$B$8/2000","v":8388.7317612091574},{"$f":"B155/(1-B128)","v":8867.5811429272289},{"$f":"(B105+D105)/C155","v":9.1979987197585822E-2}]
["Other Paper",{"$f":"C131*$B$8/2000","v":28445.488785046728},{"$f":"B156/(1-B131)","v":38156.255915555637},{"$f":"F106/C156","v":1.4588622144476828}]
["Textiles",13696.378785196261,{"$f":"B157/(1-B132)","v":16501.661186983449},{"$f":"F107/C157","v":0.99190740947409672}]
["C&D Debris",{"$error":"#VALUE!"},{"$f":"B158/(1-B133)","v":{"$error":"#VALUE!"}},{"$f":"#REF!/C158","v":{"$error":"#REF!"}}]
["Food Waste",44406.258130841125,{"$f":"B159/(1-B134)","v":110326.10715736926},{"$f":"F109/C159","v":1.0500916146234349}]
["Miscellaneous",36990.252567535739,{"$f":"B160/(1-B135)","v":53843.162398159729},{"$f":"F110/C160","v":1.147853826693366}]
["Tires",6527.373457943926,{"$f":"B161","v":6527.373457943926},{"$f":"F111/C161","v":0.17428756104271503}]
[]
["Link to \"New WasteCalc County Factors\""]
["Newspaper","Glass","Aluminum Cans","Plastic Bottles","Steel Cans","Corrugated Paper","Office Paper","Yard Waste","Other Plastics","Ferrous Metals","White Goods","Non-Ferrous Metal","Other Paper","Textiles","C&D Debris","Food Waste","Misc","Tires"]
[{"$f":"D144","v":0.79215944778596015},{"$f":"D145","v":2.5741192968960185},{"$f":"D146","v":1.9376897366955734},{"$f":"D147","v":1.7337589511179492},{"$f":"D148","v":1.7910403278217739},{"$f":"D149","v":1.1527355215339936},{"$f":"D150","v":1.2686204955168223},{"$f":"D151","v":1.8342243123219735},{"$f":"D152","v":1.1787193188519849},{"$f":"D153","v":1.6607878521110933},{"$f":"D154","v":0.47501240651584492},{"$f":"D155","v":9.1979987197585822E-2},{"$f":"D156","v":1.4588622144476828},{"$f":"D157","v":0.99190740947409672},{"$error":"#REF!"},{"$f":"D159","v":1.0500916146234349},{"$f":"D160","v":1.147853826693366},{"$f":"D161","v":0.17428756104271503}]
[]
[]
[7]
[]
["Check"]
["Category","Calculated ","Accepted (larger values of calculated vs recycled","Percent","Waste Comp Percent","Percentage Point Difference"]
["Newspaper",{"$f":"$B$8*D119*D144/2000","v":8258.7999999999993},{"$f":"B172","v":8258.7999999999993},{"$f":"C172/$C$191","v":9.5229323159672676E-3},{"$f":"J94","v":9.5229323159672676E-3},{"$f":"ABS(D172-E172)","v":0}]
["Glass",27106.519999999997,27106.519999999997,3.1255576510075683E-2,3.1255576510075683E-2,0]
["Aluminum Cans",3356.8000000000006,3356.8000000000006,3.8706082237418182E-3,3.8706082237418178E-3,4.3368086899420177E-19]
["Plastic Bottles",7612.880000000001,7612.880000000001,8.778144642028007E-3,8.778144642028007E-3,0]
["Steel Cans",3697.68,3697.68,4.2636649835455327E-3,4.2636649835455327E-3,0]
["Corrugated Paper",53148.119999999995,53148.119999999995,6.1283231157178548E-2,6.1283231157178562E-2,1.3877787807814457E-17]
["Office Paper",7417.16,7417.16,8.5524667816994932E-3,8.5524667816994932E-3,0]
["Yard Waste",144089,144089,0.16614396697769745,0.16614396697769745,0]
["Other Plastics",37094.999999999993,37094.999999999993,4.2772942105488175E-2,4.2772942105488175E-2,0]
["Ferrous Metal",{"$f":"(B8*D130*D153/2000)+E103","v":24279.08},24279.08,2.799535471666036E-2,2.799535471666036E-2,0]
["White Goods",{"$f":"B8*C129/2000","v":5432.0265420560754},5432.0265420560754,6.2634790887947074E-3,2.9752302751300452E-3,3.2882488136646622E-3]
["Non-ferrous Metal",{"$f":"(B8*D155*D128/2000)+E105","v":5622.64},5622.64,6.4832687747675448E-3,6.4832687747675448E-3,0]
["Other Paper",{"$f":"$B$8*D131*D156/2000","v":55664.719999999994},55664.719999999994,6.4185034260094614E-2,6.4185034260094614E-2,0]
["Textiles",{"$f":"$B$8*D132*D157/2000","v":16368.12},16368.12,1.8873504492133261E-2,1.8873504492133261E-2,0]
["C&D Debris",{"$f":"B10+(B9*0.075)+(B18*0.075)","v":296550.25},296550.25,0.34194168148316612,0.33688271305283751,5.0589684303286031E-3]
["Food Waste",{"$f":"$B$8*D134*D159/2000","v":115852.51999999997},115852.51999999997,0.13358547326418413,0.13358547326418416,2.7755575615628914E-17]
["Miscellaneous",{"$f":"F113-B191","v":49175.190000000177},49175.190000000177,5.6702185062579562E-2,7.1264114724975333E-2,1.4561929662395771E-2]
["Tires",{"$f":"B8*C136/2000","v":6527.373457943926},6527.373457943926,7.5264851601977555E-3,1.3117727417950552E-3,6.2147124184027003E-3]
[null,"sum (Minus misc)","TOTAL","TOTAL","TOTAL"]
[null,{"$f":"SUM(B172:B187,B189)","v":818078.69},{"$f":"SUM(C172:C189)","v":867253.88000000012},{"$f":"SUM(D172:D189)","v":1},{"$f":"SUM(E172:E189)","v":0.99999999999999978}]

{"sheet":"33 Volusia County","index":32,"n_rows":144,"n_cols":19,"rows_kept":144,"cut":false,"hidden":true,"merged":[[64,9,64,10],[90,1,90,2],[92,1,92,2],[114,1,114,2],[116,1,116,2],[2,1,2,2],[3,1,3,2],[18,1,18,2],[42,1,42,2],[64,1,64,2]]}
[null,"Finding County Factors for Volusia"]
[]
[null,1]
[null,"Information from annual solid waste report 2017"]
[null,"County","Volusia"]
[null,"Waste comp study","NONE"]
[null,"Year",2017]
[null,"Population",521745]
[null,"Landfilled tons",669735]
[null,"C&D collected",479622]
[null,"C&D disposed",{"$f":"C10-C14","v":295564}]
[]
[null,"Recycled tons",445380]
[null,"Recycled C&D",184058]
[null,"combustor recy metals",0]
[null,"Combustor input",0]
[null,"Total Tons MSW collected",{"$f":"C9+(C16-C15)+C13","v":1115115}]
[]
[null,2]
[]
[null,"Average disposal LANDFILLED from Hernando, Indian River, and Alachua"]
[null,"Materials","Hernando","Indian River","Alachua","Average ","Percent"]
[null,"Newspaper",{"$f":"'37 Hernando County Factor'!B120","v":3301.2359999999999},{"$f":"'41 Indian River County Factor'!C89","v":2352.0420000000004},{"$f":"'42 Alachua County Factor'!B131","v":1877.3400000000001},{"$f":"AVERAGE(C23:E23)","v":2510.2060000000001},{"$f":"F23/$F$41","v":1.5534300877811408E-2}]
[null,"Glass",{"$f":"'37 Hernando County Factor'!B121","v":8069.688000000001},{"$f":"'41 Indian River County Factor'!C90","v":5712.1020000000008},{"$f":"'42 Alachua County Factor'!B132","v":4130.1480000000001},{"$f":"AVERAGE(C24:E24)","v":5970.6460000000006},3.6949083620587783E-2]
[null,"Aluminum Cans",{"$f":"'37 Hernando County Factor'!B122","v":3484.6379999999999},{"$f":"'41 Indian River County Factor'!C91","v":1008.0179999999999},{"$f":"'42 Alachua County Factor'!B133","v":750.93600000000004},1747.8639999999998,1.0816580499566551E-2]
[null,"Plastic Bottles",{"$f":"'37 Hernando County Factor'!B123","v":7336.08},{"$f":"'41 Indian River County Factor'!C92","v":3360.06},{"$f":"'42 Alachua County Factor'!B134","v":2816.0099999999998},4504.05,2.7873117930841719E-2]
[null,"Steel Cans",{"$f":"'37 Hernando County Factor'!B124","v":2567.6280000000002},{"$f":"'41 Indian River County Factor'!C93","v":2016.0359999999998},{"$f":"'42 Alachua County Factor'!B135","v":1314.1379999999999},1965.934,1.2166097229438257E-2]
[null,"Corrugated Paper",{"$f":"'37 Hernando County Factor'!B125","v":16139.375999999998},{"$f":"'41 Indian River County Factor'!C94","v":8064.1439999999993},{"$f":"'42 Alachua County Factor'!B136","v":16708.326000000001},13637.281999999999,8.439372774328549E-2]
[null,"Office Paper",{"$f":"'37 Hernando County Factor'!B126","v":2751.0299999999997},{"$f":"'41 Indian River County Factor'!C95","v":2464.0439999999999},{"$f":"'42 Alachua County Factor'!B137","v":3379.2119999999995},2864.7620000000002,1.7728455294633495E-2]
[null,"Yard Trash",{"$f":"'37 Hernando County Factor'!B127","v":11370.923999999999},{"$f":"'41 Indian River County Factor'!C96","v":9184.1640000000007},{"$f":"'42 Alachua County Factor'!B138","v":2440.5419999999999},7665.21,4.7435819383591933E-2]
[null,"Other Plastics",{"$f":"'37 Hernando County Factor'!B128","v":30994.937999999998},{"$f":"'41 Indian River County Factor'!C97","v":13440.24},{"$f":"'42 Alachua County Factor'!B139","v":24217.686000000002},22884.288,0.14161842301647318]
[null,"Ferrous Metals",{"$f":"'37 Hernando County Factor'!B129","v":733.60800000000006},{"$f":"'41 Indian River County Factor'!C98","v":896.01599999999996},{"$f":"'42 Alachua County Factor'!B140","v":1126.404},918.67600000000004,5.6851865517110042E-3]
[null,"White Goods",{"$f":"'37 Hernando County Factor'!B130","v":1467.2160000000001},{"$f":"'41 Indian River County Factor'!C99","v":672.01200000000006},{"$f":"'42 Alachua County Factor'!B141","v":0},{"$f":"AVERAGE(C33:E33)","v":713.07600000000002},4.4128398755903884E-3]
[null,"NonFerous Metals",{"$f":"'37 Hernando County Factor'!B131","v":1467.2160000000001},{"$f":"'41 Indian River County Factor'!C100","v":672.01200000000006},{"$f":"'42 Alachua County Factor'!B142","v":994.99019999999996},1044.7394000000002,6.465324430944777E-3]
[null,"Other Paper",{"$f":"'37 Hernando County Factor'!B132","v":18340.2},{"$f":"'41 Indian River County Factor'!C101","v":19376.345999999998},{"$f":"'42 Alachua County Factor'!B143","v":31914.78},23210.441999999999,0.143636812889058]
[null,"Textiles",{"$f":"'37 Hernando County Factor'!B133","v":12654.738000000001},{"$f":"'41 Indian River County Factor'!C102","v":5488.098},{"$f":"'42 Alachua County Factor'!B144","v":7321.6260000000011},8488.1540000000005,5.2528572608462575E-2]
[null,"C&D Debris",{"$f":"'37 Hernando County Factor'!B134","v":13755.15},{"$f":"'41 Indian River County Factor'!C103","v":7280.13},{"$f":"'42 Alachua County Factor'!B145","v":9386.7000000000007},10140.66,6.2755034263955636E-2]
[null,"Food",{"$f":"'37 Hernando County Factor'!B135","v":21458.034},{"$f":"'41 Indian River County Factor'!C104","v":15232.272000000001},{"$f":"'42 Alachua County Factor'!B146","v":26845.962},21178.755999999998,0.13106381226152497]
[null,"Miscellaneous",{"$f":"'37 Hernando County Factor'!B136","v":26776.692000000003},{"$f":"'41 Indian River County Factor'!C105","v":14560.26},{"$f":"'42 Alachua County Factor'!B147","v":52565.520000000004},31300.824000000004,0.19370379074044936]
[null,"Tires",{"$f":"'37 Hernando County Factor'!B137","v":2200.8240000000001},{"$f":"'41 Indian River County Factor'!C106","v":336.00600000000003},{"$f":"'42 Alachua County Factor'!B148","v":0},{"$f":"AVERAGE(C40:E40)","v":845.61},5.2330207820737041E-3]
[null,"total:",{"$f":"SUM(C23:C40)","v":184869.21600000001},{"$f":"SUM(D23:D40)","v":112114.00199999999},{"$f":"SUM(E23:E40)","v":187790.32020000002},{"$f":"SUM(F23:F40)","v":161591.17939999996},{"$f":"SUM(G23:G40)","v":1.0000000000000002}]
[]
[null,"Recycled tons from Volusia County "]
[null,"Materials","Tons"]
[null,"Newspaper",6010]
[null,"Glass",11034]
[null,"Aluminum Cans",902]
[null,"Plastic Bottles",2610]
[null,"Steel Cans",655]
[null,"Corrugated Paper",17921]
[null,"Office Paper",2019]
[null,"Yard Trash",146208]
[null,"Other Plastics",912]
[null,"Ferrous Metals",37380]
[null,"White Goods",7115]
[null,"NonFerous Metals",8464]
[null,"Other Paper",15017]
[null,"Textiles",1570]
[null,"C&D Debris",184058]
[null,"Food",546]
[null,"Miscellaneous",895]
[null,"Tires",2064]
[null,"Total",{"$f":"SUM(C45:C62)","v":445380}]
[]
[null,3,null,null,null,null,null,null,null,4]
[]
[null,"Calculating waste compositon percentage utalizing waste compsition study"]
[".","FDEP Category","Landfilled tons\n(Plus combusor ash, minus C&D  disposed)","Collected C&D \n(disposal C&D LANDFILL + recycled)","Combusted\n(minus recycled metals, minus ash)","Recycled Materials\n(Minus recycled C&D)","Total Collected Tons"]
[null,null,{"$f":"C9-C11","v":374171},{"$f":"C11+C14","v":479622},{"$f":"C16-C15","v":0},{"$f":"C63","v":445380},null,null,null,"FDEP Category","Percentage"]
[null,"Newspaper",{"$f":"$C$69*G23","v":5812.4848937515726},null,{"$f":"$E$69*G23","v":0},{"$f":"C45","v":6010},{"$f":"SUM(C70:F70)","v":11822.484893751573},null,null,"Newspaper",{"$f":"G70/$G$89","v":1.0602031982128814E-2}]
[null,"Glass",13825.275567398952,null,0,11034,{"$f":"SUM(C71:F71)","v":24859.275567398952},null,null,"Glass",2.2293015130635811E-2]
[null,"Aluminum Cans",4047.2507421033156,null,0,902,4949.2507421033151,null,null,"Aluminum Cans",4.4383321380335799E-3]
[null,"Plastic Bottles",10429.312409300977,null,0,2610,13039.312409300977,null,null,"Plastic Botles",1.1693244561593178E-2]
[null,"Steel Cans",4552.2007664361417,null,0,655,5207.2007664361417,null,null,"Steel Cans",4.6696535930698998E-3]
[null,"Corrugated Paper",31577.685503432876,null,0,17921,49498.685503432876,null,null,"Corrugated Paper",4.4388861689989713E-2]
[null,"Office Paper",6633.4738460483095,null,0,2019,8652.4738460483095,null,null,"Office Paper",7.7592659466048878E-3]
[null,"Yard Trash",17749.107974577979,null,0,146208,163957.10797457799,null,null,"Yard Trash",0.14703156891852229]
[null,"Other Plastics",52989.506958496786,null,0,912,53901.506958496786,null,null,"Other Plastics",4.8337173258808992E-2]
[null,"Ferrous Metals",2127.231937240258,null,0,37380,39507.231937240256,null,null,"Ferrous Metals",3.5428840915278023E-2]
[null,"White Goods",1651.1567090895312,null,0,7115,8766.1567090895314,null,null,"White Goods",7.8612131565708749E-3]
[null,"NonFerous Metals",2419.1369076510382,null,0,8464,10883.136907651038,null,null,"NonFerous Metals",9.7596543026064915E-3]
[null,"Other Paper",53744.729915511722,null,0,15017,68761.729915511722,null,null,"Other Paper",6.1663353031312214E-2]
[null,"Textiles",19654.668541481049,null,0,1570,21224.668541481049,null,null,"Textiles",1.9033614059071082E-2]
[null,"C&D Debris",23481.113925578546,{"$f":"C10","v":479622},0,0,503103.11392557854,null,null,"C&D Debris",0.45116702216863602]
[null,"Food",49040.277697707061,null,0,{"$f":"C60","v":546},49586.277697707061,null,null,"Food",4.4467411610199001E-2]
[null,"Miscellaneous",72478.341085144682,null,0,{"$f":"C61","v":895},{"$f":"SUM(C86:F86)","v":73373.341085144682},null,null,"Miscellaneous",6.579890063818053E-2]
[null,"Tires",1958.0446190492999,null,0,{"$f":"C62","v":2064},4022.0446190492999,null,null,"Tires",3.6068428987586928E-3]
[null,null,"Total","Total","Total","Total","Total",null,null,null,"total"]
[null,null,{"$f":"SUM(C70:C87)","v":374171},{"$f":"D84","v":479622},{"$f":"SUM(E70:E87)","v":0},{"$f":"SUM(F70:F87)","v":261322},{"$f":"SUM(C89:F89)","v":1115115},null,null,null,{"$f":"SUM(K70:K87)","v":1}]
[]
[null,5]
[]
[null,"US EPA Data and Moisture Content"]
[null,"Category","Moisture Content  (MC) ","US EPA DATA (lbs-dry/person)","US EPA DATA             (lbs-WET/person)    [US EPA DATA/(1-MC)"]
[null,"Newspaper",0.27850000000000003,41.931464174454831,58.117067462861854]
[null,"Glass",3.2000000000000001E-2,56.822429906542055,58.700857341469067]
[null,"Aluminum Cans",0.129,8.4112149532710276,9.6569632069701807]
[null,"Plastic Bottles",4.8000000000000001E-2,23.302180685358255,24.477080551846907]
[null,"Steel Cans",5.8000000000000003E-2,10.841121495327103,11.508621544933231]
[null,"Corrugated Paper",0.24049999999999999,195.20249221183801,257.01447295831201]
[null,"Office Paper",0.13400000000000001,28.22429906542056,32.591569359608037]
[null,"Yard Waste",0.50600000000000001,216.3239875389408,437.90280878328099]
[null,"Other Plastics",0.11700000000000001,154.90485396035913,175.43018568557093]
[null,"Non-ferrous Metal",5.3999999999999999E-2,46.762277712979795,49.431583206109721]
[null,"White Goods","x",30.280373831775702,30.280373831775702]
[null,"Ferrous Metal",0.16900000000000001,12.133426323463874,14.600994372399368]
[null,"Other Paper",0.2545,158.56697819314641,212.69883057430772]
[null,"Textiles",0.17,76.349308411214949,91.987118567728857]
[null,"C&D Debris",8.8999999999999996E-2,"-","-"]
[null,"Food Waste",0.59750000000000003,247.53894080996884,615.00357965209651]
[null,"Miscellaneous",0.313,206.19904324930312,300.14416775735532]
[null,"Tires","x",36.386292834890966,36.386292834890966]
[]
[]
[null,6]
[]
[null,"Findig County Factor"]
[null,"Category","tons-DRY/county-us data ","tons-WET/county-us data ","County Factor","Category   "]
[null,"equation","US DATA * County Population/2000","tons-DRY/(1-MoistureContent)","ton-wet-composition/tons-wet-Usdata"]
[null,"Newspaper ",{"$f":"D95*$C$8/2000","v":10938.765887850466},{"$f":"C120/(1-C95)","v":15161.144681705428},{"$f":"G70/D120","v":0.77978840924969661},"Newspaper "]
[null,"Glass ",14823.409345794393,15313.439406812389,1.6233633024557481,"Glass "]
[null,"Aluminum Cans ",2194.2546728971965,2519.2361342103291,1.9645838970369842,"Aluminum Cans "]
[null,"Plastic Bottles ",6078.8981308411212,6385.3971962616824,2.0420518894164981,"Plastic Bottles "]
[null,"Steel Cans ",2828.1504672897199,3002.2828739805946,1.7344137727875535,"Steel Cans "]
[null,"Corrugated Paper",50922.962149532716,67048.00809681727,0.73825736078477999,"Corrugated Paper"]
[null,"Office Paper ",7362.9434579439248,8502.2441777643471,1.0176694135269431,"Office Paper "]
[null,"Yard Waste ",56432.979439252333,114236.80048431647,1.4352389709749234,"Yard Waste "]
[null,"Other Plastics ",40410.416514773788,45764.911115259099,1.177791142710747,"Other Plastics "]
[null,"Ferrous Metal ",{"$f":"D106*$C$8/2000","v":3165.2772585678294},{"$f":"C129/(1-C106)","v":3808.997904413754},{"$f":"C79/D129","v":0.5584754811167747},"Ferrous Metal "]
[null,"White Goods ",{"$f":"D105*$C$8/2000","v":7899.316822429907},{"$f":"Table714192531[[#This Row],[tons-DRY/county-us data ]]","v":7899.316822429907},{"$f":"G80/Table714192531[[#This Row],[tons-WET/county-us data ]]","v":1.1097360577054278},"White Goods "]
[null,"Non-ferrous Metal ",{"$f":"D104*$C$8/2000","v":12198.992292679321},{"$f":"C131/(1-C104)","v":12895.340689935858},{"$f":"C81/D131","v":0.18759775067742479},"Non-ferrous Metal "]
[null,"Other Paper ",{"$f":"D107*$C$8/2000","v":41365.764018691581},{"$f":"C132/(1-C107)","v":55487.275678996084},{"$f":"G82/D132","v":1.2392342041319664},"Other Paper "]
[null,"Textiles ",19917.434958504673,{"$f":"C133/(1-C108)","v":23996.909588559847},{"$f":"G83/D133","v":0.88447508055785562},"Textiles "]
[null,"C&D Debris",{"$error":"#VALUE!"},{"$f":"C134/(1-C109)","v":{"$error":"#VALUE!"}},{"$f":"#REF!/D134","v":{"$error":"#REF!"}},"C&D Debris"]
[null,"Food Waste",64576.102336448595,{"$f":"C135/(1-C110)","v":160437.52133279154},{"$f":"G85/D135","v":0.30906908362696206},"Food Waste"]
[null,"Miscellaneous ",53791.65991005383,{"$f":"C136/(1-C111)","v":78299.359403280672},{"$f":"G86/D136","v":0.93708737394945285},"Miscellaneous "]
[null,"Tires ",9492.1831775700939,{"$f":"Table714192531[[#This Row],[tons-DRY/county-us data ]]","v":9492.1831775700939},{"$f":"G87/Table714192531[[#This Row],[tons-WET/county-us data ]]","v":0.42372176598459871},"Tires "]
[]
[]
[]
[]
[null,"Link to \"New WasteCalc County Factors\""]
[null,"Newspaper","Glass","Aluminum Cans","Plastic Bottles","Steel Cans","Corrugated Paper","Office Paper","Yard Waste","Other Plastics","Ferrous Metals","White Goods","Non-Ferrous Metal","Other Paper","Textiles","C&D Debris","Food Waste","Misc","Tires"]
[null,{"$f":"E120","v":0.77978840924969661},{"$f":"E121","v":1.6233633024557481},{"$f":"E122","v":1.9645838970369842},{"$f":"E123","v":2.0420518894164981},{"$f":"E124","v":1.7344137727875535},{"$f":"E125","v":0.73825736078477999},{"$f":"E126","v":1.0176694135269431},{"$f":"E127","v":1.4352389709749234},{"$f":"E128","v":1.177791142710747},{"$f":"E129","v":0.5584754811167747},{"$f":"E130","v":1.1097360577054278},{"$f":"E131","v":0.18759775067742479},{"$f":"E132","v":1.2392342041319664},{"$f":"E133","v":0.88447508055785562},{"$error":"#REF!"},{"$f":"E135","v":0.30906908362696206},{"$f":"E136","v":0.93708737394945285},{"$f":"E137","v":0.42372176598459871}]

{"sheet":"34 Escambia County Factor","index":33,"n_rows":147,"n_cols":19,"rows_kept":147,"cut":false,"hidden":true,"merged":[[2,1,2,2],[3,1,3,2],[18,1,18,2],[43,1,43,2],[67,1,67,2],[67,9,67,10],[93,1,93,2],[95,1,95,2],[117,1,117,2],[119,1,119,2]]}
[null,"Finding County Factors for Escambia"]
[]
[null,1]
[null,"Information from annual solid waste report 2017"]
[null,"County","Escambia"]
[null,"Waste comp study","NONE"]
[null,"Year",2017]
[null,"Population",310786]
[null,"Landfilled tons",381934]
[null,"C&D collected",252960]
[null,"C&D disposed",{"$f":"C10-C14","v":37473}]
[]
[null,"Recycled tons",362067]
[null,"Recycled C&D",215487]
[null,"combustor recy metals",0]
[null,"Combustor input",0]
[null,"Total Tons MSW collected",{"$f":"C9+(C16-C15)+C13","v":744001}]
[]
[null,2]
[]
[null,"Average disposal LANDFILLED from Hernando, Indian River, and Alachua"]
[null,"Category","Hernando","Indian River","Alachua","Average ","Percent"]
[null,"Newspaper",{"$f":"'37 Hernando County Factor'!B120","v":3301.2359999999999},{"$f":"'41 Indian River County Factor'!C89","v":2352.0420000000004},{"$f":"'42 Alachua County Factor'!B131","v":1877.3400000000001},{"$f":"AVERAGE(Table193202674[[#This Row],[Hernando]:[Alachua]])","v":2510.2060000000001},{"$f":"Table193202674[[#This Row],[Average ]]/$F$41","v":1.5534300243331344E-2}]
[null,"Glass",{"$f":"'37 Hernando County Factor'!B121","v":8069.688000000001},{"$f":"'41 Indian River County Factor'!C90","v":5712.1020000000008},4130,{"$f":"AVERAGE(Table193202674[[#This Row],[Hernando]:[Alachua]])","v":5970.5966666666673},{"$f":"Table193202674[[#This Row],[Average ]]/$F$41","v":3.6948776814266761E-2}]
[null,"Aluminum Cans",{"$f":"'37 Hernando County Factor'!B122","v":3484.6379999999999},{"$f":"'41 Indian River County Factor'!C91","v":1008.0179999999999},751,{"$f":"AVERAGE(Table193202674[[#This Row],[Hernando]:[Alachua]])","v":1747.8853333333334},{"$f":"Table193202674[[#This Row],[Average ]]/$F$41","v":1.0816712078178159E-2}]
[null,"Plastic Bottles",{"$f":"'37 Hernando County Factor'!B123","v":7336.08},{"$f":"'41 Indian River County Factor'!C92","v":3360.06},2816,{"$f":"AVERAGE(Table193202674[[#This Row],[Hernando]:[Alachua]])","v":4504.0466666666662},{"$f":"Table193202674[[#This Row],[Average ]]/$F$41","v":2.7873096164209517E-2}]
[null,"Steel Cans",{"$f":"'37 Hernando County Factor'!B124","v":2567.6280000000002},{"$f":"'41 Indian River County Factor'!C93","v":2016.0359999999998},1314,{"$f":"AVERAGE(Table193202674[[#This Row],[Hernando]:[Alachua]])","v":1965.8879999999999},{"$f":"Table193202674[[#This Row],[Average ]]/$F$41","v":1.2165812063536684E-2}]
[null,"Corrugated Paper",{"$f":"'37 Hernando County Factor'!B125","v":16139.375999999998},{"$f":"'41 Indian River County Factor'!C94","v":8064.1439999999993},16708,{"$f":"AVERAGE(Table193202674[[#This Row],[Hernando]:[Alachua]])","v":13637.173333333332},{"$f":"Table193202674[[#This Row],[Average ]]/$F$41","v":8.439305181740131E-2}]
[null,"Office Paper",{"$f":"'37 Hernando County Factor'!B126","v":2751.0299999999997},{"$f":"'41 Indian River County Factor'!C95","v":2464.0439999999999},3379,{"$f":"AVERAGE(Table193202674[[#This Row],[Hernando]:[Alachua]])","v":2864.6913333333337},{"$f":"Table193202674[[#This Row],[Average ]]/$F$41","v":1.7728017252954215E-2}]
[null,"Yard Trash",{"$f":"'37 Hernando County Factor'!B127","v":11370.923999999999},{"$f":"'41 Indian River County Factor'!C96","v":9184.1640000000007},2441,{"$f":"AVERAGE(Table193202674[[#This Row],[Hernando]:[Alachua]])","v":7665.3626666666669},{"$f":"Table193202674[[#This Row],[Average ]]/$F$41","v":4.7436762217133971E-2}]
[null,"Other Plastics",{"$f":"'37 Hernando County Factor'!B128","v":30994.937999999998},{"$f":"'41 Indian River County Factor'!C97","v":13440.24},24218,{"$f":"AVERAGE(Table193202674[[#This Row],[Hernando]:[Alachua]])","v":22884.392666666667},{"$f":"Table193202674[[#This Row],[Average ]]/$F$41","v":0.14161906495733417}]
[null,"Ferrous Metals",{"$f":"'37 Hernando County Factor'!B129","v":733.60800000000006},{"$f":"'41 Indian River County Factor'!C98","v":896.01599999999996},1126,{"$f":"AVERAGE(Table193202674[[#This Row],[Hernando]:[Alachua]])","v":918.54133333333323},{"$f":"Table193202674[[#This Row],[Average ]]/$F$41","v":5.6843529407187669E-3}]
[null,"White Goods",{"$f":"'37 Hernando County Factor'!B130","v":1467.2160000000001},{"$f":"'41 Indian River County Factor'!C99","v":672.01200000000006},0,{"$f":"AVERAGE(Table193202674[[#This Row],[Hernando]:[Alachua]])","v":713.07600000000002},{"$f":"Table193202674[[#This Row],[Average ]]/$F$41","v":4.4128396953531865E-3}]
[null,"NonFerous Metals",{"$f":"'37 Hernando County Factor'!B131","v":1467.2160000000001},{"$f":"'41 Indian River County Factor'!C100","v":672.01200000000006},995,{"$f":"AVERAGE(Table193202674[[#This Row],[Hernando]:[Alachua]])","v":1044.7426666666668},{"$f":"Table193202674[[#This Row],[Average ]]/$F$41","v":6.4653443825003357E-3}]
[null,"Other Paper",{"$f":"'37 Hernando County Factor'!B132","v":18340.2},{"$f":"'41 Indian River County Factor'!C101","v":19376.345999999998},31915,{"$f":"AVERAGE(Table193202674[[#This Row],[Hernando]:[Alachua]])","v":23210.515333333333},{"$f":"Table193202674[[#This Row],[Average ]]/$F$41","v":0.14363726084251485}]
[null,"Textiles",{"$f":"'37 Hernando County Factor'!B133","v":12654.738000000001},{"$f":"'41 Indian River County Factor'!C102","v":5488.098},6946,{"$f":"AVERAGE(Table193202674[[#This Row],[Hernando]:[Alachua]])","v":8362.9453333333349},{"$f":"Table193202674[[#This Row],[Average ]]/$F$41","v":5.1753722095543846E-2}]
[null,"C&D Debris",{"$f":"'37 Hernando County Factor'!B134","v":13755.15},{"$f":"'41 Indian River County Factor'!C103","v":7280.13},9387,{"$f":"AVERAGE(Table193202674[[#This Row],[Hernando]:[Alachua]])","v":10140.76},{"$f":"Table193202674[[#This Row],[Average ]]/$F$41","v":6.2755650546435129E-2}]
[null,"Food",{"$f":"'37 Hernando County Factor'!B135","v":21458.034},{"$f":"'41 Indian River County Factor'!C104","v":15232.272000000001},26846,{"$f":"AVERAGE(Table193202674[[#This Row],[Hernando]:[Alachua]])","v":21178.768666666667},{"$f":"Table193202674[[#This Row],[Average ]]/$F$41","v":0.13106388529549295}]
[null,"Miscellaneous",{"$f":"'37 Hernando County Factor'!B136","v":26776.692000000003},{"$f":"'41 Indian River County Factor'!C105","v":14560.26},52941,{"$f":"AVERAGE(Table193202674[[#This Row],[Hernando]:[Alachua]])","v":31425.984},{"$f":"Table193202674[[#This Row],[Average ]]/$F$41","v":0.19447833002475767}]
[null,"Tires",{"$f":"'37 Hernando County Factor'!B137","v":2200.8240000000001},{"$f":"'41 Indian River County Factor'!C106","v":336.00600000000003},0,{"$f":"AVERAGE(Table193202674[[#This Row],[Hernando]:[Alachua]])","v":845.61},{"$f":"Table193202674[[#This Row],[Average ]]/$F$41","v":5.2330205683371869E-3}]
[null,"total:",{"$f":"SUM(Table193202674[Hernando])","v":184869.21600000001},{"$f":"SUM(Table193202674[Indian River])","v":112114.00199999999},{"$f":"SUM(Table193202674[Alachua])","v":187790.34},{"$f":"SUM(Table193202674[[Average ]])","v":161591.18599999999},{"$f":"SUM(Table193202674[Percent])","v":1}]
[]
[]
[null,"Recycled tons from Escambia County "]
[null,"Materials","Tons"]
[null,"Newspaper",5214]
[null,"Glass",1429]
[null,"Aluminum Cans",948]
[null,"Plastic Bottles",1112]
[null,"Steel Cans",302]
[null,"Corrugated Paper",16199]
[null,"Office Paper",416]
[null,"Yard Trash",47805]
[null,"Other Plastics",561]
[null,"Ferrous Metals",33824]
[null,"White Goods",5966]
[null,"NonFerous Metals",5052]
[null,"Other Paper",5794]
[null,"Textiles",0]
[null,"C&D Debris",215487]
[null,"Food",581]
[null,"Miscellaneous",21103]
[null,"Tires",274]
[null,"Total",{"$f":"SUM(C46:C63)","v":362067}]
[]
[]
[]
[null,3,null,null,null,null,null,null,null,4]
[]
[null,"Calculating waste compositon percentage utalizing waste compsition study"]
[".","FDEP Category","Landfilled tons\n(Plus combusor ash, minus C&D  disposed)","Collected C&D \n(disposal C&D LANDFILL + recycled)","Combusted\n(minus recycled metals, minus ash)","Recycled Materials\n(Minus recycled C&D)","Total Collected Tons"]
[null,null,{"$f":"C9-C11","v":344461},{"$f":"C11+C14","v":252960},{"$f":"C16-C15","v":0},{"$f":"C64","v":362067},null,null,null,"FDEP Category","Percentage"]
[null,"Newspaper",{"$f":"$C$72*G23","v":5350.9605961181578},null,{"$f":"$E$72*G23","v":0},{"$f":"C46","v":5214},{"$f":"SUM(C73:F73)","v":10564.960596118159},null,null,"Newspaper",{"$f":"G73/$G$92","v":1.4200196768711546E-2}]
[null,"Glass",12727.412610219142,null,0,1429,{"$f":"SUM(C74:F74)","v":14156.412610219142},null,null,"Glass",1.9027410729581199E-2]
[null,"Aluminum Cans",3725.9354591613269,null,0,948,4673.9354591613264,null,null,"Aluminum Cans",6.2821628723097505E-3]
[null,"Plastic Bottles",9601.1945778197751,null,0,1112,10713.194577819775,null,null,"Plastic Botles",1.4399435723634477E-2]
[null,"Steel Cans",4190.64778921791,null,0,302,4492.64778921791,null,null,"Steel Cans",6.0384969767754478E-3]
[null,"Corrugated Paper",29070.115022073871,null,0,16199,45269.115022073871,null,null,"Corrugated Paper",6.0845502925498583E-2]
[null,"Office Paper",6106.6105509698618,null,0,416,6522.6105509698618,null,null,"Office Paper",8.7669378817634147E-3]
[null,"Yard Trash",16340.114550076185,null,0,47805,64145.114550076185,null,null,"Yard Trash",8.6216435932312166E-2]
[null,"Other Plastics",48782.244734268286,null,0,561,49343.244734268286,null,null,"Other Plastics",6.6321476361279469E-2]
[null,"Ferrous Metals",1958.0378983129272,null,0,33824,35782.037898312927,null,null,"Ferrous Metals",4.80940723175277E-2]
[null,"White Goods",1520.0511743010541,null,0,5966,7486.0511743010538,null,null,"White Goods",1.0061883215615373E-2]
[null,"NonFerous Metals",2227.0589913404483,null,0,5052,7279.0589913404483,null,null,"NonFerous Metals",9.7836682898819333E-3]
[null,"Other Paper",49477.434507073507,null,0,5794,55271.434507073507,null,null,"Other Paper",7.4289462658079092E-2]
[null,"Textiles",17827.138866753128,null,0,0,17827.138866753128,null,null,"Textiles",2.3961175948356426E-2]
[null,"C&D Debris",21616.874142875589,{"$f":"C10","v":252960},0,0,274576.8741428756,null,null,"C&D Debris",0.36905444232316303]
[null,"Food",45146.396992770802,null,0,{"$f":"C61","v":581},45727.396992770802,null,null,"Food",6.1461472488304185E-2]
[null,"Miscellaneous",66990.200038658048,null,0,{"$f":"C62","v":21103},{"$f":"SUM(C89:F89)","v":88093.200038658048},null,null,"Miscellaneous",0.11840467961556241]
[null,"Tires",1802.5714979899958,null,0,{"$f":"C63","v":274},2076.5714979899958,null,null,"Tires",2.7910869716438495E-3]
[null,null,"Total","Total","Total","Total","Total",null,null,null,"total"]
[null,null,{"$f":"SUM(C73:C90)","v":344461},{"$f":"D87","v":252960},{"$f":"SUM(E73:E90)","v":0},{"$f":"SUM(F73:F90)","v":146580},{"$f":"SUM(C92:F92)","v":744001},null,null,null,{"$f":"SUM(K73:K90)","v":1}]
[]
[null,5]
[]
[null,"US EPA Data and Moisture Content"]
[null,"Category","Moisture Content  (MC) ","US EPA DATA (lbs-dry/person)","US EPA DATA             (lbs-WET/person)    [US EPA DATA/(1-MC)"]
[null,"Newspaper",0.27850000000000003,41.931464174454803,58.117067462861854]
[null,"Glass",3.2000000000000001E-2,56.822429906542055,58.700857341469067]
[null,"Aluminum Cans",0.129,8.4112149532710276,9.6569632069701807]
[null,"Plastic Bottles",4.8000000000000001E-2,23.302180685358255,24.477080551846907]
[null,"Steel Cans",5.8000000000000003E-2,10.841121495327103,11.508621544933231]
[null,"Corrugated Paper",0.24049999999999999,195.20249221183801,257.01447295831201]
[null,"Office Paper",0.13400000000000001,28.22429906542056,32.591569359608037]
[null,"Yard Waste",0.50600000000000001,216.3239875389408,437.90280878328099]
[null,"Other Plastics",0.11700000000000001,154.90485396035913,175.43018568557093]
[null,"Non-ferrous Metal",5.3999999999999999E-2,46.762277712979795,49.431583206109721]
[null,"White Goods","x",30.280373831775702,30.280373831775702]
[null,"Ferrous Metal",0.16900000000000001,12.133426323463874,14.600994372399368]
[null,"Other Paper",0.2545,158.56697819314641,212.69883057430772]
[null,"Textiles",0.17,76.349308411214949,91.987118567728857]
[null,"C&D Debris",8.8999999999999996E-2,"-","-"]
[null,"Food Waste",0.59750000000000003,247.53894080996884,615.00357965209651]
[null,"Miscellaneous",0.313,206.19904324930312,300.14416775735532]
[null,"Tires","x",36.386292834890966,36.386292834890966]
[]
[]
[null,6]
[]
[null,"Finding County Factor"]
[null,"Category     ","tons-DRY/county-us data ","tons-WET/county-us data ","County Factor","Category    "]
[null,"equation","US DATA * County Population/2000","tons-DRY/(1-MoistureContent)","ton-wet-composition/tons-wet-Usdata"]
[null,"Newspaper ",{"$f":"D98*$C$8/2000","v":6515.8560124610549},{"$f":"C123/(1-C98)","v":9030.985464256486},{"$f":"G73/D123","v":1.1698568930193671},"Newspaper "]
[null,"Glass ",8829.8078504672885,9121.7023248629012,1.5519485405298963,"Glass "]
[null,"Aluminum Cans ",1307.0439252336448,1500.6244836207175,3.1146602698924526,"Aluminum Cans "]
[null,"Plastic Bottles ",3620.9957632398755,3803.5669781931465,2.8166178324823377,"Plastic Bottles "]
[null,"Steel Cans ",1684.6343925233646,1788.3592277318096,2.5121618294306405,"Steel Cans "]
[null,"Corrugated Paper",30333.100872274143,39938.249996410981,1.1334776818248657,"Corrugated Paper"]
[null,"Office Paper ",4385.8585046728967,5064.5017374975714,1.2879076539112333,"Office Paper "]
[null,"Yard Waste ",33615.233395638628,68047.031165260385,0.94265853265944954,"Yard Waste "]
[null,"Other Plastics ",24071.129971462087,27260.622844237925,1.8100556621984139,"Other Plastics "]
[null,"Ferrous Metal ",{"$f":"D109*$C$8/2000","v":1885.4495166820218},{"$f":"C132/(1-C109)","v":2268.8923185102549},{"$f":"C82/D132","v":0.86299287204540698},"Ferrous Metal "]
[null,"White Goods ",{"$f":"D108*$C$8/2000","v":4705.3581308411221},{"$f":"Table71419253179[[#This Row],[tons-DRY/county-us data ]]","v":4705.3581308411221},{"$f":"G83/Table71419253179[[#This Row],[tons-WET/county-us data ]]","v":1.5909631033680447},"White Goods "]
[null,"Non-ferrous Metal ",{"$f":"D107*$C$8/2000","v":7266.5306206530695},{"$f":"C134/(1-C107)","v":7681.3220091470084},{"$f":"C84/D134","v":0.28993173163271119},"Non-ferrous Metal "]
[null,"Other Paper ",{"$f":"D110*$C$8/2000","v":24640.1984423676},{"$f":"C135/(1-C110)","v":33051.909379433397},{"$f":"G85/D135","v":1.6722614682426258},"Other Paper "]
[null,"Textiles ",11864.148081943926,{"$f":"C136/(1-C111)","v":14294.154315595091},{"$f":"G86/D136","v":1.2471628942261739},"Textiles "]
[null,"C&D Debris",{"$error":"#VALUE!"},{"$f":"C137/(1-C112)","v":{"$error":"#VALUE!"}},{"$f":"#REF!/D137","v":{"$error":"#REF!"}},"C&D Debris"]
[null,"Food Waste",38465.818629283487,{"$f":"C138/(1-C113)","v":95567.251252878239},{"$f":"G88/D138","v":0.47848396174723723},"Food Waste"]
[null,"Miscellaneous ",32041.88792763896,{"$f":"C139/(1-C114)","v":46640.302660318717},{"$f":"G89/D139","v":1.8887784815686284},"Miscellaneous "]
[null,"Tires ",5654.1752024922116,{"$f":"Table71419253179[[#This Row],[tons-DRY/county-us data ]]","v":5654.1752024922116},{"$f":"G90/Table71419253179[[#This Row],[tons-WET/county-us data ]]","v":0.36726338035558181},"Tires "]
[]
[]
[]
[]
[null,"Link to \"New WasteCalc County Factors\""]
[null,"Newspaper","Glass","Aluminum Cans","Plastic Bottles","Steel Cans","Corrugated Paper","Office Paper","Yard Waste","Other Plastics","Ferrous Metals","White Goods","Non-Ferrous Metal","Other Paper","Textiles","C&D Debris","Food Waste","Misc","Tires"]
[null,{"$f":"E123","v":1.1698568930193671},{"$f":"E124","v":1.5519485405298963},{"$f":"E125","v":3.1146602698924526},{"$f":"E126","v":2.8166178324823377},{"$f":"E127","v":2.5121618294306405},{"$f":"E128","v":1.1334776818248657},{"$f":"E129","v":1.2879076539112333},{"$f":"E130","v":0.94265853265944954},{"$f":"E131","v":1.8100556621984139},{"$f":"E132","v":0.86299287204540698},{"$f":"E133","v":1.5909631033680447},{"$f":"E134","v":0.28993173163271119},{"$f":"E135","v":1.6722614682426258},{"$f":"E136","v":1.2471628942261739},{"$error":"#REF!"},{"$f":"E138","v":0.47848396174723723},{"$f":"E139","v":1.8887784815686284},{"$f":"E140","v":0.36726338035558181}]

{"sheet":"35 Leon County Factor","index":34,"n_rows":146,"n_cols":19,"rows_kept":146,"cut":false,"hidden":true,"merged":[[2,1,2,2],[3,1,3,2],[18,1,18,2],[42,1,42,2],[66,1,66,2],[66,9,66,10],[92,1,92,2],[94,1,94,2],[116,1,116,2],[118,1,118,2]]}
[null,"Finding County Factors for Leon"]
[]
[null,1]
[null,"Information from annual solid waste report 2017"]
[null,"County","Leon"]
[null,"Waste comp study","NONE"]
[null,"Year",2017]
[null,"Population",287899]
[null,"Landfilled tons",250434]
[null,"C&D collected",388573]
[null,"C&D disposed",{"$f":"C10-C14","v":10110}]
[]
[null,"Recycled tons",438901]
[null,"Recycled C&D",378463]
[null,"combustor recy metals",0]
[null,"Combustor input",0]
[null,"Total Tons MSW collected",{"$f":"C9+(C16-C15)+C13","v":689335}]
[]
[null,2]
[]
[null,"Average disposal LANDFILLED from Hernando, Indian River, and Alachua"]
[null,"Category ","Hernando","Indian River","Alachua","Average ","Percent"]
[null,"Newspaper",{"$f":"'37 Hernando County Factor'!B120","v":3301.2359999999999},{"$f":"'41 Indian River County Factor'!C89","v":2352.0420000000004},{"$f":"'42 Alachua County Factor'!B131","v":1877.3400000000001},{"$f":"AVERAGE(Table19320267480[[#This Row],[Hernando]:[Alachua]])","v":2510.2060000000001},{"$f":"Table19320267480[[#This Row],[Average ]]/$F$41","v":1.5534300877811408E-2}]
[null,"Glass",{"$f":"'37 Hernando County Factor'!B121","v":8069.688000000001},{"$f":"'41 Indian River County Factor'!C90","v":5712.1020000000008},{"$f":"'42 Alachua County Factor'!B132","v":4130.1480000000001},{"$f":"AVERAGE(Table19320267480[[#This Row],[Hernando]:[Alachua]])","v":5970.6460000000006},{"$f":"Table19320267480[[#This Row],[Average ]]/$F$41","v":3.6949083620587783E-2}]
[null,"Aluminum Cans",{"$f":"'37 Hernando County Factor'!B122","v":3484.6379999999999},{"$f":"'41 Indian River County Factor'!C91","v":1008.0179999999999},{"$f":"'42 Alachua County Factor'!B133","v":750.93600000000004},{"$f":"AVERAGE(Table19320267480[[#This Row],[Hernando]:[Alachua]])","v":1747.8639999999998},{"$f":"Table19320267480[[#This Row],[Average ]]/$F$41","v":1.0816580499566551E-2}]
[null,"Plastic Bottles",{"$f":"'37 Hernando County Factor'!B123","v":7336.08},{"$f":"'41 Indian River County Factor'!C92","v":3360.06},{"$f":"'42 Alachua County Factor'!B134","v":2816.0099999999998},{"$f":"AVERAGE(Table19320267480[[#This Row],[Hernando]:[Alachua]])","v":4504.05},{"$f":"Table19320267480[[#This Row],[Average ]]/$F$41","v":2.7873117930841719E-2}]
[null,"Steel Cans",{"$f":"'37 Hernando County Factor'!B124","v":2567.6280000000002},{"$f":"'41 Indian River County Factor'!C93","v":2016.0359999999998},{"$f":"'42 Alachua County Factor'!B135","v":1314.1379999999999},{"$f":"AVERAGE(Table19320267480[[#This Row],[Hernando]:[Alachua]])","v":1965.934},{"$f":"Table19320267480[[#This Row],[Average ]]/$F$41","v":1.2166097229438257E-2}]
[null,"Corrugated Paper",{"$f":"'37 Hernando County Factor'!B125","v":16139.375999999998},{"$f":"'41 Indian River County Factor'!C94","v":8064.1439999999993},{"$f":"'42 Alachua County Factor'!B136","v":16708.326000000001},{"$f":"AVERAGE(Table19320267480[[#This Row],[Hernando]:[Alachua]])","v":13637.281999999999},{"$f":"Table19320267480[[#This Row],[Average ]]/$F$41","v":8.439372774328549E-2}]
[null,"Office Paper",{"$f":"'37 Hernando County Factor'!B126","v":2751.0299999999997},{"$f":"'41 Indian River County Factor'!C95","v":2464.0439999999999},{"$f":"'42 Alachua County Factor'!B137","v":3379.2119999999995},{"$f":"AVERAGE(Table19320267480[[#This Row],[Hernando]:[Alachua]])","v":2864.7620000000002},{"$f":"Table19320267480[[#This Row],[Average ]]/$F$41","v":1.7728455294633495E-2}]
[null,"Yard Trash",{"$f":"'37 Hernando County Factor'!B127","v":11370.923999999999},{"$f":"'41 Indian River County Factor'!C96","v":9184.1640000000007},{"$f":"'42 Alachua County Factor'!B138","v":2440.5419999999999},{"$f":"AVERAGE(Table19320267480[[#This Row],[Hernando]:[Alachua]])","v":7665.21},{"$f":"Table19320267480[[#This Row],[Average ]]/$F$41","v":4.7435819383591933E-2}]
[null,"Other Plastics",{"$f":"'37 Hernando County Factor'!B128","v":30994.937999999998},{"$f":"'41 Indian River County Factor'!C97","v":13440.24},{"$f":"'42 Alachua County Factor'!B139","v":24217.686000000002},{"$f":"AVERAGE(Table19320267480[[#This Row],[Hernando]:[Alachua]])","v":22884.288},{"$f":"Table19320267480[[#This Row],[Average ]]/$F$41","v":0.14161842301647318}]
[null,"Ferrous Metals",{"$f":"'37 Hernando County Factor'!B129","v":733.60800000000006},{"$f":"'41 Indian River County Factor'!C98","v":896.01599999999996},{"$f":"'42 Alachua County Factor'!B140","v":1126.404},{"$f":"AVERAGE(Table19320267480[[#This Row],[Hernando]:[Alachua]])","v":918.67600000000004},{"$f":"Table19320267480[[#This Row],[Average ]]/$F$41","v":5.6851865517110042E-3}]
[null,"White Goods",{"$f":"'37 Hernando County Factor'!B130","v":1467.2160000000001},{"$f":"'41 Indian River County Factor'!C99","v":672.01200000000006},{"$f":"'42 Alachua County Factor'!B141","v":0},{"$f":"AVERAGE(Table19320267480[[#This Row],[Hernando]:[Alachua]])","v":713.07600000000002},{"$f":"Table19320267480[[#This Row],[Average ]]/$F$41","v":4.4128398755903884E-3}]
[null,"NonFerous Metals",{"$f":"'37 Hernando County Factor'!B131","v":1467.2160000000001},{"$f":"'41 Indian River County Factor'!C100","v":672.01200000000006},{"$f":"'42 Alachua County Factor'!B142","v":994.99019999999996},{"$f":"AVERAGE(Table19320267480[[#This Row],[Hernando]:[Alachua]])","v":1044.7394000000002},{"$f":"Table19320267480[[#This Row],[Average ]]/$F$41","v":6.465324430944777E-3}]
[null,"Other Paper",{"$f":"'37 Hernando County Factor'!B132","v":18340.2},{"$f":"'41 Indian River County Factor'!C101","v":19376.345999999998},{"$f":"'42 Alachua County Factor'!B143","v":31914.78},{"$f":"AVERAGE(Table19320267480[[#This Row],[Hernando]:[Alachua]])","v":23210.441999999999},{"$f":"Table19320267480[[#This Row],[Average ]]/$F$41","v":0.143636812889058}]
[null,"Textiles",{"$f":"'37 Hernando County Factor'!B133","v":12654.738000000001},{"$f":"'41 Indian River County Factor'!C102","v":5488.098},{"$f":"'42 Alachua County Factor'!B144","v":7321.6260000000011},{"$f":"AVERAGE(Table19320267480[[#This Row],[Hernando]:[Alachua]])","v":8488.1540000000005},{"$f":"Table19320267480[[#This Row],[Average ]]/$F$41","v":5.2528572608462575E-2}]
[null,"C&D Debris",{"$f":"'37 Hernando County Factor'!B134","v":13755.15},{"$f":"'41 Indian River County Factor'!C103","v":7280.13},{"$f":"'42 Alachua County Factor'!B145","v":9386.7000000000007},{"$f":"AVERAGE(Table19320267480[[#This Row],[Hernando]:[Alachua]])","v":10140.66},{"$f":"Table19320267480[[#This Row],[Average ]]/$F$41","v":6.2755034263955636E-2}]
[null,"Food",{"$f":"'37 Hernando County Factor'!B135","v":21458.034},{"$f":"'41 Indian River County Factor'!C104","v":15232.272000000001},{"$f":"'42 Alachua County Factor'!B146","v":26845.962},{"$f":"AVERAGE(Table19320267480[[#This Row],[Hernando]:[Alachua]])","v":21178.755999999998},{"$f":"Table19320267480[[#This Row],[Average ]]/$F$41","v":0.13106381226152497}]
[null,"Miscellaneous",{"$f":"'37 Hernando County Factor'!B136","v":26776.692000000003},{"$f":"'41 Indian River County Factor'!C105","v":14560.26},{"$f":"'42 Alachua County Factor'!B147","v":52565.520000000004},{"$f":"AVERAGE(Table19320267480[[#This Row],[Hernando]:[Alachua]])","v":31300.824000000004},{"$f":"Table19320267480[[#This Row],[Average ]]/$F$41","v":0.19370379074044936}]
[null,"Tires",{"$f":"'37 Hernando County Factor'!B137","v":2200.8240000000001},{"$f":"'41 Indian River County Factor'!C106","v":336.00600000000003},{"$f":"'42 Alachua County Factor'!B148","v":0},{"$f":"AVERAGE(Table19320267480[[#This Row],[Hernando]:[Alachua]])","v":845.61},{"$f":"Table19320267480[[#This Row],[Average ]]/$F$41","v":5.2330207820737041E-3}]
[null,"total:",{"$f":"SUM(Table19320267480[Hernando])","v":184869.21600000001},{"$f":"SUM(Table19320267480[Indian River])","v":112114.00199999999},{"$f":"SUM(Table19320267480[Alachua])","v":187790.32020000002},{"$f":"SUM(Table19320267480[[Average ]])","v":161591.17939999996},{"$f":"SUM(Table19320267480[Percent])","v":1.0000000000000002}]
[]
[null,"Recycled tons from Leon County "]
[null,"Materials","Tons"]
[null,"Newspaper",41]
[null,"Glass",3745]
[null,"Aluminum Cans",317]
[null,"Plastic Bottles",1245]
[null,"Steel Cans",437]
[null,"Corrugated Paper",15929]
[null,"Office Paper",3344]
[null,"Yard Trash",300]
[null,"Other Plastics",278]
[null,"Ferrous Metals",17220]
[null,"White Goods"]
[null,"NonFerous Metals",1447]
[null,"Other Paper",9183]
[null,"Textiles",1574]
[null,"C&D Debris",378463]
[null,"Food",1914]
[null,"Miscellaneous",1460]
[null,"Tires",2004]
[null,"Total",{"$f":"SUM(C45:C62)","v":438901}]
[]
[]
[]
[null,3,null,null,null,null,null,null,null,4]
[]
[null,"Calculating waste compositon percentage utalizing waste compsition study"]
[".","FDEP Category","Landfilled tons\n(Plus combusor ash, minus C&D  disposed)","Collected C&D \n(disposal C&D LANDFILL + recycled)","Combusted\n(minus recycled metals, minus ash)","Recycled Materials\n(Minus recycled C&D)","Total Collected Tons"]
[null,null,{"$f":"C9-C11","v":240324},{"$f":"C11+C14","v":388573},{"$f":"C16-C15","v":0},{"$f":"C63","v":438901},null,null,null,"FDEP Category","Percentage"]
[null,"Newspaper",{"$f":"$C$71*G23","v":3733.2653241591488},null,{"$f":"$E$71*G23","v":0},{"$f":"C45","v":41},{"$f":"SUM(C72:F72)","v":3774.2653241591488},null,null,"Newspaper",{"$f":"G72/$G$91","v":5.4752265939770192E-3}]
[null,"Glass",8879.751572034138,null,0,3745,{"$f":"SUM(C73:F73)","v":12624.751572034138},null,null,"Glass",1.8314392236045085E-2]
[null,"Aluminum Cans",2599.4838919778317,null,0,317,2916.4838919778317,null,null,"Aluminum Cans",4.2308658228261027E-3]
[null,"Plastic Bottles",6698.5791936116057,null,0,1245,7943.5791936116057,null,null,"Plastic Botles",1.1523539634011919E-2]
[null,"Steel Cans",2923.8051505675198,null,0,437,3360.8051505675198,null,null,"Steel Cans",4.8754308871122457E-3]
[null,"Corrugated Paper",20281.83822617734,null,0,15929,36210.838226177337,null,null,"Corrugated Paper",5.2530102528055789E-2]
[null,"Office Paper",4260.5732902275004,null,0,3344,7604.5732902275004,null,null,"Office Paper",1.1031752762049657E-2]
[null,"Yard Trash",11399.965857542347,null,0,300,11699.965857542347,null,null,"Yard Trash",1.6972830129824173E-2]
[null,"Other Plastics",34034.305893010896,null,0,278,34312.305893010896,null,null,"Other Plastics",4.9775952030596003E-2]
[null,"Ferrous Metals",1366.2867728533954,null,0,17220,18586.286772853397,null,null,"Ferrous Metals",2.6962633223111255E-2]
[null,"White Goods",1060.5113302613845,null,0,0,1060.5113302613845,null,null,"White Goods",1.5384556569177316E-3]
[null,"NonFerous Metals",1553.7726285423726,null,0,1447,3000.7726285423723,null,null,"NonFerous Metals",4.3531412572151021E-3]
[null,"Other Paper",34519.373420749973,null,0,9183,43702.373420749973,null,null,"Other Paper",6.3397873923056236E-2]
[null,"Textiles",12623.87668355616,null,0,1574,14197.87668355616,null,null,"Textiles",2.0596483108439523E-2]
[null,"C&D Debris",15081.540854450874,{"$f":"C10","v":388573},0,0,403654.5408544509,null,null,"C&D Debris",0.58557093554578088]
[null,"Food",31497.779617938726,null,0,{"$f":"C60","v":1914},33411.779617938722,null,null,"Food",4.8469582449663401E-2]
[null,"Miscellaneous",46551.669805907753,null,0,{"$f":"C61","v":1460},48011.669805907753,null,null,"Miscellaneous",6.9649255885611133E-2]
[null,"Tires",1257.620486431081,null,0,{"$f":"C62","v":2004},3261.6204864310812,null,null,"Tires",4.7315463257067772E-3]
[null,null,"Total","Total","Total","Total","Total",null,null,null,"total"]
[null,null,{"$f":"SUM(C72:C89)","v":240324.00000000006},{"$f":"D86","v":388573},{"$f":"SUM(E72:E89)","v":0},{"$f":"SUM(F72:F89)","v":60438},{"$f":"SUM(C91:F91)","v":689335},null,null,null,{"$f":"SUM(K72:K89)","v":1}]
[]
[null,5]
[]
[null,"US EPA Data and Moisture Content"]
[null,"Category","Moisture Content  (MC) ","US EPA DATA (lbs-dry/person)","US EPA DATA             (lbs-WET/person)    [US EPA DATA/(1-MC)"]
[null,"Newspaper",0.27850000000000003,41.931464174454831,58.117067462861854]
[null,"Glass",3.2000000000000001E-2,56.822429906542055,58.700857341469067]
[null,"Aluminum Cans",0.129,8.4112149532710276,9.6569632069701807]
[null,"Plastic Bottles",4.8000000000000001E-2,23.302180685358255,24.477080551846907]
[null,"Steel Cans",5.8000000000000003E-2,10.841121495327103,11.508621544933231]
[null,"Corrugated Paper",0.24049999999999999,195.20249221183801,257.01447295831201]
[null,"Office Paper",0.13400000000000001,28.22429906542056,32.591569359608037]
[null,"Yard Waste",0.50600000000000001,216.3239875389408,437.90280878328099]
[null,"Other Plastics",0.11700000000000001,154.90485396035913,175.43018568557093]
[null,"Non-ferrous Metal",5.3999999999999999E-2,46.762277712979795,49.431583206109721]
[null,"White Goods","x",30.280373831775702,30.280373831775702]
[null,"Ferrous Metal",0.16900000000000001,12.133426323463874,14.600994372399368]
[null,"Other Paper",0.2545,158.56697819314641,212.69883057430772]
[null,"Textiles",0.17,76.349308411214949,91.987118567728857]
[null,"C&D Debris",8.8999999999999996E-2,"-","-"]
[null,"Food Waste",0.59750000000000003,247.53894080996884,615.00357965209651]
[null,"Miscellaneous",0.313,206.19904324930312,300.14416775735532]
[null,"Tires","x",36.386292834890966,36.386292834890966]
[]
[]
[null,6]
[]
[null,"Finding County Factor"]
[null,"Category   ","tons-DRY/county-us data ","tons-WET/county-us data ","County Factor","Category  "]
[null,"equation","US DATA * County Population/2000","tons-DRY/(1-MoistureContent)","ton-wet-composition/tons-wet-Usdata"]
[null,"Newspaper ",{"$f":"D97*$C$8/2000","v":6036.013302180686},{"$f":"C122/(1-C97)","v":8365.9228027452336},{"$f":"G72/D122","v":0.4511475199030815},"Newspaper "]
[null,"Glass ",8179.5603738317759,8449.9590638758018,1.494060678471909,"Glass "]
[null,"Aluminum Cans ",1210.7901869158877,1390.1150251617539,2.0980162354827216,"Aluminum Cans "]
[null,"Plastic Bottles ",3354.3372585669786,3523.463506898087,2.2544803367652322,"Plastic Bottles "]
[null,"Steel Cans ",1560.5740186915889,1656.6603170823662,2.0286627958146632,"Steel Cans "]
[null,"Corrugated Paper",28099.301152647975,36997.104875112535,0.97874788712280814,"Corrugated Paper"]
[null,"Office Paper ",4062.8737383177568,4691.5401135308966,1.6209119193705941,"Office Paper "]
[null,"Yard Waste ",31139.729844236757,63035.890372948903,0.18560800503205468,"Yard Waste "]
[null,"Other Plastics ",22298.476275166715,25253.08751434509,1.3587370603107318,"Other Plastics "]
[null,"Ferrous Metal ",{"$f":"D108*$C$8/2000","v":1746.6006525494631},{"$f":"C131/(1-C108)","v":2101.8058394097029},{"$f":"C81/D131","v":0.65005375246132169},"Ferrous Metal "]
[null,"White Goods ",{"$f":"D107*$C$8/2000","v":4358.8446728971967},{"$f":"Table7141925317985[[#This Row],[tons-DRY/county-us data ]]","v":4358.8446728971967},{"$f":"G82/Table7141925317985[[#This Row],[tons-WET/county-us data ]]","v":0.24330101433885085},"White Goods "]
[null,"Non-ferrous Metal ",{"$f":"D106*$C$8/2000","v":6731.4064956445854},{"$f":"C133/(1-C106)","v":7115.6516867278915},{"$f":"C83/D133","v":0.21835984909723283},"Non-ferrous Metal "]
[null,"Other Paper ",{"$f":"D109*$C$8/2000","v":22825.637227414329},{"$f":"C134/(1-C109)","v":30617.890311756306},{"$f":"G84/D134","v":1.4273476381215475},"Other Paper "]
[null,"Textiles ",10990.444771140186,{"$f":"C135/(1-C110)","v":13241.499724265286},{"$f":"G85/D135","v":1.0722257281430363},"Textiles "]
[null,"C&D Debris",{"$error":"#VALUE!"},{"$f":"C136/(1-C111)","v":{"$error":"#VALUE!"}},{"$f":"#REF!/D136","v":{"$error":"#REF!"}},"C&D Debris"]
[null,"Food Waste",35633.10676012461,{"$f":"C137/(1-C112)","v":88529.457789129476},{"$f":"G87/D137","v":0.37740861010945165},"Food Waste"]
[null,"Miscellaneous ",29682.249176215559,{"$f":"C138/(1-C113)","v":43205.602876587422},{"$f":"G88/D138","v":1.1112371222558424},"Miscellaneous "]
[null,"Tires ",5237.7886604361374,{"$f":"Table7141925317985[[#This Row],[tons-DRY/county-us data ]]","v":5237.7886604361374},{"$f":"G89/Table7141925317985[[#This Row],[tons-WET/county-us data ]]","v":0.62270944818141905},"Tires "]
[]
[]
[]
[]
[null,"Link to \"New WasteCalc County Factors\""]
[null,"Newspaper","Glass","Aluminum Cans","Plastic Bottles","Steel Cans","Corrugated Paper","Office Paper","Yard Waste","Other Plastics","Ferrous Metals","White Goods","Non-Ferrous Metal","Other Paper","Textiles","C&D Debris","Food Waste","Misc","Tires"]
[null,{"$f":"E122","v":0.4511475199030815},{"$f":"E123","v":1.494060678471909},{"$f":"E124","v":2.0980162354827216},{"$f":"E125","v":2.2544803367652322},{"$f":"E126","v":2.0286627958146632},{"$f":"E127","v":0.97874788712280814},{"$f":"E128","v":1.6209119193705941},{"$f":"E129","v":0.18560800503205468},{"$f":"E130","v":1.3587370603107318},{"$f":"E131","v":0.65005375246132169},{"$f":"E132","v":0.24330101433885085},{"$f":"E133","v":0.21835984909723283},{"$f":"E134","v":1.4273476381215475},{"$f":"E135","v":1.0722257281430363},{"$error":"#REF!"},{"$f":"E137","v":0.37740861010945165},{"$f":"E138","v":1.1112371222558424},{"$f":"E139","v":0.62270944818141905}]

{"sheet":"36 St.Johns County Factor","index":35,"n_rows":144,"n_cols":19,"rows_kept":144,"cut":false,"hidden":true,"merged":[[2,1,2,2],[3,1,3,2],[18,1,18,2],[42,1,42,2],[64,1,64,2],[64,9,64,10],[90,1,90,2],[92,1,92,2],[114,1,114,2],[116,1,116,2]]}
[null,"Finding County Factors for St. Johns"]
[]
[null,1]
[null,"Information from annual solid waste report 2017"]
[null,"County","St. Johns"]
[null,"Waste comp study","NONE"]
[null,"Year",2017]
[null,"Population",229715]
[null,"Landfilled tons ",352084]
[null,"C&D collected",171833]
[null,"C&D disposed",{"$f":"C10-C14","v":171628}]
[]
[null,"Recycled tons",83189]
[null,"Recycled C&D",205]
[null,"combustor recy metals"]
[null,"Combustor input"]
[null,"Total Tons MSW collected",{"$f":"C9+(C16-C15)+C13","v":435273}]
[]
[null,2]
[]
[null,"Average disposal LANDFILLED from Hernando, Indian River, and Alachua"]
[null,"Category ","Hernando","Indian River","Alachua","Average ","Percent"]
[null,"Newspaper",{"$f":"'37 Hernando County Factor'!B120","v":3301.2359999999999},{"$f":"'41 Indian River County Factor'!C89","v":2352.0420000000004},{"$f":"'42 Alachua County Factor'!B131","v":1877.3400000000001},{"$f":"AVERAGE(C23:E23)","v":2510.2060000000001},{"$f":"F23/$F$41","v":1.5534300877811408E-2}]
[null,"Glass",{"$f":"'37 Hernando County Factor'!B121","v":8069.688000000001},{"$f":"'41 Indian River County Factor'!C90","v":5712.1020000000008},{"$f":"'42 Alachua County Factor'!B132","v":4130.1480000000001},{"$f":"AVERAGE(C24:E24)","v":5970.6460000000006},{"$f":"F24/$F$41","v":3.6949083620587783E-2}]
[null,"Aluminum Cans",{"$f":"'37 Hernando County Factor'!B122","v":3484.6379999999999},{"$f":"'41 Indian River County Factor'!C91","v":1008.0179999999999},{"$f":"'42 Alachua County Factor'!B133","v":750.93600000000004},1747.8639999999998,1.0816580499566551E-2]
[null,"Plastic Bottles",{"$f":"'37 Hernando County Factor'!B123","v":7336.08},{"$f":"'41 Indian River County Factor'!C92","v":3360.06},{"$f":"'42 Alachua County Factor'!B134","v":2816.0099999999998},4504.05,2.7873117930841719E-2]
[null,"Steel Cans",{"$f":"'37 Hernando County Factor'!B124","v":2567.6280000000002},{"$f":"'41 Indian River County Factor'!C93","v":2016.0359999999998},{"$f":"'42 Alachua County Factor'!B135","v":1314.1379999999999},1965.934,1.2166097229438257E-2]
[null,"Corrugated Paper",{"$f":"'37 Hernando County Factor'!B125","v":16139.375999999998},{"$f":"'41 Indian River County Factor'!C94","v":8064.1439999999993},{"$f":"'42 Alachua County Factor'!B136","v":16708.326000000001},13637.281999999999,8.439372774328549E-2]
[null,"Office Paper",{"$f":"'37 Hernando County Factor'!B126","v":2751.0299999999997},{"$f":"'41 Indian River County Factor'!C95","v":2464.0439999999999},{"$f":"'42 Alachua County Factor'!B137","v":3379.2119999999995},2864.7620000000002,1.7728455294633495E-2]
[null,"Yard Trash",{"$f":"'37 Hernando County Factor'!B127","v":11370.923999999999},{"$f":"'41 Indian River County Factor'!C96","v":9184.1640000000007},{"$f":"'42 Alachua County Factor'!B138","v":2440.5419999999999},7665.21,4.7435819383591933E-2]
[null,"Other Plastics",{"$f":"'37 Hernando County Factor'!B128","v":30994.937999999998},{"$f":"'41 Indian River County Factor'!C97","v":13440.24},{"$f":"'42 Alachua County Factor'!B139","v":24217.686000000002},22884.288,0.14161842301647318]
[null,"Ferrous Metals",{"$f":"'37 Hernando County Factor'!B129","v":733.60800000000006},{"$f":"'41 Indian River County Factor'!C98","v":896.01599999999996},{"$f":"'42 Alachua County Factor'!B140","v":1126.404},918.67600000000004,5.6851865517110042E-3]
[null,"White Goods",{"$f":"'37 Hernando County Factor'!B130","v":1467.2160000000001},{"$f":"'41 Indian River County Factor'!C99","v":672.01200000000006},{"$f":"'42 Alachua County Factor'!B141","v":0},713.07600000000002,4.4128398755903884E-3]
[null,"NonFerous Metals",{"$f":"'37 Hernando County Factor'!B131","v":1467.2160000000001},{"$f":"'41 Indian River County Factor'!C100","v":672.01200000000006},{"$f":"'42 Alachua County Factor'!B142","v":994.99019999999996},1044.7394000000002,6.465324430944777E-3]
[null,"Other Paper",{"$f":"'37 Hernando County Factor'!B132","v":18340.2},{"$f":"'41 Indian River County Factor'!C101","v":19376.345999999998},{"$f":"'42 Alachua County Factor'!B143","v":31914.78},23210.441999999999,0.143636812889058]
[null,"Textiles",{"$f":"'37 Hernando County Factor'!B133","v":12654.738000000001},{"$f":"'41 Indian River County Factor'!C102","v":5488.098},{"$f":"'42 Alachua County Factor'!B144","v":7321.6260000000011},8488.1540000000005,5.2528572608462575E-2]
[null,"C&D Debris",{"$f":"'37 Hernando County Factor'!B134","v":13755.15},{"$f":"'41 Indian River County Factor'!C103","v":7280.13},{"$f":"'42 Alachua County Factor'!B145","v":9386.7000000000007},10140.66,6.2755034263955636E-2]
[null,"Food",{"$f":"'37 Hernando County Factor'!B135","v":21458.034},{"$f":"'41 Indian River County Factor'!C104","v":15232.272000000001},{"$f":"'42 Alachua County Factor'!B146","v":26845.962},21178.755999999998,0.13106381226152497]
[null,"Miscellaneous",{"$f":"'37 Hernando County Factor'!B136","v":26776.692000000003},{"$f":"'41 Indian River County Factor'!C105","v":14560.26},{"$f":"'42 Alachua County Factor'!B147","v":52565.520000000004},{"$f":"AVERAGE(C39:E39)","v":31300.824000000004},0.19370379074044936]
[null,"Tires",{"$f":"'37 Hernando County Factor'!B137","v":2200.8240000000001},{"$f":"'41 Indian River County Factor'!C106","v":336.00600000000003},{"$f":"'42 Alachua County Factor'!B148","v":0},845.61,5.2330207820737041E-3]
[null,"total:",{"$f":"SUM(C23:C40)","v":184869.21600000001},{"$f":"SUM(D23:D40)","v":112114.00199999999},{"$f":"SUM(E23:E40)","v":187790.32020000002},{"$f":"SUM(F23:F40)","v":161591.17939999996},{"$f":"SUM(G23:G40)","v":1.0000000000000002}]
[]
[null,"Recycled tons from St. Johns County "]
[null,"Materials","Tons"]
[null,"Newspaper",227]
[null,"Glass",7218]
[null,"Aluminum Cans",406]
[null,"Plastic Bottles",1864]
[null,"Steel Cans",631]
[null,"Corrugated Paper",7360]
[null,"Office Paper",529]
[null,"Yard Trash",39104]
[null,"Other Plastics",1193]
[null,"Ferrous Metals",10665]
[null,"White Goods",1735]
[null,"NonFerous Metals",1071]
[null,"Other Paper",10222]
[null,"Textiles",23]
[null,"C&D Debris",205]
[null,"Food",310]
[null,"Miscellaneous",194]
[null,"Tires",232]
[null,"Total",{"$f":"SUM(C45:C62)","v":83189}]
[]
[null,3,null,null,null,null,null,null,null,4]
[]
[null,"Calculating waste compositon percentage utalizing waste compsition study"]
[".","FDEP Category","Landfilled tons\n(Plus combusor ash, minus C&D  disposed)","Collected C&D \n(disposal C&D LANDFILL + recycled)","Combusted\n(minus recycled metals, minus ash)","Recycled Materials\n(Minus recycled C&D)","Total Collected Tons"]
[null,null,{"$f":"C9-C11","v":180456},{"$f":"C11+C14","v":171833},{"$f":"C16-C15","v":0},{"$f":"C63","v":83189},null,null,null,"FDEP Category","Percentage"]
[null,"Newspaper",{"$f":"$C$69*G23","v":2803.2577992063352},null,{"$f":"$E$69*G23","v":0},{"$f":"C45","v":227},{"$f":"SUM(C70:F70)","v":3030.2577992063352},null,null,"Newspaper",{"$f":"G70/$G$89","v":6.9617407907366985E-3}]
[null,"Glass",6667.6838338367888,null,0,7218,{"$f":"SUM(C71:F71)","v":13885.683833836789},null,null,"Glass",3.1901091576635322E-2]
[null,"Aluminum Cans",1951.9168506297815,null,0,406,2357.9168506297815,null,null,"Aluminum Cans",5.4170988106999086E-3]
[null,"Plastic Bottles",5029.8713693279733,null,0,1864,6893.8713693279733,null,null,"Plastic Botles",1.583804042366049E-2]
[null,"Steel Cans",2195.4452416355102,null,0,631,2826.4452416355102,null,null,"Steel Cans",6.4935000370698612E-3]
[null,"Corrugated Paper",15229.354533642327,null,0,7360,22589.354533642327,null,null,"Corrugated Paper",5.1896980822707411E-2]
[null,"Office Paper",3199.2061286483822,null,0,529,3728.2061286483822,null,null,"Office Paper",8.5652133917067715E-3]
[null,"Yard Trash",8560.0782226854662,null,0,39104,47664.078222685464,null,null,"Yard Trash",0.1095038704966434]
[null,"Other Plastics",25555.894143860685,null,0,1193,26748.894143860685,null,null,"Other Plastics",6.145314353029175E-2]
[null,"Ferrous Metals",1025.9260243755609,null,0,10665,11690.926024375562,null,null,"Ferrous Metals",2.6858835775192949E-2]
[null,"White Goods",796.32343258953915,null,0,1735,2531.3234325895392,null,null,"White Goods",5.8154846098644733E-3]
[null,"NonFerous Metals",1166.7065855105707,null,0,1071,2237.7065855105707,null,null,"NonFerous Metals",5.1409266954545087E-3]
[null,"Other Paper",25920.124706707851,null,0,10222,36142.124706707851,null,null,"Other Paper",8.3033233641204129E-2]
[null,"Textiles",9479.0960986327227,null,0,23,9502.0960986327227,null,null,"Textiles",2.1830198745689994E-2]
[null,"C&D Debris",11324.522463136378,{"$f":"C10","v":171833},0,0,183157.52246313638,null,null,"C&D Debris",0.42078769522377074]
[null,"Food",23651.25130546575,null,0,{"$f":"C60","v":310},23961.25130546575,null,null,"Food",5.5048788474051334E-2]
[null,"Miscellaneous",34955.011261858526,null,0,{"$f":"C61","v":194},35149.011261858526,null,null,"Miscellaneous",8.0751646120615153E-2]
[null,"Tires",944.32999824989236,null,0,{"$f":"C62","v":232},1176.3299982498925,null,null,"Tires",2.7025108340050781E-3]
[null,null,"Total","Total","Total","Total","Total",null,null,null,"total"]
[null,null,{"$f":"SUM(C70:C87)","v":180456.00000000006},{"$f":"D84","v":171833},{"$f":"SUM(E70:E87)","v":0},{"$f":"SUM(F70:F87)","v":82984},{"$f":"SUM(C89:F89)","v":435273.00000000006},null,null,null,{"$f":"SUM(K70:K87)","v":1}]
[]
[null,5]
[]
[null,"US EPA Data and Moisture Content"]
[null,"Category","Moisture Content  (MC) ","US EPA DATA (lbs-dry/person)","US EPA DATA             (lbs-WET/person)    [US EPA DATA/(1-MC)"]
[null,"Newspaper",0.27850000000000003,41.931464174454831,58.117067462861854]
[null,"Glass",3.2000000000000001E-2,56.822429906542055,58.700857341469067]
[null,"Aluminum Cans",0.129,8.4112149532710276,9.6569632069701807]
[null,"Plastic Bottles",4.8000000000000001E-2,23.302180685358255,24.477080551846907]
[null,"Steel Cans",5.8000000000000003E-2,10.841121495327103,11.508621544933231]
[null,"Corrugated Paper",0.24049999999999999,195.20249221183801,257.01447295831201]
[null,"Office Paper",0.13400000000000001,28.22429906542056,32.591569359608037]
[null,"Yard Waste",0.50600000000000001,216.3239875389408,437.90280878328099]
[null,"Other Plastics",0.11700000000000001,154.90485396035913,175.43018568557093]
[null,"Non-ferrous Metal",5.3999999999999999E-2,46.762277712979795,49.431583206109721]
[null,"White Goods","x",30.280373831775702,30.280373831775702]
[null,"Ferrous Metal",0.16900000000000001,12.133426323463874,14.600994372399368]
[null,"Other Paper",0.2545,158.56697819314641,212.69883057430772]
[null,"Textiles",0.17,76.349308411214949,91.987118567728857]
[null,"C&D Debris",8.8999999999999996E-2,"-","-"]
[null,"Food Waste",0.59750000000000003,247.53894080996884,615.00357965209651]
[null,"Miscellaneous",0.313,206.19904324930312,300.14416775735532]
[null,"Tires","x",36.386292834890966,36.386292834890966]
[]
[]
[null,6]
[]
[null,"Finding County Factor"]
[null,"Category","tons-DRY/county-us data ","tons-WET/county-us data ","County Factor","Category2"]
[null,"equation","US DATA * County Population/2000","tons-DRY/(1-MoistureContent)","ton-wet-composition/tons-wet-Usdata"]
[null,"Newspaper ",{"$f":"D95*$C$8/2000","v":4816.1431464174457},{"$f":"C120/(1-C95)","v":6675.1810761156557},{"$f":"G70/D120","v":0.4539588911001749},"Newspaper "]
[null,"Glass ",6526.4822429906544,6742.2337220977834,2.0595079325604257,"Glass "]
[null,"Aluminum Cans ",966.09112149532712,1109.1746515445777,2.1258300911820078,"Aluminum Cans "]
[null,"Plastic Bottles ",2676.4302180685359,2811.3762794837562,2.4521340027076959,"Plastic Bottles "]
[null,"Steel Cans ",1245.1841121495327,1321.8514990971685,2.1382471809927117,"Steel Cans "]
[null,"Corrugated Paper",22420.470249221184,29520.039827809323,0.76522100462622167,"Corrugated Paper"]
[null,"Office Paper ",3241.7724299065421,3743.3861777211805,0.99594483487620311,"Office Paper "]
[null,"Yard Waste ",24846.432398753892,50296.421859825692,0.94766340149451433,"Yard Waste "]
[null,"Other Plastics ",17791.98426375195,20149.472552380466,1.3275232924496856,"Other Plastics "]
[null,"Ferrous Metal ",{"$f":"D106*$C$8/2000","v":1393.615013947252},{"$f":"C129/(1-C106)","v":1677.0337111278604},{"$f":"C79/D129","v":0.61175038853905439},"Ferrous Metal "]
[null,"White Goods ",{"$f":"D105*$C$8/2000","v":3477.928037383178},{"$f":"Table714192531798591[[#This Row],[tons-DRY/county-us data ]]","v":3477.928037383178},{"$f":"G80/Table714192531798591[[#This Row],[tons-WET/county-us data ]]","v":0.72782513191219678},"White Goods "]
[null,"Non-ferrous Metal ",{"$f":"D104*$C$8/2000","v":5370.9983124185774},{"$f":"C131/(1-C104)","v":5677.588068095748},{"$f":"C81/D131","v":0.20549334885119303},"Non-ferrous Metal "]
[null,"Other Paper ",{"$f":"D107*$C$8/2000","v":18212.606697819316},{"$f":"C132/(1-C107)","v":24430.055932688552},{"$f":"G82/D132","v":1.4794122783136163},"Other Paper "]
[null,"Textiles ",8769.2906908411223,{"$f":"C133/(1-C108)","v":10565.410470892919},{"$f":"G83/D133","v":0.89935891509472687},"Textiles "]
[null,"C&D Debris",{"$error":"#VALUE!"},{"$f":"C134/(1-C109)","v":{"$error":"#VALUE!"}},{"$f":"#REF!/D134","v":{"$error":"#REF!"}},"C&D Debris"]
[null,"Food Waste",28431.703894080998,{"$f":"C135/(1-C110)","v":70637.773649890689},{"$f":"G85/D135","v":0.33921300272326504},"Food Waste"]
[null,"Miscellaneous ",23683.506610006832,{"$f":"C136/(1-C111)","v":34473.808748190437},{"$f":"G86/D136","v":1.019585956358928},"Miscellaneous "]
[null,"Tires ",4179.238629283489,{"$f":"Table714192531798591[[#This Row],[tons-DRY/county-us data ]]","v":4179.238629283489},{"$f":"G87/Table714192531798591[[#This Row],[tons-WET/county-us data ]]","v":0.2814699285193889},"Tires "]
[]
[]
[]
[]
[null,"Link to \"New WasteCalc County Factors\""]
[null,"Newspaper","Glass","Aluminum Cans","Plastic Bottles","Steel Cans","Corrugated Paper","Office Paper","Yard Waste","Other Plastics","Ferrous Metals","White Goods","Non-Ferrous Metal","Other Paper","Textiles","C&D Debris","Food Waste","Misc","Tires"]
[null,{"$f":"E120","v":0.4539588911001749},{"$f":"E121","v":2.0595079325604257},{"$f":"E122","v":2.1258300911820078},{"$f":"E123","v":2.4521340027076959},{"$f":"E124","v":2.1382471809927117},{"$f":"E125","v":0.76522100462622167},{"$f":"E126","v":0.99594483487620311},{"$f":"E127","v":0.94766340149451433},{"$f":"E128","v":1.3275232924496856},{"$f":"E129","v":0.61175038853905439},{"$f":"E130","v":0.72782513191219678},{"$f":"E131","v":0.20549334885119303},{"$f":"E132","v":1.4794122783136163},{"$f":"E133","v":0.89935891509472687},{"$error":"#REF!"},{"$f":"E135","v":0.33921300272326504},{"$f":"E136","v":1.019585956358928},{"$f":"E137","v":0.2814699285193889}]

{"sheet":"37 Hernando County Factor","index":36,"n_rows":217,"n_cols":18,"rows_kept":217,"cut":false,"hidden":true,"merged":[[195,0,195,1],[2,0,2,1],[19,0,19,1],[112,0,112,1],[112,8,112,9],[115,1,117,1],[115,2,117,2],[115,3,117,3],[115,4,117,4],[116,8,116,10],[140,0,140,1],[142,0,142,1],[164,0,164,1],[166,0,166,1],[193,0,193,1]]}
["Finding County Factors for Hernando County"]
[]
[1]
["Information from annual solid waste report 2017"]
["County","Hernndo "]
["Waste comp study",2015]
["Year",2017]
["Population",173799]
["Landfilled tons",183517]
["C&D collected",55113]
["C&D disposed",115]
[]
["Recycled tons",85329]
["Recycled C&D",54998]
["combustor recy metals",0]
["Combustor input",0]
["Combustor ash",0]
["Total Tons MSW collected",{"$f":"B9+B13+B16","v":268846}]
["Process fuel",68]
[2]
[]
["Hernando Waste Composition Study Results"]
["FDEP Category","Waste Comp Category","Percentage in waste stream"]
["Newspaper","newsprint",1.7999999999999999E-2]
["Corrugated Cardboard","Unocoated Corrugated Cardboard/kraft  paper",7.0999999999999994E-2]
[null,"waxed cardboard",1.7000000000000001E-2]
["Office Paper","Office Paper high grade",1.4999999999999999E-2]
["Other Paper","magazines/catalogs",1.6E-2]
[null,"other recyclable paper",7.0000000000000001E-3]
[null,"compostable paper",4.3999999999999997E-2]
[null,"remainder/composite paper",3.3000000000000002E-2]
["Glass Packaging"," glass containers non-deposit",3.2000000000000001E-2]
[null,"glass containers deposit",2E-3]
[null,"other glass packaging",7.0000000000000001E-3]
[null,"remainder/composite glass",3.0000000000000001E-3]
["Steel Cans","tin/steel cans",1.4E-2]
["Other Ferrous","Other Ferrous",4.0000000000000001E-3]
["Aluminum Cans","Aluminum Beverage Containers (non-deposit containers)",0.01]
[null,"Aluminum Deposit Beverage Containers",1E-3]
[null,"other aluminum",8.0000000000000002E-3]
["Other Non-Ferrous","other non-ferrous",4.0000000000000001E-3]
["Textiles","textiles",3.4000000000000002E-2]
[null,"carpet and carpet padding",3.5000000000000003E-2]
["Yard Trash","branches and stumps",1.2E-2]
[null,"prunings trimings leaves and grass",0.05]
["Food Waste","Food Waste",0.11700000000000001]
["Tires","Tires/rubber",1.2E-2]
["White Goods","White Goods",8.0000000000000002E-3]
["Plastic Bottles","PET beverage containers",2.5999999999999999E-2]
[null,"plstic deposit beverage containers",0]
[null,"HDPE Bottles, colored and natural",1.4E-2]
["Other Plastic","PET containers other than beverage containers",0.01]
[null,"plastic tubs and lids",5.0000000000000001E-3]
[null,"plastic containers 3,4,5,6,7",1.6E-2]
[null,"bulky rigid plastic items",2.5999999999999999E-2]
[null,"film (non-bag commercial and industrial packaging film)",1.2E-2]
[null,"grocery and other merchandise bags",3.5999999999999997E-2]
[null,"other film",0.01]
[null,"remainder/compsite plastic",3.1E-2]
[null,"expanded polyeterene food grade",1.4E-2]
[null,"expanded polyeterene non food",8.9999999999999993E-3]
["C&D","asphalt pavement brick concrete",2E-3]
[null,"aggregates stone rock",0.01]
[null,"wood treated",1.7999999999999999E-2]
[null,"wood untreated",2.5999999999999999E-2]
[null,"drywall/gypsum board",6.0000000000000001E-3]
[null,"remainder C&D",1.0999999999999999E-2]
[null,"asphalt roofing",2E-3]
["MISC","remainder composite metal",1.4E-2]
[null,"manures",3.7999999999999999E-2]
[null,"remainer/composite organic",2.1999999999999999E-2]
[null,"ballasts, CFLS, and other flourescents",0]
[null,"batteries lead acid",0]
[null,"batteries-other ",1E-3]
[null,"paint",4.0000000000000001E-3]
[null,"bio-hazards",8.0000000000000002E-3]
[null,"vehicle equipment fluids",0]
[null,"metal, glass, and plastic containing toxic materials",0]
[null,"pesticides and fertilizers",0]
[null,"other Hazardous or household hazardous waste",0]
[null,"computer related electronics",2E-3]
[null,"other brown goods",8.9999999999999993E-3]
[null,"tv and computer flat",1E-3]
[null,"tv and computer CRT",2E-3]
[null,"bulky materials",4.0000000000000001E-3]
[null,"diapers",3.2000000000000001E-2]
[null,"resturant fats oils and grease",0]
[null,"mattresses",3.0000000000000001E-3]
[null,"other misc",6.0000000000000001E-3]
[null,null,"total"]
[null,null,{"$f":"SUM(C24:C89)","v":1.0040000000000004}]
[]
["Recycled Tons from Hernando "]
["Newspaper",2106]
["Glass",676]
["Aluminum Cans",191]
["Plastic Bottles",495]
["Steel Cans",141]
["Corrugated Paper",11105]
["Office Paper",1781]
["Yard Trash"]
["Other Plastics",360]
["Ferrous Metals",7402]
["White Goods",1183]
["NonFerous Metals",1688]
["Other Paper",643]
["Textiles",323]
["C&D Debris"]
["Food"]
["Miscellaneous",1268]
["Tires",901]
[]
[3,null,null,null,null,null,null,null,4]
[]
["Calculating waste compositon percentage utalizing waste compsition study"]
[null,"Landfilled tons\n(PLUS combusor ash, minus C&D  disposed)","Collected C&D \n(disposal + recycled)","Combusted\n(minus recycled metals,minus combustor ash)","Recycled Materials\n(Minus recycled c&D)"]
[]
["FDEP Category",null,null,null,null,"Sum"]
[null,{"$f":"B9+B15-B11","v":183402},{"$f":"B11+B14","v":55113},0,{"$f":"B13-B14-B19","v":30263},null,null,null,"FDEP Category","Percentage"]
["Newspaper",{"$f":"C24*B119","v":3301.2359999999999},null,{"$f":"$D$119*C24","v":0},2106,{"$f":"SUM(B120:E120)","v":5407.2359999999999},null,null,"Newspaper",{"$f":"F120/$F$139","v":2.0008628015823968E-2}]
["Glass",{"$f":"SUM(C32:C35)*B119","v":8069.688000000001},null,{"$f":"$D$119*SUM(C32:C35)","v":0},676,8745.6880000000019,null,null,"Glass",3.2362045587515605E-2]
["Aluminum Cans",{"$f":"SUM(C38:C40)*B119","v":3484.6379999999999},null,{"$f":"$D$119*SUM(C38:C40)","v":0},191,3675.6379999999999,null,null,"Aluminum Cans",1.3601121434837906E-2]
["Plastic Bottles",{"$f":"SUM(C49:C51)*B119","v":7336.08},null,{"$f":"$D$119*SUM(C49:C51)","v":0},495,7831.08,null,null,"Plastic Botles",2.897768225432712E-2]
["Steel Cans",{"$f":"C36*B119","v":2567.6280000000002},null,{"$f":"$D$119*C36","v":0},141,2708.6280000000002,null,null,"Steel Cans",1.0022852726466025E-2]
["Corrugated Paper",{"$f":"SUM(C25:C26)*B119","v":16139.375999999998},null,{"$f":"$D$119*SUM(C25:C26)","v":0},11105,27244.375999999997,null,null,"Corrugated Paper",0.10081353669550248]
["Office Paper",{"$f":"C27*B119","v":2751.0299999999997},null,{"$f":"$D$119*C27","v":0},1781,4532.03,null,null,"Office Paper",1.677006559849703E-2]
["Yard Trash",{"$f":"SUM(C44:C45)*B119","v":11370.923999999999},null,{"$f":"$D$119*SUM(C44:C45)","v":0},null,11370.923999999999,null,null,"Yard Trash",4.2076319308460945E-2]
["Other Plastics",{"$f":"SUM(C52:C61)*B119","v":30994.937999999998},null,{"$f":"$D$119*SUM(C52:C61)","v":0},360,31354.937999999998,null,null,"Other Plastics",0.11602402612004054]
["Ferrous Metals",{"$f":"C37*B119","v":733.60800000000006},null,{"$f":"$D$119*C37","v":0},7402,8135.6080000000002,null,null,"Ferrous Metals",3.010454031497083E-2]
["White Goods",{"$f":"C48*B119","v":1467.2160000000001},null,{"$f":"$D$119*C48","v":0},1183,2650.2160000000003,null,null,"White Goods",9.8067082897038225E-3]
["NonFerous Metals",{"$f":"C40*B119","v":1467.2160000000001},null,{"$f":"$D$119*C41","v":0},1688,3155.2160000000003,null,null,"NonFerous Metals",1.1675381517206951E-2]
["Other Paper",{"$f":"SUM(C28:C31)*B119","v":18340.2},null,{"$f":"$D$119*SUM(C28:C31)","v":0},643,18983.2,null,null,"Other Paper",7.0244351707598768E-2]
["Textiles",{"$f":"SUM(C42:C43)*B119","v":12654.738000000001},null,{"$f":"$D$119*SUM(C42:C43)","v":0},323,12977.738000000001,null,null,"Textiles",4.8022082285445529E-2]
["C&D Debris",{"$f":"SUM(C62:C68)*B119","v":13755.15},{"$f":"C119","v":55113},{"$f":"$D$119*SUM(C62:C68)","v":0},null,68868.149999999994,null,null,"C&D Debris",0.25483577848053374]
["Food",{"$f":"C46*B119","v":21458.034},null,{"$f":"$D$119*C46","v":0},null,21458.034,null,null,"Food",7.940208643693436E-2]
["Miscellaneous",{"$f":"SUM(C69:C89)*B119","v":26776.692000000003},null,{"$f":"$D$119*SUM(C69:C89)","v":0},1268,28044.692000000003,null,null,"Miscellaneous",0.10377498042370527]
["Tires",{"$f":"C47*B119","v":2200.8240000000001},null,{"$f":"$D$119","v":0},901,3101.8240000000001,null,null,"Tires",1.1477812802429035E-2]
[null,"Total","total","total","total","totalMsw collected",null,null,null,"total"]
[null,{"$f":"SUM(B120:B137)","v":184869.21600000001},{"$f":"C134","v":55113},0,{"$f":"SUM(E120:E137)","v":30263},{"$f":"SUM(F120:F137)","v":270245.21600000001},null,null,null,{"$f":"SUM(J120:J137)","v":0.99999999999999989}]
[]
[5]
[]
["US EPA Data and Moisture Content"]
["Category","Moisture Content  (MC) ","US EPA DATA (lbs-dry/person)","US EPA DATA             (lbs-WET/person)    [US EPA DATA/(1-MC)"]
["Newspaper",0.27850000000000003,41.931464174454831,58.117067462861854]
["Glass",3.2000000000000001E-2,56.822429906542055,58.700857341469067]
["Aluminum Cans",0.129,8.4112149532710276,9.6569632069701807]
["Plastic Bottles",4.8000000000000001E-2,23.302180685358255,24.477080551846907]
["Steel Cans",5.8000000000000003E-2,10.841121495327103,11.508621544933231]
["Corrugated Paper",0.24049999999999999,195.20249221183801,257.01447295831201]
["Office Paper",0.13400000000000001,28.22429906542056,32.591569359608037]
["Yard Waste",0.50600000000000001,216.3239875389408,437.90280878328099]
["Other Plastics",0.11700000000000001,154.90485396035913,175.43018568557093]
["Non-ferrous Metal",5.3999999999999999E-2,46.762277712979795,49.431583206109721]
["White Goods","x",30.280373831775702,30.280373831775702]
["Ferrous Metal",0.16900000000000001,12.133426323463874,14.600994372399368]
["Other Paper",0.2545,158.56697819314641,212.69883057430772]
["Textiles",0.17,76.349308411214949,91.987118567728857]
["C&D Debris",8.8999999999999996E-2,"-","-"]
["Food Waste",0.59750000000000003,247.53894080996884,615.00357965209651]
["Miscellaneous",0.313,206.19904324930312,300.14416775735532]
["Tires","x",36.386292834890966,36.386292834890966]
[]
[]
[6]
[]
["Findig County Factor"]
["Category","tons-DRY/county-us data ","tons-WET/county-us data ","County Factor"]
["equation","US DATA * County Population/2000","tons-DRY/(1-MoistureContent)","ton-wet-composition/tons-wet-Usdata"]
["Newspaper",{"$f":"C145*$B$8/2000","v":3643.8232710280377},{"$f":"B170/(1-B145)","v":5050.344103988964},{"$f":"F120/C170","v":1.0706668473795971}]
["Glass",4937.8407476635512,5101.0751525449914,1.7144793476796096]
["Aluminum Cans",730.93037383177557,839.1852742041051,4.380007744399502]
["Plastic Bottles",2024.9478504672898,2127.0460614152203,3.6816692134958409]
["Steel Cans",942.08803738317761,1000.0934579439253,2.708374880852257]
["Corrugated Paper",16962.998971962617,22334.429192840838,1.2198375774355144]
["Office Paper",2452.6774766355138,2832.1910815652586,1.6001851109195981]
["Yard Waste",18798.446355140186,38053.535131862722,0.2988138673738876]
["Other Plastics",13461.154356728228,15244.79542098327,2.0567634483859569]
["Ferrous Metal",{"$f":"C156*$B$8/2000","v":1054.388680795849},{"$f":"B179/(1-B156)","v":1268.819110464319},{"$f":"B129/C179","v":0.57818170766007715}]
["White Goods",{"$f":"C155*$B$8/2000","v":2631.3493457943928},{"$f":"B180","v":2631.3493457943928},{"$f":"F130/C180","v":1.0071699541665806}]
["Non-ferrous Metal",{"$f":"C154*$B$8/2000","v":4063.6185521190878},{"$f":"B181/(1-B154)","v":4295.5798648193322},{"$f":"B131/C181","v":0.34156413014607279}]
["Other Paper",{"$f":"C157*$B$8/2000","v":13779.391121495328},{"$f":"B182/(1-B157)","v":18483.422027492055},{"$f":"F132/C182","v":1.0270392555969658}]
["Textiles",6634.7167262803732,{"$f":"B183/(1-B158)","v":7993.6346099763541},{"$f":"F133/C183","v":1.623509033525663}]
["C&D Debris",{"$error":"#VALUE!"},{"$f":"B184/(1-B159)","v":{"$error":"#VALUE!"}},{"$f":"#REF!/C184","v":{"$error":"#REF!"}}]
["Food Waste",21511.010186915886,{"$f":"B185/(1-B160)","v":53443.503569977358},{"$f":"F135/C185","v":0.40150874412459653}]
["Miscellaneous",17918.593758842813,{"$f":"B186/(1-B161)","v":26082.378106030294},{"$f":"F136/C186","v":1.0752352368327955}]
["Tires",3161.9506542056079,{"$f":"B187","v":3161.9506542056079},{"$f":"F137/C187","v":0.98098431608170888}]
[]
["Link to \"New WasteCalc County Factors\""]
["Newspaper","Glass","Aluminum Cans","Plastic Bottles","Steel Cans","Corrugated Paper","Office Paper","Yard Waste","Other Plastics","Ferrous Metals","White Goods","Non-Ferrous Metal","Other Paper","Textiles","C&D Debris","Food Waste","Misc","Tires"]
[{"$f":"D170","v":1.0706668473795971},{"$f":"D171","v":1.7144793476796096},{"$f":"D172","v":4.380007744399502},{"$f":"D173","v":3.6816692134958409},{"$f":"D174","v":2.708374880852257},{"$f":"D175","v":1.2198375774355144},{"$f":"D176","v":1.6001851109195981},{"$f":"D177","v":0.2988138673738876},{"$f":"D178","v":2.0567634483859569},{"$f":"D179","v":0.57818170766007715},{"$f":"D180","v":1.0071699541665806},{"$f":"D181","v":0.34156413014607279},{"$f":"D182","v":1.0270392555969658},{"$f":"D183","v":1.623509033525663},{"$error":"#REF!"},{"$f":"D185","v":0.40150874412459653},{"$f":"D186","v":1.0752352368327955},{"$f":"D187","v":0.98098431608170888}]
[]
[]
[7]
[]
["Check"]
["Material","Calculated ","Accepted (larger values of calculated vs recycled","Percent","Waste Comp Percent","Percentage Point Difference"]
["Newspaper",{"$f":"$B$8*D145*D170/2000","v":5407.2359999999999},{"$f":"B198","v":5407.2359999999999},{"$f":"C198/$C$217","v":2.0008628015823968E-2},{"$f":"J120","v":2.0008628015823968E-2},{"$f":"ABS(D198-E198)","v":0}]
["Glass",8745.6880000000019,8745.6880000000019,3.2362045587515605E-2,3.2362045587515605E-2,0]
["Aluminum Cans",3675.6380000000004,3675.6380000000004,1.3601121434837908E-2,1.3601121434837906E-2,1.7347234759768071E-18]
["Plastic Bottles",7831.08,7831.08,2.897768225432712E-2,2.897768225432712E-2,0]
["Steel Cans",2708.6280000000006,2708.6280000000006,1.0022852726466027E-2,1.0022852726466025E-2,1.7347234759768071E-18]
["Corrugated Paper",27244.375999999993,27244.375999999993,0.10081353669550247,0.10081353669550248,1.3877787807814457E-17]
["Office Paper",4532.03,4532.03,1.677006559849703E-2,1.677006559849703E-2,0]
["Yard Waste",11370.924000000003,11370.924000000003,4.2076319308460959E-2,4.2076319308460945E-2,1.3877787807814457E-17]
["Other Plastics",31354.937999999998,31354.937999999998,0.11602402612004054,0.11602402612004054,0]
["Ferrous Metal",{"$f":"(B8*D156*D179/2000)+E129","v":8135.6080000000002},8135.6080000000002,3.010454031497083E-2,3.010454031497083E-2,0]
["White Goods",{"$f":"B8*C155/2000","v":2631.3493457943928},2631.3493457943928,9.7368951974135688E-3,9.8067082897038225E-3,6.9813092290253731E-5]
["Non-ferrous Metal",{"$f":"(B8*D181*D154/2000)+E131","v":3155.2159999999999},3155.2159999999999,1.1675381517206949E-2,1.1675381517206951E-2,1.7347234759768071E-18]
["Other Paper",{"$f":"$B$8*D157*D182/2000","v":18983.2},18983.2,7.0244351707598768E-2,7.0244351707598768E-2,0]
["Textiles",{"$f":"$B$8*D158*D183/2000","v":12977.737999999999},12977.737999999999,4.8022082285445522E-2,4.8022082285445529E-2,6.9388939039072284E-18]
["C&D Debris",{"$f":"B10+(B9*0.075)+(B16*0.075)","v":68876.774999999994},68876.774999999994,0.25486769393912229,0.25483577848053374,3.1915458588549495E-5]
["Food Waste",{"$f":"$B$8*D160*D185/2000","v":21458.034},21458.034,7.940208643693436E-2,7.940208643693436E-2,0]
["Miscellaneous",{"$f":"F139-B217","v":27994.807000000001},27994.807000000001,0.10359038881191517,0.10377498042370527,1.8459161179010253E-4]
["Tires",{"$f":"B8*C162/2000","v":3161.9506542056079},3161.9506542056079,1.1700302047920833E-2,1.1477812802429035E-2,2.2248924549179809E-4]
[null,"sum (Minus misc)","TOTAL","TOTAL","TOTAL"]
[null,{"$f":"SUM(B198:B213,B215)","v":242250.40900000001},{"$f":"SUM(C198:C215)","v":270245.21600000001},{"$f":"SUM(D198:D215)","v":1},{"$f":"SUM(E198:E215)","v":0.99999999999999989}]

{"sheet":"38 Polk County Factor","index":37,"n_rows":144,"n_cols":19,"rows_kept":144,"cut":false,"hidden":true,"merged":[[2,1,2,2],[3,1,3,2],[18,1,18,2],[42,1,42,2],[64,1,64,2],[64,9,64,10],[90,1,90,2],[92,1,92,2],[114,1,114,2],[116,1,116,2]]}
[null,"Finding County Factors for Polk"]
[]
[null,1]
[null,"Information from annual solid waste report 2017"]
[null,"County","Polk"]
[null,"Waste comp study","NONE"]
[null,"Year",2017]
[null,"Population",661645]
[null,"Landfilled tons",811474]
[null,"C&D collected",279064]
[null,"C&D disposed",{"$f":"C10-C14","v":248873}]
[]
[null,"Recycled tons",288352]
[null,"Recycled C&D",30191]
[null,"combustor recy metals",0]
[null,"Combustor input",0]
[null,"Total Tons MSW collected",{"$f":"C9+(C16-C15)+C13","v":1099826}]
[]
[null,2]
[]
[null,"Average disposal LANDFILLED from Hernando, Indian River, and Alachua"]
[null,"Category","Hernando","Indian River","Alachua","Average ","Percent"]
[null,"Newspaper",{"$f":"'37 Hernando County Factor'!B120","v":3301.2359999999999},{"$f":"'41 Indian River County Factor'!C89","v":2352.0420000000004},{"$f":"'42 Alachua County Factor'!B131","v":1877.3400000000001},{"$f":"AVERAGE(Table1932026748012[[#This Row],[Hernando]:[Alachua]])","v":2510.2060000000001},{"$f":"Table1932026748012[[#This Row],[Average ]]/$F$41","v":1.5534300877811408E-2}]
[null,"Glass",{"$f":"'37 Hernando County Factor'!B121","v":8069.688000000001},{"$f":"'41 Indian River County Factor'!C90","v":5712.1020000000008},{"$f":"'42 Alachua County Factor'!B132","v":4130.1480000000001},{"$f":"AVERAGE(Table1932026748012[[#This Row],[Hernando]:[Alachua]])","v":5970.6460000000006},{"$f":"Table1932026748012[[#This Row],[Average ]]/$F$41","v":3.6949083620587783E-2}]
[null,"Aluminum Cans",{"$f":"'37 Hernando County Factor'!B122","v":3484.6379999999999},{"$f":"'41 Indian River County Factor'!C91","v":1008.0179999999999},{"$f":"'42 Alachua County Factor'!B133","v":750.93600000000004},{"$f":"AVERAGE(Table1932026748012[[#This Row],[Hernando]:[Alachua]])","v":1747.8639999999998},{"$f":"Table1932026748012[[#This Row],[Average ]]/$F$41","v":1.0816580499566551E-2}]
[null,"Plastic Bottles",{"$f":"'37 Hernando County Factor'!B123","v":7336.08},{"$f":"'41 Indian River County Factor'!C92","v":3360.06},{"$f":"'42 Alachua County Factor'!B134","v":2816.0099999999998},{"$f":"AVERAGE(Table1932026748012[[#This Row],[Hernando]:[Alachua]])","v":4504.05},{"$f":"Table1932026748012[[#This Row],[Average ]]/$F$41","v":2.7873117930841719E-2}]
[null,"Steel Cans",{"$f":"'37 Hernando County Factor'!B124","v":2567.6280000000002},{"$f":"'41 Indian River County Factor'!C93","v":2016.0359999999998},{"$f":"'42 Alachua County Factor'!B135","v":1314.1379999999999},{"$f":"AVERAGE(Table1932026748012[[#This Row],[Hernando]:[Alachua]])","v":1965.934},{"$f":"Table1932026748012[[#This Row],[Average ]]/$F$41","v":1.2166097229438257E-2}]
[null,"Corrugated Paper",{"$f":"'37 Hernando County Factor'!B125","v":16139.375999999998},{"$f":"'41 Indian River County Factor'!C94","v":8064.1439999999993},{"$f":"'42 Alachua County Factor'!B136","v":16708.326000000001},{"$f":"AVERAGE(Table1932026748012[[#This Row],[Hernando]:[Alachua]])","v":13637.281999999999},{"$f":"Table1932026748012[[#This Row],[Average ]]/$F$41","v":8.439372774328549E-2}]
[null,"Office Paper",{"$f":"'37 Hernando County Factor'!B126","v":2751.0299999999997},{"$f":"'41 Indian River County Factor'!C95","v":2464.0439999999999},{"$f":"'42 Alachua County Factor'!B137","v":3379.2119999999995},{"$f":"AVERAGE(Table1932026748012[[#This Row],[Hernando]:[Alachua]])","v":2864.7620000000002},{"$f":"Table1932026748012[[#This Row],[Average ]]/$F$41","v":1.7728455294633495E-2}]
[null,"Yard Trash",{"$f":"'37 Hernando County Factor'!B127","v":11370.923999999999},{"$f":"'41 Indian River County Factor'!C96","v":9184.1640000000007},{"$f":"'42 Alachua County Factor'!B138","v":2440.5419999999999},{"$f":"AVERAGE(Table1932026748012[[#This Row],[Hernando]:[Alachua]])","v":7665.21},{"$f":"Table1932026748012[[#This Row],[Average ]]/$F$41","v":4.7435819383591933E-2}]
[null,"Other Plastics",{"$f":"'37 Hernando County Factor'!B128","v":30994.937999999998},{"$f":"'41 Indian River County Factor'!C97","v":13440.24},{"$f":"'42 Alachua County Factor'!B139","v":24217.686000000002},{"$f":"AVERAGE(Table1932026748012[[#This Row],[Hernando]:[Alachua]])","v":22884.288},{"$f":"Table1932026748012[[#This Row],[Average ]]/$F$41","v":0.14161842301647318}]
[null,"Ferrous Metals",{"$f":"'37 Hernando County Factor'!B129","v":733.60800000000006},{"$f":"'41 Indian River County Factor'!C98","v":896.01599999999996},{"$f":"'42 Alachua County Factor'!B140","v":1126.404},{"$f":"AVERAGE(Table1932026748012[[#This Row],[Hernando]:[Alachua]])","v":918.67600000000004},{"$f":"Table1932026748012[[#This Row],[Average ]]/$F$41","v":5.6851865517110042E-3}]
[null,"White Goods",{"$f":"'37 Hernando County Factor'!B130","v":1467.2160000000001},{"$f":"'41 Indian River County Factor'!C99","v":672.01200000000006},{"$f":"'42 Alachua County Factor'!B141","v":0},{"$f":"AVERAGE(Table1932026748012[[#This Row],[Hernando]:[Alachua]])","v":713.07600000000002},{"$f":"Table1932026748012[[#This Row],[Average ]]/$F$41","v":4.4128398755903884E-3}]
[null,"NonFerous Metals",{"$f":"'37 Hernando County Factor'!B131","v":1467.2160000000001},{"$f":"'41 Indian River County Factor'!C100","v":672.01200000000006},{"$f":"'42 Alachua County Factor'!B142","v":994.99019999999996},{"$f":"AVERAGE(Table1932026748012[[#This Row],[Hernando]:[Alachua]])","v":1044.7394000000002},{"$f":"Table1932026748012[[#This Row],[Average ]]/$F$41","v":6.465324430944777E-3}]
[null,"Other Paper",{"$f":"'37 Hernando County Factor'!B132","v":18340.2},{"$f":"'41 Indian River County Factor'!C101","v":19376.345999999998},{"$f":"'42 Alachua County Factor'!B143","v":31914.78},{"$f":"AVERAGE(Table1932026748012[[#This Row],[Hernando]:[Alachua]])","v":23210.441999999999},{"$f":"Table1932026748012[[#This Row],[Average ]]/$F$41","v":0.143636812889058}]
[null,"Textiles",{"$f":"'37 Hernando County Factor'!B133","v":12654.738000000001},{"$f":"'41 Indian River County Factor'!C102","v":5488.098},{"$f":"'42 Alachua County Factor'!B144","v":7321.6260000000011},{"$f":"AVERAGE(Table1932026748012[[#This Row],[Hernando]:[Alachua]])","v":8488.1540000000005},{"$f":"Table1932026748012[[#This Row],[Average ]]/$F$41","v":5.2528572608462575E-2}]
[null,"C&D Debris",{"$f":"'37 Hernando County Factor'!B134","v":13755.15},{"$f":"'41 Indian River County Factor'!C103","v":7280.13},{"$f":"'42 Alachua County Factor'!B145","v":9386.7000000000007},{"$f":"AVERAGE(Table1932026748012[[#This Row],[Hernando]:[Alachua]])","v":10140.66},{"$f":"Table1932026748012[[#This Row],[Average ]]/$F$41","v":6.2755034263955636E-2}]
[null,"Food",{"$f":"'37 Hernando County Factor'!B135","v":21458.034},{"$f":"'41 Indian River County Factor'!C104","v":15232.272000000001},{"$f":"'42 Alachua County Factor'!B146","v":26845.962},{"$f":"AVERAGE(Table1932026748012[[#This Row],[Hernando]:[Alachua]])","v":21178.755999999998},{"$f":"Table1932026748012[[#This Row],[Average ]]/$F$41","v":0.13106381226152497}]
[null,"Miscellaneous",{"$f":"'37 Hernando County Factor'!B136","v":26776.692000000003},{"$f":"'41 Indian River County Factor'!C105","v":14560.26},{"$f":"'42 Alachua County Factor'!B147","v":52565.520000000004},{"$f":"AVERAGE(Table1932026748012[[#This Row],[Hernando]:[Alachua]])","v":31300.824000000004},{"$f":"Table1932026748012[[#This Row],[Average ]]/$F$41","v":0.19370379074044936}]
[null,"Tires",{"$f":"'37 Hernando County Factor'!B137","v":2200.8240000000001},{"$f":"'41 Indian River County Factor'!C106","v":336.00600000000003},{"$f":"'42 Alachua County Factor'!B148","v":0},{"$f":"AVERAGE(Table1932026748012[[#This Row],[Hernando]:[Alachua]])","v":845.61},{"$f":"Table1932026748012[[#This Row],[Average ]]/$F$41","v":5.2330207820737041E-3}]
[null,"total:",{"$f":"SUM(Table1932026748012[Hernando])","v":184869.21600000001},{"$f":"SUM(Table1932026748012[Indian River])","v":112114.00199999999},{"$f":"SUM(Table1932026748012[Alachua])","v":187790.32020000002},{"$f":"SUM(Table1932026748012[[Average ]])","v":161591.17939999996},{"$f":"SUM(Table1932026748012[Percent])","v":1.0000000000000002}]
[]
[null,"Recycled tons from Polk County "]
[null,"Materials","Tons"]
[null,"Newspaper",5517]
[null,"Glass",3438]
[null,"Aluminum Cans",1236]
[null,"Plastic Bottles",1639]
[null,"Steel Cans",813]
[null,"Corrugated Paper",43993]
[null,"Office Paper",5719]
[null,"Yard Trash"]
[null,"Other Plastics",52868]
[null,"Ferrous Metals",115221]
[null,"White Goods",12]
[null,"NonFerous Metals",11153]
[null,"Other Paper",7659]
[null,"Textiles",220]
[null,"C&D Debris",30191]
[null,"Food",1655]
[null,"Miscellaneous",3184]
[null,"Tires",3834]
[null,"Total",{"$f":"SUM(C45:C62)","v":288352}]
[]
[null,3,null,null,null,null,null,null,null,4]
[]
[null,"Calculating waste compositon percentage utalizing waste compsition study"]
[".","FDEP Category","Landfilled tons\n(Plus combusor ash, minus C&D  disposed)","Collected C&D \n(disposal C&D LANDFILL + recycled)","Combusted\n(minus recycled metals, minus ash)","Recycled Materials\n(Minus recycled C&D)","Total Collected Tons"]
[null,null,{"$f":"C9-C11","v":562601},{"$f":"C11+C14","v":279064},{"$f":"C16-C15","v":0},{"$f":"C63","v":288352},null,null,null,"FDEP Category","Percentage"]
[null,"Newspaper",{"$f":"$C$69*G23","v":8739.6132081575761},null,{"$f":"$E$69*G23","v":0},{"$f":"C45","v":5517},{"$f":"SUM(C70:F70)","v":14256.613208157576},null,null,"Newspaper",{"$f":"G70/$G$89","v":1.2962607910849149E-2}]
[null,"Glass",20787.591394026309,null,0,3438,{"$f":"SUM(C71:F71)","v":24225.591394026309},null,null,"Glass",2.2026749134887072E-2]
[null,"Aluminum Cans",6085.4190056366406,null,0,1236,7321.4190056366406,null,null,"Aluminum Cans",6.6568884583894546E-3]
[null,"Plastic Bottles",15681.444021009482,null,0,1639,17320.444021009484,null,null,"Plastic Botles",1.5748349303443893E-2]
[null,"Steel Cans",6844.6584673791931,null,0,813,7657.6584673791931,null,null,"Steel Cans",6.9626090557771804E-3]
[null,"Corrugated Paper",47479.995622100163,null,0,43993,91472.995622100163,null,null,"Corrugated Paper",8.3170424796377027E-2]
[null,"Office Paper",9974.0466772160999,null,0,5719,15693.0466772161,null,null,"Office Paper",1.4268663113270736E-2]
[null,"Yard Trash",26687.439421028204,null,0,0,26687.439421028204,null,null,"Yard Trash",2.426514686962138E-2]
[null,"Other Plastics",79674.666407490833,null,0,52868,132542.66640749085,null,null,"Other Plastics",0.12051239596762656]
[null,"Ferrous Metals",3198.4916391791626,null,0,115221,118419.49163917916,null,null,"Ferrous Metals",0.10767111492106857]
[null,"White Goods",2482.6681268470279,null,0,12,2494.6681268470279,null,null,"White Goods",2.2682389094702505E-3]
[null,"NonFerous Metals",3637.3979901739626,null,0,11153,14790.397990173962,null,null,"NonFerous Metals",1.3447943574869082E-2]
[null,"Other Paper",80810.214568196912,null,0,7659,88469.214568196912,null,null,"Other Paper",8.043928273035636E-2]
[null,"Textiles",29552.627478093655,null,0,220,29772.627478093655,null,null,"Textiles",2.7070307010466796E-2]
[null,"C&D Debris",35306.045031935704,{"$f":"C10","v":279064},0,0,314370.04503193568,null,null,"C&D Debris",0.28583616411317397]
[null,"Food",73736.631842146206,null,0,{"$f":"C60","v":1655},75391.631842146206,null,null,"Food",6.8548690285687192E-2]
[null,"Miscellaneous",108977.94637436754,null,0,{"$f":"C61","v":3184},112161.94637436754,null,null,"Miscellaneous",0.10198153741988963]
[null,"Tires",2944.102725015448,null,0,{"$f":"C62","v":3834},{"$f":"SUM(C87:F87)","v":6778.1027250154475},null,null,"Tires",6.1628864247757808E-3]
[null,null,"Total","Total","Total","Total","Total",null,null,null,"total"]
[null,null,{"$f":"SUM(C70:C87)","v":562601.00000000012},{"$f":"D84","v":279064},{"$f":"SUM(E70:E87)","v":0},{"$f":"SUM(F70:F87)","v":258161},{"$f":"SUM(C89:F89)","v":1099826},null,null,null,{"$f":"SUM(K70:K87)","v":1.0000000000000002}]
[]
[null,5]
[]
[null,"US EPA Data and Moisture Content"]
[null,"Category","Moisture Content  (MC) ","US EPA DATA (lbs-dry/person)","US EPA DATA             (lbs-WET/person)    [US EPA DATA/(1-MC)"]
[null,"Newspaper",0.27850000000000003,41.931464174454831,58.117067462861854]
[null,"Glass",3.2000000000000001E-2,56.822429906542055,58.700857341469067]
[null,"Aluminum Cans",0.129,8.4112149532710276,9.6569632069701807]
[null,"Plastic Bottles",4.8000000000000001E-2,23.302180685358255,24.477080551846907]
[null,"Steel Cans",5.8000000000000003E-2,10.841121495327103,11.508621544933231]
[null,"Corrugated Paper",0.24049999999999999,195.20249221183801,257.01447295831201]
[null,"Office Paper",0.13400000000000001,28.22429906542056,32.591569359608037]
[null,"Yard Waste",0.50600000000000001,216.3239875389408,437.90280878328099]
[null,"Other Plastics",0.11700000000000001,154.90485396035913,175.43018568557093]
[null,"Non-ferrous Metal",5.3999999999999999E-2,46.762277712979795,49.431583206109721]
[null,"White Goods","x",30.280373831775702,30.280373831775702]
[null,"Ferrous Metal",0.16900000000000001,12.133426323463874,14.600994372399368]
[null,"Other Paper",0.2545,158.56697819314641,212.69883057430772]
[null,"Textiles",0.17,76.349308411214949,91.987118567728857]
[null,"C&D Debris",8.8999999999999996E-2,"-","-"]
[null,"Food Waste",0.59750000000000003,247.53894080996884,615.00357965209651]
[null,"Miscellaneous",0.313,206.19904324930312,300.14416775735532]
[null,"Tires","x",36.386292834890966,36.386292834890966]
[]
[]
[null,6]
[]
[null,"Finding County Factor"]
[null,"Category","tons-DRY/county-us data ","tons-WET/county-us data ","County Factor","Category    "]
[null,"equation","US DATA * County Population/2000","tons-DRY/(1-MoistureContent)","ton-wet-composition/tons-wet-Usdata"]
[null,"Newspaper ",{"$f":"D95*$C$8/2000","v":13871.871806853584},{"$f":"C120/(1-C95)","v":19226.433550732618},{"$f":"G70/D120","v":0.7415110644695897},"Newspaper "]
[null,"Glass ",18798.13831775701,19419.56437784815,1.2474837706277482,"Glass "]
[null,"Aluminum Cans ",2782.6191588785045,3194.7407105378929,2.2917099285982259,"Aluminum Cans "]
[null,"Plastic Bottles ",7708.8856697819319,8097.5689808633742,2.1389683819850278,"Plastic Bottles "]
[null,"Steel Cans ",3586.486915887851,3807.3109510486743,2.0113036644064994,"Steel Cans "]
[null,"Corrugated Paper",64577.376479750783,85026.170480251181,1.0758216570902293,"Corrugated Paper"]
[null,"Office Paper ",9337.2331775700932,10782.02445446893,1.4554823858437504,"Office Paper "]
[null,"Yard Waste ",71564.842367601246,144868.10195870697,0.18421887952004204,"Yard Waste "]
[null,"Other Plastics ",51246.011049300912,58036.252603964793,2.2837909144815476,"Other Plastics "]
[null,"Ferrous Metal ",{"$f":"D106*$C$8/2000","v":4014.0104298941274},{"$f":"C129/(1-C106)","v":4830.3374607630894},{"$f":"C79/D129","v":0.66216732581534166},"Ferrous Metal "]
[null,"White Goods ",{"$f":"D105*$C$8/2000","v":10017.428971962618},{"$f":"Table71419253179859197[[#This Row],[tons-DRY/county-us data ]]","v":10017.428971962618},{"$f":"G80/Table71419253179859197[[#This Row],[tons-WET/county-us data ]]","v":0.24903277416084058},"White Goods "]
[null,"Non-ferrous Metal ",{"$f":"D104*$C$8/2000","v":15470.013618702258},{"$f":"C131/(1-C104)","v":16353.079935203234},{"$f":"C81/D131","v":0.2224289249845679},"Non-ferrous Metal "]
[null,"Other Paper ",{"$f":"D107*$C$8/2000","v":52457.52414330218},{"$f":"C132/(1-C107)","v":70365.558877668911},{"$f":"G82/D132","v":1.2572800668293043},"Other Paper "]
[null,"Textiles ",25258.069081869158,{"$f":"C133/(1-C108)","v":30431.408532372483},{"$f":"G83/D133","v":0.97835193682941013},"Textiles "]
[null,"C&D Debris",{"$error":"#VALUE!"},{"$f":"C134/(1-C109)","v":{"$error":"#VALUE!"}},{"$f":"#REF!/D134","v":{"$error":"#REF!"}},"C&D Debris"]
[null,"Food Waste",81891.451246105906,{"$f":"C135/(1-C110)","v":203457.02172945568},{"$f":"G85/D135","v":0.37055310847121925},"Food Waste"]
[null,"Miscellaneous ",68215.282985342579,{"$f":"C136/(1-C111)","v":99294.443937907679},{"$f":"G86/D136","v":1.1295893498784924},"Miscellaneous "]
[null,"Tires ",12037.404361370716,{"$f":"Table71419253179859197[[#This Row],[tons-DRY/county-us data ]]","v":12037.404361370716},{"$f":"G87/Table71419253179859197[[#This Row],[tons-WET/county-us data ]]","v":0.56308673543999943},"Tires "]
[]
[]
[]
[]
[null,"Link to \"New WasteCalc County Factors\""]
[null,"Newspaper","Glass","Aluminum Cans","Plastic Bottles","Steel Cans","Corrugated Paper","Office Paper","Yard Waste","Other Plastics","Ferrous Metals","White Goods","Non-Ferrous Metal","Other Paper","Textiles","C&D Debris","Food Waste","Misc","Tires"]
[null,{"$f":"E120","v":0.7415110644695897},{"$f":"E121","v":1.2474837706277482},{"$f":"E122","v":2.2917099285982259},{"$f":"E123","v":2.1389683819850278},{"$f":"E124","v":2.0113036644064994},{"$f":"E125","v":1.0758216570902293},{"$f":"E126","v":1.4554823858437504},{"$f":"E127","v":0.18421887952004204},{"$f":"E128","v":2.2837909144815476},{"$f":"E129","v":0.66216732581534166},{"$f":"E130","v":0.24903277416084058},{"$f":"E131","v":0.2224289249845679},{"$f":"E132","v":1.2572800668293043},{"$f":"E133","v":0.97835193682941013},{"$error":"#REF!"},{"$f":"E135","v":0.37055310847121925},{"$f":"E136","v":1.1295893498784924},{"$f":"E137","v":0.56308673543999943}]

{"sheet":"39 Lake County Factor","index":38,"n_rows":145,"n_cols":19,"rows_kept":145,"cut":false,"hidden":true,"merged":[[2,1,2,2],[3,1,3,2],[19,1,19,2],[43,1,43,2],[67,1,67,2],[67,9,67,10],[93,1,93,2],[95,1,95,2],[116,1,116,2],[118,1,118,2]]}
[null,"Finding County Factors for Lake"]
[]
[null,1]
[null,"Information from annual solid waste report 2017"]
[null,"County","Lake"]
[null,"Waste comp study","NONE"]
[null,"Year",2017]
[null,"Population",331724]
[null,"Landfilled tons",348914]
[null,"C&D collected",201191]
[null,"C&D disposed",{"$f":"C10-C14","v":195595}]
[]
[null,"Recycled tons",52744]
[null,"Recycled C&D",5596]
[null,"WTE metals",0]
[null,"WTE input",34481]
[null,"WTE ash",0]
[null,"Total Tons MSW collected",{"$f":"C9+(C16-C15)+C13","v":436139}]
[]
[null,2]
[]
[null,"Average disposal LANDFILLED from Hernando, Indian River, and Alachua"]
[null,"Materials","Hernando","Indian River","Alachua","Average ","Percent"]
[null,"Newspaper",{"$f":"'37 Hernando County Factor'!B120","v":3301.2359999999999},{"$f":"'41 Indian River County Factor'!C89","v":2352.0420000000004},{"$f":"'42 Alachua County Factor'!B131","v":1877.3400000000001},{"$f":"AVERAGE(C24:E24)","v":2510.2060000000001},{"$f":"F24/$F$42","v":1.5534300877811408E-2}]
[null,"Glass",{"$f":"'37 Hernando County Factor'!B121","v":8069.688000000001},{"$f":"'41 Indian River County Factor'!C90","v":5712.1020000000008},{"$f":"'42 Alachua County Factor'!B132","v":4130.1480000000001},{"$f":"AVERAGE(C25:E25)","v":5970.6460000000006},{"$f":"F25/$F$42","v":3.6949083620587783E-2}]
[null,"Aluminum Cans",{"$f":"'37 Hernando County Factor'!B122","v":3484.6379999999999},{"$f":"'41 Indian River County Factor'!C91","v":1008.0179999999999},{"$f":"'42 Alachua County Factor'!B133","v":750.93600000000004},1747.8639999999998,1.0816580499566551E-2]
[null,"Plastic Bottles",{"$f":"'37 Hernando County Factor'!B123","v":7336.08},{"$f":"'41 Indian River County Factor'!C92","v":3360.06},{"$f":"'42 Alachua County Factor'!B134","v":2816.0099999999998},4504.05,2.7873117930841719E-2]
[null,"Steel Cans",{"$f":"'37 Hernando County Factor'!B124","v":2567.6280000000002},{"$f":"'41 Indian River County Factor'!C93","v":2016.0359999999998},{"$f":"'42 Alachua County Factor'!B135","v":1314.1379999999999},1965.934,1.2166097229438257E-2]
[null,"Corrugated Paper",{"$f":"'37 Hernando County Factor'!B125","v":16139.375999999998},{"$f":"'41 Indian River County Factor'!C94","v":8064.1439999999993},{"$f":"'42 Alachua County Factor'!B136","v":16708.326000000001},13637.281999999999,8.439372774328549E-2]
[null,"Office Paper",{"$f":"'37 Hernando County Factor'!B126","v":2751.0299999999997},{"$f":"'41 Indian River County Factor'!C95","v":2464.0439999999999},{"$f":"'42 Alachua County Factor'!B137","v":3379.2119999999995},2864.7620000000002,1.7728455294633495E-2]
[null,"Yard Trash",{"$f":"'37 Hernando County Factor'!B127","v":11370.923999999999},{"$f":"'41 Indian River County Factor'!C96","v":9184.1640000000007},{"$f":"'42 Alachua County Factor'!B138","v":2440.5419999999999},7665.21,4.7435819383591933E-2]
[null,"Other Plastics",{"$f":"'37 Hernando County Factor'!B128","v":30994.937999999998},{"$f":"'41 Indian River County Factor'!C97","v":13440.24},{"$f":"'42 Alachua County Factor'!B139","v":24217.686000000002},22884.288,0.14161842301647318]
[null,"Ferrous Metals",{"$f":"'37 Hernando County Factor'!B129","v":733.60800000000006},{"$f":"'41 Indian River County Factor'!C98","v":896.01599999999996},{"$f":"'42 Alachua County Factor'!B140","v":1126.404},918.67600000000004,5.6851865517110042E-3]
[null,"White Goods",{"$f":"'37 Hernando County Factor'!B130","v":1467.2160000000001},{"$f":"'41 Indian River County Factor'!C99","v":672.01200000000006},{"$f":"'42 Alachua County Factor'!B141","v":0},713.07600000000002,4.4128398755903884E-3]
[null,"NonFerous Metals",{"$f":"'37 Hernando County Factor'!B131","v":1467.2160000000001},{"$f":"'41 Indian River County Factor'!C100","v":672.01200000000006},{"$f":"'42 Alachua County Factor'!B142","v":994.99019999999996},1044.7394000000002,6.465324430944777E-3]
[null,"Other Paper",{"$f":"'37 Hernando County Factor'!B132","v":18340.2},{"$f":"'41 Indian River County Factor'!C101","v":19376.345999999998},{"$f":"'42 Alachua County Factor'!B143","v":31914.78},23210.441999999999,0.143636812889058]
[null,"Textiles",{"$f":"'37 Hernando County Factor'!B133","v":12654.738000000001},{"$f":"'41 Indian River County Factor'!C102","v":5488.098},{"$f":"'42 Alachua County Factor'!B144","v":7321.6260000000011},8488.1540000000005,5.2528572608462575E-2]
[null,"C&D Debris",{"$f":"'37 Hernando County Factor'!B134","v":13755.15},{"$f":"'41 Indian River County Factor'!C103","v":7280.13},{"$f":"'42 Alachua County Factor'!B145","v":9386.7000000000007},10140.66,6.2755034263955636E-2]
[null,"Food",{"$f":"'37 Hernando County Factor'!B135","v":21458.034},{"$f":"'41 Indian River County Factor'!C104","v":15232.272000000001},{"$f":"'42 Alachua County Factor'!B146","v":26845.962},21178.755999999998,0.13106381226152497]
[null,"Miscellaneous",{"$f":"'37 Hernando County Factor'!B136","v":26776.692000000003},{"$f":"'41 Indian River County Factor'!C105","v":14560.26},{"$f":"'42 Alachua County Factor'!B147","v":52565.520000000004},31300.824000000004,0.19370379074044936]
[null,"Tires",{"$f":"'37 Hernando County Factor'!B137","v":2200.8240000000001},{"$f":"'41 Indian River County Factor'!C106","v":336.00600000000003},{"$f":"'42 Alachua County Factor'!B148","v":0},845.61,5.2330207820737041E-3]
[null,"total:",{"$f":"SUM(C24:C41)","v":184869.21600000001},{"$f":"SUM(D24:D41)","v":112114.00199999999},{"$f":"SUM(E24:E41)","v":187790.32020000002},{"$f":"SUM(F24:F41)","v":161591.17939999996},{"$f":"SUM(G24:G41)","v":1.0000000000000002}]
[]
[null,"Recycled tons from Lake"]
[null,"Materials","Tons"]
[null,"Newspaper",2177]
[null,"Glass",1911]
[null,"Aluminum Cans",402]
[null,"Plastic Bottles",635]
[null,"Steel Cans",245]
[null,"Corrugated Paper",8337]
[null,"Office Paper",562]
[null,"Yard Trash",6545]
[null,"Other Plastics",522]
[null,"Ferrous Metals",16095]
[null,"White Goods"]
[null,"NonFerous Metals",2374]
[null,"Other Paper",6286]
[null,"Textiles",962]
[null,"C&D Debris",5596]
[null,"Food"]
[null,"Miscellaneous",83]
[null,"Tires",12]
[null,"Total",{"$f":"SUM(C46:C63)","v":52744}]
[]
[]
[]
[null,3,null,null,null,null,null,null,null,4]
[]
[null,"Calculating waste compositon percentage utalizing waste compsition study"]
[".","FDEP Category","Landfilled tons\n(Plus combusor ash, minus C&D  disposed)","Collected C&D \n(disposal C&D LANDFILL + recycled)","Combusted\n(minus recycled metals, minus ash)","Recycled Materials\n(Minus recycled C&D)","Total Collected Tons"]
[null,null,{"$f":"C9-C11+C17","v":153319},{"$f":"C11+C14","v":201191},{"$f":"C16-C15+C17","v":34481},{"$f":"C64","v":52744},null,null,null,"FDEP Category","Percentage"]
[null,"Newspaper",{"$f":"$C$72*G24","v":2381.7034762851672},null,{"$f":"$E$72*G24","v":535.63822856781519},{"$f":"C46","v":2177},{"$f":"SUM(C73:F73)","v":5094.3417048529827},null,null,"Newspaper",{"$f":"G73/$G$92","v":1.1680546121426844E-2}]
[null,"Glass",5664.9965516248985,null,1274.0413523214872,1911,{"$f":"SUM(C74:F74)","v":8850.037903946386},null,null,"Glass",2.0291782903951231E-2]
[null,"Aluminum Cans",1658.387305613044,null,372.96651220555424,402,2433.3538178185981,null,null,"Aluminum Cans",5.5793080137722106E-3]
[null,"Plastic Bottles",4273.4785680387213,null,961.09297937335327,635,5869.5715474120743,null,null,"Plastic Botles",1.3458029544278485E-2]
[null,"Steel Cans",1865.2938611202442,null,419.49919856826057,245,2529.7930596885049,null,null,"Steel Cans",5.8004284406771803E-3]
[null,"Corrugated Paper",12939.161943872788,null,2909.9801263162271,8337,24186.142070189017,null,null,"Corrugated Paper",5.545512341292344E-2]
[null,"Office Paper",2718.1090373179127,null,611.29486701425753,562,3891.40390433217,null,null,"Office Paper",8.9223937880633705E-3]
[null,"Yard Trash",7272.8123920729313,null,1635.6344881656335,6545,15453.446880238565,null,null,"Yard Trash",3.5432389399339584E-2]
[null,"Other Plastics",21712.79499846265,null,4883.1448440310114,522,27117.939842493663,null,null,"Other Plastics",6.2177287154997977E-2]
[null,"Ferrous Metals",871.64711692177946,null,196.03091748954714,16095,17162.678034411325,null,null,"Ferrous Metals",3.9351394932375515E-2]
[null,"White Goods",676.57219688564271,null,152.15913175023218,0,828.73132863587489,null,null,"White Goods",1.9001541449764293E-3]
[null,"NonFerous Metals",991.25707642802229,null,222.93085170340686,2374,3588.1879281314291,null,null,"NonFerous Metals",8.2271659451033478E-3]
[null,"Other Paper",22022.252515337485,null,4952.7409452276088,6286,33260.993460565092,null,null,"Other Paper",7.626236924596308E-2]
[null,"Textiles",8053.628223756873,null,1811.237712112398,962,10826.865935869271,null,null,"Textiles",2.4824347136736844E-2]
[null,"C&D Debris",9621.5390983154139,{"$f":"C10","v":201191},2163.8563364554543,0,212976.39543477085,null,null,"C&D Debris",0.48832229045045467]
[null,"Food",20094.572632124746,null,4519.2113105896424,{"$f":"C61","v":0},24613.783942714388,null,null,"Food",5.6435640799640453E-2]
[null,"Miscellaneous",29698.471492534954,null,6679.1004085214345,{"$f":"C62","v":83},36460.571901056392,null,null,"Miscellaneous",8.3598513091139276E-2]
[null,"Tires",802.3215132867582,null,180.43978958668339,{"$f":"C63","v":12},994.76130287344154,null,null,"Tires",2.2808354741801159E-3]
[null,null,"Total","Total","Total","Total","Total",null,null,null,"total"]
[null,null,{"$f":"SUM(C73:C90)","v":153319.00000000003},{"$f":"D87","v":201191},{"$f":"SUM(E73:E90)","v":34481.000000000007},{"$f":"SUM(F73:F90)","v":47148},{"$f":"SUM(C92:F92)","v":436139},null,null,null,{"$f":"SUM(K73:K90)","v":1}]
[]
[null,5]
[]
[null,"US EPA Data and Moisture Content"]
[null,"Category","Moisture Content  (MC) ","US EPA DATA (lbs-dry/person)","US EPA DATA             (lbs-WET/person)    [US EPA DATA/(1-MC)"]
[null,"Newspaper",0.27850000000000003,41.931464174454831,58.117067462861854]
[null,"Glass",3.2000000000000001E-2,56.822429906542055,58.700857341469067]
[null,"Aluminum Cans",0.129,8.4112149532710276,9.6569632069701807]
[null,"Plastic Bottles",4.8000000000000001E-2,23.302180685358255,24.477080551846907]
[null,"Steel Cans",5.8000000000000003E-2,10.841121495327103,11.508621544933231]
[null,"Corrugated Paper",0.24049999999999999,195.20249221183801,257.01447295831201]
[null,"Office Paper",0.13400000000000001,28.22429906542056,32.591569359608037]
[null,"Yard Waste",0.50600000000000001,216.3239875389408,437.90280878328099]
[null,"Other Plastics",0.11700000000000001,154.90485396035913,175.43018568557093]
[null,"Non-ferrous Metal",5.3999999999999999E-2,46.762277712979795,49.431583206109721]
[null,"White Goods","x",30.280373831775702,30.280373831775702]
[null,"Ferrous Metal",0.16900000000000001,12.133426323463874,14.600994372399368]
[null,"Other Paper",0.2545,158.56697819314641,212.69883057430772]
[null,"Textiles",0.17,76.349308411214949,91.987118567728857]
[null,"C&D Debris",8.8999999999999996E-2,"-","-"]
[null,"Food Waste",0.59750000000000003,247.53894080996884,615.00357965209651]
[null,"Miscellaneous",0.313,206.19904324930312,300.14416775735532]
[null,"Tires","x",36.386292834890966,36.386292834890966]
[]
[null,6]
[]
[null,"Finding County Factor"]
[null,"Category","tons-DRY/county-us data ","tons-WET/county-us data ","County Factor","Category     "]
[null,"equation","US DATA * County Population/2000","tons-DRY/(1-MoistureContent)","ton-wet-composition/tons-wet-Usdata"]
[null,"Newspaper ",{"$f":"D98*$C$8/2000","v":6954.8365109034276},{"$f":"C122/(1-C98)","v":9639.4130435251936},{"$f":"G73/D122","v":0.5284908616168138},"Newspaper "]
[null,"Glass ",9424.6818691588796,9736.241600370744,0.90897887164276892,"Glass "]
[null,"Aluminum Cans ",1395.1009345794391,1601.7232314344881,1.5192099172085489,"Aluminum Cans "]
[null,"Plastic Bottles ",3864.9462928348912,4059.8175344904321,1.4457722539367261,"Plastic Bottles "]
[null,"Steel Cans ",1798.130093457944,1908.8429866857157,1.3253018070810172,"Steel Cans "]
[null,"Corrugated Paper",32376.675763239877,42628.934513811553,0.56736445200976893,"Corrugated Paper"]
[null,"Office Paper ",4681.338691588785,5405.7028771233081,0.71987010621697622,"Office Paper "]
[null,"Yard Waste ",35879.929221183796,72631.435670412538,0.21276526806331256,"Yard Waste "]
[null,"Other Plastics ",25692.828887573087,29097.201458180167,0.93197759521543022,"Other Plastics "]
[null,"Ferrous Metal ",{"$f":"D109*$C$8/2000","v":2012.4743568623651},{"$f":"C131/(1-C109)","v":2421.7501285949038},{"$f":"C82/D131","v":0.35992446397742445},"Ferrous Metal "]
[null,"White Goods ",{"$f":"D108*$C$8/2000","v":5022.3633644859819},{"$f":"Table71419253179859197103[[#This Row],[tons-DRY/county-us data ]]","v":5022.3633644859819},{"$f":"G83/Table71419253179859197103[[#This Row],[tons-WET/county-us data ]]","v":0.16500823785391164},"White Goods "]
[null,"Non-ferrous Metal ",{"$f":"D107*$C$8/2000","v":7756.0849060302544},{"$f":"C133/(1-C107)","v":8198.8212537317704},{"$f":"C84/D133","v":0.12090238898388501},"Non-ferrous Metal "]
[null,"Other Paper ",{"$f":"D110*$C$8/2000","v":26300.23613707165},{"$f":"C134/(1-C110)","v":35278.653436715824},{"$f":"G85/D134","v":0.94280790847728679},"Other Paper "]
[null,"Textiles ",12663.448991700934,{"$f":"C135/(1-C111)","v":15257.167459880644},{"$f":"G86/D135","v":0.70962490018799129},"Textiles "]
[null,"C&D Debris",{"$error":"#VALUE!"},{"$f":"C136/(1-C112)","v":{"$error":"#VALUE!"}},{"$f":"#REF!/D136","v":{"$error":"#REF!"}},"C&D Debris"]
[null,"Food Waste",41057.303800623049,{"$f":"C137/(1-C113)","v":102005.72372825602},{"$f":"G88/D137","v":0.2412980668446183},"Food Waste"]
[null,"Miscellaneous ",34200.585711415915,{"$f":"C138/(1-C114)","v":49782.511952570472},{"$f":"G89/D138","v":0.73239719072017995},"Miscellaneous "]
[null,"Tires ",6035.1033021806852,{"$f":"Table71419253179859197103[[#This Row],[tons-DRY/county-us data ]]","v":6035.1033021806852},{"$f":"G90/Table71419253179859197103[[#This Row],[tons-WET/county-us data ]]","v":0.16482920889092337},"Tires "]
[]
[]
[]
[null,"Link to \"New WasteCalc County Factors\""]
[null,"Newspaper","Glass","Aluminum Cans","Plastic Bottles","Steel Cans","Corrugated Paper","Office Paper","Yard Waste","Other Plastics","Ferrous Metals","White Goods","Non-Ferrous Metal","Other Paper","Textiles","C&D Debris","Food Waste","Misc","Tires"]
[null,{"$f":"E122","v":0.5284908616168138},{"$f":"E123","v":0.90897887164276892},{"$f":"E124","v":1.5192099172085489},{"$f":"E125","v":1.4457722539367261},{"$f":"E126","v":1.3253018070810172},{"$f":"E127","v":0.56736445200976893},{"$f":"E128","v":0.71987010621697622},{"$f":"E129","v":0.21276526806331256},{"$f":"E130","v":0.93197759521543022},{"$f":"E131","v":0.35992446397742445},{"$f":"E132","v":0.16500823785391164},{"$f":"E133","v":0.12090238898388501},{"$f":"E134","v":0.94280790847728679},{"$f":"E135","v":0.70962490018799129},{"$error":"#REF!"},{"$f":"E137","v":0.2412980668446183},{"$f":"E138","v":0.73239719072017995},{"$f":"E139","v":0.16482920889092337}]

{"sheet":"40 Clay County Factor","index":39,"n_rows":146,"n_cols":19,"rows_kept":146,"cut":false,"hidden":true,"merged":[[66,9,66,10],[92,1,92,2],[94,1,94,2],[116,1,116,2],[118,1,118,2],[2,1,2,2],[3,1,3,2],[18,1,18,2],[42,1,42,2],[66,1,66,2]]}
[null,"Finding County Factors for Clay"]
[]
[null,1]
[null,"Information from annual solid waste report 2017"]
[null,"County","Clay"]
[null,"Waste comp study","NONE"]
[null,"Year",2017]
[null,"Population",208549]
[null,"Landfilled tons minus ash",217925]
[null,"C&D collected",22275]
[null,"C&D disposed",{"$f":"C10-C14","v":22274}]
[]
[null,"Recycled tons",48516]
[null,"Recycled C&D",1]
[null,"combustor recy metals",0]
[null,"Combustor input",0]
[null,"Total Tons MSW collected",{"$f":"C9+(C16-C15)+C13","v":266441}]
[]
[null,2]
[]
[null,"Average disposal LANDFILLED from Hernando, Indian River, and Alachua"]
[null,"Category","Hernando","Indian River","Alachua","Average ","Percent"]
[null,"Newspaper",{"$f":"'37 Hernando County Factor'!B120","v":3301.2359999999999},{"$f":"'41 Indian River County Factor'!C89","v":2352.0420000000004},{"$f":"'42 Alachua County Factor'!B131","v":1877.3400000000001},{"$f":"AVERAGE(C23:E23)","v":2510.2060000000001},{"$f":"F23/$F$41","v":1.5534300877811408E-2}]
[null,"Glass",{"$f":"'37 Hernando County Factor'!B121","v":8069.688000000001},{"$f":"'41 Indian River County Factor'!C90","v":5712.1020000000008},{"$f":"'42 Alachua County Factor'!B132","v":4130.1480000000001},{"$f":"AVERAGE(C24:E24)","v":5970.6460000000006},3.6949083620587783E-2]
[null,"Aluminum Cans",{"$f":"'37 Hernando County Factor'!B122","v":3484.6379999999999},{"$f":"'41 Indian River County Factor'!C91","v":1008.0179999999999},{"$f":"'42 Alachua County Factor'!B133","v":750.93600000000004},1747.8639999999998,1.0816580499566551E-2]
[null,"Plastic Bottles",{"$f":"'37 Hernando County Factor'!B123","v":7336.08},{"$f":"'41 Indian River County Factor'!C92","v":3360.06},{"$f":"'42 Alachua County Factor'!B134","v":2816.0099999999998},4504.05,2.7873117930841719E-2]
[null,"Steel Cans",{"$f":"'37 Hernando County Factor'!B124","v":2567.6280000000002},{"$f":"'41 Indian River County Factor'!C93","v":2016.0359999999998},{"$f":"'42 Alachua County Factor'!B135","v":1314.1379999999999},1965.934,1.2166097229438257E-2]
[null,"Corrugated Paper",{"$f":"'37 Hernando County Factor'!B125","v":16139.375999999998},{"$f":"'41 Indian River County Factor'!C94","v":8064.1439999999993},{"$f":"'42 Alachua County Factor'!B136","v":16708.326000000001},13637.281999999999,8.439372774328549E-2]
[null,"Office Paper",{"$f":"'37 Hernando County Factor'!B126","v":2751.0299999999997},{"$f":"'41 Indian River County Factor'!C95","v":2464.0439999999999},{"$f":"'42 Alachua County Factor'!B137","v":3379.2119999999995},2864.7620000000002,1.7728455294633495E-2]
[null,"Yard Trash",{"$f":"'37 Hernando County Factor'!B127","v":11370.923999999999},{"$f":"'41 Indian River County Factor'!C96","v":9184.1640000000007},{"$f":"'42 Alachua County Factor'!B138","v":2440.5419999999999},7665.21,4.7435819383591933E-2]
[null,"Other Plastics",{"$f":"'37 Hernando County Factor'!B128","v":30994.937999999998},{"$f":"'41 Indian River County Factor'!C97","v":13440.24},{"$f":"'42 Alachua County Factor'!B139","v":24217.686000000002},22884.288,0.14161842301647318]
[null,"Ferrous Metals",{"$f":"'37 Hernando County Factor'!B129","v":733.60800000000006},{"$f":"'41 Indian River County Factor'!C98","v":896.01599999999996},{"$f":"'42 Alachua County Factor'!B140","v":1126.404},918.67600000000004,5.6851865517110042E-3]
[null,"White Goods",{"$f":"'37 Hernando County Factor'!B130","v":1467.2160000000001},{"$f":"'41 Indian River County Factor'!C99","v":672.01200000000006},{"$f":"'42 Alachua County Factor'!B141","v":0},713.07600000000002,4.4128398755903884E-3]
[null,"NonFerous Metals",{"$f":"'37 Hernando County Factor'!B131","v":1467.2160000000001},{"$f":"'41 Indian River County Factor'!C100","v":672.01200000000006},{"$f":"'42 Alachua County Factor'!B142","v":994.99019999999996},1044.7394000000002,6.465324430944777E-3]
[null,"Other Paper",{"$f":"'37 Hernando County Factor'!B132","v":18340.2},{"$f":"'41 Indian River County Factor'!C101","v":19376.345999999998},{"$f":"'42 Alachua County Factor'!B143","v":31914.78},23210.441999999999,0.143636812889058]
[null,"Textiles",{"$f":"'37 Hernando County Factor'!B133","v":12654.738000000001},{"$f":"'41 Indian River County Factor'!C102","v":5488.098},{"$f":"'42 Alachua County Factor'!B144","v":7321.6260000000011},8488.1540000000005,5.2528572608462575E-2]
[null,"C&D Debris",{"$f":"'37 Hernando County Factor'!B134","v":13755.15},{"$f":"'41 Indian River County Factor'!C103","v":7280.13},{"$f":"'42 Alachua County Factor'!B145","v":9386.7000000000007},10140.66,6.2755034263955636E-2]
[null,"Food",{"$f":"'37 Hernando County Factor'!B135","v":21458.034},{"$f":"'41 Indian River County Factor'!C104","v":15232.272000000001},{"$f":"'42 Alachua County Factor'!B146","v":26845.962},21178.755999999998,0.13106381226152497]
[null,"Miscellaneous",{"$f":"'37 Hernando County Factor'!B136","v":26776.692000000003},{"$f":"'41 Indian River County Factor'!C105","v":14560.26},{"$f":"'42 Alachua County Factor'!B147","v":52565.520000000004},{"$f":"AVERAGE(C39:E39)","v":31300.824000000004},0.19370379074044936]
[null,"Tires",{"$f":"'37 Hernando County Factor'!B137","v":2200.8240000000001},{"$f":"'41 Indian River County Factor'!C106","v":336.00600000000003},{"$f":"'42 Alachua County Factor'!B148","v":0},845.61,5.2330207820737041E-3]
[null,"total:",{"$f":"SUM(C23:C40)","v":184869.21600000001},{"$f":"SUM(D23:D40)","v":112114.00199999999},{"$f":"SUM(E23:E40)","v":187790.32020000002},{"$f":"SUM(F23:F40)","v":161591.17939999996},{"$f":"SUM(G23:G40)","v":1.0000000000000002}]
[]
[null,"Recycled tons from Clay"]
[null,"Materials","Tons"]
[null,"Newspaper",0]
[null,"Glass",2926]
[null,"Aluminum Cans",207]
[null,"Plastic Bottles",2477]
[null,"Steel Cans",239]
[null,"Corrugated Paper",5164]
[null,"Office Paper",254]
[null,"Yard Trash",23640]
[null,"Other Plastics",292]
[null,"Ferrous Metals",6460]
[null,"White Goods",0]
[null,"NonFerous Metals",511]
[null,"Other Paper",5224]
[null,"Textiles",3]
[null,"C&D Debris",1]
[null,"Food",169]
[null,"Miscellaneous",450]
[null,"Tires",499]
[null,"Total",{"$f":"SUM(C45:C62)","v":48516}]
[]
[]
[]
[null,3,null,null,null,null,null,null,null,4]
[]
[null,"Calculating waste compositon percentage utalizing waste compsition study"]
[".","FDEP Category","Landfilled tons\n(Plus combusor ash, minus C&D  disposed)","Collected C&D \n(disposal C&D LANDFILL + recycled)","Combusted\n(minus recycled metals, minus ash)","Recycled Materials\n(Minus recycled C&D)","Total Collected Tons"]
[null,null,{"$f":"C9-C11","v":195651},{"$f":"C11+C14","v":22275},{"$f":"C16-C15","v":0},{"$f":"C63","v":48516},null,null,null,"FDEP Category","Percentage"]
[null,"Newspaper",{"$f":"$C$71*G23","v":3039.3015010446798},null,{"$f":"$E$71*G23","v":0},{"$f":"C45","v":0},{"$f":"SUM(C72:F72)","v":3039.3015010446798},null,null,"Newspaper",{"$f":"G72/$G$91","v":1.1407033831297285E-2}]
[null,"Glass",7229.1251594516207,null,0,2926,10155.125159451622,null,null,"Glass",3.8113973297846881E-2]
[null,"Aluminum Cans",2116.2747913206954,null,0,207,2323.2747913206954,null,null,"Aluminum Cans",8.719659479286955E-3]
[null,"Plastic Bottles",5453.4033962871135,null,0,2477,7930.4033962871135,null,null,"Plastic Botles",2.976420069091136E-2]
[null,"Steel Cans",2380.3090890368244,null,0,239,2619.3090890368244,null,null,"Steel Cans",9.8307283377439079E-3]
[null,"Corrugated Paper",16511.717226701548,null,0,5164,21675.717226701548,null,null,"Corrugated Paper",8.1352784393924168E-2]
[null,"Office Paper",3468.5900068503379,null,0,254,3722.5900068503379,null,null,"Office Paper",1.397153593797628E-2]
[null,"Yard Trash",9280.8654982191456,null,0,23640,32920.865498219144,null,null,"Yard Trash",0.12355780641199794]
[null,"Other Plastics",27707.786081595994,null,0,292,27999.786081595994,null,null,"Other Plastics",0.10508812863484221]
[null,"Ferrous Metals",1112.3124340288098,null,0,6460,7572.3124340288095,null,null,"Ferrous Metals",2.8420222240679211E-2]
[null,"White Goods",863.37653449913512,null,0,0,863.37653449913512,null,null,"White Goods",3.2404041964229796E-3]
[null,"NonFerous Metals",1264.9471902387766,null,0,511,1775.9471902387766,null,null,"NonFerous Metals",6.6654425941907458E-3]
[null,"Other Paper",28102.686078557086,null,0,5224,33326.68607855709,null,null,"Other Paper",0.12508092252527611]
[null,"Textiles",10277.267759418311,null,0,3,10280.267759418311,null,null,"Textiles",3.8583655516299338E-2]
[null,"C&D Debris",12278.085208777184,{"$f":"C10","v":22275},0,0,34553.085208777185,null,null,"C&D Debris",0.12968381446090199]
[null,"Food",25642.765932779621,null,0,{"$f":"C60","v":169},25811.765932779621,null,null,"Food",9.6876103650637937E-2]
[null,"Miscellaneous",37898.340362159659,null,0,{"$f":"C61","v":450},38348.340362159659,null,null,"Miscellaneous",0.1439280754919838]
[null,"Tires",1023.8457490335023,null,0,{"$f":"C62","v":499},1522.8457490335022,null,null,"Tires",5.7155083077810934E-3]
[null,null,"Total","Total","Total","Total","Total",null,null,null,"total"]
[null,null,{"$f":"SUM(C72:C89)","v":195651.00000000003},{"$f":"D86","v":22275},{"$f":"SUM(E72:E89)","v":0},{"$f":"SUM(F72:F89)","v":48515},{"$f":"SUM(C91:F91)","v":266441},null,null,null,{"$f":"SUM(K72:K89)","v":1.0000000000000002}]
[]
[null,5]
[]
[null,"US EPA Data and Moisture Content"]
[null,"Category","Moisture Content  (MC) ","US EPA DATA (lbs-dry/person)","US EPA DATA             (lbs-WET/person)    [US EPA DATA/(1-MC)"]
[null,"Newspaper",0.27850000000000003,41.931464174454831,58.117067462861854]
[null,"Glass",3.2000000000000001E-2,56.822429906542055,58.700857341469067]
[null,"Aluminum Cans",0.129,8.4112149532710276,9.6569632069701807]
[null,"Plastic Bottles",4.8000000000000001E-2,23.302180685358255,24.477080551846907]
[null,"Steel Cans",5.8000000000000003E-2,10.841121495327103,11.508621544933231]
[null,"Corrugated Paper",0.24049999999999999,195.20249221183801,257.01447295831201]
[null,"Office Paper",0.13400000000000001,28.22429906542056,32.591569359608037]
[null,"Yard Waste",0.50600000000000001,216.3239875389408,437.90280878328099]
[null,"Other Plastics",0.11700000000000001,154.90485396035913,175.43018568557093]
[null,"Non-ferrous Metal",5.3999999999999999E-2,46.762277712979795,49.431583206109721]
[null,"White Goods","x",30.280373831775702,30.280373831775702]
[null,"Ferrous Metal",0.16900000000000001,12.133426323463874,14.600994372399368]
[null,"Other Paper",0.2545,158.56697819314641,212.69883057430772]
[null,"Textiles",0.17,76.349308411214949,91.987118567728857]
[null,"C&D Debris",8.8999999999999996E-2,"-","-"]
[null,"Food Waste",0.59750000000000003,247.53894080996884,615.00357965209651]
[null,"Miscellaneous",0.313,206.19904324930312,300.14416775735532]
[null,"Tires","x",36.386292834890966,36.386292834890966]
[]
[]
[null,6]
[]
[null,"Finding County Factor"]
[null,"Category","tons-DRY/county-us data ","tons-WET/county-us data ","County Factor","Column1"]
[null,"equation","US DATA * County Population/2000","tons-DRY/(1-MoistureContent)","ton-wet-composition/tons-wet-Usdata"]
[null,"Newspaper ",{"$f":"D97*$C$8/2000","v":4372.3824610591901},{"$f":"C122/(1-C97)","v":6060.1281511561883},{"$f":"G72/D122","v":0.50152429540039067},"Newspaper "]
[null,"Glass ",5925.1304672897195,6121.0025488530164,1.6590623967889933,"Glass "]
[null,"Aluminum Cans ",877.07523364485974,1006.9750099252121,2.3071821727663773,"Aluminum Cans "]
[null,"Plastic Bottles ",2429.8232398753894,2552.3353360035603,3.1071165627885393,"Plastic Bottles "]
[null,"Steel Cans ",1130.4525233644858,1200.0557572871401,2.1826561583755617,"Steel Cans "]
[null,"Corrugated Paper",20354.642274143302,26800.055660491507,0.80879373913598884,"Corrugated Paper"]
[null,"Office Paper ",2943.0746728971963,3398.4695991884482,1.0953724605155477,"Office Paper "]
[null,"Yard Waste ",22557.075638629285,45662.096434472238,0.72096701791742079,"Yard Waste "]
[null,"Other Plastics ",16152.626194289469,18292.894897270067,1.5306372358688034,"Other Plastics "]
[null,"Ferrous Metal ",{"$f":"D108*$C$8/2000","v":1265.2069631660338},{"$f":"C131/(1-C108)","v":1522.5113876847579},{"$f":"C81/D131","v":0.7305774150696327},"Ferrous Metal "]
[null,"White Goods ",{"$f":"D107*$C$8/2000","v":3157.4708411214951},{"$f":"Table71419253137[[#This Row],[tons-DRY/county-us data ]]","v":3157.4708411214951},{"$f":"G82/Table71419253137[[#This Row],[tons-WET/county-us data ]]","v":0.27343927400845747},"White Goods "]
[null,"Non-ferrous Metal ",{"$f":"D106*$C$8/2000","v":4876.113127382112},{"$f":"C133/(1-C106)","v":5154.4536230254889},{"$f":"C83/D133","v":0.24540858891195058},"Non-ferrous Metal "]
[null,"Other Paper ",{"$f":"D109*$C$8/2000","v":16534.492367601244},{"$f":"C134/(1-C109)","v":22179.064208720647},{"$f":"G84/D134","v":1.5026191260789659},"Other Paper "]
[null,"Textiles ",7961.2859599252333,{"$f":"C135/(1-C110)","v":9591.9107950906437},{"$f":"G85/D135","v":1.0717643208983954},"Textiles "]
[null,"C&D Debris",{"$error":"#VALUE!"},{"$f":"C136/(1-C111)","v":{"$error":"#VALUE!"}},{"$f":"#REF!/D136","v":{"$error":"#REF!"}},"C&D Debris"]
[null,"Food Waste",25811.999283489098,{"$f":"C137/(1-C112)","v":64129.190766432548},{"$f":"G87/D137","v":0.40249636124038535},"Food Waste"]
[null,"Miscellaneous ",21501.302135299458,{"$f":"C138/(1-C113)","v":31297.383020814348},{"$f":"G88/D138","v":1.2252890389160036},"Miscellaneous "]
[null,"Tires ",3794.1624922118381,{"$f":"Table71419253137[[#This Row],[tons-DRY/county-us data ]]","v":3794.1624922118381},{"$f":"G89/Table71419253137[[#This Row],[tons-WET/county-us data ]]","v":0.40136545341940449},"Tires "]
[]
[]
[]
[]
[null,"Link to \"New WasteCalc County Factors\""]
[null,"Newspaper","Glass","Aluminum Cans","Plastic Bottles","Steel Cans","Corrugated Paper","Office Paper","Yard Waste","Other Plastics","Ferrous Metals","White Goods","Non-Ferrous Metal","Other Paper","Textiles","C&D Debris","Food Waste","Misc","Tires"]
[null,{"$f":"E122","v":0.50152429540039067},{"$f":"E123","v":1.6590623967889933},{"$f":"E124","v":2.3071821727663773},{"$f":"E125","v":3.1071165627885393},{"$f":"E126","v":2.1826561583755617},{"$f":"E127","v":0.80879373913598884},{"$f":"E128","v":1.0953724605155477},{"$f":"E129","v":0.72096701791742079},{"$f":"E130","v":1.5306372358688034},{"$f":"E131","v":0.7305774150696327},{"$f":"E132","v":0.27343927400845747},{"$f":"E133","v":0.24540858891195058},{"$f":"E134","v":1.5026191260789659},{"$f":"E135","v":1.0717643208983954},{"$f":"E136","v":{"$error":"#REF!"}},{"$f":"E137","v":0.40249636124038535},{"$f":"E138","v":1.2252890389160036},{"$f":"E139","v":0.40136545341940449}]

{"sheet":"41 Indian River County Factor","index":40,"n_rows":186,"n_cols":19,"rows_kept":186,"cut":false,"hidden":true,"merged":[[164,1,164,2],[2,1,2,2],[19,1,19,2],[81,1,81,2],[81,9,81,10],[84,2,86,2],[84,3,86,3],[84,4,86,4],[84,5,86,5],[85,9,85,11],[109,1,109,2],[111,1,111,2],[133,1,133,2],[135,1,135,2],[162,1,162,2]]}
[null,"Finding County Factors for Indian River County"]
[]
[null,1]
[null,"Information from annual solid waste report 2017"]
[null,"County","Indian River"]
[null,"Waste comp study",2014]
[null,"Year",2017]
[null,"Population",148962]
[null,"Landfilled tons",187368]
[null,"C&D collected",280430]
[null,"C&D disposed",{"$f":"C10-C14","v":75366}]
[]
[null,"Recycled tons",326951]
[null,"Recycled C&D",205064]
[null,"combustor recy metals",0]
[null,"Combustor input",0]
[null,"Combustor ash",0]
[null,"Total Tons MSW collected",{"$f":"C9+C13+C16","v":514319}]
[]
[null,2]
[]
[null,"Indian River Waste Composition Study Results"]
[null,"FDEP Categorty","Waste Comp Category","Percentage in waste stream"]
[null,"Newspaper","Newspaper",2.1000000000000001E-2]
[null,"Corrugated Cardboard","Corrugated Containers",7.1999999999999995E-2]
[null,"Office Paper","Office Paper",2.1999999999999999E-2]
[null,"Other Paper","Other Recyclable Paper",7.2999999999999995E-2]
[null,null,"Low Grade Paper",9.7000000000000003E-2]
[null,null,"Aseptic containers",3.0000000000000001E-3]
[null,"Glass Packaging","Glass Containers",4.2000000000000003E-2]
[null,null,"Other Glass",8.9999999999999993E-3]
[null,"Steel Cans","Tin/Steel Cans",1.7999999999999999E-2]
[null,"Other Ferrous","Other Ferrous",8.0000000000000002E-3]
[null,"Aluminum Cans","Aluminum Cans",8.9999999999999993E-3]
[null,"Other Non-Ferrous","Other Non-Ferrous",6.0000000000000001E-3]
[null,"Textiles","Textiles",4.9000000000000002E-2]
[null,"Yard Waste","Yard Waste",8.2000000000000003E-2]
[null,"Food Waste","Food Waste",0.13600000000000001]
[null,"Tires","Tires and Rubber",3.0000000000000001E-3]
[null,"White Goods","White Goods/Small Appliances",6.0000000000000001E-3]
[null,"Plastic Containers","PET Containers",1.7999999999999999E-2]
[null,null,"HDPE Containers",1.2E-2]
[null,"Other Plastics","Other Non-Bottle Plastics #1 & #2",8.9999999999999993E-3]
[null,null,"Other Plastic Containers (#3-#7)",1.2E-2]
[null,null,"Bulky Rigid Plastics",1.2E-2]
[null,null,"Non-Rigid Plastic Film",6.2E-2]
[null,null,"All other Plastics",8.9999999999999993E-3]
[null,null,"Styrofoam",1.6E-2]
[null,"C&D Debris","C&D Debris",3.4000000000000002E-2]
[null,null,"Clean Wood Waste",8.9999999999999993E-3]
[null,null,"Treated Wood Waste",2.1999999999999999E-2]
[null,"MISC","Special Wastes",1E-3]
[null,null,"Electronics",2.4E-2]
[null,null,"Household Batteries",1E-3]
[null,null,"All other garbage",7.5999999999999998E-2]
[null,null,"Liquids",4.0000000000000001E-3]
[null,null,"Grit",2.4E-2]
[null,null,null,"total"]
[null,null,null,{"$f":"SUM(D24:D57)","v":1.0010000000000001}]
[]
[null,"Recycled Tons from Indian River "]
[null,"Materials"," Tons "]
[null,"Newspaper",4390]
[null,"Glass",4570]
[null,"Aluminum Cans",456]
[null,"Plastic Bottles",1740]
[null,"Steel Cans",523]
[null,"Corrugated Paper",6875]
[null,"Office Paper",1618]
[null,"Yard Trash",82165]
[null,"Other Plastics",1011]
[null,"Ferrous Metals",8712]
[null,"White Goods",1658]
[null,"NonFerous Metals",1239]
[null,"Other Paper",5044]
[null,"Textiles",26]
[null,"C&D Debris"]
[null,"Food",476]
[null,"Miscellaneous",747]
[null,"Tires",637]
[]
[null,3,null,null,null,null,null,null,null,4]
[]
[null,"Calculating waste compositon percentage utalizing waste compsition study"]
[null,null,"Landfilled tons\n(PLUS combusor ash, minus C&D  disposed)","Collected C&D \n(disposal + recycled)","Combusted\n(minus recycled metals,minus combustor ash)","Recycled Materials\n(Minus recycled c&D)"]
[]
[null,"FDEP Category",null,null,null,null,"Sum"]
[null,null,{"$f":"C9+C15-C11","v":112002},{"$f":"C11+C14","v":280430},0,{"$f":"C13-C14","v":121887},null,null,null,"FDEP Category","Percentage"]
[null,"Newspaper",{"$f":"D24*C88","v":2352.0420000000004},null,{"$f":"$E$88*D24","v":0},4390,{"$f":"SUM(C89:F89)","v":6742.0420000000004},null,null,"Newspaper",{"$f":"G89/$G$108","v":1.3105823664958669E-2}]
[null,"Glass",{"$f":"SUM(D30:D31)*C88","v":5712.1020000000008},null,{"$f":"$E$88*SUM(D30:D31)","v":0},4570,10282.102000000001,null,null,"Glass",1.9987329612767002E-2]
[null,"Aluminum Cans",{"$f":"D34*C88","v":1008.0179999999999},null,{"$f":"$E$88*D34","v":0},456,1464.018,null,null,"Aluminum Cans",2.8458976895020028E-3]
[null,"Plastic Bottles",{"$f":"SUM(D41:D42)*C88","v":3360.06},null,{"$f":"$E$88*SUM(D41:D42)","v":0},1740,5100.0599999999995,null,null,"Plastic Botles",9.9139825946959539E-3]
[null,"Steel Cans",{"$f":"D32*C88","v":2016.0359999999998},null,{"$f":"$E$88*D32","v":0},523,2539.0360000000001,null,null,"Steel Cans",4.9356201125685655E-3]
[null,"Corrugated Paper",{"$f":"D25*C88","v":8064.1439999999993},null,{"$f":"$E$88*D25","v":0},6875,14939.144,null,null,"Corrugated Paper",2.9040131605443175E-2]
[null,"Office Paper",{"$f":"D26*C88","v":2464.0439999999999},null,{"$f":"$E$88*D26","v":0},1618,4082.0439999999999,null,null,"Office Paper",7.9350660907485503E-3]
[null,"Yard Trash",{"$f":"D37*C88","v":9184.1640000000007},null,{"$f":"$E$88*D37","v":0},82165,91349.164000000004,null,null,"Yard Trash",0.17757320932224843]
[null,"Other Plastics",{"$f":"SUM(D43:D48)*C88","v":13440.24},null,{"$f":"$E$88*SUM(D43:D48)","v":0},1011,14451.24,null,null,"Other Plastics",2.8091697319595058E-2]
[null,"Ferrous Metals",{"$f":"D33*C88","v":896.01599999999996},null,{"$f":"$E$88*D33","v":0},8712,9608.0159999999996,null,null,"Ferrous Metals",1.8676977014693993E-2]
[null,"White Goods",{"$f":"D40*C88","v":672.01200000000006},null,{"$f":"$E$88*D40","v":0},1658,2330.0120000000002,null,null,"White Goods",4.5292993442102077E-3]
[null,"NonFerous Metals",{"$f":"D35*C88","v":672.01200000000006},null,{"$f":"$E$88*D35","v":0},1239,1911.0120000000002,null,null,"NonFerous Metals",3.7148072191807761E-3]
[null,"Other Paper",{"$f":"SUM(D27:D29)*C88","v":19376.345999999998},null,{"$f":"$E$88*SUM(D27:D29)","v":0},5044,24420.345999999998,null,null,"Other Paper",4.7470595483279213E-2]
[null,"Textiles",{"$f":"D36*C88","v":5488.098},null,{"$f":"$E$88*D36","v":0},26,5514.098,null,null,"Textiles",1.0718829111313942E-2]
[null,"C&D Debris",{"$f":"SUM(D49:D51)*C88","v":7280.13},{"$f":"D88","v":280430},{"$f":"$E$88*SUM(D49:D51)","v":0},null,287710.13,null,null,"C&D Debris",0.55927836557564237]
[null,"Food",{"$f":"D38*C88","v":15232.272000000001},null,{"$f":"$E$88*D38","v":0},476,15708.272000000001,null,null,"Food",3.0535235899332522E-2]
[null,"Miscellaneous",{"$f":"SUM(D52:D57)*C88","v":14560.26},null,{"$f":"$E$88*SUM(D52:D57)","v":0},747,15307.26,null,null,"Miscellaneous",2.9755710562716049E-2]
[null,"Tires",{"$f":"D39*C88","v":336.00600000000003},null,{"$f":"$E$88*D39","v":0},637,973.00600000000009,null,null,"Tires",1.8914217771035505E-3]
[null,null,"Total","total","total","total","totalMsw collected",null,null,null,"total"]
[null,null,{"$f":"SUM(C89:C106)","v":112114.00199999999},{"$f":"D103","v":280430},0,121887,{"$f":"SUM(G89:G106)","v":514431.00199999998},null,null,null,{"$f":"SUM(K89:K106)","v":1}]
[]
[null,5]
[]
[null,"US EPA Data and Moisture Content"]
[null,"Category","Moisture Content  (MC) ","US EPA DATA (lbs-dry/person)","US EPA DATA             (lbs-WET/person)    [US EPA DATA/(1-MC)"]
[null,"Newspaper",0.27850000000000003,41.931464174454831,58.117067462861854]
[null,"Glass",3.2000000000000001E-2,56.822429906542055,58.700857341469067]
[null,"Aluminum Cans",0.129,8.4112149532710276,9.6569632069701807]
[null,"Plastic Bottles",4.8000000000000001E-2,23.302180685358255,24.477080551846907]
[null,"Steel Cans",5.8000000000000003E-2,10.841121495327103,11.508621544933231]
[null,"Corrugated Paper",0.24049999999999999,195.20249221183801,257.01447295831201]
[null,"Office Paper",0.13400000000000001,28.22429906542056,32.591569359608037]
[null,"Yard Waste",0.50600000000000001,216.3239875389408,437.90280878328099]
[null,"Other Plastics",0.11700000000000001,154.90485396035913,175.43018568557093]
[null,"Non-ferrous Metal",5.3999999999999999E-2,46.762277712979795,49.431583206109721]
[null,"White Goods","x",30.280373831775702,30.280373831775702]
[null,"Ferrous Metal",0.16900000000000001,12.133426323463874,14.600994372399368]
[null,"Other Paper",0.2545,158.56697819314641,212.69883057430772]
[null,"Textiles",0.17,76.349308411214949,91.987118567728857]
[null,"C&D Debris",8.8999999999999996E-2,"-","-"]
[null,"Food Waste",0.59750000000000003,247.53894080996884,615.00357965209651]
[null,"Miscellaneous",0.313,206.19904324930312,300.14416775735532]
[null,"Tires","x",36.386292834890966,36.386292834890966]
[]
[]
[null,6]
[]
[null,"Finding County Factor"]
[null,"Category","tons-DRY/county-us data ","tons-WET/county-us data ","County Factor"]
[null,"equation","US DATA * County Population/2000","tons-DRY/(1-MoistureContent)","ton-wet-composition/tons-wet-Usdata"]
[null,"Newspaper (IndRiv)",{"$f":"D114*$C$8/2000","v":3123.09738317757},{"$f":"C139/(1-C114)","v":4328.6173017014135},{"$f":"G89/D139","v":1.557550952205907}]
[null,"Glass (IndRiv)",4232.1914018691596,4372.0985556499581,2.3517543964585808]
[null,"Aluminum Cans (IndRiv)",626.47570093457932,719.26027661834598,2.0354495411357711]
[null,"Plastic Bottles (IndRiv)",1735.5697196261683,1823.0774365821096,2.797500477852191]
[null,"Steel Cans (IndRiv)",807.45757009345789,857.17364128817189,2.9621022832483548]
[null,"Corrugated Paper (IndRiv)",14538.876822429907,19142.69496040804,0.78040965657646155]
[null,"Office Paper (IndRiv)",2102.1740186915886,2427.4526774729661,1.6816163041536618]
[null,"Yard Waste (IndRiv)",16112.026915887849,32615.439100987551,2.8007951607566759]
[null,"Other Plastics (IndRiv)",11537.46842782151,13066.21566004701,1.1060004194013133]
[null,"Ferrous Metal (IndRiv)",{"$f":"D125*$C$8/2000","v":903.70972599791287},{"$f":"C148/(1-C125)","v":1087.4966618506774},{"$f":"C98/D148","v":0.82392528771093432}]
[null,"White Goods (IndRiv)",{"$f":"D124*$C$8/2000","v":2255.312523364486},{"$f":"C149","v":2255.312523364486},{"$f":"G99/D149","v":1.0331215633583577}]
[null,"Non-ferrous Metal (IndRiv)",{"$f":"D123*$C$8/2000","v":3482.901206340448},{"$f":"C150/(1-C123)","v":3681.713748774258},{"$f":"C100/D150","v":0.18252695506915251}]
[null,"Other Paper (IndRiv)",{"$f":"D126*$C$8/2000","v":11810.227102803739},{"$f":"C151/(1-C126)","v":15842.021600005015},{"$f":"G101/D151","v":1.5414917752663755}]
[null,"Textiles (IndRiv)",5686.5728397757011,{"$f":"C152/(1-C127)","v":6851.2925780430141},{"$f":"G102/D152","v":0.80482594155613085}]
[null,"C&D Debris (IndRiv)",{"$error":"#VALUE!"},{"$f":"C153/(1-C128)","v":{"$error":"#VALUE!"}},{"$f":"#REF!/D153","v":{"$error":"#REF!"}}]
[null,"Food Waste (IndRiv)",18436.947850467288,{"$f":"C154/(1-C129)","v":45806.0816160678},{"$f":"G104/D154","v":0.3429298347687062}]
[null,"Miscellaneous (IndRiv)",15357.910940251344,{"$f":"C155/(1-C130)","v":22355.03775873558},{"$f":"G105/D155","v":0.6847342493983688}]
[null,"Tires (IndRiv)",2710.0874766355137,{"$f":"C156","v":2710.0874766355137},{"$f":"G106/D156","v":0.35903121518717751}]
[]
[null,"Link to \"New WasteCalc County Factors\""]
[null,"Newspaper","Glass","Aluminum Cans","Plastic Bottles","Steel Cans","Corrugated Paper","Office Paper","Yard Waste","Other Plastics","Ferrous Metals","White Goods","Non-Ferrous Metal","Other Paper","Textiles","C&D Debris","Food Waste","Misc","Tires"]
[null,{"$f":"E139","v":1.557550952205907},{"$f":"E140","v":2.3517543964585808},{"$f":"E141","v":2.0354495411357711},{"$f":"E142","v":2.797500477852191},{"$f":"E143","v":2.9621022832483548},{"$f":"E144","v":0.78040965657646155},{"$f":"E145","v":1.6816163041536618},{"$f":"E146","v":2.8007951607566759},{"$f":"E147","v":1.1060004194013133},{"$f":"E148","v":0.82392528771093432},{"$f":"E149","v":1.0331215633583577},{"$f":"E150","v":0.18252695506915251},{"$f":"E151","v":1.5414917752663755},{"$f":"E152","v":0.80482594155613085},{"$f":"E153","v":{"$error":"#REF!"}},{"$f":"E154","v":0.3429298347687062},{"$f":"E155","v":0.6847342493983688},{"$f":"E156","v":0.35903121518717751}]
[]
[]
[null,7]
[]
[null,"Check"]
[null,"Material","Calculated ","Accepted (larger values of calculated vs recycled","Percent","Waste Comp Percent","Percentage Point Difference"]
[null,"Newspaper",{"$f":"$C$8*E114*E139/2000","v":6742.0420000000004},{"$f":"C167","v":6742.0420000000004},{"$f":"D167/$D$186","v":1.3105823664958669E-2},{"$f":"K89","v":1.3105823664958669E-2},{"$f":"ABS(E167-F167)","v":0}]
[null,"Glass",10282.101999999999,10282.101999999999,1.9987329612766998E-2,1.9987329612767002E-2,3.4694469519536142E-18]
[null,"Aluminum Cans",1464.0180000000003,1464.0180000000003,2.8458976895020032E-3,2.8458976895020028E-3,4.3368086899420177E-19]
[null,"Plastic Bottles",5100.0599999999986,5100.0599999999986,9.9139825946959522E-3,9.9139825946959539E-3,1.7347234759768071E-18]
[null,"Steel Cans",2539.0360000000005,2539.0360000000005,4.9356201125685664E-3,4.9356201125685655E-3,8.6736173798840355E-19]
[null,"Corrugated Paper",14939.143999999997,14939.143999999997,2.9040131605443168E-2,2.9040131605443175E-2,6.9388939039072284E-18]
[null,"Office Paper",4082.0440000000003,4082.0440000000003,7.9350660907485521E-3,7.9350660907485503E-3,1.7347234759768071E-18]
[null,"Yard Waste",91349.164000000004,91349.164000000004,0.17757320932224843,0.17757320932224843,0]
[null,"Other Plastics",14451.24,14451.24,2.8091697319595058E-2,2.8091697319595058E-2,0]
[null,"Ferrous Metal",{"$f":"(C8*E125*E148/2000)+F98","v":9608.0159999999996},9608.0159999999996,1.8676977014693993E-2,1.8676977014693993E-2,0]
[null,"White Goods",{"$f":"C8*D124/2000","v":2255.312523364486},2255.312523364486,4.3840913836769232E-3,4.5292993442102077E-3,1.4520796053328448E-4]
[null,"Non-ferrous Metal",{"$f":"(C8*E150*E123/2000)+F100","v":1911.0119999999999},1911.0119999999999,3.7148072191807756E-3,3.7148072191807761E-3,4.3368086899420177E-19]
[null,"Other Paper",{"$f":"$C$8*E126*E151/2000","v":24420.345999999998},24420.345999999998,4.7470595483279213E-2,4.7470595483279213E-2,0]
[null,"Textiles",{"$f":"$C$8*E127*E152/2000","v":5514.097999999999},5514.097999999999,1.071882911131394E-2,1.0718829111313942E-2,1.7347234759768071E-18]
[null,"C&D Debris",{"$f":"C10+(C9*0.075)+(C16*0.075)","v":294482.59999999998},294482.59999999998,0.5724433380863776,0.55927836557564237,1.3164972510735229E-2]
[null,"Food Waste",{"$f":"$C$8*E129*E154/2000","v":15708.272000000001},15708.272000000001,3.0535235899332522E-2,3.0535235899332522E-2,0]
[null,"Miscellaneous",{"$f":"G108-C186","v":6872.4079999999958},6872.4079999999958,1.3359241517874142E-2,2.9755710562716049E-2,1.6396469044841905E-2]
[null,"Tires",{"$f":"C8*D131/2000","v":2710.0874766355137},2710.0874766355137,5.2681262717434625E-3,1.8914217771035505E-3,3.3767044946399118E-3]
[null,null,"sum (Minus misc)","TOTAL","TOTAL","TOTAL"]
[null,null,{"$f":"SUM(C167:C182,C184)","v":507558.59399999998},{"$f":"SUM(D167:D184)","v":514431.00199999998},{"$f":"SUM(E167:E184)","v":0.99999999999999989},{"$f":"SUM(F167:F184)","v":1}]

{"sheet":"42 Alachua County Factor","index":41,"n_rows":228,"n_cols":18,"rows_kept":228,"cut":false,"hidden":true,"merged":[[205,0,205,1],[2,0,2,1],[19,0,19,1],[123,0,123,1],[123,8,123,9],[126,1,128,1],[126,2,128,2],[126,3,128,3],[126,4,128,4],[127,8,127,10],[151,0,151,1],[153,0,153,1],[175,0,175,1],[177,0,177,1],[204,0,204,1]]}
["Finding County Factors for ALACHUA County"]
[]
[1]
["Information from annual solid waste report 2017"]
["County","Alachua"]
["Waste comp study",2010]
["Year",2017]
["Population",260003]
["Landfilled tons",267906]
["C&D collected",392962]
["C&D disposed",80172]
[]
["Recycled tons",443931]
["Recycled C&D",312790]
["combustor recy metals",0]
["Combustor input",0]
["Combustor ash",0]
["Total Tons MSW collected",787986]
[]
[2]
[]
["Alachua Waste Composition Study Results"]
["FDEP Categorty","Waste Comp Category","Percentage in waste stream"]
["Newspaper","Newspaper",0.01]
["Corrugated paper","OCC Plain",8.8999999999999996E-2]
["Office Paper","High Grade",1.7999999999999999E-2]
["Other Paper","Mixed recyclable",7.0000000000000001E-3]
[null,"Jumk mail",7.0000000000000001E-3]
[null,"Composite",1.6E-2]
[null,"Compostable/soiled",7.1999999999999995E-2]
[null,"Boxboard",3.7999999999999999E-2]
[null,"MISC paper",2.9000000000000001E-2]
[null,"other paper",1E-3]
["Plastic","1 PET Bottles",1.0999999999999999E-2]
[null,"2 HDPE",4.0000000000000001E-3]
["Other plastics","3'-7;",2E-3]
[null,"other rigid plastic",1.6E-2]
[null,"other rigid plastic 245",8.0000000000000002E-3]
[null,"other rigid plstic 1367",8.0000000000000002E-3]
[null,"Other rigid plsatic nonfood EPS",2E-3]
[null,"other rigid plastic food service",1.0999999999999999E-2]
[null,"film",6.7000000000000004E-2]
[null,"plastic products",7.0000000000000001E-3]
[null,"composite",7.0000000000000001E-3]
[null,"other",1E-3]
["Yard Waste","Yard Waste",1.2999999999999999E-2]
["Food Waste","Food",0.14299999999999999]
["Aluminum cans","aluminum drink containers",4.0000000000000001E-3]
["Steel Cans","food and beverage",7.0000000000000001E-3]
["Ferrous Metals","pother ferrous",6.0000000000000001E-3]
["Non ferrous","other non ferrous",2.9999999999999997E-4]
[null,"alumnum foil",4.0000000000000001E-3]
[null,"other aluminum",1E-3]
[null,"other non-ferrous scrap",0]
["Glass","Clear",0.01]
[null,"Colored",1.0999999999999999E-2]
[null,"flat",1E-3]
["C&D","Clean wood",2.5999999999999999E-2]
[null,"Gypsum",2E-3]
[null,"Fiberglass ins",1E-3]
[null,"rock/concrete/bricks",1E-3]
[null,"asphalt roofing",0]
[null,"ceramics",1.6E-2]
[null,"PVC",0]
[null,"Composite/other C&D",4.0000000000000001E-3]
["Tires","tires",0]
["Textiles","textiles and leather",2.5000000000000001E-2]
[null,"carpet/upholstrey",2E-3]
[null,"apparel",1.2E-2]
["MISC","animal by-products",1.6E-2]
[null,"composite/organics",4.0000000000000001E-3]
[null,"disposable diapers",2.1999999999999999E-2]
[null,"empty paint and aerosol",2E-3]
[null,"propane and o. tank",1E-3]
[null,"composite/o. metals",5.0000000000000001E-3]
[null,"comp/o mixed cullet",1.0999999999999999E-2]
[null,"electrical appliacnces",1.7000000000000001E-2]
[null,"comp reated elect",1E-3]
[null,"protable elect",1E-3]
[null,"auto products/fluids",7.0000000000000001E-3]
[null,"paints and solvents",1E-3]
[null,"Pesticides herbicides fingicides",0]
[null,"household cleaners",2E-3]
[null,"lead acid batteries",0]
[null,"other batteries",1E-3]
[null,"other HW",0]
[null,"hg containing products",0]
[null,"cathode ray tubes",0]
[null,"furniture",2E-3]
[null,"matress",1E-3]
[null,"pharmaceuticals",2E-3]
[null,"CFLs",0]
[null,"sharps",1E-3]
[null,"residuals >2",0.05]
[null,"residulals >1",1.6E-2]
[null,"fines/super mix",7.0000000000000007E-2]
[null,"other",4.5999999999999999E-2]
[null,"rubber",1E-3]
["White Goods ","White Goods",0]
[null,null,"total"]
[null,null,{"$f":"SUM(C24:C98)","v":1.0003000000000002}]
[]
["Recycled Tons from Alachua "]
["Materials"," Tons "]
["Newspaper",1782]
["Glass",3650]
["Aluminum Cans",327]
["Plastic Bottles",927]
["Steel Cans",310]
["Corrugated Paper",23959]
["Office Paper",1475]
["Yard Trash",57849]
["Other Plastics",295]
["Ferrous Metals",19079]
["White Goods",3630]
["NonFerous Metals",1439]
["Other Paper",11299]
["Textiles",1679]
["C&D Debris"]
["Food",1312]
["Miscellaneous",832]
["Tires",1297]
[]
[3,null,null,null,null,null,null,null,4]
[]
["Calculating waste compositon percentage utalizing waste compsition study"]
[null,"Landfilled tons\n(PLUS combusor ash, minus C&D  disposed)","Collected C&D \n(disposal + recycled)","Combusted\n(minus recycled metals,minus combustor ash)","Recycled Materials\n(Minus recycled c&D)"]
[]
["FDEP Category",null,null,null,null,"Sum"]
[null,{"$f":"B9+B15-B11","v":187734},{"$f":"B11+B14","v":392962},0,{"$f":"B13-B14","v":131141},null,null,null,"FDEP Category","Percentage"]
["Newspaper",{"$f":"C24*B130","v":1877.3400000000001},null,{"$f":"$D$130*C24","v":0},1782,{"$f":"SUM(B131:E131)","v":3659.34},null,null,"Newspaper",{"$f":"F131/$F$150","v":5.1402926480219558E-3}]
["Glass",{"$f":"SUM(C55:C57)*B130","v":4130.1480000000001},null,{"$f":"$D$130*SUM(C55:C57)","v":0},3650,7780.1480000000001,null,null,"Glass",1.0928811634044043E-2]
["Aluminum Cans",{"$f":"C48*B130","v":750.93600000000004},null,{"$f":"$D$130*C48","v":0},327,1077.9360000000001,null,null,"Aluminum Cans",1.514181927844419E-3]
["Plastic Bottles",{"$f":"SUM(C34:C35)*B130","v":2816.0099999999998},null,{"$f":"$D$130*SUM(C34:C35)","v":0},927,3743.0099999999998,null,null,"Plastic Botles",5.2578243028722832E-3]
["Steel Cans",{"$f":"C49*B130","v":1314.1379999999999},null,{"$f":"$D$130*C49","v":0},310,1624.1379999999999,null,null,"Steel Cans",2.2814345266559226E-3]
["Corrugated Paper",{"$f":"C25*B130","v":16708.326000000001},null,{"$f":"$D$130*C25","v":0},23959,40667.326000000001,null,null,"Corrugated Paper",5.7125590093435465E-2]
["Office Paper",{"$f":"C26*B130","v":3379.2119999999995},null,{"$f":"$D$130*C26","v":0},1475,4854.2119999999995,null,null,"Office Paper",6.8187351422770099E-3]
["Yard Trash",{"$f":"C46*B130","v":2440.5419999999999},null,{"$f":"$D$130*C46","v":0},57849,60289.542000000001,null,null,"Yard Trash",8.4689012088303067E-2]
["Other Plastics",{"$f":"SUM(C36:C45)*B130","v":24217.686000000002},null,{"$f":"$D$130*SUM(C36:C45)","v":0},295,24512.686000000002,null,null,"Other Plastics",3.4433088925617937E-2]
["Ferrous Metals",{"$f":"C50*B130","v":1126.404},null,{"$f":"$D$130*C50","v":0},19079,20205.403999999999,null,null,"Ferrous Metals",2.8382629007283666E-2]
["White Goods",{"$f":"0","v":0},null,{"$f":"$D$130*C99","v":0},3630,3630,null,null,"White Goods",5.0990786077051327E-3]
["NonFerous Metals",{"$f":"SUM(C51:C54)*B130","v":994.99019999999996},null,{"$f":"$D$130*SUM(C51:C54)","v":0},1439,2433.9902000000002,null,null,"NonFerous Metals",3.4190378402710574E-3]
["Other Paper",{"$f":"SUM(C27:C33)*B130","v":31914.78},null,{"$f":"$D$130*SUM(C27:C33)","v":0},11299,43213.78,null,null,"Other Paper",6.070260637908427E-2]
["Textiles",{"$f":"SUM(C67:C69)*B130","v":7321.6260000000011},null,{"$f":"$D$130*SUM(C67:C69)","v":0},1679,9000.6260000000002,null,null,"Textiles",1.2643223000703752E-2]
["C&D Debris",{"$f":"SUM(C58:C65)*B130","v":9386.7000000000007},{"$f":"C130","v":392962},{"$f":"$D$130*SUM(C58:C65)","v":0},null,402348.7,null,null,"C&D Debris",0.56518117052561156]
["Food",{"$f":"C47*B130","v":26845.962},null,{"$f":"$D$130*C47","v":0},1312,28157.962,null,null,"Food",3.9553625804620948E-2]
["Miscellaneous",{"$f":"SUM(C70:C98)*B130","v":52565.520000000004},null,{"$f":"$D$130*SUM(C70:C98)","v":0},832,53397.520000000004,null,null,"Miscellaneous",7.5007755354409636E-2]
["Tires",{"$f":"C66*B130","v":0},null,{"$f":"$D$130*C66","v":0},1297,1297,null,null,"Tires",1.8219021912378945E-3]
[null,"Total","total","total","total","totalMsw collected",null,null,null,"total"]
[null,{"$f":"SUM(B131:B148)","v":187790.32020000002},{"$f":"C145","v":392962},0,{"$f":"SUM(E131:E148)","v":131141},{"$f":"SUM(F131:F148)","v":711893.32019999996},null,null,null,{"$f":"SUM(J131:J148)","v":1}]
[]
[5]
[]
["US EPA Data and Moisture Content"]
["Category","Moisture Content  (MC) ","US EPA DATA (lbs-dry/person)","US EPA DATA             (lbs-WET/person)    [US EPA DATA/(1-MC)"]
["Newspaper",0.27850000000000003,41.931464174454831,58.117067462861854]
["Glass",3.2000000000000001E-2,56.822429906542055,58.700857341469067]
["Aluminum Cans",0.129,8.4112149532710276,9.6569632069701807]
["Plastic Bottles",4.8000000000000001E-2,23.302180685358255,24.477080551846907]
["Steel Cans",5.8000000000000003E-2,10.841121495327103,11.508621544933231]
["Corrugated Paper",0.24049999999999999,195.20249221183801,257.01447295831201]
["Office Paper",0.13400000000000001,28.22429906542056,32.591569359608037]
["Yard Waste",0.50600000000000001,216.3239875389408,437.90280878328099]
["Other Plastics",0.11700000000000001,154.90485396035913,175.43018568557093]
["Non-ferrous Metal",5.3999999999999999E-2,46.762277712979795,49.431583206109721]
["White Goods","x",30.280373831775702,30.280373831775702]
["Ferrous Metal",0.16900000000000001,12.133426323463874,14.600994372399368]
["Other Paper",0.2545,158.56697819314641,212.69883057430772]
["Textiles",0.17,76.349308411214949,91.987118567728857]
["C&D Debris",8.8999999999999996E-2,"-","-"]
["Food Waste",0.59750000000000003,247.53894080996884,615.00357965209651]
["Miscellaneous",0.313,206.19904324930312,300.14416775735532]
["Tires","x",36.386292834890966,36.386292834890966]
[]
[]
[6]
[]
["Finding County Factor"]
["Catgeory","tons-DRY/county-us data ","tons-WET/county-us data ","County Factor"]
["equation","US DATA * County Population/2000","tons-DRY/(1-MoistureContent)","ton-wet-composition/tons-wet-Usdata"]
["Newspaper",{"$f":"C156*$B$8/2000","v":5451.1532398753889},{"$f":"B181/(1-B156)","v":7555.3059457732343},{"$f":"F131/C181","v":0.4843404127197779}]
["Glass",7387.0011214953274,7631.1995056769911,1.0195183593630599]
["Aluminum Cans",1093.4705607476635,1255.4197023509339,0.85862600211023232]
["Plastic Bottles",3029.3184423676012,3182.0571873609256,1.1762862134807535]
["Steel Cans",1409.3620560747665,1496.1380637736377,1.0855535590769705]
["Corrugated Paper",25376.616791277258,33412.26700629,1.2171375857957858]
["Office Paper",3669.2012149532707,4236.9529041030837,1.1456846724208709]
["Yard Waste",28122.442866043613,56928.021996039701,1.0590486000759722]
["Other Plastics",20137.863372127627,22806.187284402749,1.0748261291690933]
["Ferrous Metal",{"$f":"C167*$B$8/2000","v":1577.3636221897889},{"$f":"B190/(1-B167)","v":1898.1511699034766},{"$f":"B140/C190","v":0.59342165042486006}]
["White Goods",{"$f":"C166*$B$8/2000","v":3936.4940186915887},{"$f":"B191","v":3936.4940186915887},{"$f":"F141/C191","v":0.92214035706995401}]
["Non-ferrous Metal",{"$f":"C165*$B$8/2000","v":6079.1662461039423},{"$f":"B192/(1-B165)","v":6426.1799641690723},{"$f":"B142/C192","v":0.1548338523894196}]
["Other Paper",{"$f":"C168*$B$8/2000","v":20613.945015576322},{"$f":"B193/(1-B168)","v":27651.167022905862},{"$f":"F143/C193","v":1.5628193907404442}]
["Textiles",9925.5246174205604,{"$f":"B194/(1-B169)","v":11958.463394482604},{"$f":"F144/C194","v":0.75265740280249627}]
["C&D Debris",{"$error":"#VALUE!"},{"$f":"B195/(1-B170)","v":{"$error":"#VALUE!"}},{"$f":"#REF!/C195","v":{"$error":"#REF!"}}]
["Food Waste",32180.433613707162,{"$f":"B196/(1-B171)","v":79951.387860142029},{"$f":"F146/C196","v":0.35218853297776859}]
["Miscellaneous",26806.18492097428,{"$f":"B197/(1-B172)","v":39019.192024707831},{"$f":"F147/C197","v":1.3684937393421035}]
["Tires",4730.2726479750781,{"$f":"B198","v":4730.2726479750781},{"$f":"F148/C198","v":0.27419138314473607}]
[]
["Link to \"New WasteCalc County Factors\""]
["Newspaper","Glass","Aluminum Cans","Plastic Bottles","Steel Cans","Corrugated Paper","Office Paper","Yard Waste","Other Plastics","Ferrous Metals","White Goods","Non-Ferrous Metal","Other Paper","Textiles","C&D Debris","Food Waste","Misc","Tires"]
[{"$f":"D181","v":0.4843404127197779},{"$f":"D182","v":1.0195183593630599},{"$f":"D183","v":0.85862600211023232},{"$f":"D184","v":1.1762862134807535},{"$f":"D185","v":1.0855535590769705},{"$f":"D186","v":1.2171375857957858},{"$f":"D187","v":1.1456846724208709},{"$f":"D188","v":1.0590486000759722},{"$f":"D189","v":1.0748261291690933},{"$f":"D190","v":0.59342165042486006},{"$f":"D191","v":0.92214035706995401},{"$f":"D192","v":0.1548338523894196},{"$f":"D193","v":1.5628193907404442},{"$f":"D194","v":0.75265740280249627},{"$f":"E195","v":0},{"$f":"D196","v":0.35218853297776859},{"$f":"D197","v":1.3684937393421035},{"$f":"D198","v":0.27419138314473607}]
[]
[]
[7]
["Check"]
[]
["Material","Calculated ","Accepted (larger values of calculated vs recycled","Percent","Waste Comp Percent","Percentage Point Difference"]
["Newspaper",{"$f":"$B$8*D156*D181/2000","v":3659.3400000000011},{"$f":"B209","v":3659.3400000000011},{"$f":"C209/$C$228","v":5.1402926480219576E-3},{"$f":"J131","v":5.1402926480219558E-3},{"$f":"ABS(D209-E209)","v":1.7347234759768071E-18}]
["Glass",7780.1480000000001,7780.1480000000001,1.0928811634044043E-2,1.0928811634044043E-2,0]
["Aluminum Cans",1077.9360000000001,1077.9360000000001,1.514181927844419E-3,1.514181927844419E-3,0]
["Plastic Bottles",3743.0099999999993,3743.0099999999993,5.2578243028722823E-3,5.2578243028722832E-3,8.6736173798840355E-19]
["Steel Cans",1624.1379999999995,1624.1379999999995,2.2814345266559217E-3,2.2814345266559226E-3,8.6736173798840355E-19]
["Corrugated Paper",40667.326000000001,40667.326000000001,5.7125590093435465E-2,5.7125590093435465E-2,0]
["Office Paper",4854.2120000000004,4854.2120000000004,6.8187351422770107E-3,6.8187351422770099E-3,8.6736173798840355E-19]
["Yard Waste",60289.542000000001,60289.542000000001,8.4689012088303067E-2,8.4689012088303067E-2,0]
["Other Plastics",24512.686000000005,24512.686000000005,3.4433088925617944E-2,3.4433088925617937E-2,6.9388939039072284E-18]
["Ferrous Metal",{"$f":"(B8*D167*D190/2000)+E140","v":20205.403999999999},20205.403999999999,2.8382629007283666E-2,2.8382629007283666E-2,0]
["White Goods",{"$f":"B8*C166/2000","v":3936.4940186915887},3936.4940186915887,5.5296122424433854E-3,5.0990786077051327E-3,4.3053363473825271E-4]
["Non-ferrous Metal",{"$f":"(B8*D192*D165/2000)+E142","v":2433.9902000000002},2433.9902000000002,3.4190378402710574E-3,3.4190378402710574E-3,0]
["Other Paper",{"$f":"$B$8*D168*D193/2000","v":43213.780000000006},43213.780000000006,6.0702606379084284E-2,6.070260637908427E-2,1.3877787807814457E-17]
["Textiles",{"$f":"$B$8*D169*D194/2000","v":9000.6260000000002},9000.6260000000002,1.2643223000703752E-2,1.2643223000703752E-2,0]
["C&D Debris",{"$f":"B10+(B9*0.075)+(B16*0.075)","v":413054.95},413054.95,0.58022029183242785,0.56518117052561156,1.5039121306816283E-2]
["Food Waste",{"$f":"$B$8*D171*D196/2000","v":28157.961999999996},28157.961999999996,3.9553625804620941E-2,3.9553625804620948E-2,6.9388939039072284E-18]
["Miscellaneous",{"$f":"F150-B228","v":38951.503333333298},38951.503333333298,5.4715365670786498E-2,7.5007755354409636E-2,2.0292389683623138E-2]
["Tires",{"$f":"B8*C173/2000","v":4730.2726479750781},4730.2726479750781,6.6446369333064553E-3,1.8219021912378945E-3,4.8227347420685606E-3]
[null,"sum (Minus misc)","TOTAL","TOTAL","TOTAL"]
[null,{"$f":"SUM(B209:B224,B226)","v":672941.81686666666},{"$f":"SUM(C209:C226)","v":711893.32019999996},{"$f":"SUM(D209:D226)","v":1},{"$f":"SUM(E209:E226)","v":1}]

{"sheet":"43 Martin County Factor","index":42,"n_rows":143,"n_cols":19,"rows_kept":143,"cut":false,"hidden":true,"merged":[[2,1,2,2],[3,1,3,2],[19,1,19,2],[43,1,43,2],[65,1,65,2],[65,9,65,10],[91,1,91,2],[93,1,93,2],[115,1,115,2],[117,1,117,2]]}
[null,"Finding County Factors for Martin"]
[]
[null,1]
[null,"Information from annual solid waste report 2017"]
[null,"County","Martin"]
[null,"Waste comp study","NONE"]
[null,"Year",2017]
[null,"Population",153022]
[null,"Landfilled tons ",183585]
[null,"C&D collected",91566]
[null,"C&D disposed",{"$f":"C10-C14","v":20449}]
[]
[null,"Recycled tons",188879]
[null,"Recycled C&D",71117]
[null,"WTE metals"]
[null,"WTE input",167]
[null,"WTE Ash",0]
[null,"Total Tons MSW collected",{"$f":"C9+(C16-C15)+C13","v":372631}]
[]
[null,2]
[]
[null,"Average disposal LANDFILLED from Okaloosa and Collier"]
[null,"Category","Okaloosa (tons)","Collier (tons) ","Average","Percent"]
[null,"Newspaper",{"$f":"'51 Okaloosa County Factor'!B90","v":2356.3979999999997},{"$f":"'52 Collier County Factor'!C96","v":3283.6080000000002},{"$f":"AVERAGE(Table19320263238110[[#This Row],[Okaloosa (tons)]:[Collier (tons) ]])","v":2820.0029999999997},{"$f":"E24/$E$42","v":1.3903984940955063E-2}]
[null,"Glass",{"$f":"'51 Okaloosa County Factor'!B91","v":5498.2620000000006},{"$f":"'52 Collier County Factor'!C97","v":9303.5560000000005},{"$f":"AVERAGE(Table19320263238110[[#This Row],[Okaloosa (tons)]:[Collier (tons) ]])","v":7400.9090000000006},{"$f":"E25/$E$42","v":3.6490077239413866E-2}]
[null,"Aluminum Cans",{"$f":"'51 Okaloosa County Factor'!B92","v":1440.021},{"$f":"'52 Collier County Factor'!C98","v":1641.8040000000001},{"$f":"AVERAGE(Table19320263238110[[#This Row],[Okaloosa (tons)]:[Collier (tons) ]])","v":1540.9124999999999},7.5974473060239365E-3]
[null,"Plastic Bottles",{"$f":"'51 Okaloosa County Factor'!B93","v":3665.5079999999998},{"$f":"'52 Collier County Factor'!C99","v":8756.2880000000005},{"$f":"AVERAGE(Table19320263238110[[#This Row],[Okaloosa (tons)]:[Collier (tons) ]])","v":6210.8980000000001},3.0622744820416124E-2]
[null,"Steel Cans",{"$f":"'51 Okaloosa County Factor'!B94","v":1701.8429999999998},{"$f":"'52 Collier County Factor'!C100","v":3009.9739999999997},{"$f":"AVERAGE(Table19320263238110[[#This Row],[Okaloosa (tons)]:[Collier (tons) ]])","v":2355.9084999999995},1.1615773567002599E-2]
[null,"Corrugated Paper",{"$f":"'51 Okaloosa County Factor'!B95","v":8247.393},{"$f":"'52 Collier County Factor'!C101","v":13681.7},{"$f":"AVERAGE(Table19320263238110[[#This Row],[Okaloosa (tons)]:[Collier (tons) ]])","v":10964.5465},5.4060541574034338E-2]
[null,"Office Paper",{"$f":"'51 Okaloosa County Factor'!B96","v":1440.021},{"$f":"'52 Collier County Factor'!C102","v":4651.7780000000002},{"$f":"AVERAGE(Table19320263238110[[#This Row],[Okaloosa (tons)]:[Collier (tons) ]])","v":3045.8995},1.5017764441974906E-2]
[null,"Yard Trash",{"$f":"'51 Okaloosa County Factor'!B97","v":12960.189},{"$f":"'52 Collier County Factor'!C103","v":6840.85},{"$f":"AVERAGE(Table19320263238110[[#This Row],[Okaloosa (tons)]:[Collier (tons) ]])","v":9900.5195000000003},4.8814371486708336E-2]
[null,"Other Plastics",{"$f":"'51 Okaloosa County Factor'!B98","v":13222.010999999999},{"$f":"'52 Collier County Factor'!C104","v":36940.590000000004},{"$f":"AVERAGE(Table19320263238110[[#This Row],[Okaloosa (tons)]:[Collier (tons) ]])","v":25081.300500000001},0.12366299768176443]
[null,"Ferrous Metals",{"$f":"'51 Okaloosa County Factor'!B99","v":2225.4870000000001},{"$f":"'52 Collier County Factor'!C105","v":5199.0460000000003},{"$f":"AVERAGE(Table19320263238110[[#This Row],[Okaloosa (tons)]:[Collier (tons) ]])","v":3712.2665000000002},1.8303277518787023E-2]
[null,"White Goods",{"$f":"'51 Okaloosa County Factor'!B100","v":523.64400000000001},{"$f":"'52 Collier County Factor'!C106","v":1094.5360000000001},{"$f":"AVERAGE(Table19320263238110[[#This Row],[Okaloosa (tons)]:[Collier (tons) ]])","v":809.09},3.9892068114386163E-3]
[null,"NonFerous Metals",{"$f":"'51 Okaloosa County Factor'!B101","v":654.55500000000006},{"$f":"'52 Collier County Factor'!C107","v":1915.4380000000001},{"$f":"AVERAGE(Table19320263238110[[#This Row],[Okaloosa (tons)]:[Collier (tons) ]])","v":1284.9965000000002},6.3356570844711755E-3]
[null,"Other Paper",{"$f":"'51 Okaloosa County Factor'!B102","v":21993.048000000003},{"$f":"'52 Collier County Factor'!C108","v":47338.681999999993},{"$f":"AVERAGE(Table19320263238110[[#This Row],[Okaloosa (tons)]:[Collier (tons) ]])","v":34665.864999999998},0.17091955750585414]
[null,"Textiles",{"$f":"'51 Okaloosa County Factor'!B103","v":4581.8850000000002},{"$f":"'52 Collier County Factor'!C109","v":9850.8239999999987},{"$f":"AVERAGE(Table19320263238110[[#This Row],[Okaloosa (tons)]:[Collier (tons) ]])","v":7216.3544999999995},3.5580133885174343E-2]
[null,"C&D Debris",{"$f":"'51 Okaloosa County Factor'!B104","v":11651.079},{"$f":"'52 Collier County Factor'!C110","v":37487.858},{"$f":"AVERAGE(Table19320263238110[[#This Row],[Okaloosa (tons)]:[Collier (tons) ]])","v":24569.468499999999},0.1211394172386589]
[null,"Food",{"$f":"'51 Okaloosa County Factor'!B105","v":18458.450999999997},{"$f":"'52 Collier County Factor'!C111","v":35025.152000000002},{"$f":"AVERAGE(Table19320263238110[[#This Row],[Okaloosa (tons)]:[Collier (tons) ]])","v":26741.801500000001},0.13185007439708737]
[null,"Miscellaneous",{"$f":"'51 Okaloosa County Factor'!B106","v":19898.472000000002},{"$f":"'52 Collier County Factor'!C112","v":48706.851999999999},{"$f":"AVERAGE(Table19320263238110[[#This Row],[Okaloosa (tons)]:[Collier (tons) ]])","v":34302.661999999997},0.16912879024691516]
[null,"Tires",{"$f":"'51 Okaloosa County Factor'!B107","v":392.733},{"$f":"'52 Collier County Factor'!C113","v":0},{"$f":"AVERAGE(Table19320263238110[[#This Row],[Okaloosa (tons)]:[Collier (tons) ]])","v":196.3665},9.6818225331960731E-4]
[null,"Total",{"$f":"SUM(C24:C41)","v":130910.99999999999},{"$f":"SUM(D24:D41)","v":274728.53600000002},{"$f":"AVERAGE(Table19320263238110[[#This Row],[Okaloosa (tons)]:[Collier (tons) ]])","v":202819.76800000001},1]
[]
[null,"Recycled tons from Sumter",null,null,null,null,null,null,null,null,null,null,{"$f":"SUM(C43:L43)","v":0}]
[null,"Materials","Tons"]
[null,"Newspaper",1188]
[null,"Glass",4115]
[null,"Aluminum Cans",360]
[null,"Plastic Bottles",953]
[null,"Steel Cans",370]
[null,"Corrugated Paper",6143]
[null,"Office Paper",767]
[null,"Yard Trash",74828]
[null,"Other Plastics",2240]
[null,"Ferrous Metals",10126]
[null,"White Goods",1927]
[null,"NonFerous Metals",756]
[null,"Other Paper",7598]
[null,"Textiles",214]
[null,"C&D Debris",71117]
[null,"Food",94]
[null,"Miscellaneous",5636]
[null,"Tires",447]
[null,"Total",{"$f":"SUM(C46:C63)","v":188879}]
[]
[null,3,null,null,null,null,null,null,null,4]
[]
[null,"Calculating waste compositon percentage utalizing waste compsition study"]
[".","FDEP Category","Landfilled tons\n(Plus combusor ash, minus C&D  disposed)","Collected C&D \n(disposal C&D LANDFILL + recycled)","Combusted\n(minus recycled metals, minus ash)","Recycled Materials\n(Minus recycled C&D)","Total Collected Tons"]
[null,null,{"$f":"C9-C11+C17","v":163136},{"$f":"C11+C14","v":91566},{"$f":"C16-C15+C17","v":167},{"$f":"C64","v":188879},null,null,null,"FDEP Category","Percentage"]
[null,"Newspaper",{"$f":"$C$70*F24","v":2268.240487327645},null,{"$f":"$E$70*F24","v":2.3219654851394957},{"$f":"C46","v":1188},{"$f":"SUM(C71:F71)","v":3458.5624528127846},null,null,"Newspaper",{"$f":"G71/$G$90","v":9.2814673304496536E-3}]
[null,"Glass",5952.8452405290209,null,6.0938428989821158,4115,10073.939083428002,null,null,"Glass",2.7034624288982942E-2]
[null,"Aluminum Cans",1239.4171637155209,null,1.2687737001059973,360,1600.685937415627,null,null,"Aluminum Cans",4.2956327772397549E-3]
[null,"Plastic Bottles",4995.6720990234053,null,5.1139983850094923,953,5953.7860974084151,null,null,"Plastic Botles",1.5977699379301279E-2]
[null,"Steel Cans",1894.9508366265359,null,1.9398341856894339,370,2266.8906708122254,null,null,"Steel Cans",6.0834731163328477E-3]
[null,"Corrugated Paper",8819.2205102216649,null,9.0281104428637349,6143,14971.248620664528,null,null,"Corrugated Paper",4.0177142053840202E-2]
[null,"Office Paper",2449.9380200060182,null,2.5079666618098093,767,3219.445986667828,null,null,"Office Paper",8.6397696022816883E-3]
[null,"Yard Trash",7963.381306855651,null,8.152000038280292,74828,82799.533306893936,null,null,"Yard Trash",0.22220248263535222]
[null,"Other Plastics",20173.886789812321,null,20.65172061285466,2240,22434.538510425176,null,null,"Other Plastics",6.0205775983278836E-2]
[null,"Ferrous Metals",2985.9234813048397,null,3.0566473456374328,10126,13114.980128650477,null,null,"Ferrous Metals",3.5195622824323466E-2]
[null,"White Goods",650.78324239085009,null,0.6661975375102489,1927,2578.4494399283603,null,null,"White Goods",6.9195784567799255E-3]
[null,"NonFerous Metals",1033.5737541322897,null,1.0580547331066863,756,1790.6318088653964,null,null,"NonFerous Metals",4.805375314628671E-3]
[null,"Other Paper",27883.132933275021,null,28.543566103477641,7598,35509.676499378504,null,null,"Other Paper",9.5294477645119446E-2]
[null,"Textiles",5804.400721491802,null,5.941882358824115,214,6024.3426038506259,null,null,"Textiles",1.616704623032068E-2]
[null,"C&D Debris",19762.199970645859,{"$f":"C10","v":91566},20.230282678856035,0,111348.43025332471,null,null,"C&D Debris",0.29881687313542005]
[null,"Food",21509.493736843247,null,22.018962424313592,{"$f":"C61","v":94},21625.512699267561,null,null,"Food",5.8034658145102155E-2]
[null,"Miscellaneous",27590.994325720752,null,28.244507971234832,{"$f":"C62","v":5636},33255.238833691983,null,null,"Miscellaneous",8.9244423662261013E-2]
[null,"Tires",157.94538007754747,null,0.16168643630437443,{"$f":"C63","v":447},605.10706651385181,null,null,"Tires",1.6238774189851403E-3]
[null,null,"Total","Total","Total","Total","Total",null,null,null,"total"]
[null,null,{"$f":"SUM(C71:C88)","v":163136},{"$f":"D85","v":91566},{"$f":"SUM(E71:E88)","v":167},{"$f":"SUM(F71:F88)","v":117762},{"$f":"SUM(C90:F90)","v":372631},null,null,null,{"$f":"SUM(K71:K88)","v":1}]
[]
[null,5]
[]
[null,"US EPA Data and Moisture Content"]
[null,"Category","Moisture Content  (MC) ","US EPA DATA (lbs-dry/person)","US EPA DATA             (lbs-WET/person)    [US EPA DATA/(1-MC)"]
[null,"Newspaper",0.27850000000000003,41.931464174454831,58.117067462861854]
[null,"Glass",3.2000000000000001E-2,56.822429906542055,58.700857341469067]
[null,"Aluminum Cans",0.129,8.4112149532710276,9.6569632069701807]
[null,"Plastic Bottles",4.8000000000000001E-2,23.302180685358255,24.477080551846907]
[null,"Steel Cans",5.8000000000000003E-2,10.841121495327103,11.508621544933231]
[null,"Corrugated Paper",0.24049999999999999,195.20249221183801,257.01447295831201]
[null,"Office Paper",0.13400000000000001,28.22429906542056,32.591569359608037]
[null,"Yard Waste",0.50600000000000001,216.3239875389408,437.90280878328099]
[null,"Other Plastics",0.11700000000000001,154.90485396035913,175.43018568557093]
[null,"Non-ferrous Metal",5.3999999999999999E-2,46.762277712979795,49.431583206109721]
[null,"White Goods","x",30.280373831775702,30.280373831775702]
[null,"Ferrous Metal",0.16900000000000001,12.133426323463874,14.600994372399368]
[null,"Other Paper",0.2545,158.56697819314641,212.69883057430772]
[null,"Textiles",0.17,76.349308411214949,91.987118567728857]
[null,"C&D Debris",8.8999999999999996E-2,"-","-"]
[null,"Food Waste",0.59750000000000003,247.53894080996884,615.00357965209651]
[null,"Miscellaneous",0.313,206.19904324930312,300.14416775735532]
[null,"Tires","x",36.386292834890966,36.386292834890966]
[]
[]
[null,6]
[]
[null,"Finding County Factor"]
[null,"Category","tons-DRY/county-us data ","tons-WET/county-us data ","County Factor","Category       "]
[null,"equation","US DATA * County Population/2000","tons-DRY/(1-MoistureContent)","ton-wet-composition/tons-wet-Usdata"]
[null,"Newspaper ",{"$f":"D96*$C$8/2000","v":3208.2182554517135},{"$f":"C121/(1-C96)","v":4446.5949486510235},{"$f":"G71/D121","v":0.77780020279607853},"Newspaper "]
[null,"Glass ",4347.5409345794396,4491.2612960531405,2.2430089053782827,"Glass "]
[null,"Aluminum Cans ",643.55046728971956,738.86391192849544,2.1664151023937621,"Aluminum Cans "]
[null,"Plastic Bottles ",1782.8731464174455,1872.7659101023587,3.1791405777367032,"Plastic Bottles "]
[null,"Steel Cans ",829.46504672897197,880.53614302438643,2.57444363728911,"Steel Cans "]
[null,"Corrugated Paper",14935.137881619938,19664.434340513413,0.76133634771381109,"Corrugated Paper"]
[null,"Office Paper ",2159.4693457943922,2493.6135632729702,1.2910765461357905,"Office Paper "]
[null,"Yard Waste ",16551.164610591899,33504.38180281761,2.4713046130560379,"Yard Waste "]
[null,"Other Plastics ",11851.925281361038,13422.338936988719,1.6714328714052225,"Other Plastics "]
[null,"Ferrous Metal ",{"$f":"D107*$C$8/2000","v":928.34058143454456},{"$f":"C130/(1-C107)","v":1117.1366804266481},{"$f":"C80/D130","v":2.6728363087715277},"Ferrous Metal "]
[null,"White Goods ",{"$f":"D106*$C$8/2000","v":2316.7816822429909},{"$f":"Table7141925313743115[[#This Row],[tons-DRY/county-us data ]]","v":2316.7816822429909},{"$f":"G81/Table7141925313743115[[#This Row],[tons-WET/county-us data ]]","v":1.1129445038740275},"White Goods "]
[null,"Non-ferrous Metal ",{"$f":"D105*$C$8/2000","v":3577.828630097797},{"$f":"C132/(1-C105)","v":3782.0598626826609},{"$f":"C82/D132","v":0.27328328785339828},"Non-ferrous Metal "]
[null,"Other Paper ",{"$f":"D108*$C$8/2000","v":12132.118068535825},{"$f":"C133/(1-C108)","v":16273.800226070858},{"$f":"G83/D133","v":2.1820150183785283},"Other Paper "]
[null,"Textiles ",5841.5619358504664,{"$f":"C134/(1-C109)","v":7038.0264287355021},{"$f":"G84/D134","v":0.85597044353995111},"Textiles "]
[null,"C&D Debris",{"$error":"#VALUE!"},{"$f":"C135/(1-C110)","v":{"$error":"#VALUE!"}},{"$f":"#REF!/D135","v":{"$error":"#REF!"}},"C&D Debris"]
[null,"Food Waste",18939.451900311527,{"$f":"C136/(1-C111)","v":47054.538882761561},{"$f":"G86/D136","v":0.45958398940320022},"Food Waste"]
[null,"Miscellaneous ",15776.49499804743,{"$f":"C137/(1-C112)","v":22964.330419283011},{"$f":"G87/D137","v":1.4481257770863529},"Miscellaneous "]
[null,"Tires ",2783.9516510903427,{"$f":"Table7141925313743115[[#This Row],[tons-DRY/county-us data ]]","v":2783.9516510903427},{"$f":"G88/Table7141925313743115[[#This Row],[tons-WET/county-us data ]]","v":0.21735545093854625},"Tires "]
[]
[]
[null,"Link to \"New WasteCalc County Factors\""]
[null,"Newspaper","Glass","Aluminum Cans","Plastic Bottles","Steel Cans","Corrugated Paper","Office Paper","Yard Waste","Other Plastics","Ferrous Metals","White Goods","Non-Ferrous Metal","Other Paper","Textiles","C&D Debris","Food Waste","Misc","Tires"]
[null,{"$f":"E121","v":0.77780020279607853},{"$f":"E122","v":2.2430089053782827},{"$f":"E123","v":2.1664151023937621},{"$f":"E124","v":3.1791405777367032},{"$f":"E125","v":2.57444363728911},{"$f":"E126","v":0.76133634771381109},{"$f":"E127","v":1.2910765461357905},{"$f":"E128","v":2.4713046130560379},{"$f":"E129","v":1.6714328714052225},{"$f":"E130","v":2.6728363087715277},{"$f":"E131","v":1.1129445038740275},{"$f":"E132","v":0.27328328785339828},{"$f":"E133","v":2.1820150183785283},{"$f":"E134","v":0.85597044353995111},{"$f":"E135","v":{"$error":"#REF!"}},{"$f":"E136","v":0.45958398940320022},{"$f":"E137","v":1.4481257770863529},{"$f":"E138","v":0.21735545093854625}]

{"sheet":"44 Charlotte County Factor","index":43,"n_rows":142,"n_cols":19,"rows_kept":142,"cut":false,"hidden":true,"merged":[[2,1,2,2],[3,1,3,2],[18,1,18,2],[42,1,42,2],[64,1,64,2],[64,9,64,10],[90,1,90,2],[92,1,92,2],[114,1,114,2],[116,1,116,2]]}
[null,"Finding County Factors for Charlotte"]
[]
[null,1]
[null,"Information from annual solid waste report 2017"]
[null,"County","Charlotte"]
[null,"Waste comp study","NONE"]
[null,"Year",2017]
[null,"Population",171484]
[null,"Landfilled tons ",230605]
[null,"C&D collected",368710]
[null,"C&D disposed",{"$f":"C10-C14","v":38564}]
[]
[null,"Recycled tons",605115]
[null,"Recycled C&D",330146]
[null,"combustor recy metals",0]
[null,"Combustor input",0]
[null,"Total Tons MSW collected",{"$f":"C9+(C16-C15)+C13","v":835720}]
[]
[null,2]
[]
[null,"Average disposal LANDFILLED from Okaloosa and Collier"]
[null,"Category","Okaloosa (tons)","Collier (tons) ","Average","Percent"]
[null,"Newspaper",{"$f":"'51 Okaloosa County Factor'!B90","v":2356.3979999999997},{"$f":"'52 Collier County Factor'!C96","v":3283.6080000000002},{"$f":"AVERAGE(C23:D23)","v":2820.0029999999997},{"$f":"E23/$E$41","v":1.3903984940955065E-2}]
[null,"Glass",{"$f":"'51 Okaloosa County Factor'!B91","v":5498.2620000000006},{"$f":"'52 Collier County Factor'!C97","v":9303.5560000000005},{"$f":"AVERAGE(C24:D24)","v":7400.9090000000006},{"$f":"E24/$E$41","v":3.6490077239413866E-2}]
[null,"Aluminum Cans",{"$f":"'51 Okaloosa County Factor'!B92","v":1440.021},{"$f":"'52 Collier County Factor'!C98","v":1641.8040000000001},1540.9124999999999,7.5974473060239373E-3]
[null,"Plastic Bottles",{"$f":"'51 Okaloosa County Factor'!B93","v":3665.5079999999998},{"$f":"'52 Collier County Factor'!C99","v":8756.2880000000005},6210.8980000000001,3.0622744820416128E-2]
[null,"Steel Cans",{"$f":"'51 Okaloosa County Factor'!B94","v":1701.8429999999998},{"$f":"'52 Collier County Factor'!C100","v":3009.9739999999997},2355.9084999999995,1.16157735670026E-2]
[null,"Corrugated Paper",{"$f":"'51 Okaloosa County Factor'!B95","v":8247.393},{"$f":"'52 Collier County Factor'!C101","v":13681.7},10964.5465,5.4060541574034351E-2]
[null,"Office Paper",{"$f":"'51 Okaloosa County Factor'!B96","v":1440.021},{"$f":"'52 Collier County Factor'!C102","v":4651.7780000000002},3045.8995,1.5017764441974907E-2]
[null,"Yard Trash",{"$f":"'51 Okaloosa County Factor'!B97","v":12960.189},{"$f":"'52 Collier County Factor'!C103","v":6840.85},9900.5195000000003,4.8814371486708343E-2]
[null,"Other Plastics",{"$f":"'51 Okaloosa County Factor'!B98","v":13222.010999999999},{"$f":"'52 Collier County Factor'!C104","v":36940.590000000004},25081.300500000001,0.12366299768176445]
[null,"Ferrous Metals",{"$f":"'51 Okaloosa County Factor'!B99","v":2225.4870000000001},{"$f":"'52 Collier County Factor'!C105","v":5199.0460000000003},3712.2665000000002,1.8303277518787027E-2]
[null,"White Goods",{"$f":"'51 Okaloosa County Factor'!B100","v":523.64400000000001},{"$f":"'52 Collier County Factor'!C106","v":1094.5360000000001},809.09,3.9892068114386172E-3]
[null,"NonFerous Metals",{"$f":"'51 Okaloosa County Factor'!B101","v":654.55500000000006},{"$f":"'52 Collier County Factor'!C107","v":1915.4380000000001},1284.9965000000002,6.3356570844711763E-3]
[null,"Other Paper",{"$f":"'51 Okaloosa County Factor'!B102","v":21993.048000000003},{"$f":"'52 Collier County Factor'!C108","v":47338.681999999993},34665.864999999998,0.17091955750585416]
[null,"Textiles",{"$f":"'51 Okaloosa County Factor'!B103","v":4581.8850000000002},{"$f":"'52 Collier County Factor'!C109","v":9850.8239999999987},7216.3544999999995,3.558013388517435E-2]
[null,"C&D Debris",{"$f":"'51 Okaloosa County Factor'!B104","v":11651.079},{"$f":"'52 Collier County Factor'!C110","v":37487.858},24569.468499999999,0.12113941723865891]
[null,"Food",{"$f":"'51 Okaloosa County Factor'!B105","v":18458.450999999997},{"$f":"'52 Collier County Factor'!C111","v":35025.152000000002},26741.801500000001,0.13185007439708737]
[null,"Miscellaneous",{"$f":"'51 Okaloosa County Factor'!B106","v":19898.472000000002},{"$f":"'52 Collier County Factor'!C112","v":48706.851999999999},34302.661999999997,{"$f":"E39/$E$41","v":0.16912879024691518}]
[null,"Tires",{"$f":"'51 Okaloosa County Factor'!B107","v":392.733},{"$f":"'52 Collier County Factor'!C113","v":0},196.3665,9.6818225331960753E-4]
[null,"Total",{"$f":"SUM(C23:C40)","v":130910.99999999999},{"$f":"SUM(D23:D40)","v":274728.53600000002},{"$f":"SUM(E23:E40)","v":202819.76799999998},1]
[null,null,null,null,null,null,null,null,null,null,null,null,{"$f":"SUM(#REF!)","v":{"$error":"#REF!"}}]
[null,"Recycled tons from Charlotte",null,null,null,null,null,null,null,null,null,null,{"$f":"SUM(C42:L42)","v":0}]
[null,"Materials","Tons"]
[null,"Newspaper",7381]
[null,"Glass",2756]
[null,"Aluminum Cans",381]
[null,"Plastic Bottles",351]
[null,"Steel Cans",461]
[null,"Corrugated Paper",11389]
[null,"Office Paper",342]
[null,"Yard Trash",209423]
[null,"Other Plastics",1553]
[null,"Ferrous Metals",11541]
[null,"White Goods",2197]
[null,"NonFerous Metals",1372]
[null,"Other Paper",386]
[null,"Textiles",435]
[null,"C&D Debris",330146]
[null,"Food",1645]
[null,"Miscellaneous",22800]
[null,"Tires",556]
[null,"Total",{"$f":"SUM(C45:C62)","v":605115}]
[]
[null,3,null,null,null,null,null,null,null,4]
[]
[null,"Calculating waste compositon percentage utalizing waste compsition study"]
[".","FDEP Category","Landfilled tons\n(Plus combusor ash, minus C&D  disposed)","Collected C&D \n(disposal C&D LANDFILL + recycled)","Combusted\n(minus recycled metals, minus ash)","Recycled Materials\n(Minus recycled C&D)","Total Collected Tons"]
[null,null,{"$f":"C9-C11","v":192041},{"$f":"C11+C14","v":368710},{"$f":"C16-C15","v":0},{"$f":"C63","v":605115},null,null,null,"FDEP Category","Percentage"]
[null,"Newspaper",{"$f":"$C$69*F23","v":2670.1351720459515},null,{"$f":"$E$69*F23","v":0},{"$f":"C45","v":7381},{"$f":"SUM(C70:F70)","v":10051.135172045952},null,null,"Newspaper",{"$f":"G70/$G$89","v":1.202691711583539E-2}]
[null,"Glass",7007.5909231342785,null,0,2756,9763.5909231342775,null,null,"Glass",1.16828494270022E-2]
[null,"Aluminum Cans",1459.0213780961431,null,0,381,1840.0213780961431,null,null,"Aluminum Cans",2.2017199278420319E-3]
[null,"Plastic Bottles",5880.8225380575332,null,0,351,6231.8225380575332,null,null,"Plastic Botles",7.45683068259409E-3]
[null,"Steel Cans",2230.7047715807462,null,0,461,2691.7047715807462,null,null,"Steel Cans",3.2208212937117051E-3]
[null,"Corrugated Paper",10381.840464419131,null,0,11389,21770.840464419132,null,null,"Corrugated Paper",2.6050400211098373E-2]
[null,"Office Paper",2884.0265012013033,null,0,342,3226.0265012013033,null,null,"Office Paper",3.8601762566425396E-3]
[null,"Yard Trash",9374.3607146789564,null,0,209423,218797.36071467894,null,null,"Yard Trash",0.26180701755932484]
[null,"Other Plastics",23748.365737803728,null,0,1553,25301.365737803728,null,null,"Other Plastics",3.0274931481601167E-2]
[null,"Ferrous Metals",3514.9797179853795,null,0,11541,15055.979717985379,null,null,"Ferrous Metals",1.8015579043202723E-2]
[null,"White Goods",766.09126527548347,null,0,2197,2963.0912652754832,null,null,"White Goods",3.5455550486711857E-3]
[null,"NonFerous Metals",1216.7059221589291,null,0,1372,2588.7059221589288,null,null,"NonFerous Metals",3.0975756499293169E-3]
[null,"Other Paper",32823.56274298174,null,0,386,33209.56274298174,null,null,"Other Paper",3.9737666614394464E-2]
[null,"Textiles",6832.8444914427673,null,0,435,7267.8444914427673,null,null,"Textiles",8.6965065948436879E-3]
[null,"C&D Debris",23263.734825929296,{"$f":"C10","v":368710},0,0,391973.73482592928,null,null,"C&D Debris",0.46902519363654011]
[null,"Food",25320.620137291058,null,0,{"$f":"C60","v":1645},26965.620137291058,null,null,"Food",3.2266333385931961E-2]
[null,"Miscellaneous",32479.662007807838,null,0,{"$f":"C61","v":22800},55279.662007807841,null,null,"Miscellaneous",6.6146151830526786E-2]
[null,"Tires",185.93068810975075,null,0,{"$f":"C62","v":556},741.93068810975069,null,null,"Tires",8.8777424030746027E-4]
[null,null,"Total","Total","Total","Total","Total",null,null,null,"total"]
[null,null,{"$f":"SUM(C70:C87)","v":192041},{"$f":"D84","v":368710},{"$f":"SUM(E70:E87)","v":0},{"$f":"SUM(F70:F87)","v":274969},{"$f":"SUM(C89:F89)","v":835720},null,null,null,{"$f":"SUM(K70:K87)","v":1}]
[]
[null,5]
[]
[null,"US EPA Data and Moisture Content"]
[null,"Category","Moisture Content  (MC) ","US EPA DATA (lbs-dry/person)","US EPA DATA             (lbs-WET/person)    [US EPA DATA/(1-MC)"]
[null,"Newspaper",0.27850000000000003,41.931464174454831,58.117067462861854]
[null,"Glass",3.2000000000000001E-2,56.822429906542055,58.700857341469067]
[null,"Aluminum Cans",0.129,8.4112149532710276,9.6569632069701807]
[null,"Plastic Bottles",4.8000000000000001E-2,23.302180685358255,24.477080551846907]
[null,"Steel Cans",5.8000000000000003E-2,10.841121495327103,11.508621544933231]
[null,"Corrugated Paper",0.24049999999999999,195.20249221183801,257.01447295831201]
[null,"Office Paper",0.13400000000000001,28.22429906542056,32.591569359608037]
[null,"Yard Waste",0.50600000000000001,216.3239875389408,437.90280878328099]
[null,"Other Plastics",0.11700000000000001,154.90485396035913,175.43018568557093]
[null,"Non-ferrous Metal",5.3999999999999999E-2,46.762277712979795,49.431583206109721]
[null,"White Goods","x",30.280373831775702,30.280373831775702]
[null,"Ferrous Metal",0.16900000000000001,12.133426323463874,14.600994372399368]
[null,"Other Paper",0.2545,158.56697819314641,212.69883057430772]
[null,"Textiles",0.17,76.349308411214949,91.987118567728857]
[null,"C&D Debris",8.8999999999999996E-2,"-","-"]
[null,"Food Waste",0.59750000000000003,247.53894080996884,615.00357965209651]
[null,"Miscellaneous",0.313,206.19904324930312,300.14416775735532]
[null,"Tires","x",36.386292834890966,36.386292834890966]
[]
[]
[null,6]
[]
[null,"Finding County Factor"]
[null,"Category","tons-DRY/county-us data ","tons-WET/county-us data ","County Factor","Category    "]
[null,"equation","US DATA * County Population/2000","tons-DRY/(1-MoistureContent)","ton-wet-composition/tons-wet-Usdata"]
[null,"Newspaper ",{"$f":"D95*$C$8/2000","v":3595.2876012461061},{"$f":"C120/(1-C95)","v":4983.0735984007015},{"$f":"G70/D120","v":2.0170553321291149},"Newspaper "]
[null,"Glass ",4872.0687850467293,5033.1289101722414,1.9398650615527653,"Glass "]
[null,"Aluminum Cans ",721.1943925233644,828.00733929203716,2.2222283436151642,"Aluminum Cans "]
[null,"Plastic Bottles ",1997.9755763239875,2098.7138406764575,2.9693531425174631,"Plastic Bottles "]
[null,"Steel Cans ",929.53943925233648,986.77222850566511,2.7277873189205719,"Steel Cans "]
[null,"Corrugated Paper",16737.052087227414,22036.934940391591,0.98792506867709928,"Corrugated Paper"]
[null,"Office Paper ",2420.0078504672897,2794.4663400315126,1.1544338376839867,"Office Paper "]
[null,"Yard Waste ",18548.051339563863,37546.662630696075,5.827345105655338,"Yard Waste "]
[null,"Other Plastics ",13281.851988269113,15041.734981052223,1.6820776173543384,"Other Plastics "]
[null,"Ferrous Metal ",{"$f":"D106*$C$8/2000","v":1040.3442398264394},{"$f":"C129/(1-C106)","v":1251.9184594782664},{"$f":"C79/D129","v":2.8076746463585476},"Ferrous Metal "]
[null,"White Goods ",{"$f":"D105*$C$8/2000","v":2596.299813084112},{"$f":"Table7141925313743115135[[#This Row],[tons-DRY/county-us data ]]","v":2596.299813084112},{"$f":"G80/Table7141925313743115135[[#This Row],[tons-WET/county-us data ]]","v":1.1412746903662347},"White Goods "]
[null,"Non-ferrous Metal ",{"$f":"D104*$C$8/2000","v":4009.4912156663136},{"$f":"C131/(1-C104)","v":4238.3628072582596},{"$f":"C81/D131","v":0.28706979026790769},"Non-ferrous Metal "]
[null,"Other Paper ",{"$f":"D107*$C$8/2000","v":13595.84984423676},{"$f":"C132/(1-C107)","v":18237.223131102292},{"$f":"G82/D132","v":1.8209769384432866},"Other Paper "]
[null,"Textiles ",6546.3424017943926,{"$f":"C133/(1-C108)","v":7887.1595202342087},{"$f":"G83/D133","v":0.92147806479600014},"Textiles "]
[null,"C&D Debris",{"$error":"#VALUE!"},{"$f":"C134/(1-C109)","v":{"$error":"#VALUE!"}},{"$f":"#REF!/D134","v":{"$error":"#REF!"}},"C&D Debris"]
[null,"Food Waste",21224.483862928351,{"$f":"C135/(1-C110)","v":52731.636926530067},{"$f":"G85/D135","v":0.5113746075218889},"Food Waste"]
[null,"Miscellaneous ",17679.918366281749,{"$f":"C136/(1-C111)","v":25734.961231851161},{"$f":"G86/D136","v":2.1480375085776449},"Miscellaneous "]
[null,"Tires ",3119.8335202492208,{"$f":"Table7141925313743115135[[#This Row],[tons-DRY/county-us data ]]","v":3119.8335202492208},{"$f":"G87/Table7141925313743115135[[#This Row],[tons-WET/county-us data ]]","v":0.23781098680242505},"Tires "]
[]
[]
[null,"Link to \"New WasteCalc County Factors\""]
[null,"Newspaper","Glass","Aluminum Cans","Plastic Bottles","Steel Cans","Corrugated Paper","Office Paper","Yard Waste","Other Plastics","Ferrous Metals","White Goods","Non-Ferrous Metal","Other Paper","Textiles","C&D Debris","Food Waste","Misc","Tires"]
[null,{"$f":"E120","v":2.0170553321291149},{"$f":"E121","v":1.9398650615527653},{"$f":"E122","v":2.2222283436151642},{"$f":"E123","v":2.9693531425174631},{"$f":"E124","v":2.7277873189205719},{"$f":"E125","v":0.98792506867709928},{"$f":"E126","v":1.1544338376839867},{"$f":"E127","v":5.827345105655338},{"$f":"E128","v":1.6820776173543384},{"$f":"E129","v":2.8076746463585476},{"$f":"E130","v":1.1412746903662347},{"$f":"E131","v":0.28706979026790769},{"$f":"E132","v":1.8209769384432866},{"$f":"E133","v":0.92147806479600014},{"$f":"E134","v":{"$error":"#REF!"}},{"$f":"E135","v":0.5113746075218889},{"$f":"E136","v":2.1480375085776449},{"$f":"E137","v":0.23781098680242505}]

{"sheet":"45 Osceola County Factor","index":44,"n_rows":142,"n_cols":19,"rows_kept":142,"cut":false,"hidden":true,"merged":[[64,9,64,10],[90,1,90,2],[92,1,92,2],[113,1,113,2],[115,1,115,2],[2,1,2,2],[3,1,3,2],[18,1,18,2],[42,1,42,2],[64,1,64,2]]}
[null,"Finding County Factors for Osceola"]
[]
[null,1]
[null,"Information from annual solid waste report 2017"]
[null,"County","Osceola"]
[null,"Waste comp study","NONE"]
[null,"Year",2017]
[null,"Population",337287]
[null,"Landfilled tons",361148]
[null,"C&D collected",82098]
[null,"C&D disposed",{"$f":"C10-C14","v":82012}]
[]
[null,"Recycled tons",57721]
[null,"Recycled C&D",86]
[null,"WTE Metals",0]
[null,"WTE input",0]
[null,"Total Tons MSW collected",{"$f":"C9+(C16-C15)+C13","v":418869}]
[]
[null,2]
[]
[null,"Average disposal LANDFILLED from Okaloosa and Collier"]
[null,"Category ","Okaloosa (tons)","Collier (tons) ","Average","Percent"]
[null,"Newspaper",{"$f":"'51 Okaloosa County Factor'!B90","v":2356.3979999999997},{"$f":"'52 Collier County Factor'!C96","v":3283.6080000000002},{"$f":"AVERAGE(C23:D23)","v":2820.0029999999997},{"$f":"E23/$E$41","v":1.3903984940955065E-2}]
[null,"Glass",{"$f":"'51 Okaloosa County Factor'!B91","v":5498.2620000000006},{"$f":"'52 Collier County Factor'!C97","v":9303.5560000000005},{"$f":"AVERAGE(C24:D24)","v":7400.9090000000006},{"$f":"E24/$E$41","v":3.6490077239413866E-2}]
[null,"Aluminum Cans",{"$f":"'51 Okaloosa County Factor'!B92","v":1440.021},{"$f":"'52 Collier County Factor'!C98","v":1641.8040000000001},1540.9124999999999,7.5974473060239373E-3]
[null,"Plastic Bottles",{"$f":"'51 Okaloosa County Factor'!B93","v":3665.5079999999998},{"$f":"'52 Collier County Factor'!C99","v":8756.2880000000005},6210.8980000000001,3.0622744820416128E-2]
[null,"Steel Cans",{"$f":"'51 Okaloosa County Factor'!B94","v":1701.8429999999998},{"$f":"'52 Collier County Factor'!C100","v":3009.9739999999997},2355.9084999999995,1.16157735670026E-2]
[null,"Corrugated Paper",{"$f":"'51 Okaloosa County Factor'!B95","v":8247.393},{"$f":"'52 Collier County Factor'!C101","v":13681.7},10964.5465,5.4060541574034351E-2]
[null,"Office Paper",{"$f":"'51 Okaloosa County Factor'!B96","v":1440.021},{"$f":"'52 Collier County Factor'!C102","v":4651.7780000000002},3045.8995,1.5017764441974907E-2]
[null,"Yard Trash",{"$f":"'51 Okaloosa County Factor'!B97","v":12960.189},{"$f":"'52 Collier County Factor'!C103","v":6840.85},9900.5195000000003,4.8814371486708343E-2]
[null,"Other Plastics",{"$f":"'51 Okaloosa County Factor'!B98","v":13222.010999999999},{"$f":"'52 Collier County Factor'!C104","v":36940.590000000004},25081.300500000001,0.12366299768176445]
[null,"Ferrous Metals",{"$f":"'51 Okaloosa County Factor'!B99","v":2225.4870000000001},{"$f":"'52 Collier County Factor'!C105","v":5199.0460000000003},3712.2665000000002,1.8303277518787027E-2]
[null,"White Goods",{"$f":"'51 Okaloosa County Factor'!B100","v":523.64400000000001},{"$f":"'52 Collier County Factor'!C106","v":1094.5360000000001},809.09,3.9892068114386172E-3]
[null,"NonFerous Metals",{"$f":"'51 Okaloosa County Factor'!B101","v":654.55500000000006},{"$f":"'52 Collier County Factor'!C107","v":1915.4380000000001},1284.9965000000002,6.3356570844711763E-3]
[null,"Other Paper",{"$f":"'51 Okaloosa County Factor'!B102","v":21993.048000000003},{"$f":"'52 Collier County Factor'!C108","v":47338.681999999993},34665.864999999998,0.17091955750585416]
[null,"Textiles",{"$f":"'51 Okaloosa County Factor'!B103","v":4581.8850000000002},{"$f":"'52 Collier County Factor'!C109","v":9850.8239999999987},7216.3544999999995,3.558013388517435E-2]
[null,"C&D Debris",{"$f":"'51 Okaloosa County Factor'!B104","v":11651.079},{"$f":"'52 Collier County Factor'!C110","v":37487.858},24569.468499999999,0.12113941723865891]
[null,"Food",{"$f":"'51 Okaloosa County Factor'!B105","v":18458.450999999997},{"$f":"'52 Collier County Factor'!C111","v":35025.152000000002},26741.801500000001,0.13185007439708737]
[null,"Miscellaneous",{"$f":"'51 Okaloosa County Factor'!B106","v":19898.472000000002},{"$f":"'52 Collier County Factor'!C112","v":48706.851999999999},34302.661999999997,0.16912879024691518]
[null,"Tires",{"$f":"'51 Okaloosa County Factor'!B107","v":392.733},{"$f":"'52 Collier County Factor'!C113","v":0},196.3665,9.6818225331960753E-4]
[null,"Total",{"$f":"SUM(C23:C40)","v":130910.99999999999},{"$f":"SUM(D23:D40)","v":274728.53600000002},{"$f":"SUM(E23:E40)","v":202819.76799999998},1]
[]
[null,"Recycled tons from Osceola",null,null,null,null,null,null,null,null,null,null,{"$f":"SUM(C42:L42)","v":0}]
[null,"Materials","Tons"]
[null,"Newspaper",832]
[null,"Glass",311]
[null,"Aluminum Cans",114]
[null,"Plastic Bottles",53]
[null,"Steel Cans",31]
[null,"Corrugated Paper",13530]
[null,"Office Paper",3583]
[null,"Yard Trash",12666]
[null,"Other Plastics",667]
[null,"Ferrous Metals",13008]
[null,"White Goods",2475]
[null,"NonFerous Metals",668]
[null,"Other Paper",6920]
[null,"Textiles",427]
[null,"C&D Debris",86]
[null,"Food",467]
[null,"Miscellaneous",1511]
[null,"Tires",372]
[null,"Total",{"$f":"SUM(C45:C62)","v":57721}]
[]
[null,3,null,null,null,null,null,null,null,4]
[null,"Average disposal LANDFILLED from Okaloosa and Collier"]
[]
[".","FDEP Category","Landfilled tons\n(Plus combusor ash, minus C&D  disposed)","Collected C&D \n(disposal C&D LANDFILL + recycled)","Combusted\n(minus recycled metals, minus ash)","Recycled Materials\n(Minus recycled C&D)","Total Collected Tons"]
[null,null,{"$f":"C9-C11","v":279136},{"$f":"C11+C14","v":82098},{"$f":"C16-C15","v":0},{"$f":"C63","v":57721},null,null,null,"FDEP Category","Percentage"]
[null,"Newspaper",{"$f":"$C$69*F23","v":3881.1027404784331},null,{"$f":"$E$69*F23","v":0},{"$f":"C45","v":832},{"$f":"SUM(C70:F70)","v":4713.1027404784327},null,null,"Newspaper",{"$f":"G70/$G$89","v":1.1251973147877816E-2}]
[null,"Glass",10185.69420030103,null,0,311,{"$f":"SUM(C71:F71)","v":10496.69420030103},null,null,"Glass",2.5059611000816554E-2]
[null,"Aluminum Cans",2120.7210512142979,null,0,114,2234.7210512142979,null,null,"Aluminum Cans",5.3351311536883796E-3]
[null,"Plastic Bottles",8547.9104981916771,null,0,53,8600.9104981916771,null,null,"Plastic Botles",2.0533652521890322E-2]
[null,"Steel Cans",3242.3805703988378,null,0,31,3273.3805703988378,null,null,"Steel Cans",7.8148074228430314E-3]
[null,"Corrugated Paper",15090.243332809652,null,0,13530,28620.243332809652,null,null,"Corrugated Paper",6.8327432521408007E-2]
[null,"Office Paper",4191.9986952751078,null,0,3583,7774.9986952751078,null,null,"Office Paper",1.856188616315628E-2]
[null,"Yard Trash",13625.84839931382,null,0,12666,26291.848399313822,null,null,"Yard Trash",6.2768666096831752E-2]
[null,"Other Plastics",34518.794520896998,null,0,667,35185.794520896998,null,null,"Other Plastics",8.4001906373823321E-2]
[null,"Ferrous Metals",5109.1036734841355,null,0,13008,18117.103673484136,null,null,"Ferrous Metals",4.3252433752519609E-2]
[null,"White Goods",1113.5312325177299,null,0,2475,3588.5312325177301,null,null,"White Goods",8.5671922069136888E-3]
[null,"NonFerous Metals",1768.5099759309462,null,0,668,2436.509975930946,null,null,"NonFerous Metals",5.816878250553147E-3]
[null,"Other Paper",47709.801603954111,null,0,6920,54629.801603954111,null,null,"Other Paper",0.13042216445703575]
[null,"Textiles",9931.696252172027,null,0,427,10358.696252172027,null,null,"Textiles",2.4730157285862708E-2]
[null,"C&D Debris",33814.372370330297,{"$f":"C10","v":82098},0,0,115912.3723703303,null,null,"C&D Debris",0.27672702532374155]
[null,"Food",36804.102366905383,null,0,{"$f":"C60","v":467},37271.102366905383,null,null,"Food",8.8980331241761468E-2]
[null,"Miscellaneous",47209.933994362917,null,0,{"$f":"C61","v":1511},48720.933994362917,null,null,"Miscellaneous",0.11631544467211208]
[null,"Tires",270.25452146262199,null,0,{"$f":"C62","v":372},642.25452146262205,null,null,"Tires",1.5333064071645839E-3]
[null,null,"Total","Total","Total","Total","Total",null,null,null,"total"]
[null,null,{"$f":"SUM(C70:C87)","v":279136},{"$f":"D84","v":82098},{"$f":"SUM(E70:E87)","v":0},{"$f":"SUM(F70:F87)","v":57635},{"$f":"SUM(G70:G87)","v":418869},null,null,null,{"$f":"SUM(K70:K87)","v":0.99999999999999989}]
[]
[null,5]
[]
[null,"US EPA Data and Moisture Content"]
[null,"Category","Moisture Content  (MC) ","US EPA DATA (lbs-dry/person)","US EPA DATA             (lbs-WET/person)    [US EPA DATA/(1-MC)"]
[null,"Newspaper",0.27850000000000003,41.931464174454831,58.117067462861854]
[null,"Glass",3.2000000000000001E-2,56.822429906542055,58.700857341469067]
[null,"Aluminum Cans",0.129,8.4112149532710276,9.6569632069701807]
[null,"Plastic Bottles",4.8000000000000001E-2,23.302180685358255,24.477080551846907]
[null,"Steel Cans",5.8000000000000003E-2,10.841121495327103,11.508621544933231]
[null,"Corrugated Paper",0.24049999999999999,195.20249221183801,257.01447295831201]
[null,"Office Paper",0.13400000000000001,28.22429906542056,32.591569359608037]
[null,"Yard Waste",0.50600000000000001,216.3239875389408,437.90280878328099]
[null,"Other Plastics",0.11700000000000001,154.90485396035913,175.43018568557093]
[null,"Non-ferrous Metal",5.3999999999999999E-2,46.762277712979795,49.431583206109721]
[null,"White Goods","x",30.280373831775702,30.280373831775702]
[null,"Ferrous Metal",0.16900000000000001,12.133426323463874,14.600994372399368]
[null,"Other Paper",0.2545,158.56697819314641,212.69883057430772]
[null,"Textiles",0.17,76.349308411214949,91.987118567728857]
[null,"C&D Debris",8.8999999999999996E-2,"-","-"]
[null,"Food Waste",0.59750000000000003,247.53894080996884,615.00357965209651]
[null,"Miscellaneous",0.313,206.19904324930312,300.14416775735532]
[null,"Tires","x",36.386292834890966,36.386292834890966]
[]
[null,6]
[]
[null,"Finding County Factor"]
[null,"Category","tons-DRY/county-us data ","tons-WET/county-us data ","County Factor","Category "]
[null,"equation","US DATA * County Population/2000","tons-DRY/(1-MoistureContent)","ton-wet-composition/tons-wet-Usdata"]
[null,"Newspaper ",{"$f":"D95*$C$8/2000","v":7071.4688785046728},{"$f":"C119/(1-C95)","v":9801.0656666731429},{"$f":"G70/D119","v":0.48087655983211469},"Newspaper "]
[null,"Glass ",9582.7334579439248,9899.5180350660376,1.0603237615325996,"Glass "]
[null,"Aluminum Cans ",1418.4967289719625,1628.5840745946757,1.37218648154255,"Aluminum Cans "]
[null,"Plastic Bottles ",3929.7613084112149,4127.9005340453941,2.0836041051024736,"Plastic Bottles "]
[null,"Steel Cans ",1828.2846728971963,1940.8542175129473,1.6865669460704877,"Steel Cans "]
[null,"Corrugated Paper",32919.631495327107,43343.820270345102,0.6603073553345965,"Corrugated Paper"]
[null,"Office Paper ",4759.8445794392528,5496.3563272970587,1.414573261318852,"Office Paper "]
[null,"Yard Waste ",36481.634392523367,73849.462333043251,0.35601949653666987,"Yard Waste "]
[null,"Other Plastics ",26123.696738863826,29585.160519664583,1.1893055134012134,"Other Plastics "]
[null,"Ferrous Metal ",{"$f":"D106*$C$8/2000","v":2046.2234821810798},{"$f":"C128/(1-C106)","v":2462.3627944417326},{"$f":"C79/D128","v":2.0748785211573475},"Ferrous Metal "]
[null,"White Goods ",{"$f":"D105*$C$8/2000","v":5106.5882242990656},{"$f":"Table7141925313743115135342[[#This Row],[tons-DRY/county-us data ]]","v":5106.5882242990656},{"$f":"G80/Table7141925313743115135342[[#This Row],[tons-WET/county-us data ]]","v":0.70272578772695049},"White Goods "]
[null,"Non-ferrous Metal ",{"$f":"D104*$C$8/2000","v":7886.1541814889079},{"$f":"C130/(1-C104)","v":8336.3152024195642},{"$f":"C81/D130","v":0.21214528637516575},"Non-ferrous Metal "]
[null,"Other Paper ",{"$f":"D107*$C$8/2000","v":26741.290186915885},{"$f":"C131/(1-C107)","v":35870.275233958258},{"$f":"G82/D131","v":1.5229825042501006},"Other Paper "]
[null,"Textiles ",12875.814593046729,{"$f":"C132/(1-C108)","v":15513.029630176783},{"$f":"G83/D132","v":0.66774166614248787},"Textiles "]
[null,"C&D Debris",{"$error":"#VALUE!"},{"$f":"C133/(1-C109)","v":{"$error":"#VALUE!"}},{"$f":"#REF!/D133","v":{"$error":"#REF!"}},"C&D Debris"]
[null,"Food Waste",41745.833364485981,{"$f":"C134/(1-C110)","v":103716.35618505835},{"$f":"G85/D134","v":0.35935607205871695},"Food Waste"]
[null,"Miscellaneous ",34774.128350213847,{"$f":"C135/(1-C111)","v":50617.362955187549},{"$f":"G86/D135","v":0.96253402291021017},"Miscellaneous "]
[null,"Tires ",6136.311775700934,{"$f":"Table7141925313743115135342[[#This Row],[tons-DRY/county-us data ]]","v":6136.311775700934},{"$f":"G87/Table7141925313743115135342[[#This Row],[tons-WET/county-us data ]]","v":0.10466458435274975},"Tires "]
[]
[]
[]
[null,"Link to \"New WasteCalc County Factors\""]
[null,"Newspaper","Glass","Aluminum Cans","Plastic Bottles","Steel Cans","Corrugated Paper","Office Paper","Yard Waste","Other Plastics","Ferrous Metals","White Goods","Non-Ferrous Metal","Other Paper","Textiles","C&D Debris","Food Waste","Misc","Tires"]
[null,{"$f":"E119","v":0.48087655983211469},{"$f":"E120","v":1.0603237615325996},{"$f":"E121","v":1.37218648154255},{"$f":"E122","v":2.0836041051024736},{"$f":"E123","v":1.6865669460704877},{"$f":"E124","v":0.6603073553345965},{"$f":"E125","v":1.414573261318852},{"$f":"E126","v":0.35601949653666987},{"$f":"E127","v":1.1893055134012134},{"$f":"E128","v":2.0748785211573475},{"$f":"E129","v":0.70272578772695049},{"$f":"E130","v":0.21214528637516575},{"$f":"E131","v":1.5229825042501006},{"$f":"E132","v":0.66774166614248787},{"$f":"E133","v":{"$error":"#REF!"}},{"$f":"E134","v":0.35935607205871695},{"$f":"E135","v":0.96253402291021017},{"$f":"E136","v":0.10466458435274975}]

{"sheet":"46 Citrus County Factor","index":45,"n_rows":144,"n_cols":19,"rows_kept":144,"cut":false,"hidden":true,"merged":[[65,9,65,10],[91,1,91,2],[93,1,93,2],[115,1,115,2],[117,1,117,2],[2,1,2,2],[3,1,3,2],[19,1,19,2],[43,1,43,2],[65,1,65,2]]}
[null,"Finding County Factors for Citrus"]
[null,"***USES AVERAGES FOR ALL COMBUSTED TONS"]
[null,1]
[null,"Information from annual solid waste report 2017"]
[null,"County","Citrus"]
[null,"Waste comp study","NONE"]
[null,"Year",2017]
[null,"Population",143801]
[null,"Landfilled tons ",97729]
[null,"C&D collected",26603]
[null,"C&D disposed",{"$f":"C10-C14","v":535}]
[]
[null,"Recycled tons",89965]
[null,"Recycled C&D",26068]
[null,"WTE metals",0]
[null,"WTE input",568]
[null,"WTE Ash",0]
[null,"Total Tons MSW collected",{"$f":"C9+(C16-C15)+C13","v":188262}]
[]
[null,2]
[]
[null,"Average disposal LANDFILLED from Okaloosa and Collier"]
[null,"Category","Okaloosa (tons)","Collier (tons)","Average","Percent"]
[null,"Newspaper",{"$f":"'51 Okaloosa County Factor'!B90","v":2356.3979999999997},{"$f":"'52 Collier County Factor'!C96","v":3283.6080000000002},{"$f":"AVERAGE(Table19320263238[[#This Row],[Okaloosa (tons)]:[Collier (tons)]])","v":2820.0029999999997},{"$f":"E24/$E$42","v":1.3903984940955063E-2}]
[null,"Glass",{"$f":"'51 Okaloosa County Factor'!B91","v":5498.2620000000006},{"$f":"'52 Collier County Factor'!C97","v":9303.5560000000005},{"$f":"AVERAGE(Table19320263238[[#This Row],[Okaloosa (tons)]:[Collier (tons)]])","v":7400.9090000000006},3.6490077239413866E-2]
[null,"Aluminum Cans",{"$f":"'51 Okaloosa County Factor'!B92","v":1440.021},{"$f":"'52 Collier County Factor'!C98","v":1641.8040000000001},{"$f":"AVERAGE(Table19320263238[[#This Row],[Okaloosa (tons)]:[Collier (tons)]])","v":1540.9124999999999},7.5974473060239365E-3]
[null,"Plastic Bottles",{"$f":"'51 Okaloosa County Factor'!B93","v":3665.5079999999998},{"$f":"'52 Collier County Factor'!C99","v":8756.2880000000005},{"$f":"AVERAGE(Table19320263238[[#This Row],[Okaloosa (tons)]:[Collier (tons)]])","v":6210.8980000000001},3.0622744820416124E-2]
[null,"Steel Cans",{"$f":"'51 Okaloosa County Factor'!B94","v":1701.8429999999998},{"$f":"'52 Collier County Factor'!C100","v":3009.9739999999997},{"$f":"AVERAGE(Table19320263238[[#This Row],[Okaloosa (tons)]:[Collier (tons)]])","v":2355.9084999999995},1.1615773567002599E-2]
[null,"Corrugated Paper",{"$f":"'51 Okaloosa County Factor'!B95","v":8247.393},{"$f":"'52 Collier County Factor'!C101","v":13681.7},{"$f":"AVERAGE(Table19320263238[[#This Row],[Okaloosa (tons)]:[Collier (tons)]])","v":10964.5465},5.4060541574034338E-2]
[null,"Office Paper",{"$f":"'51 Okaloosa County Factor'!B96","v":1440.021},{"$f":"'52 Collier County Factor'!C102","v":4651.7780000000002},{"$f":"AVERAGE(Table19320263238[[#This Row],[Okaloosa (tons)]:[Collier (tons)]])","v":3045.8995},1.5017764441974906E-2]
[null,"Yard Trash",{"$f":"'51 Okaloosa County Factor'!B97","v":12960.189},{"$f":"'52 Collier County Factor'!C103","v":6840.85},{"$f":"AVERAGE(Table19320263238[[#This Row],[Okaloosa (tons)]:[Collier (tons)]])","v":9900.5195000000003},4.8814371486708336E-2]
[null,"Other Plastics",{"$f":"'51 Okaloosa County Factor'!B98","v":13222.010999999999},{"$f":"'52 Collier County Factor'!C104","v":36940.590000000004},{"$f":"AVERAGE(Table19320263238[[#This Row],[Okaloosa (tons)]:[Collier (tons)]])","v":25081.300500000001},0.12366299768176443]
[null,"Ferrous Metals",{"$f":"'51 Okaloosa County Factor'!B99","v":2225.4870000000001},{"$f":"'52 Collier County Factor'!C105","v":5199.0460000000003},{"$f":"AVERAGE(Table19320263238[[#This Row],[Okaloosa (tons)]:[Collier (tons)]])","v":3712.2665000000002},1.8303277518787023E-2]
[null,"White Goods",{"$f":"'51 Okaloosa County Factor'!B100","v":523.64400000000001},{"$f":"'52 Collier County Factor'!C106","v":1094.5360000000001},{"$f":"AVERAGE(Table19320263238[[#This Row],[Okaloosa (tons)]:[Collier (tons)]])","v":809.09},3.9892068114386163E-3]
[null,"NonFerous Metals",{"$f":"'51 Okaloosa County Factor'!B101","v":654.55500000000006},{"$f":"'52 Collier County Factor'!C107","v":1915.4380000000001},{"$f":"AVERAGE(Table19320263238[[#This Row],[Okaloosa (tons)]:[Collier (tons)]])","v":1284.9965000000002},6.3356570844711755E-3]
[null,"Other Paper",{"$f":"'51 Okaloosa County Factor'!B102","v":21993.048000000003},{"$f":"'52 Collier County Factor'!C108","v":47338.681999999993},{"$f":"AVERAGE(Table19320263238[[#This Row],[Okaloosa (tons)]:[Collier (tons)]])","v":34665.864999999998},0.17091955750585414]
[null,"Textiles",{"$f":"'51 Okaloosa County Factor'!B103","v":4581.8850000000002},{"$f":"'52 Collier County Factor'!C109","v":9850.8239999999987},{"$f":"AVERAGE(Table19320263238[[#This Row],[Okaloosa (tons)]:[Collier (tons)]])","v":7216.3544999999995},3.5580133885174343E-2]
[null,"C&D Debris",{"$f":"'51 Okaloosa County Factor'!B104","v":11651.079},{"$f":"'52 Collier County Factor'!C110","v":37487.858},{"$f":"AVERAGE(Table19320263238[[#This Row],[Okaloosa (tons)]:[Collier (tons)]])","v":24569.468499999999},0.1211394172386589]
[null,"Food",{"$f":"'51 Okaloosa County Factor'!B105","v":18458.450999999997},{"$f":"'52 Collier County Factor'!C111","v":35025.152000000002},{"$f":"AVERAGE(Table19320263238[[#This Row],[Okaloosa (tons)]:[Collier (tons)]])","v":26741.801500000001},0.13185007439708737]
[null,"Miscellaneous",{"$f":"'51 Okaloosa County Factor'!B106","v":19898.472000000002},{"$f":"'52 Collier County Factor'!C112","v":48706.851999999999},{"$f":"AVERAGE(Table19320263238[[#This Row],[Okaloosa (tons)]:[Collier (tons)]])","v":34302.661999999997},0.16912879024691516]
[null,"Tires",{"$f":"'51 Okaloosa County Factor'!B107","v":392.733},{"$f":"'52 Collier County Factor'!C113","v":0},{"$f":"AVERAGE(Table19320263238[[#This Row],[Okaloosa (tons)]:[Collier (tons)]])","v":196.3665},{"$f":"E41/$E$42","v":9.6818225331960731E-4}]
[null,"Total",{"$f":"SUM(C24:C41)","v":130910.99999999999},{"$f":"SUM(D24:D41)","v":274728.53600000002},{"$f":"AVERAGE(Table19320263238[[#This Row],[Okaloosa (tons)]:[Collier (tons)]])","v":202819.76800000001},{"$f":"SUM(F24:F41)","v":1}]
[]
[null,"Recycled tons from Sumter"]
[null,"Materials","Tons"]
[null,"Newspaper",512]
[null,"Glass",1500]
[null,"Aluminum Cans",380]
[null,"Plastic Bottles",313]
[null,"Steel Cans",97]
[null,"Corrugated Paper",4957]
[null,"Office Paper",402]
[null,"Yard Trash",17830]
[null,"Other Plastics",866]
[null,"Ferrous Metals",24144]
[null,"White Goods",3747]
[null,"NonFerous Metals",4019]
[null,"Other Paper",2612]
[null,"Textiles",238]
[null,"C&D Debris",26068]
[null,"Food",264]
[null,"Miscellaneous",1359]
[null,"Tires",657]
[null,"Total",{"$f":"SUM(C46:C63)","v":89965}]
[]
[null,3,null,null,null,null,null,null,null,4]
[]
[null,"Calculating waste compositon percentage utalizing waste compsition study"]
[".","FDEP Category","Landfilled tons\n(Plus combusor ash, minus C&D  disposed)","Collected C&D \n(disposal C&D LANDFILL + recycled)","Combusted\n(minus recycled metals, minus ash)","Recycled Materials\n(Minus recycled C&D)","Total Collected Tons"]
[null,null,{"$f":"C9-C11+C17","v":97194},{"$f":"C11+C14","v":26603},{"$f":"C16-C15+C17","v":568},{"$f":"C64","v":89965},null,null,null,"FDEP Category","Percentage"]
[null,"Newspaper",{"$f":"$C$70*F24","v":1351.3839123511864},null,{"$f":"$E$70*F24","v":7.897463446462476},{"$f":"C46","v":512},{"$f":"SUM(C71:F71)","v":1871.2813757976489},null,null,"Newspaper",{"$f":"G71/$G$90","v":9.9397721037577901E-3}]
[null,"Glass",3546.6165672075913,null,20.726363871987076,1500,{"$f":"SUM(C72:F72)","v":5067.3429310795782},null,null,"Glass",{"$f":"G72/$G$90","v":2.6916440551357036E-2}]
[null,"Aluminum Cans",738.42629346169053,null,4.3153500698215961,380,1122.7416435315122,null,null,"Aluminum Cans",5.963718878645251E-3]
[null,"Plastic Bottles",2976.347060075525,null,17.393719057996357,313,3306.7407791335213,null,null,"Plastic Botles",1.7564568416002811E-2]
[null,"Steel Cans",1128.9834960712506,null,6.5977593860574757,97,1232.5812554573081,null,null,"Steel Cans",6.5471590414279465E-3]
[null,"Corrugated Paper",5254.3602777466931,null,30.706387614051504,4957,10242.066665360744,null,null,"Corrugated Paper",5.4403260697117546E-2]
[null,"Office Paper",1459.6365971733089,null,8.5300902030417465,402,1870.1666873763506,null,null,"Office Paper",9.9338511615533181E-3]
[null,"Yard Trash",4744.4640222791304,null,27.726563004450334,17830,22602.190585283581,null,null,"Yard Trash",0.12005710438263474]
[null,"Other Plastics",12019.301396681412,null,70.240582683242195,866,12955.541979364654,null,null,"Other Plastics",6.8816553416858703E-2]
[null,"Ferrous Metals",1778.9687551609859,null,10.396261630671029,24144,25933.365016791657,null,null,"Ferrous Metals",0.13775145816357873]
[null,"White Goods",387.7269668309649,null,2.2658694688971339,3747,4136.9928362998617,null,null,"White Goods",2.1974656788411158E-2]
[null,"NonFerous Metals",615.78785466809143,null,3.5986532239796278,4019,4638.3865078920708,null,null,"NonFerous Metals",2.4637932816458291E-2]
[null,"Other Paper",16612.355472223986,null,97.082308663325151,2612,19321.437780887311,null,null,"Other Paper",0.10263057749778134]
[null,"Textiles",3458.1755328356353,null,20.209516046779026,238,3716.3850488824141,null,null,"Textiles",1.974049488947538E-2]
[null,"C&D Debris",11774.024519094213,{"$f":"C10","v":26603},68.807188991558249,0,38445.831708085774,null,null,"C&D Debris",0.20421450801588092]
[null,"Food",12815.03613095051,null,74.890842257545629,{"$f":"C61","v":264},13153.926973208056,null,null,"Food",6.9870324192922925E-2]
[null,"Miscellaneous",16438.303639258673,null,96.065152860247807,{"$f":"C62","v":1359},17893.368792118919,null,null,"Miscellaneous",{"$f":"G87/$G$90","v":9.5045037193479939E-2}]
[null,"Tires",94.101505929145915,null,0.5499275198855369,{"$f":"C63","v":657},751.6514334490314,null,null,"Tires",3.9925817926561458E-3]
[null,null,"Total","Total","Total","Total","Total",null,null,null,"total"]
[null,null,{"$f":"SUM(C71:C88)","v":97194.000000000015},{"$f":"D85","v":26603},{"$f":"SUM(E71:E88)","v":567.99999999999989},{"$f":"SUM(F71:F88)","v":63897},{"$f":"SUM(G71:G88)","v":188262},null,null,null,{"$f":"SUM(K71:K88)","v":1}]
[]
[null,5]
[]
[null,"US EPA Data and Moisture Content"]
[null,"Category","Moisture Content  (MC) ","US EPA DATA (lbs-dry/person)","US EPA DATA             (lbs-WET/person)    [US EPA DATA/(1-MC)"]
[null,"Newspaper",0.27850000000000003,41.931464174454831,58.117067462861854]
[null,"Glass",3.2000000000000001E-2,56.822429906542055,58.700857341469067]
[null,"Aluminum Cans",0.129,8.4112149532710276,9.6569632069701807]
[null,"Plastic Bottles",4.8000000000000001E-2,23.302180685358255,24.477080551846907]
[null,"Steel Cans",5.8000000000000003E-2,10.841121495327103,11.508621544933231]
[null,"Corrugated Paper",0.24049999999999999,195.20249221183801,257.01447295831201]
[null,"Office Paper",0.13400000000000001,28.22429906542056,32.591569359608037]
[null,"Yard Waste",0.50600000000000001,216.3239875389408,437.90280878328099]
[null,"Other Plastics",0.11700000000000001,154.90485396035913,175.43018568557093]
[null,"Non-ferrous Metal",5.3999999999999999E-2,46.762277712979795,49.431583206109721]
[null,"White Goods","x",30.280373831775702,30.280373831775702]
[null,"Ferrous Metal",0.16900000000000001,12.133426323463874,14.600994372399368]
[null,"Other Paper",0.2545,158.56697819314641,212.69883057430772]
[null,"Textiles",0.17,76.349308411214949,91.987118567728857]
[null,"C&D Debris",8.8999999999999996E-2,"-","-"]
[null,"Food Waste",0.59750000000000003,247.53894080996884,615.00357965209651]
[null,"Miscellaneous",0.313,206.19904324930312,300.14416775735532]
[null,"Tires","x",36.386292834890966,36.386292834890966]
[]
[]
[null,6]
[]
[null,"Finding County Factor"]
[null,"Category","tons-DRY/county-us data ","tons-WET/county-us data ","County Factor","Category   "]
[null,"equation","US DATA * County Population/2000","tons-DRY/(1-MoistureContent)","ton-wet-composition/tons-wet-Usdata"]
[null,"Newspaper ",{"$f":"D96*$C$8/2000","v":3014.8932398753896},{"$f":"C121/(1-C96)","v":4178.646209113499},{"$f":"G71/D121","v":0.44782000728284721},"Newspaper "]
[null,"Glass ",4085.5611214953269,4220.6209932802967,1.200615487424092,"Glass "]
[null,"Aluminum Cans ",604.77056074766347,694.3404830627594,1.6169900371919275,"Aluminum Cans "]
[null,"Plastic Bottles ",1675.4384423676013,1759.9143302180687,1.8789214465477915,"Plastic Bottles "]
[null,"Steel Cans ",779.48205607476632,827.47564339147175,1.4895680196766641,"Steel Cans "]
[null,"Corrugated Paper",14035.156791277257,18479.469112939114,0.55424030867798935,"Corrugated Paper"]
[null,"Office Paper ",2029.341214953271,2343.3501327404979,0.7980739460343601,"Office Paper "]
[null,"Yard Waste ",15553.802866043612,31485.430902922293,0.71786187887890007,"Yard Waste "]
[null,"Other Plastics ",11137.736452176801,12613.518065885391,1.0271156636628049,"Other Plastics "]
[null,"Ferrous Metal ",{"$f":"D107*$C$8/2000","v":872.39941937021433},{"$f":"C130/(1-C107)","v":1049.8187958727008},{"$f":"C80/D130","v":1.6945483945942805},"Ferrous Metal "]
[null,"White Goods ",{"$f":"D106*$C$8/2000","v":2177.1740186915886},{"$f":"Table7141925313743[[#This Row],[tons-DRY/county-us data ]]","v":2177.1740186915886},{"$f":"G81/Table7141925313743[[#This Row],[tons-WET/county-us data ]]","v":1.9001663628091892},"White Goods "]
[null,"Non-ferrous Metal ",{"$f":"D105*$C$8/2000","v":3362.2311487021038},{"$f":"C132/(1-C105)","v":3554.1555483108923},{"$f":"C82/D132","v":0.17325855503447052},"Non-ferrous Metal "]
[null,"Other Paper ",{"$f":"D108*$C$8/2000","v":11401.045015576323},{"$f":"C133/(1-C108)","v":15293.15226770801},{"$f":"G83/D133","v":1.2634045252845063},"Other Paper "]
[null,"Textiles ",5489.5534494205604,{"$f":"C134/(1-C109)","v":6613.9198185789883},{"$f":"G84/D134","v":0.56190355353913035},"Textiles "]
[null,"C&D Debris",{"$error":"#VALUE!"},{"$f":"C135/(1-C110)","v":{"$error":"#VALUE!"}},{"$f":"#REF!/D135","v":{"$error":"#REF!"}},"C&D Debris"]
[null,"Food Waste",17798.173613707164,{"$f":"C136/(1-C111)","v":44219.064878775564},{"$f":"G86/D136","v":0.29747184860803622},"Food Waste"]
[null,"Miscellaneous ",14825.814309146517,{"$f":"C137/(1-C112)","v":21580.515733837725},{"$f":"G87/D137","v":0.82914463272360783},"Miscellaneous "]
[null,"Tires ",2616.1926479750778,{"$f":"Table7141925313743[[#This Row],[tons-DRY/county-us data ]]","v":2616.1926479750778},{"$f":"G88/Table7141925313743[[#This Row],[tons-WET/county-us data ]]","v":0.28730737166118347},"Tires "]
[]
[]
[]
[null,"Link to \"New WasteCalc County Factors\""]
[null,"Newspaper","Glass","Aluminum Cans","Plastic Bottles","Steel Cans","Corrugated Paper","Office Paper","Yard Waste","Other Plastics","Ferrous Metals","White Goods","Non-Ferrous Metal","Other Paper","Textiles","C&D Debris","Food Waste","Misc","Tires"]
[null,{"$f":"E121","v":0.44782000728284721},{"$f":"E122","v":1.200615487424092},{"$f":"E123","v":1.6169900371919275},{"$f":"E124","v":1.8789214465477915},{"$f":"E125","v":1.4895680196766641},{"$f":"E126","v":0.55424030867798935},{"$f":"E127","v":0.7980739460343601},{"$f":"E128","v":0.71786187887890007},{"$f":"E129","v":1.0271156636628049},{"$f":"E130","v":1.6945483945942805},{"$f":"E131","v":1.9001663628091892},{"$f":"E132","v":0.17325855503447052},{"$f":"E133","v":1.2634045252845063},{"$f":"E134","v":0.56190355353913035},{"$f":"E135","v":{"$error":"#REF!"}},{"$f":"E136","v":0.29747184860803622},{"$f":"E137","v":0.82914463272360783},{"$f":"E138","v":0.28730737166118347}]

{"sheet":"47 Bay County Factor","index":46,"n_rows":146,"n_cols":19,"rows_kept":146,"cut":false,"hidden":true,"merged":[[2,1,2,2],[3,1,3,2],[19,1,19,2],[43,1,43,2],[67,1,67,2],[67,9,67,10],[93,1,93,2],[95,1,95,2],[117,1,117,2],[119,1,119,2]]}
[null,"Finding County Factors for Bay"]
[null,"***USES AVERAGES FOR ALL COMBUSTED TONS"]
[null,1]
[null,"Information from annual solid waste report 2017"]
[null,"County","Bay"]
[null,"Waste comp study","NONE"]
[null,"Year",2017]
[null,"Population",178820]
[null,"Landfilled tons",214275]
[null,"C&D collected",142276]
[null,"C&D disposed",{"$f":"C10-C14","v":104251}]
[]
[null,"Recycled tons",151379]
[null,"Recycled C&D",38025]
[null,"WTE metals",0]
[null,"WTE input",152084]
[null,"WTE ash",56725]
[null,"Total Tons MSW collected",{"$f":"C9+(C16-C15)+C13","v":517738}]
[]
[null,2]
[]
[null,"Average disposal LANDFILLED from Okaloosa and Collier"]
[null,"Category","Okaloosa (tons)","Collier (tons)","Average","Percent"]
[null,"Newspaper",{"$f":"'51 Okaloosa County Factor'!B90","v":2356.3979999999997},{"$f":"'52 Collier County Factor'!C96","v":3283.6080000000002},{"$f":"AVERAGE(Table19320263238116[[#This Row],[Okaloosa (tons)]:[Collier (tons)]])","v":2820.0029999999997},{"$f":"E24/$E$42","v":1.3903984940955063E-2}]
[null,"Glass",{"$f":"'51 Okaloosa County Factor'!B91","v":5498.2620000000006},{"$f":"'52 Collier County Factor'!C97","v":9303.5560000000005},{"$f":"AVERAGE(Table19320263238116[[#This Row],[Okaloosa (tons)]:[Collier (tons)]])","v":7400.9090000000006},3.6490077239413866E-2]
[null,"Aluminum Cans",{"$f":"'51 Okaloosa County Factor'!B92","v":1440.021},{"$f":"'52 Collier County Factor'!C98","v":1641.8040000000001},{"$f":"AVERAGE(Table19320263238116[[#This Row],[Okaloosa (tons)]:[Collier (tons)]])","v":1540.9124999999999},7.5974473060239365E-3]
[null,"Plastic Bottles",{"$f":"'51 Okaloosa County Factor'!B93","v":3665.5079999999998},{"$f":"'52 Collier County Factor'!C99","v":8756.2880000000005},{"$f":"AVERAGE(Table19320263238116[[#This Row],[Okaloosa (tons)]:[Collier (tons)]])","v":6210.8980000000001},3.0622744820416124E-2]
[null,"Steel Cans",{"$f":"'51 Okaloosa County Factor'!B94","v":1701.8429999999998},{"$f":"'52 Collier County Factor'!C100","v":3009.9739999999997},{"$f":"AVERAGE(Table19320263238116[[#This Row],[Okaloosa (tons)]:[Collier (tons)]])","v":2355.9084999999995},1.1615773567002599E-2]
[null,"Corrugated Paper",{"$f":"'51 Okaloosa County Factor'!B95","v":8247.393},{"$f":"'52 Collier County Factor'!C101","v":13681.7},{"$f":"AVERAGE(Table19320263238116[[#This Row],[Okaloosa (tons)]:[Collier (tons)]])","v":10964.5465},5.4060541574034338E-2]
[null,"Office Paper",{"$f":"'51 Okaloosa County Factor'!B96","v":1440.021},{"$f":"'52 Collier County Factor'!C102","v":4651.7780000000002},{"$f":"AVERAGE(Table19320263238116[[#This Row],[Okaloosa (tons)]:[Collier (tons)]])","v":3045.8995},1.5017764441974906E-2]
[null,"Yard Trash",{"$f":"'51 Okaloosa County Factor'!B97","v":12960.189},{"$f":"'52 Collier County Factor'!C103","v":6840.85},{"$f":"AVERAGE(Table19320263238116[[#This Row],[Okaloosa (tons)]:[Collier (tons)]])","v":9900.5195000000003},4.8814371486708336E-2]
[null,"Other Plastics",{"$f":"'51 Okaloosa County Factor'!B98","v":13222.010999999999},{"$f":"'52 Collier County Factor'!C104","v":36940.590000000004},{"$f":"AVERAGE(Table19320263238116[[#This Row],[Okaloosa (tons)]:[Collier (tons)]])","v":25081.300500000001},0.12366299768176443]
[null,"Ferrous Metals",{"$f":"'51 Okaloosa County Factor'!B99","v":2225.4870000000001},{"$f":"'52 Collier County Factor'!C105","v":5199.0460000000003},{"$f":"AVERAGE(Table19320263238116[[#This Row],[Okaloosa (tons)]:[Collier (tons)]])","v":3712.2665000000002},1.8303277518787023E-2]
[null,"White Goods",{"$f":"'51 Okaloosa County Factor'!B100","v":523.64400000000001},{"$f":"'52 Collier County Factor'!C106","v":1094.5360000000001},{"$f":"AVERAGE(Table19320263238116[[#This Row],[Okaloosa (tons)]:[Collier (tons)]])","v":809.09},3.9892068114386163E-3]
[null,"NonFerous Metals",{"$f":"'51 Okaloosa County Factor'!B101","v":654.55500000000006},{"$f":"'52 Collier County Factor'!C107","v":1915.4380000000001},{"$f":"AVERAGE(Table19320263238116[[#This Row],[Okaloosa (tons)]:[Collier (tons)]])","v":1284.9965000000002},6.3356570844711755E-3]
[null,"Other Paper",{"$f":"'51 Okaloosa County Factor'!B102","v":21993.048000000003},{"$f":"'52 Collier County Factor'!C108","v":47338.681999999993},{"$f":"AVERAGE(Table19320263238116[[#This Row],[Okaloosa (tons)]:[Collier (tons)]])","v":34665.864999999998},0.17091955750585414]
[null,"Textiles",{"$f":"'51 Okaloosa County Factor'!B103","v":4581.8850000000002},{"$f":"'52 Collier County Factor'!C109","v":9850.8239999999987},{"$f":"AVERAGE(Table19320263238116[[#This Row],[Okaloosa (tons)]:[Collier (tons)]])","v":7216.3544999999995},3.5580133885174343E-2]
[null,"C&D Debris",{"$f":"'51 Okaloosa County Factor'!B104","v":11651.079},{"$f":"'52 Collier County Factor'!C110","v":37487.858},{"$f":"AVERAGE(Table19320263238116[[#This Row],[Okaloosa (tons)]:[Collier (tons)]])","v":24569.468499999999},0.1211394172386589]
[null,"Food",{"$f":"'51 Okaloosa County Factor'!B105","v":18458.450999999997},{"$f":"'52 Collier County Factor'!C111","v":35025.152000000002},{"$f":"AVERAGE(Table19320263238116[[#This Row],[Okaloosa (tons)]:[Collier (tons)]])","v":26741.801500000001},0.13185007439708737]
[null,"Miscellaneous",{"$f":"'51 Okaloosa County Factor'!B106","v":19898.472000000002},{"$f":"'52 Collier County Factor'!C112","v":48706.851999999999},{"$f":"AVERAGE(Table19320263238116[[#This Row],[Okaloosa (tons)]:[Collier (tons)]])","v":34302.661999999997},0.16912879024691516]
[null,"Tires",{"$f":"'51 Okaloosa County Factor'!B107","v":392.733},{"$f":"'52 Collier County Factor'!C113","v":0},{"$f":"AVERAGE(Table19320263238116[[#This Row],[Okaloosa (tons)]:[Collier (tons)]])","v":196.3665},9.6818225331960731E-4]
[null,"Total",{"$f":"SUM(C24:C41)","v":130910.99999999999},{"$f":"SUM(D24:D41)","v":274728.53600000002},{"$f":"AVERAGE(Table19320263238116[[#This Row],[Okaloosa (tons)]:[Collier (tons)]])","v":202819.76800000001},{"$f":"E42/$E$42","v":1}]
[]
[null,"Recycled tons from Sumter"]
[null,"Materials","Tons"]
[null,"Newspaper",0]
[null,"Glass",0]
[null,"Aluminum Cans",456]
[null,"Plastic Bottles",42]
[null,"Steel Cans",160]
[null,"Corrugated Paper",20794]
[null,"Office Paper",502]
[null,"Yard Trash",5758]
[null,"Other Plastics",264]
[null,"Ferrous Metals",20542]
[null,"White Goods",3911]
[null,"NonFerous Metals",1882]
[null,"Other Paper",207]
[null,"Textiles",684]
[null,"C&D Debris",38025]
[null,"Food",433]
[null,"Miscellaneous",57374]
[null,"Tires",345]
[null,"Total",{"$f":"SUM(C46:C63)","v":151379}]
[]
[]
[]
[null,3,null,null,null,null,null,null,null,4]
[]
[null,"Calculating waste compositon percentage utalizing waste compsition study"]
[".","FDEP Category","Landfilled tons\n(Plus combusor ash, minus C&D  disposed)","Collected C&D \n(disposal C&D LANDFILL + recycled)","Combusted\n(minus recycled metals, minus ash)","Recycled Materials\n(Minus recycled C&D)","Total Collected Tons"]
[null,null,{"$f":"C9-C11+C17","v":166749},{"$f":"C11+C14","v":142276},{"$f":"C16-C15","v":152084},{"$f":"C64-C17-C15","v":94654},null,null,null,"FDEP Category","Percentage"]
[null,"Newspaper",{"$f":"$C$72*F24","v":2318.4755849193157},null,{"$f":"$E$72*F24","v":2114.5736457602097},{"$f":"C46","v":0},{"$f":"SUM(C73:F73)","v":4433.0492306795259},null,null,"Newspaper",{"$f":"G73/$G$92","v":7.7168577100344598E-3}]
[null,"Glass",6084.6838895950232,null,5549.5569068790182,0,{"$f":"SUM(C74:F74)","v":11634.240796474041},null,null,"Glass",2.0252376213044255E-2]
[null,"Aluminum Cans",1266.8667408321853,null,1155.4501760893443,456,2878.3169169215298,null,null,"Aluminum Cans",5.0104478737908794E-3]
[null,"Plastic Bottles",5106.3120760595684,null,4657.2295232681654,42,9805.5415993277347,null,null,"Plastic Botles",1.7069056839740304E-2]
[null,"Steel Cans",1936.9186265241162,null,1766.5733071640232,160,3863.4919336881394,null,null,"Steel Cans",6.7253973427150908E-3]
[null,"Corrugated Paper",9014.5412469286512,null,8221.743404745439,20794,38030.28465167409,null,null,"Corrugated Paper",6.6201451880580797E-2]
[null,"Office Paper",2504.1972029348735,null,2283.9616873933114,502,5290.1588903281845,null,null,"Office Paper",9.2088766209976695E-3]
[null,"Yard Trash",8139.7476310371285,null,7423.8848731845501,5758,21321.632504221678,null,null,"Yard Trash",3.7115762902435276E-2]
[null,"Other Plastics",20620.681200436538,null,18807.16333943346,264,39691.844539869999,null,null,"Other Plastics",6.9093822473980049E-2]
[null,"Ferrous Metals",3052.0532229802175,null,2783.6356581672057,20542,26377.688881147424,null,null,"Ferrous Metals",4.5917124133577659E-2]
[null,"White Goods",665.19624660057787,null,606.69452871083047,3911,5182.8907753114081,null,null,"White Goods",9.0221489901201792E-3]
[null,"NonFerous Metals",1056.464483178484,null,963.55207203471423,1882,3902.0165552131984,null,null,"NonFerous Metals",6.7924593145480185E-3]
[null,"Other Paper",28500.665294543673,null,25994.129983720319,207,54701.795278263991,null,null,"Other Paper",9.522248652787732E-2]
[null,"Textiles",5932.9517452189366,null,5411.1690817928547,684,12028.120827011791,null,null,"Textiles",2.0938025298429648E-2]
[null,"C&D Debris",20199.876685129133,{"$f":"C10","v":142276},18423.367131324201,0,180899.24381645332,null,null,"C&D Debris",0.31490147114166328]
[null,"Food",21985.868055639923,null,20052.286714606635,{"$f":"C61","v":433},42471.154770246561,null,null,"Food",7.3931923849310674E-2]
[null,"Miscellaneous",28202.056644882854,null,25721.782935911844,{"$f":"C62","v":57374},111297.83958079469,null,null,"Miscellaneous",0.19374239869372736]
[null,"Tires",161.44342255879121,null,147.24502981385916,{"$f":"C63","v":345},653.68845237265032,null,null,"Tires",1.1379121934269923E-3]
[null,null,"Total","Total","Total","Total","Total",null,null,null,"total"]
[null,null,{"$f":"SUM(C73:C90)","v":166749},{"$f":"D87","v":142276},{"$f":"SUM(E73:E90)","v":152084},{"$f":"SUM(F73:F90)","v":113354},{"$f":"SUM(G73:G90)","v":574463},null,null,null,{"$f":"SUM(K73:K90)","v":0.99999999999999989}]
[]
[null,5]
[]
[null,"US EPA Data and Moisture Content"]
[null,"Category","Moisture Content  (MC) ","US EPA DATA (lbs-dry/person)","US EPA DATA             (lbs-WET/person)    [US EPA DATA/(1-MC)"]
[null,"Newspaper",0.27850000000000003,41.931464174454831,58.117067462861854]
[null,"Glass",3.2000000000000001E-2,56.822429906542055,58.700857341469067]
[null,"Aluminum Cans",0.129,8.4112149532710276,9.6569632069701807]
[null,"Plastic Bottles",4.8000000000000001E-2,23.302180685358255,24.477080551846907]
[null,"Steel Cans",5.8000000000000003E-2,10.841121495327103,11.508621544933231]
[null,"Corrugated Paper",0.24049999999999999,195.20249221183801,257.01447295831201]
[null,"Office Paper",0.13400000000000001,28.22429906542056,32.591569359608037]
[null,"Yard Waste",0.50600000000000001,216.3239875389408,437.90280878328099]
[null,"Other Plastics",0.11700000000000001,154.90485396035913,175.43018568557093]
[null,"Non-ferrous Metal",5.3999999999999999E-2,46.762277712979795,49.431583206109721]
[null,"White Goods","x",30.280373831775702,30.280373831775702]
[null,"Ferrous Metal",0.16900000000000001,12.133426323463874,14.600994372399368]
[null,"Other Paper",0.2545,158.56697819314641,212.69883057430772]
[null,"Textiles",0.17,76.349308411214949,91.987118567728857]
[null,"C&D Debris",8.8999999999999996E-2,"-","-"]
[null,"Food Waste",0.59750000000000003,247.53894080996884,615.00357965209651]
[null,"Miscellaneous",0.313,206.19904324930312,300.14416775735532]
[null,"Tires","x",36.386292834890966,36.386292834890966]
[]
[]
[null,6]
[]
[null,"Finding County Factor"]
[null,"Material","tons-DRY/county-us data ","tons-WET/county-us data ","County Factor","Category     "]
[null,"equation","US DATA * County Population/2000","tons-DRY/(1-MoistureContent)","ton-wet-composition/tons-wet-Usdata"]
[null,"Newspaper ",{"$f":"D98*$C$8/2000","v":3749.0922118380067},{"$f":"C123/(1-C98)","v":5196.2470018544791},{"$f":"G73/D123","v":0.85312519383651764},"Newspaper "]
[null,"Glass ",5080.493457943925,5248.4436549007487,2.2167030002523771,"Glass "]
[null,"Aluminum Cans ",752.04672897196258,863.42908033520393,3.3335881110282943,"Aluminum Cans "]
[null,"Plastic Bottles ",2083.4479750778819,2188.4957721406322,4.4804937364519768,"Plastic Bottles "]
[null,"Steel Cans ",969.30467289719627,1028.9858523324801,3.7546599158097944,"Steel Cans "]
[null,"Corrugated Paper",17453.054828660435,22979.664027202678,1.6549539021395139,"Corrugated Paper"]
[null,"Office Paper ",2523.534579439252,2914.0122164425543,1.8154209719774086,"Office Paper "]
[null,"Yard Waste ",19341.527725856697,39152.890133313151,0.54457365552384118,"Yard Waste "]
[null,"Other Plastics ",13850.042992595711,15685.212902146897,2.5305263490836785,"Other Plastics "]
[null,"Ferrous Metal ",{"$f":"D109*$C$8/2000","v":1084.8496475809052},{"$f":"C132/(1-C109)","v":1305.4749068362278},{"$f":"C82/D132","v":2.3378873136495288},"Ferrous Metal "]
[null,"White Goods ",{"$f":"D108*$C$8/2000","v":2707.3682242990653},{"$f":"Table7141925313743121[[#This Row],[tons-DRY/county-us data ]]","v":2707.3682242990653},{"$f":"G83/Table7141925313743121[[#This Row],[tons-WET/county-us data ]]","v":1.9143649278270054},"White Goods "]
[null,"Non-ferrous Metal ",{"$f":"D107*$C$8/2000","v":4181.0152503175241},{"$f":"C134/(1-C107)","v":4419.6778544582712},{"$f":"C84/D134","v":0.23903653568614605},"Non-ferrous Metal "]
[null,"Other Paper ",{"$f":"D110*$C$8/2000","v":14177.473520249221},{"$f":"C135/(1-C110)","v":19017.402441648854},{"$f":"G85/D135","v":2.8764073035792168},"Other Paper "]
[null,"Textiles ",6826.3916650467281,{"$f":"C136/(1-C111)","v":8224.5682711406371},{"$f":"G86/D136","v":1.462462275280457},"Textiles "]
[null,"C&D Debris",{"$error":"#VALUE!"},{"$f":"C137/(1-C112)","v":{"$error":"#VALUE!"}},{"$f":"#REF!/D137","v":{"$error":"#REF!"}},"C&D Debris"]
[null,"Food Waste",22132.456697819314,{"$f":"C138/(1-C113)","v":54987.47005669395},{"$f":"G88/D138","v":0.77237877513654218},"Food Waste"]
[null,"Miscellaneous ",18436.256456920193,{"$f":"C139/(1-C114)","v":26835.890039185142},{"$f":"G89/D139","v":4.1473504108967569},"Miscellaneous "]
[null,"Tires ",3253.2984423676012,{"$f":"Table7141925313743121[[#This Row],[tons-DRY/county-us data ]]","v":3253.2984423676012},{"$f":"G90/Table7141925313743121[[#This Row],[tons-WET/county-us data ]]","v":0.20093098249446981},"Tires "]
[]
[]
[]
[null,"Link to \"New WasteCalc County Factors\""]
[null,"Newspaper","Glass","Aluminum Cans","Plastic Bottles","Steel Cans","Corrugated Paper","Office Paper","Yard Waste","Other Plastics","Ferrous Metals","White Goods","Non-Ferrous Metal","Other Paper","Textiles","C&D Debris","Food Waste","Misc","Tires"]
[null,{"$f":"E123","v":0.85312519383651764},{"$f":"E124","v":2.2167030002523771},{"$f":"E125","v":3.3335881110282943},{"$f":"E126","v":4.4804937364519768},{"$f":"E127","v":3.7546599158097944},{"$f":"E128","v":1.6549539021395139},{"$f":"E129","v":1.8154209719774086},{"$f":"E130","v":0.54457365552384118},{"$f":"E131","v":2.5305263490836785},{"$f":"E132","v":2.3378873136495288},{"$f":"E133","v":1.9143649278270054},{"$f":"E134","v":0.23903653568614605},{"$f":"E135","v":2.8764073035792168},{"$f":"E136","v":1.462462275280457},{"$error":"#REF!"},{"$f":"E138","v":0.77237877513654218},{"$f":"E139","v":4.1473504108967569},{"$f":"E140","v":0.20093098249446981}]

{"sheet":"48 Sumter County Factor","index":47,"n_rows":146,"n_cols":19,"rows_kept":146,"cut":false,"hidden":true,"merged":[[2,1,2,2],[3,1,3,2],[19,1,19,2],[43,1,43,2],[67,1,67,2],[67,9,67,10],[93,1,93,2],[95,1,95,2],[117,1,117,2],[119,1,119,2]]}
[null,"Finding County Factors for Sumter"]
[null,"***USES AVERAGES FOR ALL COMBUSTED TONS"]
[null,1]
[null,"Information from annual solid waste report 2017"]
[null,"County","Sumter"]
[null,"Waste comp study","NONE"]
[null,"Year",2017]
[null,"Population",120700]
[null,"Landfilled tons ",81915]
[null,"C&D collected",213251]
[null,"C&D disposed",{"$f":"C10-C14","v":31328}]
[]
[null,"Recycled tons",216859]
[null,"Recycled C&D",181923]
[null,"WTE metals",0]
[null,"WTE input",1580]
[null,"WTE Ash",0]
[null,"Total Tons MSW collected",{"$f":"C9+(C16-C15)+C13","v":300354}]
[]
[null,2]
[]
[null,"Average disposal LANDFILLED from Okaloosa and Collier"]
[null,"Category","Okaloosa (tons)","Collier  (tons)","Average","Percent"]
[null,"Newspaper",{"$f":"'51 Okaloosa County Factor'!B90","v":2356.3979999999997},{"$f":"'52 Collier County Factor'!C96","v":3283.6080000000002},{"$f":"AVERAGE(Table19320263238116122[[#This Row],[Okaloosa (tons)]:[Collier  (tons)]])","v":2820.0029999999997},{"$f":"E24/$E$42","v":1.3903984940955063E-2}]
[null,"Glass",{"$f":"'51 Okaloosa County Factor'!B91","v":5498.2620000000006},{"$f":"'52 Collier County Factor'!C97","v":9303.5560000000005},{"$f":"AVERAGE(Table19320263238116122[[#This Row],[Okaloosa (tons)]:[Collier  (tons)]])","v":7400.9090000000006},3.6490077239413866E-2]
[null,"Aluminum Cans",{"$f":"'51 Okaloosa County Factor'!B92","v":1440.021},{"$f":"'52 Collier County Factor'!C98","v":1641.8040000000001},{"$f":"AVERAGE(Table19320263238116122[[#This Row],[Okaloosa (tons)]:[Collier  (tons)]])","v":1540.9124999999999},7.5974473060239365E-3]
[null,"Plastic Bottles",{"$f":"'51 Okaloosa County Factor'!B93","v":3665.5079999999998},{"$f":"'52 Collier County Factor'!C99","v":8756.2880000000005},{"$f":"AVERAGE(Table19320263238116122[[#This Row],[Okaloosa (tons)]:[Collier  (tons)]])","v":6210.8980000000001},3.0622744820416124E-2]
[null,"Steel Cans",{"$f":"'51 Okaloosa County Factor'!B94","v":1701.8429999999998},{"$f":"'52 Collier County Factor'!C100","v":3009.9739999999997},{"$f":"AVERAGE(Table19320263238116122[[#This Row],[Okaloosa (tons)]:[Collier  (tons)]])","v":2355.9084999999995},1.1615773567002599E-2]
[null,"Corrugated Paper",{"$f":"'51 Okaloosa County Factor'!B95","v":8247.393},{"$f":"'52 Collier County Factor'!C101","v":13681.7},{"$f":"AVERAGE(Table19320263238116122[[#This Row],[Okaloosa (tons)]:[Collier  (tons)]])","v":10964.5465},5.4060541574034338E-2]
[null,"Office Paper",{"$f":"'51 Okaloosa County Factor'!B96","v":1440.021},{"$f":"'52 Collier County Factor'!C102","v":4651.7780000000002},{"$f":"AVERAGE(Table19320263238116122[[#This Row],[Okaloosa (tons)]:[Collier  (tons)]])","v":3045.8995},1.5017764441974906E-2]
[null,"Yard Trash",{"$f":"'51 Okaloosa County Factor'!B97","v":12960.189},{"$f":"'52 Collier County Factor'!C103","v":6840.85},{"$f":"AVERAGE(Table19320263238116122[[#This Row],[Okaloosa (tons)]:[Collier  (tons)]])","v":9900.5195000000003},4.8814371486708336E-2]
[null,"Other Plastics",{"$f":"'51 Okaloosa County Factor'!B98","v":13222.010999999999},{"$f":"'52 Collier County Factor'!C104","v":36940.590000000004},{"$f":"AVERAGE(Table19320263238116122[[#This Row],[Okaloosa (tons)]:[Collier  (tons)]])","v":25081.300500000001},0.12366299768176443]
[null,"Ferrous Metals",{"$f":"'51 Okaloosa County Factor'!B99","v":2225.4870000000001},{"$f":"'52 Collier County Factor'!C105","v":5199.0460000000003},{"$f":"AVERAGE(Table19320263238116122[[#This Row],[Okaloosa (tons)]:[Collier  (tons)]])","v":3712.2665000000002},1.8303277518787023E-2]
[null,"White Goods",{"$f":"'51 Okaloosa County Factor'!B100","v":523.64400000000001},{"$f":"'52 Collier County Factor'!C106","v":1094.5360000000001},{"$f":"AVERAGE(Table19320263238116122[[#This Row],[Okaloosa (tons)]:[Collier  (tons)]])","v":809.09},3.9892068114386163E-3]
[null,"NonFerous Metals",{"$f":"'51 Okaloosa County Factor'!B101","v":654.55500000000006},{"$f":"'52 Collier County Factor'!C107","v":1915.4380000000001},{"$f":"AVERAGE(Table19320263238116122[[#This Row],[Okaloosa (tons)]:[Collier  (tons)]])","v":1284.9965000000002},6.3356570844711755E-3]
[null,"Other Paper",{"$f":"'51 Okaloosa County Factor'!B102","v":21993.048000000003},{"$f":"'52 Collier County Factor'!C108","v":47338.681999999993},{"$f":"AVERAGE(Table19320263238116122[[#This Row],[Okaloosa (tons)]:[Collier  (tons)]])","v":34665.864999999998},0.17091955750585414]
[null,"Textiles",{"$f":"'51 Okaloosa County Factor'!B103","v":4581.8850000000002},{"$f":"'52 Collier County Factor'!C109","v":9850.8239999999987},{"$f":"AVERAGE(Table19320263238116122[[#This Row],[Okaloosa (tons)]:[Collier  (tons)]])","v":7216.3544999999995},3.5580133885174343E-2]
[null,"C&D Debris",{"$f":"'51 Okaloosa County Factor'!B104","v":11651.079},{"$f":"'52 Collier County Factor'!C110","v":37487.858},{"$f":"AVERAGE(Table19320263238116122[[#This Row],[Okaloosa (tons)]:[Collier  (tons)]])","v":24569.468499999999},0.1211394172386589]
[null,"Food",{"$f":"'51 Okaloosa County Factor'!B105","v":18458.450999999997},{"$f":"'52 Collier County Factor'!C111","v":35025.152000000002},{"$f":"AVERAGE(Table19320263238116122[[#This Row],[Okaloosa (tons)]:[Collier  (tons)]])","v":26741.801500000001},0.13185007439708737]
[null,"Miscellaneous",{"$f":"'51 Okaloosa County Factor'!B106","v":19898.472000000002},{"$f":"'52 Collier County Factor'!C112","v":48706.851999999999},{"$f":"AVERAGE(Table19320263238116122[[#This Row],[Okaloosa (tons)]:[Collier  (tons)]])","v":34302.661999999997},0.16912879024691516]
[null,"Tires",{"$f":"'51 Okaloosa County Factor'!B107","v":392.733},{"$f":"'52 Collier County Factor'!C113","v":0},{"$f":"AVERAGE(Table19320263238116122[[#This Row],[Okaloosa (tons)]:[Collier  (tons)]])","v":196.3665},9.6818225331960731E-4]
[null,"Total",{"$f":"SUM(C24:C41)","v":130910.99999999999},{"$f":"SUM(D24:D41)","v":274728.53600000002},{"$f":"AVERAGE(Table19320263238116122[[#This Row],[Okaloosa (tons)]:[Collier  (tons)]])","v":202819.76800000001},1]
[]
[null,"Recycled tons from Sumter"]
[null,"Materials","Tons"]
[null,"Newspaper",1623]
[null,"Glass",4487]
[null,"Aluminum Cans",177]
[null,"Plastic Bottles",749]
[null,"Steel Cans",121]
[null,"Corrugated Paper",8308]
[null,"Office Paper",1974]
[null,"Yard Trash",0]
[null,"Other Plastics",522]
[null,"Ferrous Metals",7625]
[null,"White Goods",0]
[null,"NonFerous Metals",940]
[null,"Other Paper",7042]
[null,"Textiles",195]
[null,"C&D Debris",181923]
[null,"Food",85]
[null,"Miscellaneous",413]
[null,"Tires",675]
[null,"Total",{"$f":"SUM(C46:C63)","v":216859}]
[]
[]
[]
[null,3,null,null,null,null,null,null,null,4]
[]
[null,"Calculating waste compositon percentage utalizing waste compsition study"]
[".","FDEP Category","Landfilled tons\n(Plus combusor ash, minus C&D  disposed)","Collected C&D \n(disposal C&D LANDFILL + recycled)","Combusted\n(minus recycled metals, minus ash)","Recycled Materials\n(Minus recycled C&D)","Total Collected Tons"]
[null,null,{"$f":"C9-C11+C17","v":50587},{"$f":"C11+C14","v":213251},{"$f":"C16-C15","v":1580},{"$f":"C64-C17-C15","v":216859},null,null,null,"FDEP Category","Percentage"]
[null,"Newspaper",{"$f":"$C$72*F24","v":703.3608862080938},null,{"$f":"$E$72*F24","v":21.968296206708999},{"$f":"C46","v":1623},{"$f":"SUM(C73:F73)","v":2348.3291824148027},null,null,"Newspaper",{"$f":"G73/$G$92","v":7.8185380664642489E-3}]
[null,"Glass",1845.9235373102292,null,57.654322038273911,4487,{"$f":"SUM(C74:F74)","v":6390.5778593485029},null,null,"Glass",2.1276819550758452E-2]
[null,"Aluminum Cans",384.33206686983289,null,12.00396674351782,177,573.33603361335076,null,null,"Aluminum Cans",1.9088676482196037E-3]
[null,"Plastic Bottles",1549.1127922303904,null,48.383936816257474,749,2346.4967290466479,null,null,"Plastic Botles",7.8124370877253125E-3]
[null,"Steel Cans",587.60713743396047,null,18.352922235864106,121,726.96005966982455,null,null,"Steel Cans",2.4203441927519681E-3]
[null,"Corrugated Paper",2734.7606166056748,null,85.415655686974247,8308,11128.176272292649,null,null,"Corrugated Paper",3.7050201669671955E-2]
[null,"Office Paper",759.70364982618457,null,23.728067818320351,1974,2757.4317176445047,null,null,"Office Paper",9.1806059438013319E-3]
[null,"Yard Trash",2469.3726103981144,null,77.126706948999171,0,2546.4993173471134,null,null,"Yard Trash",8.4783266323974846E-3]
[null,"Other Plastics",6255.7400637274177,null,195.38753633718781,522,6973.1276000646058,null,null,"Other Plastics",2.3216363358119444E-2]
[null,"Ferrous Metals",925.90789984287915,null,28.919178479683499,7625,8579.8270783225635,null,null,"Ferrous Metals",2.8565716049470176E-2]
[null,"White Goods",201.80200497024529,null,6.302946762073014,0,208.10495173231831,null,null,"White Goods",6.928655910436297E-4]
[null,"NonFerous Metals",320.50188493214335,null,10.010338193464458,940,1270.5122231256078,null,null,"NonFerous Metals",4.2300492855950247E-3]
[null,"Other Paper",8646.3076555486423,null,270.05290085924952,7042,15958.360556407892,null,null,"Other Paper",5.313183961727793E-2]
[null,"Textiles",1799.8922328493145,null,56.216611538575464,195,2051.1088443878898,null,null,"Textiles",6.8289712951646727E-3]
[null,"C&D Debris",6128.0796998520373,{"$f":"C10","v":213251},191.40027923708107,0,219570.47997908911,null,null,"C&D Debris",0.73103897394104678]
[null,"Food",6669.8997135254594,null,208.32311754739806,{"$f":"C61","v":85},6963.2228310728578,null,null,"Food",2.3183386374321165E-2]
[null,"Miscellaneous",8555.7181122206966,null,267.22348859012595,{"$f":"C62","v":413},9235.9416008108219,null,null,"Miscellaneous",3.0750186782299634E-2]
[null,"Tires",48.977435648678977,null,1.5297279602449796,{"$f":"C63","v":675},725.50716360892397,null,null,"Tires",2.4155069138713787E-3]
[null,null,"Total","Total","Total","Total","Total",null,null,null,"total"]
[null,null,{"$f":"SUM(C73:C90)","v":50587},{"$f":"D87","v":213251},{"$f":"SUM(E73:E90)","v":1579.9999999999998},{"$f":"SUM(F73:F90)","v":34936},{"$f":"SUM(G73:G90)","v":300353.99999999994},null,null,null,{"$f":"SUM(K73:K90)","v":1.0000000000000002}]
[]
[null,5]
[]
[null,"US EPA Data and Moisture Content"]
[null,"Category","Moisture Content  (MC) ","US EPA DATA (lbs-dry/person)","US EPA DATA             (lbs-WET/person)    [US EPA DATA/(1-MC)"]
[null,"Newspaper",0.27850000000000003,41.931464174454831,58.117067462861854]
[null,"Glass",3.2000000000000001E-2,56.822429906542055,58.700857341469067]
[null,"Aluminum Cans",0.129,8.4112149532710276,9.6569632069701807]
[null,"Plastic Bottles",4.8000000000000001E-2,23.302180685358255,24.477080551846907]
[null,"Steel Cans",5.8000000000000003E-2,10.841121495327103,11.508621544933231]
[null,"Corrugated Paper",0.24049999999999999,195.20249221183801,257.01447295831201]
[null,"Office Paper",0.13400000000000001,28.22429906542056,32.591569359608037]
[null,"Yard Waste",0.50600000000000001,216.3239875389408,437.90280878328099]
[null,"Other Plastics",0.11700000000000001,154.90485396035913,175.43018568557093]
[null,"Non-ferrous Metal",5.3999999999999999E-2,46.762277712979795,49.431583206109721]
[null,"White Goods","x",30.280373831775702,30.280373831775702]
[null,"Ferrous Metal",0.16900000000000001,12.133426323463874,14.600994372399368]
[null,"Other Paper",0.2545,158.56697819314641,212.69883057430772]
[null,"Textiles",0.17,76.349308411214949,91.987118567728857]
[null,"C&D Debris",8.8999999999999996E-2,"-","-"]
[null,"Food Waste",0.59750000000000003,247.53894080996884,615.00357965209651]
[null,"Miscellaneous",0.313,206.19904324930312,300.14416775735532]
[null,"Tires","x",36.386292834890966,36.386292834890966]
[]
[]
[null,6]
[]
[null,"Finding County Factor"]
[null,"Category","tons-DRY/county-us data ","tons-WET/county-us data ","County Factor","Category     "]
[null,"equation","US DATA * County Population/2000","tons-DRY/(1-MoistureContent)","ton-wet-composition/tons-wet-Usdata"]
[null,"Newspaper ",{"$f":"D98*$C$8/2000","v":2530.563862928349},{"$f":"C123/(1-C98)","v":3507.3650213837127},{"$f":"G73/D123","v":0.66954228262456372},"Newspaper "]
[null,"Glass ",3429.233644859813,3542.596740557658,1.8039247273576302,"Glass "]
[null,"Aluminum Cans ",507.61682242990651,582.79772954065038,0.98376504325993663,"Aluminum Cans "]
[null,"Plastic Bottles ",1406.2866043613706,1477.1918113039608,1.5884847933020465,"Plastic Bottles "]
[null,"Steel Cans ",654.26168224299067,694.54531023672052,1.0466704604513939,"Steel Cans "]
[null,"Corrugated Paper",11780.470404984424,15510.823443034131,0.71744587340334165,"Corrugated Paper"]
[null,"Office Paper ",1703.3364485981308,1966.901210852345,1.4019167319794308,"Office Paper "]
[null,"Yard Waste ",13055.152647975077,26427.434510071009,9.6358173411675255E-2,"Yard Waste "]
[null,"Other Plastics ",9348.5079365076745,10587.211706124206,0.65863683409966933,"Other Plastics "]
[null,"Ferrous Metal ",{"$f":"D109*$C$8/2000","v":732.25227862104487},{"$f":"C132/(1-C109)","v":881.17001037430191},{"$f":"C82/D132","v":1.0507710077985672},"Ferrous Metal "]
[null,"White Goods ",{"$f":"D108*$C$8/2000","v":1827.4205607476636},{"$f":"Table7141925313743121127[[#This Row],[tons-DRY/county-us data ]]","v":1827.4205607476636},{"$f":"G83/Table7141925313743121127[[#This Row],[tons-WET/county-us data ]]","v":0.11387906878270818},"White Goods "]
[null,"Non-ferrous Metal ",{"$f":"D107*$C$8/2000","v":2822.1034599783302},{"$f":"C134/(1-C107)","v":2983.1960464887211},{"$f":"C84/D134","v":0.10743574338983863},"Non-ferrous Metal "]
[null,"Other Paper ",{"$f":"D110*$C$8/2000","v":9569.5171339563858},{"$f":"C135/(1-C110)","v":12836.374425159471},{"$f":"G85/D135","v":1.2432140126054041},"Other Paper "]
[null,"Textiles ",4607.6807626168229,{"$f":"C136/(1-C111)","v":5551.4226055624376},{"$f":"G86/D136","v":0.36947445549051},"Textiles "]
[null,"C&D Debris",{"$error":"#VALUE!"},{"$f":"C137/(1-C112)","v":{"$error":"#VALUE!"}},{"$f":"#REF!/D137","v":{"$error":"#REF!"}},"C&D Debris"]
[null,"Food Waste",14938.97507788162,{"$f":"C138/(1-C113)","v":37115.466032004028},{"$f":"G88/D138","v":0.18760973727417543},"Food Waste"]
[null,"Miscellaneous ",12444.112260095444,{"$f":"C139/(1-C114)","v":18113.700524156393},{"$f":"G89/D139","v":0.50988706523516769},"Miscellaneous "]
[null,"Tires ",2195.9127725856702,{"$f":"Table7141925313743121127[[#This Row],[tons-DRY/county-us data ]]","v":2195.9127725856702},{"$f":"G90/Table7141925313743121127[[#This Row],[tons-WET/county-us data ]]","v":0.3303897917377861},"Tires "]
[]
[]
[]
[null,"Link to \"New WasteCalc County Factors\""]
[null,"Newspaper","Glass","Aluminum Cans","Plastic Bottles","Steel Cans","Corrugated Paper","Office Paper","Yard Waste","Other Plastics","Ferrous Metals","White Goods","Non-Ferrous Metal","Other Paper","Textiles","C&D Debris","Food Waste","Misc","Tires"]
[null,{"$f":"E123","v":0.66954228262456372},{"$f":"E124","v":1.8039247273576302},{"$f":"E125","v":0.98376504325993663},{"$f":"E126","v":1.5884847933020465},{"$f":"E127","v":1.0466704604513939},{"$f":"E128","v":0.71744587340334165},{"$f":"E129","v":1.4019167319794308},{"$f":"E130","v":9.6358173411675255E-2},{"$f":"E131","v":0.65863683409966933},{"$f":"E132","v":1.0507710077985672},{"$f":"E133","v":0.11387906878270818},{"$f":"E134","v":0.10743574338983863},{"$f":"E135","v":1.2432140126054041},{"$f":"E136","v":0.36947445549051},{"$error":"#REF!"},{"$f":"E138","v":0.18760973727417543},{"$f":"E139","v":0.50988706523516769},{"$f":"E140","v":0.3303897917377861}]

{"sheet":"49 Flagler County Factor","index":48,"n_rows":143,"n_cols":19,"rows_kept":143,"cut":false,"hidden":true,"merged":[[2,1,2,2],[3,1,3,2],[18,1,18,2],[42,1,42,2],[64,1,64,2],[64,9,64,10],[90,1,90,2],[92,1,92,2],[114,1,114,2],[116,1,116,2]]}
[null,"Finding County Factors for Flagler"]
[]
[null,1]
[null,"Information from annual solid waste report 2017"]
[null,"County","Flagler"]
[null,"Waste comp study","NONE"]
[null,"Year",2017]
[null,"Population",105157]
[null,"Landfilled tons",57745]
[null,"C&D collected",2018]
[null,"C&D disposed",{"$f":"C10-C14","v":1979}]
[]
[null,"Recycled tons",19861]
[null,"Recycled C&D",39]
[null,"combustor recy metals",0]
[null,"Combustor input",0]
[null,"Total Tons MSW collected",{"$f":"C9+(C16-C15)+C13","v":77606}]
[]
[null,2]
[]
[null,"Average disposal LANDFILLED from Okaloosa and Collier"]
[null,"Category","Okaloosa (tons)","Collier (tons)","Averaged","Percent"]
[null,"Newspaper",{"$f":"'51 Okaloosa County Factor'!B90","v":2356.3979999999997},{"$f":"'52 Collier County Factor'!C96","v":3283.6080000000002},{"$f":"AVERAGE(Table19320263238110131137[[#This Row],[Okaloosa (tons)]:[Collier (tons)]])","v":2820.0029999999997},{"$f":"E23/$E$41","v":1.3917459578330096E-2}]
[null,"Glass",{"$f":"'51 Okaloosa County Factor'!B91","v":5498.2620000000006},{"$f":"'52 Collier County Factor'!C97","v":9303.5560000000005},{"$f":"AVERAGE(Table19320263238110131137[[#This Row],[Okaloosa (tons)]:[Collier (tons)]])","v":7400.9090000000006},{"$f":"E24/$E$41","v":3.6525440522722642E-2}]
[null,"Aluminum Cans",{"$f":"'51 Okaloosa County Factor'!B92","v":1440.021},{"$f":"'52 Collier County Factor'!C98","v":1641.8040000000001},{"$f":"AVERAGE(Table19320263238110131137[[#This Row],[Okaloosa (tons)]:[Collier (tons)]])","v":1540.9124999999999},7.6048101482493365E-3]
[null,"Plastic Bottles",{"$f":"'51 Okaloosa County Factor'!B93","v":3665.5079999999998},{"$f":"'52 Collier County Factor'!C99","v":8756.2880000000005},{"$f":"AVERAGE(Table19320263238110131137[[#This Row],[Okaloosa (tons)]:[Collier (tons)]])","v":6210.8980000000001},3.0652421951370707E-2]
[null,"Steel Cans",{"$f":"'51 Okaloosa County Factor'!B94","v":1701.8429999999998},{"$f":"'52 Collier County Factor'!C100","v":3009.9739999999997},{"$f":"AVERAGE(Table19320263238110131137[[#This Row],[Okaloosa (tons)]:[Collier (tons)]])","v":2355.9084999999995},{"$f":"E27/$E$41","v":1.1627030651738415E-2}]
[null,"Corrugated Paper",{"$f":"'51 Okaloosa County Factor'!B95","v":8247.393},{"$f":"'52 Collier County Factor'!C101","v":13681.7},{"$f":"AVERAGE(Table19320263238110131137[[#This Row],[Okaloosa (tons)]:[Collier (tons)]])","v":10964.5465},5.4112932755203007E-2]
[null,"Office Paper",{"$f":"'51 Okaloosa County Factor'!B96","v":1440.021},{"$f":"'52 Collier County Factor'!C102","v":4651.7780000000002},{"$f":"AVERAGE(Table19320263238110131137[[#This Row],[Okaloosa (tons)]:[Collier (tons)]])","v":3045.8995},1.5032318465939878E-2]
[null,"Yard Trash",{"$f":"'51 Okaloosa County Factor'!B97","v":12960.189},{"$f":"'52 Collier County Factor'!C103","v":6840.85},{"$f":"AVERAGE(Table19320263238110131137[[#This Row],[Okaloosa (tons)]:[Collier (tons)]])","v":9900.5195000000003},4.8861678496696245E-2]
[null,"Other Plastics",{"$f":"'51 Okaloosa County Factor'!B98","v":13222.010999999999},{"$f":"'52 Collier County Factor'!C104","v":36940.590000000004},{"$f":"AVERAGE(Table19320263238110131137[[#This Row],[Okaloosa (tons)]:[Collier (tons)]])","v":25081.300500000001},0.12378284203268594]
[null,"Ferrous Metals",{"$f":"'51 Okaloosa County Factor'!B99","v":2225.4870000000001},{"$f":"'52 Collier County Factor'!C105","v":5199.0460000000003},{"$f":"AVERAGE(Table19320263238110131137[[#This Row],[Okaloosa (tons)]:[Collier (tons)]])","v":3712.2665000000002},1.8321015600954661E-2]
[null,"White Goods",{"$f":"'51 Okaloosa County Factor'!B100","v":523.64400000000001},{"$f":"'52 Collier County Factor'!C106","v":1094.5360000000001},{"$f":"AVERAGE(Table19320263238110131137[[#This Row],[Okaloosa (tons)]:[Collier (tons)]])","v":809.09},3.9930728336924105E-3]
[null,"NonFerous Metals",{"$f":"'51 Okaloosa County Factor'!B101","v":654.55500000000006},{"$f":"'52 Collier County Factor'!C107","v":1915.4380000000001},{"$f":"AVERAGE(Table19320263238110131137[[#This Row],[Okaloosa (tons)]:[Collier (tons)]])","v":1284.9965000000002},6.3417970998774298E-3]
[null,"Other Paper",{"$f":"'51 Okaloosa County Factor'!B102","v":21993.048000000003},{"$f":"'52 Collier County Factor'!C108","v":47338.681999999993},{"$f":"AVERAGE(Table19320263238110131137[[#This Row],[Okaloosa (tons)]:[Collier (tons)]])","v":34665.864999999998},0.171085199159486]
[null,"Textiles",{"$f":"'51 Okaloosa County Factor'!B103","v":4581.8850000000002},{"$f":"'52 Collier County Factor'!C109","v":9850.8239999999987},{"$f":"AVERAGE(Table19320263238110131137[[#This Row],[Okaloosa (tons)]:[Collier (tons)]])","v":7216.3544999999995},3.5614615323689543E-2]
[null,"C&D Debris",{"$f":"'51 Okaloosa County Factor'!B104","v":11651.079},{"$f":"'52 Collier County Factor'!C110","v":37487.858},{"$f":"AVERAGE(Table19320263238110131137[[#This Row],[Okaloosa (tons)]:[Collier (tons)]])","v":24569.468499999999},0.12125681593594212]
[null,"Food",{"$f":"'51 Okaloosa County Factor'!B105","v":18458.450999999997},{"$f":"'52 Collier County Factor'!C111","v":35025.152000000002},{"$f":"AVERAGE(Table19320263238110131137[[#This Row],[Okaloosa (tons)]:[Collier (tons)]])","v":26741.801500000001},0.13197785301220502]
[null,"Miscellaneous",{"$f":"'51 Okaloosa County Factor'!B106","v":19898.472000000002},{"$f":"'52 Collier County Factor'!C112","v":48706.851999999999},{"$f":"AVERAGE(Table19320263238110131137[[#This Row],[Okaloosa (tons)]:[Collier (tons)]])","v":34302.661999999997},0.1692926964312165,null,null,null,null,null,null,null,{"$f":"SUM(L23:L40)","v":0}]
[null,"Tires",{"$f":"'42 Alachua County Factor'!B148","v":0},{"$f":"'52 Collier County Factor'!C113","v":0},{"$f":"AVERAGE(Table19320263238110131137[[#This Row],[Okaloosa (tons)]:[Collier (tons)]])","v":0},0]
[null,"Total",{"$f":"SUM(C23:C40)","v":130518.26699999999},{"$f":"SUM(D23:D40)","v":274728.53600000002},{"$f":"AVERAGE(Table19320263238110131137[[#This Row],[Okaloosa (tons)]:[Collier (tons)]])","v":202623.40150000001},1]
[]
[null,"Recycled tons from Flagler"]
[null,"Materials","Tons"]
[null,"Newspaper",1743]
[null,"Glass",422]
[null,"Aluminum Cans",67]
[null,"Plastic Bottles",467]
[null,"Steel Cans",40]
[null,"Corrugated Paper",3214]
[null,"Office Paper",761]
[null,"Yard Trash"]
[null,"Other Plastics",87]
[null,"Ferrous Metals",10131]
[null,"White Goods",1930]
[null,"NonFerous Metals",361]
[null,"Other Paper",198]
[null,"Textiles",26]
[null,"C&D Debris",39]
[null,"Food",140]
[null,"Miscellaneous",154]
[null,"Tires",81]
[null,"Total",{"$f":"SUM(C45:C62)","v":19861}]
[]
[null,3,null,null,null,null,null,null,null,4]
[]
[null,"Calculating waste compositon percentage utalizing waste compsition study"]
[".","FDEP Category","Landfilled tons\n(Plus combusor ash, minus C&D  disposed)","Collected C&D \n(disposal C&D LANDFILL + recycled)","Combusted\n(minus recycled metals, minus ash)","Recycled Materials\n(Minus recycled C&D)","Total Collected Tons"]
[null,null,{"$f":"C9-C11","v":55766},{"$f":"C11+C14","v":2018},{"$f":"C16-C15","v":0},{"$f":"C63","v":19861},null,null,null,"FDEP Category","Percentage"]
[null,"Newspaper",{"$f":"$C$69*F23","v":776.12105084515611},null,{"$f":"$E$69*F23","v":0},{"$f":"C45","v":1743},{"$f":"SUM(C70:F70)","v":2519.1210508451559},null,null,"Newspaper",{"$f":"G70/$G$89","v":3.2460390315763692E-2}]
[null,"Glass",2036.877716190151,null,0,422,{"$f":"SUM(C71:F71)","v":2458.8777161901507},null,null,"Glass",3.1684118704612421E-2]
[null,"Aluminum Cans",424.08984272727247,null,0,67,491.08984272727247,null,null,"Aluminum Cans",6.3279880773042373E-3]
[null,"Plastic Bottles",1709.3629625401388,null,0,467,2176.3629625401391,null,null,"Plastic Botles",2.8043746134836737E-2]
[null,"Steel Cans",648.3929913248445,null,0,40,688.3929913248445,null,null,"Steel Cans",8.870357850228652E-3]
[null,"Corrugated Paper",3017.6618080266508,null,0,3214,6231.6618080266508,null,null,"Corrugated Paper",8.0298711543265386E-2]
[null,"Office Paper",838.29227157160324,null,0,761,1599.2922715716031,null,null,"Office Paper",2.0607843099394424E-2]
[null,"Yard Trash",2724.8203630467628,null,0,0,2724.8203630467628,null,null,"Yard Trash",3.5110949708099422E-2]
[null,"Other Plastics",6902.8739687947646,null,0,87,6989.8739687947646,null,null,"Other Plastics",9.0068731396989496E-2]
[null,"Ferrous Metals",1021.6897560028376,null,0,10131,11152.689756002837,null,null,"Ferrous Metals",0.14370911728478264]
[null,"White Goods",222.67769964369097,null,0,1930,2152.6776996436911,null,null,"White Goods",2.773854727268113E-2]
[null,"NonFerous Metals",353.65665707176476,null,0,361,714.65665707176481,null,null,"NonFerous Metals",9.2087809843538534E-3]
[null,"Other Paper",9540.737216327896,null,0,198,9738.737216327896,null,null,"Other Paper",0.12548948813658609]
[null,"Textiles",1986.084638140871,null,0,26,2012.084638140871,null,null,"Textiles",2.5926921090390843E-2]
[null,"C&D Debris",6762.0075974837482,{"$f":"C10","v":2018},0,0,8780.0075974837491,null,null,"C&D Debris",0.11313568019848662]
[null,"Food",7359.8769510786251,null,0,{"$f":"C60","v":140},7499.8769510786251,null,null,"Food",9.664042665616869E-2]
[null,"Miscellaneous",9440.7765091832189,null,0,{"$f":"C61","v":154},9594.7765091832189,null,null,"Miscellaneous",0.12363446781412807]
[null,"Tires",0,null,0,{"$f":"C62","v":81},81,null,null,"Tires",1.0437337319279441E-3]
[null,null,"Total","Total","Total","Total","Total",null,null,null,"total"]
[null,null,{"$f":"SUM(C70:C87)","v":55765.999999999993},{"$f":"D84","v":2018},{"$f":"SUM(E70:E87)","v":0},{"$f":"SUM(F70:F87)","v":19822},{"$f":"SUM(G70:G87)","v":77605.999999999971},null,null,null,{"$f":"SUM(K70:K87)","v":1.0000000000000004}]
[]
[null,5]
[]
[null,"US EPA Data and Moisture Content"]
[null,"Category","Moisture Content  (MC) ","US EPA DATA (lbs-dry/person)","US EPA DATA             (lbs-WET/person)    [US EPA DATA/(1-MC)"]
[null,"Newspaper",0.27850000000000003,41.931464174454831,58.117067462861854]
[null,"Glass",3.2000000000000001E-2,56.822429906542055,58.700857341469067]
[null,"Aluminum Cans",0.129,8.4112149532710276,9.6569632069701807]
[null,"Plastic Bottles",4.8000000000000001E-2,23.302180685358255,24.477080551846907]
[null,"Steel Cans",5.8000000000000003E-2,10.841121495327103,11.508621544933231]
[null,"Corrugated Paper",0.24049999999999999,195.20249221183801,257.01447295831201]
[null,"Office Paper",0.13400000000000001,28.22429906542056,32.591569359608037]
[null,"Yard Waste",0.50600000000000001,216.3239875389408,437.90280878328099]
[null,"Other Plastics",0.11700000000000001,154.90485396035913,175.43018568557093]
[null,"Non-ferrous Metal",5.3999999999999999E-2,46.762277712979795,49.431583206109721]
[null,"White Goods","x",30.280373831775702,30.280373831775702]
[null,"Ferrous Metal",0.16900000000000001,12.133426323463874,14.600994372399368]
[null,"Other Paper",0.2545,158.56697819314641,212.69883057430772]
[null,"Textiles",0.17,76.349308411214949,91.987118567728857]
[null,"C&D Debris",8.8999999999999996E-2,"-","-"]
[null,"Food Waste",0.59750000000000003,247.53894080996884,615.00357965209651]
[null,"Miscellaneous",0.313,206.19904324930312,300.14416775735532]
[null,"Tires","x",36.386292834890966,36.386292834890966]
[]
[]
[null,6]
[]
[null,"Finding County Factor"]
[null,"Category","tons-DRY/county-us data ","tons-WET/county-us data ","County Factor","Category     "]
[null,"equation","US DATA * County Population/2000","tons-DRY/(1-MoistureContent)","ton-wet-composition/tons-wet-Usdata"]
[null,"Newspaper ",{"$f":"D95*$C$8/2000","v":2204.6934890965736},{"$f":"C120/(1-C95)","v":3055.7082315960824},{"$f":"G70/D120","v":0.8243984241680522},"Newspaper "]
[null,"Glass ",2987.6381308411214,3086.4030277284314,0.79668069727104485,"Glass "]
[null,"Aluminum Cans ",442.24906542056073,507.74863997768165,0.96719085795849413,"Aluminum Cans "]
[null,"Plastic Bottles ",1225.1937071651089,1286.9681797952826,1.6910775236776499,"Plastic Bottles "]
[null,"Steel Cans ",570.00990654205611,605.10605790027194,1.1376402241180326,"Steel Cans "]
[null,"Corrugated Paper",10263.454236760124,13513.435466438608,0.46114563713301032,"Corrugated Paper"]
[null,"Office Paper ",1483.991308411215,1713.6158295741513,0.93328518794614623,"Office Paper "]
[null,"Yard Waste ",11373.990778816198,23024.272831611739,0.11834555570874117,"Yard Waste "]
[null,"Other Plastics ",8144.664863954742,9223.8560180687909,0.75780388972921564,"Other Plastics "]
[null,"Ferrous Metal ",{"$f":"D106*$C$8/2000","v":637.95735594824532},{"$f":"C129/(1-C106)","v":767.69838260920017},{"$f":"C79/D129","v":1.3308478683130596},"Ferrous Metal "]
[null,"White Goods ",{"$f":"D105*$C$8/2000","v":1592.0966355140188},{"$f":"Table7141925313743115135141[[#This Row],[tons-DRY/county-us data ]]","v":1592.0966355140188},{"$f":"G80/Table7141925313743115135141[[#This Row],[tons-WET/county-us data ]]","v":1.3521024111383071},"White Goods "]
[null,"Non-ferrous Metal ",{"$f":"D104*$C$8/2000","v":2458.6904187319083},{"$f":"C131/(1-C104)","v":2599.0384976024402},{"$f":"C81/D131","v":0.1360721118205851},"Non-ferrous Metal "]
[null,"Other Paper ",{"$f":"D107*$C$8/2000","v":8337.213862928349},{"$f":"C132/(1-C107)","v":11183.385463351238},{"$f":"G82/D132","v":0.87082192134416192},"Other Paper "]
[null,"Textiles ",4014.3321122990651,{"$f":"C133/(1-C108)","v":4836.5447136133316},{"$f":"G83/D133","v":0.41601696195994925},"Textiles "]
[null,"C&D Debris",{"$error":"#VALUE!"},{"$f":"C134/(1-C109)","v":{"$error":"#VALUE!"}},{"$f":"#REF!/D134","v":{"$error":"#REF!"}},"C&D Debris"]
[null,"Food Waste",13015.226199376946,{"$f":"C135/(1-C110)","v":32335.965712737758},{"$f":"G85/D135","v":0.23193607445360073},"Food Waste"]
[null,"Miscellaneous ",10841.636395483485,{"$f":"C136/(1-C111)","v":15781.130124430108},{"$f":"G86/D136","v":0.60799045654721184},"Miscellaneous "]
[null,"Tires ",1913.1366978193146,{"$f":"Table7141925313743115135141[[#This Row],[tons-DRY/county-us data ]]","v":1913.1366978193146},{"$f":"G87/Table7141925313743115135141[[#This Row],[tons-WET/county-us data ]]","v":4.2338845986451309E-2},"Tires "]
[]
[]
[]
[null,"Link to \"New WasteCalc County Factors\""]
[null,"Newspaper","Glass","Aluminum Cans","Plastic Bottles","Steel Cans","Corrugated Paper","Office Paper","Yard Waste","Other Plastics","Ferrous Metals","White Goods","Non-Ferrous Metal","Other Paper","Textiles","C&D Debris","Food Waste","Misc","Tires"]
[null,{"$f":"E120","v":0.8243984241680522},{"$f":"E121","v":0.79668069727104485},{"$f":"E122","v":0.96719085795849413},{"$f":"E123","v":1.6910775236776499},{"$f":"E124","v":1.1376402241180326},{"$f":"E125","v":0.46114563713301032},{"$f":"E126","v":0.93328518794614623},{"$f":"E127","v":0.11834555570874117},{"$f":"E128","v":0.75780388972921564},{"$f":"E129","v":1.3308478683130596},{"$f":"E130","v":1.3521024111383071},{"$f":"E131","v":0.1360721118205851},{"$f":"E132","v":0.87082192134416192},{"$f":"E133","v":0.41601696195994925},{"$error":"#REF!"},{"$f":"E135","v":0.23193607445360073},{"$f":"E136","v":0.60799045654721184},{"$f":"E137","v":4.2338845986451309E-2}]

{"sheet":"50 Marion County Factor","index":49,"n_rows":143,"n_cols":19,"rows_kept":143,"cut":false,"hidden":true,"merged":[[2,1,2,2],[3,1,3,2],[18,1,18,2],[42,1,42,2],[64,1,64,2],[64,9,64,10],[90,1,90,2],[92,1,92,2],[114,1,114,2],[116,1,116,2]]}
[null,"Finding County Factors for Marion"]
[]
[null,1]
[null,"Information from annual solid waste report 2017"]
[null,"County","Marion"]
[null,"Waste comp study","NONE"]
[null,"Year",2017]
[null,"Population",349267]
[null,"Landfilled tons",320612]
[null,"C&D collected",126106]
[null,"C&D disposed",{"$f":"C10-C14","v":55084}]
[]
[null,"Recycled tons",479613]
[null,"Recycled C&D",71022]
[null,"combustor recy metals",0]
[null,"Combustor input",0]
[null,"Total Tons MSW collected",{"$f":"C9+(C16-C15)+C13","v":800225}]
[]
[null,2]
[]
[null,"Average disposal LANDFILLED from Okaloosa and Collier"]
[null,"Materials","Okaloosa (tons) ","Collier (tons)","Average","Percent"]
[null,"Newspaper",{"$f":"'51 Okaloosa County Factor'!B90","v":2356.3979999999997},{"$f":"'52 Collier County Factor'!C96","v":3283.6080000000002},{"$f":"AVERAGE(Table19320263238110131137143[[#This Row],[Okaloosa (tons) ]:[Collier (tons)]])","v":2820.0029999999997},{"$f":"E23/$E$41","v":1.3903984940955065E-2}]
[null,"Glass",{"$f":"'51 Okaloosa County Factor'!B91","v":5498.2620000000006},{"$f":"'52 Collier County Factor'!C97","v":9303.5560000000005},{"$f":"AVERAGE(Table19320263238110131137143[[#This Row],[Okaloosa (tons) ]:[Collier (tons)]])","v":7400.9090000000006},{"$f":"E24/$E$41","v":3.6490077239413866E-2}]
[null,"Aluminum Cans",{"$f":"'51 Okaloosa County Factor'!B92","v":1440.021},{"$f":"'52 Collier County Factor'!C98","v":1641.8040000000001},{"$f":"AVERAGE(Table19320263238110131137143[[#This Row],[Okaloosa (tons) ]:[Collier (tons)]])","v":1540.9124999999999},7.5974473060239373E-3]
[null,"Plastic Bottles",{"$f":"'51 Okaloosa County Factor'!B93","v":3665.5079999999998},{"$f":"'52 Collier County Factor'!C99","v":8756.2880000000005},{"$f":"AVERAGE(Table19320263238110131137143[[#This Row],[Okaloosa (tons) ]:[Collier (tons)]])","v":6210.8980000000001},3.0622744820416128E-2]
[null,"Steel Cans",{"$f":"'51 Okaloosa County Factor'!B94","v":1701.8429999999998},{"$f":"'52 Collier County Factor'!C100","v":3009.9739999999997},{"$f":"AVERAGE(Table19320263238110131137143[[#This Row],[Okaloosa (tons) ]:[Collier (tons)]])","v":2355.9084999999995},1.16157735670026E-2]
[null,"Corrugated Paper",{"$f":"'51 Okaloosa County Factor'!B95","v":8247.393},{"$f":"'52 Collier County Factor'!C101","v":13681.7},{"$f":"AVERAGE(Table19320263238110131137143[[#This Row],[Okaloosa (tons) ]:[Collier (tons)]])","v":10964.5465},{"$f":"E28/$E$41","v":5.4060541574034351E-2}]
[null,"Office Paper",{"$f":"'51 Okaloosa County Factor'!B96","v":1440.021},{"$f":"'52 Collier County Factor'!C102","v":4651.7780000000002},{"$f":"AVERAGE(Table19320263238110131137143[[#This Row],[Okaloosa (tons) ]:[Collier (tons)]])","v":3045.8995},1.5017764441974907E-2]
[null,"Yard Trash",{"$f":"'51 Okaloosa County Factor'!B97","v":12960.189},{"$f":"'52 Collier County Factor'!C103","v":6840.85},{"$f":"AVERAGE(Table19320263238110131137143[[#This Row],[Okaloosa (tons) ]:[Collier (tons)]])","v":9900.5195000000003},4.8814371486708343E-2]
[null,"Other Plastics",{"$f":"'51 Okaloosa County Factor'!B98","v":13222.010999999999},{"$f":"'52 Collier County Factor'!C104","v":36940.590000000004},{"$f":"AVERAGE(Table19320263238110131137143[[#This Row],[Okaloosa (tons) ]:[Collier (tons)]])","v":25081.300500000001},0.12366299768176445]
[null,"Ferrous Metals",{"$f":"'51 Okaloosa County Factor'!B99","v":2225.4870000000001},{"$f":"'52 Collier County Factor'!C105","v":5199.0460000000003},{"$f":"AVERAGE(Table19320263238110131137143[[#This Row],[Okaloosa (tons) ]:[Collier (tons)]])","v":3712.2665000000002},1.8303277518787027E-2]
[null,"White Goods",{"$f":"'51 Okaloosa County Factor'!B100","v":523.64400000000001},{"$f":"'52 Collier County Factor'!C106","v":1094.5360000000001},{"$f":"AVERAGE(Table19320263238110131137143[[#This Row],[Okaloosa (tons) ]:[Collier (tons)]])","v":809.09},3.9892068114386172E-3]
[null,"NonFerous Metals",{"$f":"'51 Okaloosa County Factor'!B101","v":654.55500000000006},{"$f":"'52 Collier County Factor'!C107","v":1915.4380000000001},{"$f":"AVERAGE(Table19320263238110131137143[[#This Row],[Okaloosa (tons) ]:[Collier (tons)]])","v":1284.9965000000002},6.3356570844711763E-3]
[null,"Other Paper",{"$f":"'51 Okaloosa County Factor'!B102","v":21993.048000000003},{"$f":"'52 Collier County Factor'!C108","v":47338.681999999993},{"$f":"AVERAGE(Table19320263238110131137143[[#This Row],[Okaloosa (tons) ]:[Collier (tons)]])","v":34665.864999999998},0.17091955750585416]
[null,"Textiles",{"$f":"'51 Okaloosa County Factor'!B103","v":4581.8850000000002},{"$f":"'52 Collier County Factor'!C109","v":9850.8239999999987},{"$f":"AVERAGE(Table19320263238110131137143[[#This Row],[Okaloosa (tons) ]:[Collier (tons)]])","v":7216.3544999999995},3.558013388517435E-2]
[null,"C&D Debris",{"$f":"'51 Okaloosa County Factor'!B104","v":11651.079},{"$f":"'52 Collier County Factor'!C110","v":37487.858},{"$f":"AVERAGE(Table19320263238110131137143[[#This Row],[Okaloosa (tons) ]:[Collier (tons)]])","v":24569.468499999999},0.12113941723865891]
[null,"Food",{"$f":"'51 Okaloosa County Factor'!B105","v":18458.450999999997},{"$f":"'52 Collier County Factor'!C111","v":35025.152000000002},{"$f":"AVERAGE(Table19320263238110131137143[[#This Row],[Okaloosa (tons) ]:[Collier (tons)]])","v":26741.801500000001},0.13185007439708737]
[null,"Miscellaneous",{"$f":"'51 Okaloosa County Factor'!B106","v":19898.472000000002},{"$f":"'52 Collier County Factor'!C112","v":48706.851999999999},{"$f":"AVERAGE(Table19320263238110131137143[[#This Row],[Okaloosa (tons) ]:[Collier (tons)]])","v":34302.661999999997},0.16912879024691518]
[null,"Tires",{"$f":"'51 Okaloosa County Factor'!B107","v":392.733},{"$f":"'52 Collier County Factor'!C113","v":0},{"$f":"AVERAGE(Table19320263238110131137143[[#This Row],[Okaloosa (tons) ]:[Collier (tons)]])","v":196.3665},9.6818225331960753E-4]
[null,"Total",{"$f":"SUM(C23:C40)","v":130910.99999999999},{"$f":"SUM(D23:D40)","v":274728.53600000002},{"$f":"AVERAGE(SUM(E23:E40))","v":202819.76799999998},{"$f":"SUM(F23:F40)","v":1.0000000000000002}]
[]
[null,"Recycled tons from Marion"]
[null,"Materials","Tons"]
[null,"Newspaper",0]
[null,"Glass",1956]
[null,"Aluminum Cans",421]
[null,"Plastic Bottles",411]
[null,"Steel Cans",2]
[null,"Corrugated Paper",15602]
[null,"Office Paper",408]
[null,"Yard Trash",333121]
[null,"Other Plastics",484]
[null,"Ferrous Metals",35430]
[null,"White Goods",5]
[null,"NonFerous Metals",4583]
[null,"Other Paper",5209]
[null,"Textiles",246]
[null,"C&D Debris",71022]
[null,"Food",672]
[null,"Miscellaneous",8197]
[null,"Tires",1844]
[null,"Total",{"$f":"SUM(C45:C62)","v":479613}]
[]
[null,3,null,null,null,null,null,null,null,4]
[]
[null,"Calculating waste compositon percentage utalizing waste compsition study"]
[".","FDEP Category","Landfilled tons\n(Plus combusor ash, minus C&D  disposed)","Collected C&D \n(disposal C&D LANDFILL + recycled)","Combusted\n(minus recycled metals, minus ash)","Recycled Materials\n(Minus recycled C&D)","Total Collected Tons"]
[null,null,{"$f":"C9-C11","v":265528},{"$f":"C11+C14","v":126106},{"$f":"C16-C15","v":0},{"$f":"C63","v":479613},null,null,null,"FDEP Category","Percentage"]
[null,"Newspaper",{"$f":"$C$69*F23","v":3691.8973134019166},null,{"$f":"$E$69*F23","v":0},{"$f":"C45","v":0},{"$f":"SUM(C70:F70)","v":3691.8973134019166},null,null,"Newspaper",{"$f":"G70/$G$89","v":4.6135740740440717E-3}]
[null,"Glass",9689.1372292270844,null,0,1956,{"$f":"SUM(C71:F71)","v":11645.137229227084},null,null,"Glass",1.4552328694088646E-2]
[null,"Aluminum Cans",2017.334988273924,null,0,421,2438.334988273924,null,null,"Aluminum Cans",3.0470617492254358E-3]
[null,"Plastic Bottles",8131.1961866754536,null,0,411,8542.1961866754536,null,null,"Plastic Botles",1.0674742961886289E-2]
[null,"Steel Cans",3084.3131236990666,null,0,2,3086.3131236990666,null,null,"Steel Cans",3.856806677745718E-3]
[null,"Corrugated Paper",14354.587483070194,null,0,15602,29956.587483070194,null,null,"Corrugated Paper",3.7435205702233992E-2]
[null,"Office Paper",3987.6369567487131,null,0,408,4395.6369567487127,null,null,"Office Paper",5.4930012893232693E-3]
[null,"Yard Trash",12961.582432122692,null,0,333121,346082.58243212267,null,null,"Yard Trash",0.43248159259223684]
[null,"Other Plastics",32835.988448443553,null,0,484,33319.988448443553,null,null,"Other Plastics",4.1638274795768135E-2]
[null,"Ferrous Metals",4860.0326730084817,null,0,35430,40290.032673008478,null,null,"Ferrous Metals",5.0348380359284559E-2]
[null,"White Goods",1059.2461062276732,null,0,5,1064.2461062276732,null,null,"White Goods",1.3299335889626958E-3]
[null,"NonFerous Metals",1682.2943543254626,null,0,4583,6265.2943543254623,null,null,"NonFerous Metals",7.8294159196794187E-3]
[null,"Other Paper",45383.928265414441,null,0,5209,50592.928265414441,null,null,"Other Paper",6.3223378756492796E-2]
[null,"Textiles",9447.5217902625755,null,0,246,9693.5217902625755,null,null,"Textiles",1.2113495317270238E-2]
[null,"C&D Debris",32165.907180546623,{"$f":"C10","v":126106},0,0,158271.90718054661,null,null,"C&D Debris",0.1977842571533589]
[null,"Food",35009.886554509816,null,0,{"$f":"C60","v":672},35681.886554509816,null,null,"Food",4.4589817307019677E-2]
[null,"Miscellaneous",44908.429416682891,null,0,{"$f":"C61","v":8197},53105.429416682891,null,null,"Miscellaneous",6.6363122142750974E-2]
[null,"Tires",257.07949735944874,null,0,{"$f":"C62","v":1844},2101.0794973594489,null,null,"Tires",2.6256109186284472E-3]
[null,null,"Total","Total","Total","Total","Total",null,null,null,"total"]
[null,null,{"$f":"SUM(C70:C87)","v":265528},{"$f":"D84","v":126106},{"$f":"SUM(E70:E87)","v":0},{"$f":"SUM(F70:F87)","v":408591},{"$f":"SUM(G70:G87)","v":800224.99999999988},null,null,null,{"$f":"SUM(K70:K87)","v":1}]
[]
[null,5]
[]
[null,"US EPA Data and Moisture Content"]
[null,"Category","Moisture Content  (MC) ","US EPA DATA (lbs-dry/person)","US EPA DATA             (lbs-WET/person)    [US EPA DATA/(1-MC)"]
[null,"Newspaper",0.27850000000000003,41.931464174454831,58.117067462861854]
[null,"Glass",3.2000000000000001E-2,56.822429906542055,58.700857341469067]
[null,"Aluminum Cans",0.129,8.4112149532710276,9.6569632069701807]
[null,"Plastic Bottles",4.8000000000000001E-2,23.302180685358255,24.477080551846907]
[null,"Steel Cans",5.8000000000000003E-2,10.841121495327103,11.508621544933231]
[null,"Corrugated Paper",0.24049999999999999,195.20249221183801,257.01447295831201]
[null,"Office Paper",0.13400000000000001,28.22429906542056,32.591569359608037]
[null,"Yard Waste",0.50600000000000001,216.3239875389408,437.90280878328099]
[null,"Other Plastics",0.11700000000000001,154.90485396035913,175.43018568557093]
[null,"Non-ferrous Metal",5.3999999999999999E-2,46.762277712979795,49.431583206109721]
[null,"White Goods","x",30.280373831775702,30.280373831775702]
[null,"Ferrous Metal",0.16900000000000001,12.133426323463874,14.600994372399368]
[null,"Other Paper",0.2545,158.56697819314641,212.69883057430772]
[null,"Textiles",0.17,76.349308411214949,91.987118567728857]
[null,"C&D Debris",8.8999999999999996E-2,"-","-"]
[null,"Food Waste",0.59750000000000003,247.53894080996884,615.00357965209651]
[null,"Miscellaneous",0.313,206.19904324930312,300.14416775735532]
[null,"Tires","x",36.386292834890966,36.386292834890966]
[]
[]
[null,6]
[]
[null,"Finding County Factor"]
[null,"Material","tons-DRY/county-us data ","tons-WET/county-us data ","County Factor","Category "]
[null,"equation","US DATA * County Population/2000","tons-DRY/(1-MoistureContent)","ton-wet-composition/tons-wet-Usdata"]
[null,"Newspaper ",{"$f":"D95*$C$8/2000","v":7322.638348909657},{"$f":"C120/(1-C95)","v":10149.186900775685},{"$f":"G70/D120","v":0.36376286588236456},"Newspaper "]
[null,"Glass ",9923.0998130841126,10251.136170541438,1.1359850299024969,"Glass "]
[null,"Aluminum Cans ",1468.879906542056,1686.4292842044272,1.4458566458208819,"Aluminum Cans "]
[null,"Plastic Bottles ",4069.3413707165109,4274.518246550957,1.998399747987512,"Plastic Bottles "]
[null,"Steel Cans ",1893.2229906542057,2009.7908605670975,1.535638948436759,"Steel Cans "]
[null,"Corrugated Paper",34088.894423676014,44883.336963365386,0.66743227018796125,"Corrugated Paper"]
[null,"Office Paper ",4928.9081308411214,5691.5798277611102,0.77230524560310332,"Office Paper "]
[null,"Yard Waste ",37777.415077881618,76472.5001576551,4.5255821598436246,"Yard Waste "]
[null,"Other Plastics ",27051.576814086377,30635.987331921151,1.0876094211504588,"Other Plastics "]
[null,"Ferrous Metal ",{"$f":"D106*$C$8/2000","v":2118.9027058586289},{"$f":"C129/(1-C106)","v":2549.8227507324054},{"$f":"C79/D129","v":1.9060276529466593},"Ferrous Metal "]
[null,"White Goods ",{"$f":"D105*$C$8/2000","v":5287.9676635514024},{"$f":"Table7141925313743115135141147[[#This Row],[tons-DRY/county-us data ]]","v":5287.9676635514024},{"$f":"G80/Table7141925313743115135141147[[#This Row],[tons-WET/county-us data ]]","v":0.20125805866084379},"White Goods "]
[null,"Non-ferrous Metal ",{"$f":"D104*$C$8/2000","v":8166.2602249896572},{"$f":"C131/(1-C104)","v":8632.4103858241615},{"$f":"C81/D131","v":0.19488118371759372},"Non-ferrous Metal "]
[null,"Other Paper ",{"$f":"D107*$C$8/2000","v":27691.106386292835},{"$f":"C132/(1-C107)","v":37144.341229098369},{"$f":"G82/D132","v":1.3620628766402951},"Other Paper "]
[null,"Textiles ",13333.146950429906,{"$f":"C133/(1-C108)","v":16064.032470397478},{"$f":"G83/D133","v":0.60343016662383064},"Textiles "]
[null,"C&D Debris",{"$error":"#VALUE!"},{"$f":"C134/(1-C109)","v":{"$error":"#VALUE!"}},{"$f":"#REF!/D134","v":{"$error":"#REF!"}},"C&D Debris"]
[null,"Food Waste",43228.591619937695,{"$f":"C135/(1-C110)","v":107400.2276271744},{"$f":"G85/D135","v":0.33223287643648891},"Food Waste"]
[null,"Miscellaneous ",36009.260619277178,{"$f":"C136/(1-C111)","v":52415.226520054115},{"$f":"G86/D136","v":1.0131679846192156},"Miscellaneous "]
[null,"Tires ",6354.265669781932,{"$f":"Table7141925313743115135141147[[#This Row],[tons-DRY/county-us data ]]","v":6354.265669781932},{"$f":"G87/Table7141925313743115135141147[[#This Row],[tons-WET/county-us data ]]","v":0.33065653948830792},"Tires "]
[]
[]
[]
[null,"Link to \"New WasteCalc County Factors\""]
[null,"Newspaper","Glass","Aluminum Cans","Plastic Bottles","Steel Cans","Corrugated Paper","Office Paper","Yard Waste","Other Plastics","Ferrous Metals","White Goods","Non-Ferrous Metal","Other Paper","Textiles","C&D Debris","Food Waste","Misc","Tires"]
[null,{"$f":"E120","v":0.36376286588236456},{"$f":"E121","v":1.1359850299024969},{"$f":"E122","v":1.4458566458208819},{"$f":"E123","v":1.998399747987512},{"$f":"E124","v":1.535638948436759},{"$f":"E125","v":0.66743227018796125},{"$f":"E126","v":0.77230524560310332},{"$f":"E127","v":4.5255821598436246},{"$f":"E128","v":1.0876094211504588},{"$f":"E129","v":1.9060276529466593},{"$f":"E130","v":0.20125805866084379},{"$f":"E131","v":0.19488118371759372},{"$f":"E132","v":1.3620628766402951},{"$f":"E133","v":0.60343016662383064},{"$error":"#REF!"},{"$f":"E135","v":0.33223287643648891},{"$f":"E136","v":1.0131679846192156},{"$f":"E137","v":0.33065653948830792}]

{"sheet":"51 Okaloosa County Factor","index":50,"n_rows":186,"n_cols":18,"rows_kept":186,"cut":false,"hidden":true,"merged":[[164,0,164,1],[2,0,2,1],[19,0,19,1],[82,0,82,1],[82,8,82,9],[85,1,87,1],[85,2,87,2],[85,3,87,3],[85,4,87,4],[86,8,86,10],[110,0,110,1],[112,0,112,1],[134,0,134,1],[136,0,136,1],[162,0,162,1],[60,0,60,1]]}
["Finding County Factors for Okaloosa County"]
[]
[1]
["Information from annual solid waste report 2017"]
["County","Okaloosa"]
["Waste comp study",2015]
["Year",2017]
["Population",195488]
["Landfilled tons",260059]
["C&D collected",132041]
["C&D disposed",{"$f":"B10-B14","v":129148}]
[]
["Recycled tons",62935]
["Recycled C&D",2893]
["combustor recy metals",0]
["Combustor input",0]
["Combustor ash",0]
["Total Tons MSW collected",{"$f":"B9+B13+B16","v":322994}]
[]
[2]
[]
["Okaloosa Waste Composition Study Results"]
["FDEP Categorty","Waste Comp Category","Percentage in waste stream"]
["Newspaper","Newspaper",1.7999999999999999E-2]
["Corrugated Cardboard","Corrugated Cardboard",6.3E-2]
["Office Paper","Office Paper",1.0999999999999999E-2]
["Other Paper","other recyclable paper",0.108]
[null,"low grade paper",5.8000000000000003E-2]
[null,"aseptic containers",2E-3]
["Glass Packaging"," glass containers",4.2000000000000003E-2]
["Steel Cans","tin/steel cans",1.2999999999999999E-2]
["Other Ferrous","Other Ferrous",1.7000000000000001E-2]
["Aluminum Cans","Aluminum Cans",1.0999999999999999E-2]
["Other Non-Ferrous","Other Nonferrous",5.0000000000000001E-3]
["Textiles","textiles",3.5000000000000003E-2]
["Yard Trash","yard waste",9.9000000000000005E-2]
["Food Waste","Food Waste",0.14099999999999999]
["Tires","Tires/rubber",3.0000000000000001E-3]
["White Goods","White Goods",4.0000000000000001E-3]
["Plastic Containers","PET containers",1.7999999999999999E-2]
[null,"HDPE Containers",0.01]
["Other Plastic","other plastic containers 3-7",1.0999999999999999E-2]
[null,"other non bottle plastics 1-2",7.0000000000000001E-3]
[null,"bulky rigid plstics",1.4E-2]
[null,"non rigid plastic film",5.6000000000000001E-2]
[null,"all other plastics",1.2999999999999999E-2]
["C&D","clean wood waste",1.2999999999999999E-2]
[null,"treated wood waste",1.4E-2]
[null,"C&D debris",6.2E-2]
["MISC","expanded polyeterene",8.9999999999999993E-3]
[null,"electronics",1.2999999999999999E-2]
[null,"other glass",6.0000000000000001E-3]
[null,"special waste",1E-3]
[null,"household batteries",1E-3]
[null,"all other garbage",0.109]
[null,"liquids",1.2E-2]
[null,"grot",1E-3]
[null,null,"total"]
[null,null,{"$f":"SUM(C24:C57)","v":1}]
[]
["Recycled tons from Okaloosa"]
["Materials","Tons"]
["Newspaper",5676]
["Glass",3197]
["Aluminum Cans",900]
["Plastic Bottles",1269]
["Steel Cans",204]
["Corrugated Paper",9938]
["Office Paper",97]
["Yard Trash",17366]
["Other Plastics",468]
["Ferrous Metals",13149]
["White Goods",552]
["NonFerous Metals",2383]
["Other Paper",3437]
["Textiles",77]
["C&D Debris"]
["Food",605]
["Miscellaneous",422]
["Tires",302]
["Total",{"$f":"SUM(B63:B80)","v":60042}]
[]
[3,null,null,null,null,null,null,null,4]
[]
["Calculating waste compositon percentage utalizing waste compsition study"]
[null,"Landfilled tons\n(Minus combusor ash, minus C&D  disposed)","Collected C&D \n(disposal + recycled)","Combusted\n(minus recycled metals)","Recycled Materials\n(Minus recycled c&D)"]
[]
["FDEP Category",null,null,null,null,"Sum"]
[null,{"$f":"B9-B15-B11","v":130911},{"$f":"B11+B14","v":132041},0,{"$f":"B13-B14","v":60042},null,null,null,"FDEP Category","Percentage"]
["Newspaper",{"$f":"C24*B89","v":2356.3979999999997},null,{"$f":"D89*C24","v":0},5676,{"$f":"SUM(B90:E90)","v":8032.3979999999992},null,null,"Newspaper",{"$f":"F90/$F$109","v":2.4868563984223581E-2}]
["Glass",{"$f":"C30*B89","v":5498.2620000000006},null,{"$f":"C30","v":4.2000000000000003E-2},3197,8695.3040000000001,null,null,"Glass",2.6920942399302834E-2]
["Aluminum Cans",{"$f":"C33*B89","v":1440.021},null,{"$f":"0","v":0},900,2340.0209999999997,null,null,"Aluminum Cans",7.2447806947473032E-3]
["Plastic Bottles",{"$f":"SUM(C40:C41)*B89","v":3665.5079999999998},null,{"$f":"SUM(C40:C41)*D89","v":0},1269,4934.5079999999998,null,null,"Plastic Botles",1.5277396355193448E-2]
["Steel Cans",{"$f":"C31*B89","v":1701.8429999999998},null,{"$f":"D89*C31","v":0},204,1905.8429999999998,null,null,"Steel Cans",5.9005515649728293E-3]
["Corrugated Paper",{"$f":"C25*B89","v":8247.393},null,{"$f":"D89*C25","v":0},9938,18185.393,null,null,"Corrugated Paper",5.6302564862790873E-2]
["Office Paper",{"$f":"C26*B89","v":1440.021},null,{"$f":"D89*C26","v":0},97,1537.021,null,null,"Office Paper",4.7586667248803302E-3]
["Yard Trash",{"$f":"C36*B89","v":12960.189},null,{"$f":"D89*C36","v":0},17366,30326.188999999998,null,null,"Yard Trash",9.3890861924939145E-2]
["Other Plastics",{"$f":"SUM(C42:C46)*B89","v":13222.010999999999},null,{"$f":"D89*SUM(C42:C46)","v":0},468,13690.010999999999,null,null,"Other Plastics",4.2384716805395434E-2]
["Ferrous Metals",{"$f":"C32*B89","v":2225.4870000000001},null,{"$f":"D89*C32","v":0},13149,15374.487000000001,null,null,"Ferrous Metals",4.7599908979125999E-2]
["White Goods",{"$f":"C39*B89","v":523.64400000000001},null,{"$f":"D89*C39","v":0},552,1075.644,null,null,"White Goods",3.3302286114615079E-3]
["NonFerous Metals",{"$f":"C34*B89","v":654.55500000000006},null,{"$f":"D89*C34","v":0},2383,3037.5550000000003,null,null,"NonFerous Metals",9.4043685177325961E-3]
["Other Paper",{"$f":"SUM(C27:C29)*B89","v":21993.048000000003},null,{"$f":"D89*SUM(C27:C29)","v":0},3437,25430.048000000003,null,null,"Other Paper",7.8732251042574961E-2]
["Textiles",{"$f":"C35*B89","v":4581.8850000000002},null,{"$f":"D89*C35","v":0},77,4658.8850000000002,null,null,"Textiles",1.4424058633254914E-2]
["C&D Debris",{"$f":"SUM(C47:C49)*B89","v":11651.079},{"$f":"C89","v":132041},{"$f":"D89*SUM(C47:C49)","v":0},null,143692.079,null,null,"C&D Debris",0.44487532373739574]
["Food",{"$f":"C37*B89","v":18458.450999999997},null,{"$f":"D89*C37","v":0},605,19063.450999999997,null,null,"Food",5.9021060828112724E-2]
["Miscellaneous",{"$f":"SUM(C50:C57)*B89","v":19898.472000000002},null,{"$f":"D89*SUM(C50:C57)","v":0},422,20320.472000000002,null,null,"Miscellaneous",6.2912838497497736E-2]
["Tires",{"$f":"C38*B89","v":392.733},null,{"$f":"D89*C38","v":0},302,694.73299999999995,null,null,"Tires",2.1509158363979975E-3]
[null,"Total","total","total","total","totalMsw collected",null,null,null,"total"]
[null,{"$f":"SUM(B90:B107)","v":130910.99999999999},{"$f":"C104","v":132041},0,{"$f":"SUM(E90:E107)","v":60042},{"$f":"SUM(F90:F107)","v":322994.04200000002},null,null,null,{"$f":"SUM(J90:J107)","v":1}]
[]
[5]
[]
["US EPA Data and Moisture Content"]
["Category","Moisture Content  (MC) ","US EPA DATA (lbs-dry/person)","US EPA DATA             (lbs-WET/person)    [US EPA DATA/(1-MC)"]
["Newspaper",0.27850000000000003,41.931464174454831,58.117067462861854]
["Glass",3.2000000000000001E-2,56.822429906542055,58.700857341469067]
["Aluminum Cans",0.129,8.4112149532710276,9.6569632069701807]
["Plastic Bottles",4.8000000000000001E-2,23.302180685358255,24.477080551846907]
["Steel Cans",5.8000000000000003E-2,10.841121495327103,11.508621544933231]
["Corrugated Paper",0.24049999999999999,195.20249221183801,257.01447295831201]
["Office Paper",0.13400000000000001,28.22429906542056,32.591569359608037]
["Yard Waste",0.50600000000000001,216.3239875389408,437.90280878328099]
["Other Plastics",0.11700000000000001,154.90485396035913,175.43018568557093]
["Non-ferrous Metal",5.3999999999999999E-2,46.762277712979795,49.431583206109721]
["White Goods","x",30.280373831775702,30.280373831775702]
["Ferrous Metal",0.16900000000000001,12.133426323463874,14.600994372399368]
["Other Paper",0.2545,158.56697819314641,212.69883057430772]
["Textiles",0.17,76.349308411214949,91.987118567728857]
["C&D Debris",8.8999999999999996E-2,"-","-"]
["Food Waste",0.59750000000000003,247.53894080996884,615.00357965209651]
["Miscellaneous",0.313,206.19904324930312,300.14416775735532]
["Tires","x",36.386292834890966,36.386292834890966]
[]
[]
[6]
[]
["Finding County Factor"]
["Category","tons-DRY/county-us data ","tons-WET/county-us data ","County Factor"]
["equation","US DATA * County Population/2000","tons-DRY/(1-MoistureContent)","ton-wet-composition/tons-wet-Usdata"]
["Newspaper",{"$f":"C115*$B$8/2000","v":4098.5490342679132},{"$f":"B140/(1-B115)","v":5680.5946420899691},{"$f":"F90/C140","v":1.4140065444002126}]
["Glass",5554.051588785047,5737.6565999845525,1.5154800306493439]
["Aluminum Cans",822.14579439252338,943.91021170209342,2.4790716012918095]
["Plastic Bottles",2277.6483489096577,2392.4877614597244,2.0625008326016752]
["Steel Cans",1059.6545794392523,1124.8987042879537,1.6942352166779087]
["Corrugated Paper",19079.872398753894,25121.622644837251,0.72389404367306198]
["Office Paper",2758.7558878504669,3185.6303554855276,0.48248567111790341]
["Yard Waste",21144.371838006227,42802.372141713015,0.70851654902662831]
["Other Plastics",15141.020045501344,17147.248069650446,0.79837948015871185]
["Ferrous Metal",{"$f":"C126*$B$8/2000","v":1185.9696225606529},{"$f":"B149/(1-B126)","v":1427.1595939358037},{"$f":"B99/C149","v":1.5593820126749656}]
["White Goods",{"$f":"C125*$B$8/2000","v":2959.7248598130845},{"$f":"B150","v":2959.7248598130845},{"$f":"F100/C150","v":0.36342702479038208}]
["Non-ferrous Metal",{"$f":"C124*$B$8/2000","v":4570.7320727774968},{"$f":"B151/(1-B124)","v":4831.6406688979887},{"$f":"B101/C151","v":0.13547261579559733}]
["Other Paper",{"$f":"C127*$B$8/2000","v":15498.970716510903},{"$f":"B152/(1-B127)","v":20790.034495655134},{"$f":"F102/C152","v":1.223184502426611}]
["Textiles",7462.6868013457934,{"$f":"B153/(1-B128)","v":8991.1889172840893},{"$f":"F103/C153","v":0.51816117343992807}]
["C&D Debris",{"$error":"#VALUE!"},{"$f":"B154/(1-B129)","v":{"$error":"#VALUE!"}},{"$f":"#REF!/C154","v":{"$error":"#REF!"}}]
["Food Waste",24195.446230529597,{"$f":"B155/(1-B130)","v":60112.909889514529},{"$f":"F105/C155","v":0.31712740299942171}]
["Miscellaneous",20154.719283359886,{"$f":"B156/(1-B131)","v":29337.29153327494},{"$f":"F106/C156","v":0.69264989840497437}]
["Tires",3556.5418068535828,{"$f":"B157","v":3556.5418068535828},{"$f":"F107/C157","v":0.19533947236645011}]
[]
["Link to \"New WasteCalc County Factors\""]
["Newspaper","Glass","Aluminum Cans","Plastic Bottles","Steel Cans","Corrugated Paper","Office Paper","Yard Waste","Other Plastics","Ferrous Metals","White Goods","Non-Ferrous Metal","Other Paper","Textiles","C&D Debris","Food Waste","Misc","Tires"]
[{"$f":"D140","v":1.4140065444002126},{"$f":"D141","v":1.5154800306493439},{"$f":"D142","v":2.4790716012918095},{"$f":"D143","v":2.0625008326016752},{"$f":"D144","v":1.6942352166779087},{"$f":"D145","v":0.72389404367306198},{"$f":"D146","v":0.48248567111790341},{"$f":"D147","v":0.70851654902662831},{"$f":"D148","v":0.79837948015871185},{"$f":"D149","v":1.5593820126749656},{"$f":"D150","v":0.36342702479038208},{"$f":"D151","v":0.13547261579559733},{"$f":"D152","v":1.223184502426611},{"$f":"D153","v":0.51816117343992807},{"$f":"D154","v":{"$error":"#REF!"}},{"$f":"D155","v":0.31712740299942171},{"$f":"D156","v":0.69264989840497437},{"$f":"D157","v":0.19533947236645011}]
[]
[7]
[]
["Check"]
["Material","Calculated ","Accepted (larger values of calculated vs recycled","Percent","Waste Comp Percent","Percentage Point Difference"]
["Newspaper",{"$f":"$B$8*D115*D140/2000","v":8032.3980000000001},{"$f":"B167","v":8032.3980000000001},{"$f":"C167/$C$186","v":2.4868563984223584E-2},{"$f":"J90","v":2.4868563984223581E-2},{"$f":"ABS(D167-E167)","v":3.4694469519536142E-18}]
["Glass",8695.3040000000001,8695.3040000000001,2.6920942399302834E-2,2.6920942399302834E-2,0]
["Aluminum Cans",2340.0209999999997,2340.0209999999997,7.2447806947473032E-3,7.2447806947473032E-3,0]
["Plastic Bottles",4934.5079999999989,4934.5079999999989,1.5277396355193446E-2,1.5277396355193448E-2,1.7347234759768071E-18]
["Steel Cans",1905.8430000000001,1905.8430000000001,5.9005515649728302E-3,5.9005515649728293E-3,8.6736173798840355E-19]
["Corrugated Paper",18185.393,18185.393,5.6302564862790873E-2,5.6302564862790873E-2,0]
["Office Paper",1537.021,1537.021,4.7586667248803302E-3,4.7586667248803302E-3,0]
["Yard Waste",30326.188999999998,30326.188999999998,9.3890861924939145E-2,9.3890861924939145E-2,0]
["Other Plastics",13690.010999999999,13690.010999999999,4.2384716805395434E-2,4.2384716805395434E-2,0]
["Ferrous Metal",{"$f":"(B8*D126*D149/2000)+E99","v":15374.487000000001},15374.487000000001,4.7599908979125999E-2,4.7599908979125999E-2,0]
["White Goods",{"$f":"B8*C125/2000","v":2959.7248598130845},2959.7248598130845,9.1634038866050798E-3,3.3302286114615079E-3,5.8331752751435723E-3]
["Non-ferrous Metal",{"$f":"(B8*D151*D124/2000)+E101","v":3037.5550000000003},3037.5550000000003,9.4043685177325961E-3,9.4043685177325961E-3,0]
["Other Paper",{"$f":"$B$8*D127*D152/2000","v":25430.048000000003},25430.048000000003,7.8732251042574961E-2,7.8732251042574961E-2,0]
["Textiles",{"$f":"$B$8*D128*D153/2000","v":4658.8850000000002},4658.8850000000002,1.4424058633254914E-2,1.4424058633254914E-2,0]
["C&D Debris",{"$f":"B10+(B9*0.075)+(B16*0.075)","v":151545.42499999999},151545.42499999999,0.46918953693888876,0.44487532373739574,2.4314213201493018E-2]
["Food Waste",{"$f":"$B$8*D130*D155/2000","v":19063.450999999997},19063.450999999997,5.9021060828112724E-2,5.9021060828112724E-2,0]
["Miscellaneous",{"$f":"F109-B186","v":7721.2363333333051},7721.2363333333051,2.3905197400926996E-2,6.2912838497497736E-2,3.900764109657074E-2]
["Tires",{"$f":"B8*C132/2000","v":3556.5418068535828},3556.5418068535828,1.1011168456332029E-2,2.1509158363979975E-3,8.8602526199340319E-3]
[null,"sum (Minus misc)","TOTAL","TOTAL","TOTAL"]
[null,{"$f":"SUM(B167:B182,B184)","v":315272.80566666671},{"$f":"SUM(C167:C184)","v":322994.04200000002},{"$f":"SUM(D167:D184)","v":0.99999999999999989},{"$f":"SUM(E167:E184)","v":1}]

{"sheet":"52 Collier County Factor","index":51,"n_rows":169,"n_cols":19,"rows_kept":169,"cut":false,"hidden":true,"merged":[[116,1,116,2],[118,1,118,2],[140,1,140,2],[142,1,142,2],[2,1,2,2],[3,1,3,2],[18,1,18,2],[90,1,90,2],[90,9,90,10]]}
[null,"Finding County Factors for Collier"]
[]
[null,1]
[null,"Information from annual solid waste report 2017"]
[null,"County","Collier"]
[null,"Waste comp study","2018-2019"]
[null,"Year",2017]
[null,"Population",357470]
[null,"Landfilled tons",445875]
[null,"C&D collected",436612]
[null,"C&D disposed",{"$f":"C10-C14","v":172241}]
[null,null,445875]
[null,"Recycled tons",737441]
[null,"Recycled C&D",264371]
[null,"combustor recy metals",0]
[null,"Combustor input",0]
[null,"Total Tons MSW collected",{"$f":"C9+(C16-C15)+C13","v":1183316}]
[]
[null,2]
[]
[null,"Collier Waste Composition Study Results"]
[null,"FDEP Category ","Collier Co. Categoy","% of Wastestream "]
[null,"Newspapers","Newspaper",1.2E-2]
[null,"Glass","Glass Containers",3.2000000000000001E-2]
[null,null,"Other Glass",2E-3]
[null,"Aluminum Cans","Aluminum Cans",6.0000000000000001E-3]
[null,"Plastic Bottles","#1 PET Bottles",1.7000000000000001E-2]
[null,null,"#2 HDPE Bottles",8.0000000000000002E-3]
[null,null,"#3-#7 Bottles ",7.0000000000000001E-3]
[null,"Steel Cans","Tin/Steel Cans",1.0999999999999999E-2]
[null,"Corrugated Boxes","Corrugated Cardboard (OCC)",0.05]
[null,"Office Paper","Office Paper",1.7000000000000001E-2]
[null,"Yard Trash","Yard Waste",2.5000000000000001E-2]
[null,"Other Plastics","Styrofoam (Expanded Polystyrene Foodware) ",8.0000000000000002E-3]
[null,null,"Other Expanded Polystyrene",1E-3]
[null,null,"Rigid HDPE and PP Plastic",1.2999999999999999E-2]
[null,null,"Other Rigid Plastic Packaging ",1.6E-2]
[null,null,"Other Rigid Plastic",1.7999999999999999E-2]
[null,null,"Plastic Bags",3.9E-2]
[null,null,"Other Plastic Films",0.04]
[null,"Ferrous Metals","Other Ferrous (Steel)",1.9E-2]
[null,"White Goods","White Goods",4.0000000000000001E-3]
[null,"Nonferrous Metals","Other Non-Ferrous (Aluminum) ",7.0000000000000001E-3]
[null,"Other Paper","Aseptic Containers (Polycoated)",4.0000000000000001E-3]
[null,null,"Mixed Other Recyclable Paper",5.1999999999999998E-2]
[null,null,"Compostable Paper",0.105]
[null,null,"Magazine and Catelogs",1.2E-2]
[null,null,"Other Non-recyclable Paper",0]
[null,"Textiles","Carpet",6.0000000000000001E-3]
[null,null,"Textiles",0.03]
[null,"C&D Debris","Wood-Untreated",4.5999999999999999E-2]
[null,null,"Wood -Treated",1.0999999999999999E-2]
[null,null,"Other C&D",0.08]
[null,"Food Waste","Food Waste",0.128]
[null,"Miscellaneous","Diapers",2.7E-2]
[null,null,"Other Organics",1.4E-2]
[null,null,"Other Bulky Waste",0.01]
[null,null,"Electronics (E-Waste)",1.7000000000000001E-2]
[null,null,"Other Electrical and Electronic Goods",1.2999999999999999E-2]
[null,null,"Rubber",2E-3]
[null,null,"Hazardous Household Waste",3.0000000000000001E-3]
[null,null,"Other Inorganics",1.7000000000000001E-2]
[null,null,"Liquids",0.01]
[null,null,"Fines",6.5000000000000002E-2]
[null,"Tires","Tires",0]
[null,null,null,"sum"]
[null,null,null,{"$f":"SUM(D23:D65)","v":1.0040000000000002}]
[]
[null,"Recycled tons from Collier"]
[null,"Materials","Tons"]
[null,"Newspaper",12838]
[null,"Glass",5876]
[null,"Aluminum Cans",535]
[null,"Plastic Bottles",671]
[null,"Steel Cans",688]
[null,"Corrugated Paper",41990]
[null,"Office Paper",1470]
[null,"Yard Trash",325192]
[null,"Other Plastics",2286]
[null,"Ferrous Metals",18362]
[null,"White Goods",3314]
[null,"NonFerous Metals",2873]
[null,"Other Paper",6366]
[null,"Textiles",4454]
[null,"C&D Debris",264371]
[null,"Food",34242]
[null,"Miscellaneous",7161]
[null,"Tires",4752]
[null,"Total",{"$f":"SUM(C71:C88)","v":737441}]
[]
[null,3,null,null,null,null,null,null,null,4]
[]
[null,"Calculating waste compositon percentage utalizing waste compsition study"]
[".","FDEP Category","Landfilled tons\n(Plus combusor ash, minus C&D  disposed)","Collected C&D \n(disposal C&D LANDFILL + recycled)","Combusted\n(minus recycled metals, minus ash)","Recycled Materials\n(Minus recycled C&D)","Total Collected Tons"]
[null,null,{"$f":"C9-C11","v":273634},{"$f":"C11+C14","v":436612},{"$f":"C16-C15","v":0},{"$f":"C89","v":737441},null,null,null,"FDEP Category","Percentage"]
[null,"Newspaper",{"$f":"$C$95*D23","v":3283.6080000000002},null,{"$f":"$E$95*D23","v":0},{"$f":"C71","v":12838},{"$f":"SUM(C96:F96)","v":16121.608},null,null,"Newspaper",{"$f":"G96/$G$115","v":1.3611503368119312E-2}]
[null,"Glass",{"$f":"$C$95*SUM(D24:D25)","v":9303.5560000000005},null,{"$f":"$E$95*SUM(D24:D25)","v":0},5876,{"$f":"SUM(C97:F97)","v":15179.556},null,null,"Glass",1.2816127127055547E-2]
[null,"Aluminum Cans",{"$f":"$C$95*D26","v":1641.8040000000001},null,{"$f":"$E$95*D26","v":0},535,2176.8040000000001,null,null,"Aluminum Cans",1.8378796319657191E-3]
[null,"Plastic Bottles",{"$f":"$C$95*SUM(D27:D29)","v":8756.2880000000005},null,{"$f":"$E$95*SUM(D27:D29)","v":0},671,9427.2880000000005,null,null,"Plastic Botles",7.9594766455201478E-3]
[null,"Steel Cans",{"$f":"$C$95*D30","v":3009.9739999999997},null,{"$f":"$E$95*D30","v":0},688,3697.9739999999997,null,null,"Steel Cans",3.1222062685197184E-3]
[null,"Corrugated Paper",{"$f":"$C$95*D31","v":13681.7},null,{"$f":"$E$95*D31","v":0},41990,55671.7,null,null,"Corrugated Paper",4.7003718987518359E-2]
[null,"Office Paper",{"$f":"$C$95*D32","v":4651.7780000000002},null,{"$f":"$E$95*D32","v":0},1470,6121.7780000000002,null,null,"Office Paper",5.1686284560373075E-3]
[null,"Yard Trash",{"$f":"$C$95*D33","v":6840.85},null,{"$f":"$E$95*D33","v":0},325192,332032.84999999998,null,null,"Yard Trash",0.28033594763631853]
[null,"Other Plastics",{"$f":"$C$95*SUM(D34:D40)","v":36940.590000000004},null,{"$f":"$E$95*SUM(D34:D40)","v":0},2286,39226.590000000004,null,null,"Other Plastics",3.3119082284151516E-2]
[null,"Ferrous Metals",{"$f":"$C$95*D41","v":5199.0460000000003},null,{"$f":"$E$95*D41","v":0},18362,23561.046000000002,null,null,"Ferrous Metals",1.9892634592369077E-2]
[null,"White Goods",{"$f":"$C$95*D42","v":1094.5360000000001},null,{"$f":"$E$95*D42","v":0},3314,4408.5360000000001,null,null,"White Goods",3.7221350756373207E-3]
[null,"NonFerous Metals",{"$f":"$C$95*D43","v":1915.4380000000001},null,{"$f":"$E$95*D43","v":0},2873,4788.4380000000001,null,null,"NonFerous Metals",4.0428870349056064E-3]
[null,"Other Paper",{"$f":"$C$95*SUM(D44:D48)","v":47338.681999999993},null,{"$f":"$E$95*SUM(D44:D48)","v":0},6366,53704.681999999993,null,null,"Other Paper",4.5342962062269253E-2]
[null,"Textiles",{"$f":"$C$95*SUM(D49:D50)","v":9850.8239999999987},null,{"$f":"$E$95*SUM(D49:D50)","v":0},4454,14304.823999999999,null,null,"Textiles",1.2077589286152718E-2]
[null,"C&D Debris",{"$f":"$C$95*SUM(D51:D53)","v":37487.858},{"$f":"C10","v":436612},{"$f":"$E$95*SUM(D51:D53)","v":0},0,474099.85800000001,null,null,"C&D Debris",0.40028338451052076]
[null,"Food",{"$f":"$C$95*D54","v":35025.152000000002},null,{"$f":"$E$95*D54","v":0},{"$f":"C86","v":34242},69267.152000000002,null,null,"Food",5.8482384185748242E-2]
[null,"Miscellaneous",{"$f":"$C$95*SUM(D55:D64)","v":48706.851999999999},null,{"$f":"$E$95*SUM(D55:D64)","v":0},{"$f":"C87","v":7161},{"$f":"SUM(C112:F112)","v":55867.851999999999},null,null,"Miscellaneous",4.7169330482889252E-2]
[null,"Tires",{"$f":"$C$95*D65","v":0},null,{"$f":"$E$95*D65","v":0},{"$f":"C88","v":4752},4752,null,null,"Tires",4.0121223643015611E-3]
[null,null,"Total","Total","Total","Total","Total",null,null,null,"total"]
[null,null,{"$f":"SUM(C96:C113)","v":274728.53600000002},{"$f":"D110","v":436612},{"$f":"SUM(E96:E113)","v":0},{"$f":"SUM(F96:F113)","v":473070},{"$f":"SUM(G96:G113)","v":1184410.5360000001},null,null,null,{"$f":"SUM(K96:K113)","v":1}]
[]
[null,5]
[]
[null,"US EPA Data and Moisture Content"]
[null,"Category","Moisture Content  (MC) ","US EPA DATA (lbs-dry/person)","US EPA DATA             (lbs-WET/person)    [US EPA DATA/(1-MC)"]
[null,"Newspaper",0.27850000000000003,41.931464174454831,58.117067462861854]
[null,"Glass",3.2000000000000001E-2,56.822429906542055,58.700857341469067]
[null,"Aluminum Cans",0.129,8.4112149532710276,9.6569632069701807]
[null,"Plastic Bottles",4.8000000000000001E-2,23.302180685358255,24.477080551846907]
[null,"Steel Cans",5.8000000000000003E-2,10.841121495327103,11.508621544933231]
[null,"Corrugated Paper",0.24049999999999999,195.20249221183801,257.01447295831201]
[null,"Office Paper",0.13400000000000001,28.22429906542056,32.591569359608037]
[null,"Yard Waste",0.50600000000000001,216.3239875389408,437.90280878328099]
[null,"Other Plastics",0.11700000000000001,154.90485396035913,175.43018568557093]
[null,"Non-ferrous Metal",5.3999999999999999E-2,46.762277712979795,49.431583206109721]
[null,"White Goods","x",30.280373831775702,30.280373831775702]
[null,"Ferrous Metal",0.16900000000000001,12.133426323463874,14.600994372399368]
[null,"Other Paper",0.2545,158.56697819314641,212.69883057430772]
[null,"Textiles",0.17,76.349308411214949,91.987118567728857]
[null,"C&D Debris",8.8999999999999996E-2,"-","-"]
[null,"Food Waste",0.59750000000000003,247.53894080996884,615.00357965209651]
[null,"Miscellaneous",0.313,206.19904324930312,300.14416775735532]
[null,"Tires","x",36.386292834890966,36.386292834890966]
[]
[]
[null,6]
[]
[null,"Finding County Factor"]
[null,"Category","tons-DRY/county-us data ","tons-WET/county-us data ","County Factor","Category   "]
[null,"equation","US DATA * County Population/2000","tons-DRY/(1-MoistureContent)","ton-wet-composition/tons-wet-Usdata"]
[null,"Newspaper ",{"$f":"D121*$C$8/2000","v":7494.6202492211842},{"$f":"C146/(1-C121)","v":10387.554052974614},{"$f":"G96/D146","v":1.5520119479314154},"Newspaper "]
[null,"Glass ",{"$f":"D122*$C$8/2000","v":10156.157009345794},10491.897736927473,1.446788405740342,"Glass "]
[null,"Aluminum Cans ",1503.378504672897,1726.037318797815,1.2611569728493148,"Aluminum Cans "]
[null,"Plastic Bottles ",4164.9152647975079,4374.9109924343575,2.1548525252977364,"Plastic Bottles "]
[null,"Steel Cans ",1937.6878504672898,2056.9934718336413,1.7977567992491288,"Steel Cans "]
[null,"Corrugated Paper",34889.517445482867,45937.481824203904,1.2119014318862218,"Corrugated Paper"]
[null,"Office Paper ",5044.6700934579439,5825.2541494895431,1.0509031611155439,"Office Paper "]
[null,"Yard Waste ",38664.66791277258,78268.558527879723,4.242225182692331,"Yard Waste "]
[null,"Other Plastics ",27686.919072604789,31355.514238510521,1.2510268433685041,"Other Plastics "]
[null,"Ferrous Metal ",{"$f":"D132*$C$8/2000","v":2168.6679539243155},{"$f":"C155/(1-C132)","v":2609.708729150801},{"$f":"C105/D155","v":1.9921939724253326},"Ferrous Metal "]
[null,"White Goods ",{"$f":"D131*$C$8/2000","v":5412.1626168224302},{"$f":"Table7141925313743115135141147153[[#This Row],[tons-DRY/county-us data ]]","v":5412.1626168224302},{"$f":"G106/Table7141925313743115135141147153[[#This Row],[tons-WET/county-us data ]]","v":0.81456089037256685},"White Goods "]
[null,"Non-ferrous Metal ",{"$f":"D130*$C$8/2000","v":8358.0557070294435},{"$f":"C157/(1-C130)","v":8835.1540243440213},{"$f":"C107/D157","v":0.21679735234069272},"Non-ferrous Metal "]
[null,"Other Paper ",{"$f":"D133*$C$8/2000","v":28341.468847352025},{"$f":"C158/(1-C133)","v":38016.725482698894},{"$f":"G108/D158","v":1.412659331336692},"Other Paper "]
[null,"Textiles ",13646.293638878504,{"$f":"C159/(1-C134)","v":16441.317637203018},{"$f":"G109/D159","v":0.87005338110075725},"Textiles "]
[null,"C&D Debris",{"$error":"#VALUE!"},{"$f":"C160/(1-C135)","v":{"$error":"#VALUE!"}},{"$f":"#REF!/D160","v":{"$error":"#REF!"}},"C&D Debris"]
[null,"Food Waste",44243.872585669778,{"$f":"C161/(1-C136)","v":109922.66480911747},{"$f":"G111/D161","v":0.63014440306995434},"Food Waste"]
[null,"Miscellaneous ",36854.985995164192,{"$f":"C162/(1-C137)","v":53646.267824110902},{"$f":"G112/D162","v":1.0414117191371628},"Miscellaneous "]
[null,"Tires ",6503.5040498442368,{"$f":"Table7141925313743115135141147153[[#This Row],[tons-DRY/county-us data ]]","v":6503.5040498442368},{"$f":"G113/Table7141925313743115135141147153[[#This Row],[tons-WET/county-us data ]]","v":0.73068302311794719},"Tires "]
[]
[]
[]
[null,"Link to \"New WasteCalc County Factors\""]
[null,"Newspaper","Glass","Aluminum Cans","Plastic Bottles","Steel Cans","Corrugated Paper","Office Paper","Yard Waste","Other Plastics","Ferrous Metals","White Goods","Non-Ferrous Metal","Other Paper","Textiles","C&D Debris","Food Waste","Misc","Tires"]
[null,{"$f":"E146","v":1.5520119479314154},{"$f":"E147","v":1.446788405740342},{"$f":"E148","v":1.2611569728493148},{"$f":"E149","v":2.1548525252977364},{"$f":"E150","v":1.7977567992491288},{"$f":"E151","v":1.2119014318862218},{"$f":"E152","v":1.0509031611155439},{"$f":"E153","v":4.242225182692331},{"$f":"E154","v":1.2510268433685041},{"$f":"E155","v":1.9921939724253326},{"$f":"E156","v":0.81456089037256685},{"$f":"E157","v":0.21679735234069272},{"$f":"E158","v":1.412659331336692},{"$f":"E159","v":0.87005338110075725},{"$error":"#REF!"},{"$f":"E161","v":0.63014440306995434},{"$f":"E162","v":1.0414117191371628},{"$f":"E163","v":0.73068302311794719}]

{"sheet":"53 Santa Rosa County Factor","index":52,"n_rows":142,"n_cols":19,"rows_kept":142,"cut":false,"hidden":true,"merged":[[2,1,2,2],[3,1,3,2],[18,1,18,2],[42,1,42,2],[64,1,64,2],[64,9,64,10],[90,1,90,2],[92,1,92,2],[114,1,114,2],[115,1,115,2]]}
[null,"Finding County Factors for Santa Rosa"]
[]
[null,1]
[null,"Information from annual solid waste report 2017"]
[null,"County","Santa Rosa"]
[null,"Waste comp study","NONE"]
[null,"Year",2017]
[null,"Population",174272]
[null,"Landfilled tons ",217767]
[null,"C&D collected",69342]
[null,"C&D disposed",{"$f":"C10-C14","v":53662}]
[]
[null,"Recycled tons",61839]
[null,"Recycled C&D",15680]
[null,"combustor recy metals"]
[null,"Combustor input"]
[null,"Total Tons MSW collected",{"$f":"C9+(C16-C15)+C13","v":279606}]
[]
[null,2]
[]
[null,"Average disposal LANDFILLED from Okaloosa and Collier"]
[null,"Category ","Okaloosa (tons)","Collier (tons)","Averaged","Percent"]
[null,"Newspaper",{"$f":"'51 Okaloosa County Factor'!B90","v":2356.3979999999997},{"$f":"'52 Collier County Factor'!C96","v":3283.6080000000002},{"$f":"AVERAGE(Table19320263238110131137143149155[[#This Row],[Okaloosa (tons)]:[Collier (tons)]])","v":2820.0029999999997},{"$f":"E23/$E$41","v":1.3903984940955063E-2}]
[null,"Glass",{"$f":"'51 Okaloosa County Factor'!B91","v":5498.2620000000006},{"$f":"'52 Collier County Factor'!C97","v":9303.5560000000005},{"$f":"AVERAGE(Table19320263238110131137143149155[[#This Row],[Okaloosa (tons)]:[Collier (tons)]])","v":7400.9090000000006},{"$f":"E24/$E$41","v":3.6490077239413866E-2}]
[null,"Aluminum Cans",{"$f":"'51 Okaloosa County Factor'!B92","v":1440.021},{"$f":"'52 Collier County Factor'!C98","v":1641.8040000000001},{"$f":"AVERAGE(Table19320263238110131137143149155[[#This Row],[Okaloosa (tons)]:[Collier (tons)]])","v":1540.9124999999999},7.5974473060239365E-3]
[null,"Plastic Bottles",{"$f":"'51 Okaloosa County Factor'!B93","v":3665.5079999999998},{"$f":"'52 Collier County Factor'!C99","v":8756.2880000000005},{"$f":"AVERAGE(Table19320263238110131137143149155[[#This Row],[Okaloosa (tons)]:[Collier (tons)]])","v":6210.8980000000001},3.0622744820416124E-2]
[null,"Steel Cans",{"$f":"'51 Okaloosa County Factor'!B94","v":1701.8429999999998},{"$f":"'52 Collier County Factor'!C100","v":3009.9739999999997},{"$f":"AVERAGE(Table19320263238110131137143149155[[#This Row],[Okaloosa (tons)]:[Collier (tons)]])","v":2355.9084999999995},1.1615773567002599E-2]
[null,"Corrugated Paper",{"$f":"'51 Okaloosa County Factor'!B95","v":8247.393},{"$f":"'52 Collier County Factor'!C101","v":13681.7},{"$f":"AVERAGE(Table19320263238110131137143149155[[#This Row],[Okaloosa (tons)]:[Collier (tons)]])","v":10964.5465},5.4060541574034338E-2]
[null,"Office Paper",{"$f":"'51 Okaloosa County Factor'!B96","v":1440.021},{"$f":"'52 Collier County Factor'!C102","v":4651.7780000000002},{"$f":"AVERAGE(Table19320263238110131137143149155[[#This Row],[Okaloosa (tons)]:[Collier (tons)]])","v":3045.8995},1.5017764441974906E-2]
[null,"Yard Trash",{"$f":"'51 Okaloosa County Factor'!B97","v":12960.189},{"$f":"'52 Collier County Factor'!C103","v":6840.85},{"$f":"AVERAGE(Table19320263238110131137143149155[[#This Row],[Okaloosa (tons)]:[Collier (tons)]])","v":9900.5195000000003},4.8814371486708336E-2]
[null,"Other Plastics",{"$f":"'51 Okaloosa County Factor'!B98","v":13222.010999999999},{"$f":"'52 Collier County Factor'!C104","v":36940.590000000004},{"$f":"AVERAGE(Table19320263238110131137143149155[[#This Row],[Okaloosa (tons)]:[Collier (tons)]])","v":25081.300500000001},0.12366299768176443]
[null,"Ferrous Metals",{"$f":"'51 Okaloosa County Factor'!B99","v":2225.4870000000001},{"$f":"'52 Collier County Factor'!C105","v":5199.0460000000003},{"$f":"AVERAGE(Table19320263238110131137143149155[[#This Row],[Okaloosa (tons)]:[Collier (tons)]])","v":3712.2665000000002},1.8303277518787023E-2]
[null,"White Goods",{"$f":"'51 Okaloosa County Factor'!B100","v":523.64400000000001},{"$f":"'52 Collier County Factor'!C106","v":1094.5360000000001},{"$f":"AVERAGE(Table19320263238110131137143149155[[#This Row],[Okaloosa (tons)]:[Collier (tons)]])","v":809.09},3.9892068114386163E-3]
[null,"NonFerous Metals",{"$f":"'51 Okaloosa County Factor'!B101","v":654.55500000000006},{"$f":"'52 Collier County Factor'!C107","v":1915.4380000000001},{"$f":"AVERAGE(Table19320263238110131137143149155[[#This Row],[Okaloosa (tons)]:[Collier (tons)]])","v":1284.9965000000002},6.3356570844711755E-3]
[null,"Other Paper",{"$f":"'51 Okaloosa County Factor'!B102","v":21993.048000000003},{"$f":"'52 Collier County Factor'!C108","v":47338.681999999993},{"$f":"AVERAGE(Table19320263238110131137143149155[[#This Row],[Okaloosa (tons)]:[Collier (tons)]])","v":34665.864999999998},0.17091955750585414]
[null,"Textiles",{"$f":"'51 Okaloosa County Factor'!B103","v":4581.8850000000002},{"$f":"'52 Collier County Factor'!C109","v":9850.8239999999987},{"$f":"AVERAGE(Table19320263238110131137143149155[[#This Row],[Okaloosa (tons)]:[Collier (tons)]])","v":7216.3544999999995},3.5580133885174343E-2]
[null,"C&D Debris",{"$f":"'51 Okaloosa County Factor'!B104","v":11651.079},{"$f":"'52 Collier County Factor'!C110","v":37487.858},{"$f":"AVERAGE(Table19320263238110131137143149155[[#This Row],[Okaloosa (tons)]:[Collier (tons)]])","v":24569.468499999999},0.1211394172386589]
[null,"Food",{"$f":"'51 Okaloosa County Factor'!B105","v":18458.450999999997},{"$f":"'52 Collier County Factor'!C111","v":35025.152000000002},{"$f":"AVERAGE(Table19320263238110131137143149155[[#This Row],[Okaloosa (tons)]:[Collier (tons)]])","v":26741.801500000001},0.13185007439708737]
[null,"Miscellaneous",{"$f":"'51 Okaloosa County Factor'!B106","v":19898.472000000002},{"$f":"'52 Collier County Factor'!C112","v":48706.851999999999},{"$f":"AVERAGE(Table19320263238110131137143149155[[#This Row],[Okaloosa (tons)]:[Collier (tons)]])","v":34302.661999999997},0.16912879024691516]
[null,"Tires",{"$f":"'51 Okaloosa County Factor'!B107","v":392.733},{"$f":"'52 Collier County Factor'!C113","v":0},{"$f":"AVERAGE(Table19320263238110131137143149155[[#This Row],[Okaloosa (tons)]:[Collier (tons)]])","v":196.3665},9.6818225331960731E-4]
[null,"Total",{"$f":"SUM(C23:C40)","v":130910.99999999999},{"$f":"SUM(D23:D40)","v":274728.53600000002},{"$f":"AVERAGE(Table19320263238110131137143149155[[#This Row],[Okaloosa (tons)]:[Collier (tons)]])","v":202819.76800000001},{"$f":"E41/$E$41","v":1}]
[]
[null,"Recycled tons from Santa Rosa",null,null,null,null,null,null,null,null,null,null,{"$f":"SUM(C42:L42)","v":0}]
[null,"Materials","Tons"]
[null,"Newspaper",933]
[null,"Glass",698]
[null,"Aluminum Cans",245]
[null,"Plastic Bottles",564]
[null,"Steel Cans",157]
[null,"Corrugated Paper",3324]
[null,"Office Paper",35]
[null,"Yard Trash",10732]
[null,"Other Plastics",354]
[null,"Ferrous Metals",23865]
[null,"White Goods"]
[null,"NonFerous Metals",1620]
[null,"Other Paper",2501]
[null,"Textiles",8]
[null,"C&D Debris",15680]
[null,"Food",252]
[null,"Miscellaneous",494]
[null,"Tires",377]
[null,"Total",{"$f":"SUM(C45:C62)","v":61839}]
[]
[null,3,null,null,null,null,null,null,null,4]
[]
[null,"Calculating waste compositon percentage utilizing waste compsition study"]
[".","FDEP Category","Landfilled tons\n(Plus combusor ash, minus C&D  disposed)","Collected C&D \n(disposal C&D LANDFILL + recycled)","Combusted\n(minus recycled metals, minus ash)","Recycled Materials\n(Minus recycled C&D)","Total Collected Tons"]
[null,null,{"$f":"C9-C11","v":164105},{"$f":"C11+C14","v":69342},{"$f":"C16-C15","v":0},{"$f":"C63","v":61839},null,null,null,"FDEP Category","Percentage"]
[null,"Newspaper",{"$f":"$C$69*F23","v":2281.7134487354306},null,{"$f":"$E$69*F23","v":0},{"$f":"C45","v":933},{"$f":"SUM(C70:F70)","v":3214.7134487354306},null,null,"Newspaper",{"$f":"G70/$G$89","v":1.1497297800245452E-2}]
[null,"Glass",5988.2041253740126,null,0,698,6686.2041253740126,null,null,"Glass",2.3912949383682793E-2]
[null,"Aluminum Cans",1246.7790901550582,null,0,245,1491.7790901550582,null,null,"Aluminum Cans",5.3352899800256709E-3]
[null,"Plastic Bottles",5025.3455387543881,null,0,564,5589.3455387543881,null,null,"Plastic Botles",1.999007724710624E-2]
[null,"Steel Cans",1906.2065212129614,null,0,157,2063.2065212129614,null,null,"Steel Cans",7.3789779947961093E-3]
[null,"Corrugated Paper",8871.6051750069055,null,0,3324,12195.605175006905,null,null,"Corrugated Paper",4.3617108270233483E-2]
[null,"Office Paper",2464.4902337502917,null,0,35,2499.4902337502917,null,null,"Office Paper",8.939329748826174E-3]
[null,"Yard Trash",8010.682432826271,null,0,10732,18742.68243282627,null,null,"Yard Trash",6.7032475815348255E-2]
[null,"Other Plastics",20293.716234565953,null,0,354,20647.716234565953,null,null,"Other Plastics",7.3845755221869161E-2]
[null,"Ferrous Metals",3003.6593572205443,null,0,23865,26868.659357220546,null,null,"Ferrous Metals",9.6094716698570629E-2]
[null,"White Goods",654.64878379113418,null,0,0,654.64878379113418,null,null,"White Goods",2.3413259507704914E-3]
[null,"NonFerous Metals",1039.7130058471423,null,0,1620,2659.7130058471421,null,null,"NonFerous Metals",9.5123602706921224E-3]
[null,"Other Paper",28048.753984498195,null,0,2501,30549.753984498195,null,null,"Other Paper",0.10926000867112361]
[null,"Textiles",5838.8778712265357,null,0,8,5846.8778712265357,null,null,"Textiles",2.0911131632463303E-2]
[null,"C&D Debris",19879.584065950119,{"$f":"C10","v":69342},0,0,89221.584065950126,null,null,"C&D Debris",0.31909753033178867]
[null,"Food",21637.256458934022,null,0,{"$f":"C60","v":252},21889.256458934022,null,null,"Food",7.8286075616882389E-2]
[null,"Miscellaneous",27754.880123470011,null,0,{"$f":"C61","v":494},28248.880123470011,null,null,"Miscellaneous",0.10103102266571534]
[null,"Tires",158.88354868101416,null,0,{"$f":"C62","v":377},535.88354868101419,null,null,"Tires",1.916566699859853E-3]
[null,null,"Total","Total","Total","Total","Total",null,null,null,"total"]
[null,null,{"$f":"SUM(C70:C87)","v":164104.99999999997},{"$f":"D84","v":69342},{"$f":"SUM(E70:E87)","v":0},{"$f":"SUM(F70:F87)","v":46159},{"$f":"SUM(G70:G87)","v":279606.00000000006},null,null,null,{"$f":"SUM(K70:K87)","v":0.99999999999999967}]
[]
[null,5]
[]
[null,"US EPA Data and Moisture Content"]
[null,"Category","Moisture Content  (MC) ","US EPA DATA (lbs-dry/person)","US EPA DATA             (lbs-WET/person)    [US EPA DATA/(1-MC)"]
[null,"Newspaper",0.27850000000000003,41.931464174454831,58.117067462861854]
[null,"Glass",3.2000000000000001E-2,56.822429906542055,58.700857341469067]
[null,"Aluminum Cans",0.129,8.4112149532710276,9.6569632069701807]
[null,"Plastic Bottles",4.8000000000000001E-2,23.302180685358255,24.477080551846907]
[null,"Steel Cans",5.8000000000000003E-2,10.841121495327103,11.508621544933231]
[null,"Corrugated Paper",0.24049999999999999,195.20249221183801,257.01447295831201]
[null,"Office Paper",0.13400000000000001,28.22429906542056,32.591569359608037]
[null,"Yard Waste",0.50600000000000001,216.3239875389408,437.90280878328099]
[null,"Other Plastics",0.11700000000000001,154.90485396035913,175.43018568557093]
[null,"Non-ferrous Metal",5.3999999999999999E-2,46.762277712979795,49.431583206109721]
[null,"White Goods","x",30.280373831775702,30.280373831775702]
[null,"Ferrous Metal",0.16900000000000001,12.133426323463874,14.600994372399368]
[null,"Other Paper",0.2545,158.56697819314641,212.69883057430772]
[null,"Textiles",0.17,76.349308411214949,91.987118567728857]
[null,"C&D Debris",8.8999999999999996E-2,"-","-"]
[null,"Food Waste",0.59750000000000003,247.53894080996884,615.00357965209651]
[null,"Miscellaneous",0.313,206.19904324930312,300.14416775735532]
[null,"Tires","x",36.386292834890966,36.386292834890966]
[]
[]
[null,6]
[null,"Findig County Factor"]
[null,"Category","tons-DRY/county-us data ","tons-WET/county-us data ","County Factor","Column1"]
[null,"equation","US DATA * County Population/2000","tons-DRY/(1-MoistureContent)","ton-wet-composition/tons-wet-Usdata"]
[null,"Newspaper ",{"$f":"D95*$C$8/2000","v":3653.7400623052963},{"$f":"C119/(1-C95)","v":5064.0887904439305},{"$f":"G70/D119","v":0.63480590127125736},"Newspaper "]
[null,"Glass ",4951.2792523364487,5114.9579053062489,1.3071865397832023,"Glass "]
[null,"Aluminum Cans ",732.91962616822423,841.46914600255366,1.7728268436719734,"Aluminum Cans "]
[null,"Plastic Bottles ",2030.458816199377,2132.834890965732,2.6206180152199092,"Plastic Bottles "]
[null,"Steel Cans ",944.6519626168224,1002.8152469393019,2.0574143916440097,"Steel Cans "]
[null,"Corrugated Paper",17009.164361370717,22395.213115695478,0.54456303282328344,"Corrugated Paper"]
[null,"Office Paper ",2459.3525233644859,2839.898987718806,0.88013349931084939,"Office Paper "]
[null,"Yard Waste ",18849.606978193144,38157.099146139968,0.49119778107456863,"Yard Waste "]
[null,"Other Plastics ",13497.789354689854,15286.284659897909,1.3507347726379348,"Other Plastics "]
[null,"Ferrous Metal ",{"$f":"D106*$C$8/2000","v":1057.2582361213481},{"$f":"C128/(1-C106)","v":1272.2722456333913},{"$f":"C79/D128","v":2.3608621248553563},"Ferrous Metal "]
[null,"White Goods ",{"$f":"D105*$C$8/2000","v":2638.5106542056078},{"$f":"Table7141925313743115135141147153159[[#This Row],[tons-DRY/county-us data ]]","v":2638.5106542056078},{"$f":"G80/Table7141925313743115135141147153159[[#This Row],[tons-WET/county-us data ]]","v":0.24811299615094154},"White Goods "]
[null,"Non-ferrous Metal ",{"$f":"D104*$C$8/2000","v":4074.6778307982072},{"$f":"C130/(1-C104)","v":4307.2704342475763},{"$f":"C81/D130","v":0.24138558786099684},"Non-ferrous Metal "]
[null,"Other Paper ",{"$f":"D107*$C$8/2000","v":13816.892211838005},{"$f":"C131/(1-C107)","v":18533.725300922877},{"$f":"G82/D131","v":1.6483331596037514},"Other Paper "]
[null,"Textiles ",6652.7733377196255,{"$f":"C132/(1-C108)","v":8015.3895635176214},{"$f":"G83/D132","v":0.72945648179582478},"Textiles "]
[null,"C&D Debris",{"$error":"#VALUE!"},{"$f":"C133/(1-C109)","v":{"$error":"#VALUE!"}},{"$f":"#REF!/D133","v":{"$error":"#REF!"}},"C&D Debris"]
[null,"Food Waste",21569.553146417442,{"$f":"C134/(1-C110)","v":53588.951916565078},{"$f":"G85/D134","v":0.40846584372492184},"Food Waste"]
[null,"Miscellaneous ",17967.359832571274,{"$f":"C135/(1-C111)","v":26153.362201704909},{"$f":"G86/D135","v":1.0801242266903832},"Miscellaneous "]
[null,"Tires ",3170.5560124610593,{"$f":"Table7141925313743115135141147153159[[#This Row],[tons-DRY/county-us data ]]","v":3170.5560124610593},{"$f":"G87/Table7141925313743115135141147153159[[#This Row],[tons-WET/county-us data ]]","v":0.16901879246884804},"Tires "]
[]
[]
[]
[null,"Link to \"New WasteCalc County Factors\""]
[null,"Newspaper","Glass","Aluminum Cans","Plastic Bottles","Steel Cans","Corrugated Paper","Office Paper","Yard Waste","Other Plastics","Ferrous Metals","White Goods","Non-Ferrous Metal","Other Paper","Textiles","C&D Debris","Food Waste","Misc","Tires"]
[null,{"$f":"E119","v":0.63480590127125736},{"$f":"E120","v":1.3071865397832023},{"$f":"E121","v":1.7728268436719734},{"$f":"E122","v":2.6206180152199092},{"$f":"E123","v":2.0574143916440097},{"$f":"E124","v":0.54456303282328344},{"$f":"E125","v":0.88013349931084939},{"$f":"E126","v":0.49119778107456863},{"$f":"E127","v":1.3507347726379348},{"$f":"E128","v":2.3608621248553563},{"$f":"E129","v":0.24811299615094154},{"$f":"E130","v":0.24138558786099684},{"$f":"E131","v":1.6483331596037514},{"$f":"E132","v":0.72945648179582478},{"$error":"#REF!"},{"$f":"E134","v":0.40846584372492184},{"$f":"E135","v":1.0801242266903832},{"$f":"E136","v":0.16901879246884804}]

{"sheet":"54 Nassau County Factor","index":53,"n_rows":145,"n_cols":19,"rows_kept":145,"cut":false,"hidden":true,"merged":[[2,1,2,2],[3,1,3,2],[18,1,18,2],[42,1,42,2],[66,1,66,2],[66,9,66,10],[92,1,92,2],[94,1,94,2],[116,1,116,2],[118,1,118,2]]}
[null,"Finding County Factors for Nassau"]
[]
[null,1]
[null,"Information from annual solid waste report 2017"]
[null,"County","Nassau"]
[null,"Waste comp study","NONE"]
[null,"Year",2017]
[null,"Population",80456]
[null,"Landfilled tons",133173]
[null,"C&D collected",92474]
[null,"C&D disposed",{"$f":"C10-C14","v":56554}]
[]
[null,"Recycled tons",45929]
[null,"Recycled C&D",35920]
[null,"combustor recy metals",0]
[null,"Combustor input",0]
[null,"Total Tons MSW collected",{"$f":"C9+(C16-C15)+C13","v":179102}]
[]
[null,2]
[]
[null,"Average disposal LANDFILLED from Okaloosa and Collier"]
[null,"Category","Okaloosa (tons)","Collier (tons)","Averaged","Percent"]
[null,"Newspaper",{"$f":"'51 Okaloosa County Factor'!B90","v":2356.3979999999997},{"$f":"'52 Collier County Factor'!C96","v":3283.6080000000002},{"$f":"AVERAGE(Table19320263238110131137143149155161[[#This Row],[Okaloosa (tons)]:[Collier (tons)]])","v":2820.0029999999997},{"$f":"E23/$E$41","v":1.3903984940955063E-2}]
[null,"Glass",{"$f":"'51 Okaloosa County Factor'!B91","v":5498.2620000000006},{"$f":"'52 Collier County Factor'!C97","v":9303.5560000000005},{"$f":"AVERAGE(Table19320263238110131137143149155161[[#This Row],[Okaloosa (tons)]:[Collier (tons)]])","v":7400.9090000000006},3.6490077239413866E-2]
[null,"Aluminum Cans",{"$f":"'51 Okaloosa County Factor'!B92","v":1440.021},{"$f":"'52 Collier County Factor'!C98","v":1641.8040000000001},{"$f":"AVERAGE(Table19320263238110131137143149155161[[#This Row],[Okaloosa (tons)]:[Collier (tons)]])","v":1540.9124999999999},7.5974473060239365E-3]
[null,"Plastic Bottles",{"$f":"'51 Okaloosa County Factor'!B93","v":3665.5079999999998},{"$f":"'52 Collier County Factor'!C99","v":8756.2880000000005},{"$f":"AVERAGE(Table19320263238110131137143149155161[[#This Row],[Okaloosa (tons)]:[Collier (tons)]])","v":6210.8980000000001},3.0622744820416124E-2]
[null,"Steel Cans",{"$f":"'51 Okaloosa County Factor'!B94","v":1701.8429999999998},{"$f":"'52 Collier County Factor'!C100","v":3009.9739999999997},{"$f":"AVERAGE(Table19320263238110131137143149155161[[#This Row],[Okaloosa (tons)]:[Collier (tons)]])","v":2355.9084999999995},1.1615773567002599E-2]
[null,"Corrugated Paper",{"$f":"'51 Okaloosa County Factor'!B95","v":8247.393},{"$f":"'52 Collier County Factor'!C101","v":13681.7},{"$f":"AVERAGE(Table19320263238110131137143149155161[[#This Row],[Okaloosa (tons)]:[Collier (tons)]])","v":10964.5465},5.4060541574034338E-2]
[null,"Office Paper",{"$f":"'51 Okaloosa County Factor'!B96","v":1440.021},{"$f":"'52 Collier County Factor'!C102","v":4651.7780000000002},{"$f":"AVERAGE(Table19320263238110131137143149155161[[#This Row],[Okaloosa (tons)]:[Collier (tons)]])","v":3045.8995},1.5017764441974906E-2]
[null,"Yard Trash",{"$f":"'51 Okaloosa County Factor'!B97","v":12960.189},{"$f":"'52 Collier County Factor'!C103","v":6840.85},{"$f":"AVERAGE(Table19320263238110131137143149155161[[#This Row],[Okaloosa (tons)]:[Collier (tons)]])","v":9900.5195000000003},4.8814371486708336E-2]
[null,"Other Plastics",{"$f":"'51 Okaloosa County Factor'!B98","v":13222.010999999999},{"$f":"'52 Collier County Factor'!C104","v":36940.590000000004},{"$f":"AVERAGE(Table19320263238110131137143149155161[[#This Row],[Okaloosa (tons)]:[Collier (tons)]])","v":25081.300500000001},0.12366299768176443]
[null,"Ferrous Metals",{"$f":"'51 Okaloosa County Factor'!B99","v":2225.4870000000001},{"$f":"'52 Collier County Factor'!C105","v":5199.0460000000003},{"$f":"AVERAGE(Table19320263238110131137143149155161[[#This Row],[Okaloosa (tons)]:[Collier (tons)]])","v":3712.2665000000002},1.8303277518787023E-2]
[null,"White Goods",{"$f":"'51 Okaloosa County Factor'!B100","v":523.64400000000001},{"$f":"'52 Collier County Factor'!C106","v":1094.5360000000001},{"$f":"AVERAGE(Table19320263238110131137143149155161[[#This Row],[Okaloosa (tons)]:[Collier (tons)]])","v":809.09},3.9892068114386163E-3]
[null,"NonFerous Metals",{"$f":"'51 Okaloosa County Factor'!B101","v":654.55500000000006},{"$f":"'52 Collier County Factor'!C107","v":1915.4380000000001},{"$f":"AVERAGE(Table19320263238110131137143149155161[[#This Row],[Okaloosa (tons)]:[Collier (tons)]])","v":1284.9965000000002},6.3356570844711755E-3]
[null,"Other Paper",{"$f":"'51 Okaloosa County Factor'!B102","v":21993.048000000003},{"$f":"'52 Collier County Factor'!C108","v":47338.681999999993},{"$f":"AVERAGE(Table19320263238110131137143149155161[[#This Row],[Okaloosa (tons)]:[Collier (tons)]])","v":34665.864999999998},0.17091955750585414]
[null,"Textiles",{"$f":"'51 Okaloosa County Factor'!B103","v":4581.8850000000002},{"$f":"'52 Collier County Factor'!C109","v":9850.8239999999987},{"$f":"AVERAGE(Table19320263238110131137143149155161[[#This Row],[Okaloosa (tons)]:[Collier (tons)]])","v":7216.3544999999995},3.5580133885174343E-2]
[null,"C&D Debris",{"$f":"'51 Okaloosa County Factor'!B104","v":11651.079},{"$f":"'52 Collier County Factor'!C110","v":37487.858},{"$f":"AVERAGE(Table19320263238110131137143149155161[[#This Row],[Okaloosa (tons)]:[Collier (tons)]])","v":24569.468499999999},0.1211394172386589]
[null,"Food",{"$f":"'51 Okaloosa County Factor'!B105","v":18458.450999999997},{"$f":"'52 Collier County Factor'!C111","v":35025.152000000002},{"$f":"AVERAGE(Table19320263238110131137143149155161[[#This Row],[Okaloosa (tons)]:[Collier (tons)]])","v":26741.801500000001},0.13185007439708737]
[null,"Miscellaneous",{"$f":"'51 Okaloosa County Factor'!B106","v":19898.472000000002},{"$f":"'52 Collier County Factor'!C112","v":48706.851999999999},{"$f":"AVERAGE(Table19320263238110131137143149155161[[#This Row],[Okaloosa (tons)]:[Collier (tons)]])","v":34302.661999999997},0.16912879024691516]
[null,"Tires",{"$f":"'51 Okaloosa County Factor'!B107","v":392.733},{"$f":"'52 Collier County Factor'!C113","v":0},{"$f":"AVERAGE(Table19320263238110131137143149155161[[#This Row],[Okaloosa (tons)]:[Collier (tons)]])","v":196.3665},9.6818225331960731E-4]
[null,"Total",{"$f":"SUM(C23:C40)","v":130910.99999999999},{"$f":"SUM(D23:D40)","v":274728.53600000002},{"$f":"AVERAGE(Table19320263238110131137143149155161[[#This Row],[Okaloosa (tons)]:[Collier (tons)]])","v":202819.76800000001},1]
[]
[null,"Recycled tons from Nassau"]
[null,"Materials","Tons"]
[null,"Newspaper",488]
[null,"Glass",536]
[null,"Aluminum Cans",99]
[null,"Plastic Bottles",270]
[null,"Steel Cans",54]
[null,"Corrugated Paper",2314]
[null,"Office Paper",125]
[null,"Yard Trash"]
[null,"Other Plastics",213]
[null,"Ferrous Metals",4425]
[null,"White Goods",16]
[null,"NonFerous Metals",389]
[null,"Other Paper",793]
[null,"Textiles",3]
[null,"C&D Debris",35920]
[null,"Food",78]
[null,"Miscellaneous",116]
[null,"Tires",90]
[null,"Total",{"$f":"SUM(C45:C62)","v":45929}]
[]
[]
[]
[null,3,null,null,null,null,null,null,null,4]
[]
[null,"Calculating waste compositon percentage utalizing waste compsition study"]
[".","FDEP Category","Landfilled tons\n(Plus combusor ash, minus C&D  disposed)","Collected C&D \n(disposal C&D LANDFILL + recycled)","Combusted\n(minus recycled metals, minus ash)","Recycled Materials\n(Minus recycled C&D)","Total Collected Tons"]
[null,null,{"$f":"C9-C11","v":76619},{"$f":"C11+C14","v":92474},{"$f":"C16-C15","v":0},{"$f":"C63","v":45929},null,null,null,"FDEP Category","Percentage"]
[null,"Newspaper",{"$f":"$C$71*F23","v":1065.309422191036},null,{"$f":"$E$71*F23","v":0},{"$f":"C45","v":488},{"$f":"SUM(C72:F72)","v":1553.309422191036},null,null,"Newspaper",{"$f":"G72/$G$91","v":8.6727642471387048E-3}]
[null,"Glass",2795.8332280066511,null,0,536,{"$f":"SUM(C73:F73)","v":3331.8332280066511},null,null,"Glass",1.8602992864438429E-2]
[null,"Aluminum Cans",582.108815140248,null,0,99,681.108815140248,null,null,"Aluminum Cans",3.8029101581235725E-3]
[null,"Plastic Bottles",2346.2840853954631,null,0,270,2616.2840853954631,null,null,"Plastic Botles",1.4607788217861685E-2]
[null,"Steel Cans",889.9889549301721,null,0,54,943.9889549301721,null,null,"Steel Cans",5.2706779094045418E-3]
[null,"Corrugated Paper",4142.0646348609371,null,0,2314,6456.0646348609371,null,null,"Corrugated Paper",3.6046859526197017E-2]
[null,"Office Paper",1150.6460937796753,null,0,125,1275.6460937796753,null,null,"Office Paper",7.12245588424292E-3]
[null,"Yard Trash",3740.1083289401058,null,0,0,3740.1083289401058,null,null,"Yard Trash",2.0882560378667498E-2]
[null,"Other Plastics",9474.9352193791092,null,0,213,9687.9352193791092,null,null,"Other Plastics",5.4091719910325464E-2]
[null,"Ferrous Metals",1402.3788202119429,null,0,4425,5827.3788202119431,null,null,"Ferrous Metals",3.2536648503154311E-2]
[null,"White Goods",305.64903668561533,null,0,16,321.64903668561533,null,null,"White Goods",1.7958986314257539E-3]
[null,"NonFerous Metals",485.43171015509699,null,0,389,874.43171015509699,null,null,"NonFerous Metals",4.8823112536716352E-3]
[null,"Other Paper",13095.685576541038,null,0,793,13888.685576541038,null,null,"Other Paper",7.7546233858589192E-2]
[null,"Textiles",2726.1142781481731,null,0,3,2729.1142781481731,null,null,"Textiles",1.5237765508750173E-2]
[null,"C&D Debris",9281.5810094088065,{"$f":"C10","v":92474},0,0,101755.58100940881,null,null,"C&D Debris",0.56814318661661412]
[null,"Food",10102.220850230438,null,0,{"$f":"C60","v":78},10180.220850230438,null,null,"Food",5.684035270533238E-2]
[null,"Miscellaneous",12958.478779928393,null,0,{"$f":"C61","v":116},13074.478779928393,null,null,"Miscellaneous",7.3000183023798709E-2]
[null,"Tires",74.181156067094989,null,0,{"$f":"C62","v":90},{"$f":"SUM(C89:F89)","v":164.181156067095},null,null,"Tires",9.1669080226404519E-4]
[null,null,"Total","Total","Total","Total","Total",null,null,null,"total"]
[null,null,{"$f":"SUM(C72:C89)","v":76619},{"$f":"D86","v":92474},{"$f":"SUM(E72:E89)","v":0},{"$f":"SUM(F72:F89)","v":10009},{"$f":"SUM(G72:G89)","v":179101.99999999997},null,null,null,{"$f":"SUM(K72:K89)","v":1.0000000000000002}]
[]
[null,5]
[]
[null,"US EPA Data and Moisture Content"]
[null,"Category","Moisture Content  (MC) ","US EPA DATA (lbs-dry/person)","US EPA DATA             (lbs-WET/person)    [US EPA DATA/(1-MC)"]
[null,"Newspaper",0.27850000000000003,41.931464174454831,58.117067462861854]
[null,"Glass",3.2000000000000001E-2,56.822429906542055,58.700857341469067]
[null,"Aluminum Cans",0.129,8.4112149532710276,9.6569632069701807]
[null,"Plastic Bottles",4.8000000000000001E-2,23.302180685358255,24.477080551846907]
[null,"Steel Cans",5.8000000000000003E-2,10.841121495327103,11.508621544933231]
[null,"Corrugated Paper",0.24049999999999999,195.20249221183801,257.01447295831201]
[null,"Office Paper",0.13400000000000001,28.22429906542056,32.591569359608037]
[null,"Yard Waste",0.50600000000000001,216.3239875389408,437.90280878328099]
[null,"Other Plastics",0.11700000000000001,154.90485396035913,175.43018568557093]
[null,"Non-ferrous Metal",5.3999999999999999E-2,46.762277712979795,49.431583206109721]
[null,"White Goods","x",30.280373831775702,30.280373831775702]
[null,"Ferrous Metal",0.16900000000000001,12.133426323463874,14.600994372399368]
[null,"Other Paper",0.2545,158.56697819314641,212.69883057430772]
[null,"Textiles",0.17,76.349308411214949,91.987118567728857]
[null,"C&D Debris",8.8999999999999996E-2,"-","-"]
[null,"Food Waste",0.59750000000000003,247.53894080996884,615.00357965209651]
[null,"Miscellaneous",0.313,206.19904324930312,300.14416775735532]
[null,"Tires","x",36.386292834890966,36.386292834890966]
[]
[]
[null,6]
[]
[null,"Finding County Factor"]
[null,"Category ","tons-DRY/county-us data ","tons-WET/county-us data ","County Factor","Category    "]
[null,"equation","US DATA * County Population/2000","tons-DRY/(1-MoistureContent)","ton-wet-composition/tons-wet-Usdata"]
[null,"Newspaper ",{"$f":"D97*$C$8/2000","v":1686.8189408099688},{"$f":"C122/(1-C97)","v":2337.9333898960067},{"$f":"G72/D122","v":0.66439421623561679},"Newspaper "]
[null,"Glass ",2285.8527102803737,2361.4180891326173,1.4109459241207394,"Glass "]
[null,"Aluminum Cans ",338.3663551401869,388.48031588999646,1.7532646759201909,"Aluminum Cans "]
[null,"Plastic Bottles ",937.40012461059189,984.66399643969737,2.6570323428654876,"Plastic Bottles "]
[null,"Steel Cans ",436.1166355140187,462.968827509574,2.0389903139011034,"Steel Cans "]
[null,"Corrugated Paper",7852.605856697819,10339.178218166977,0.62442725124101084,"Corrugated Paper"]
[null,"Office Paper ",1135.4071028037383,1311.0936521983122,0.97296336660680049,"Office Paper "]
[null,"Yard Waste ",8702.2813707165096,17615.954191733825,0.21231369520108812,"Yard Waste "]
[null,"Other Plastics ",6231.5124651173273,7057.2055097591474,1.3727721554915786,"Other Plastics "]
[null,"Ferrous Metal ",{"$f":"D108*$C$8/2000","v":488.10347414030474},{"$f":"C131/(1-C108)","v":587.36880161288184},{"$f":"C81/D131","v":2.3875609606112702},"Ferrous Metal "]
[null,"White Goods ",{"$f":"D107*$C$8/2000","v":1218.1188785046729},{"$f":"Table7141925313743115135141147153159165[[#This Row],[tons-DRY/county-us data ]]","v":1218.1188785046729},{"$f":"G82/Table7141925313743115135141147153159165[[#This Row],[tons-WET/county-us data ]]","v":0.26405389684171243},"White Goods "]
[null,"Non-ferrous Metal ",{"$f":"D106*$C$8/2000","v":1881.1529078377514},{"$f":"C133/(1-C106)","v":1988.5337292153822},{"$f":"C83/D133","v":0.24411540172699725},"Non-ferrous Metal "]
[null,"Other Paper ",{"$f":"D109*$C$8/2000","v":6378.8323987538934},{"$f":"C134/(1-C109)","v":8556.4485563432499},{"$f":"G84/D134","v":1.6231834370399831},"Other Paper "]
[null,"Textiles ",3071.3799787663552,{"$f":"C135/(1-C110)","v":3700.457805742597},{"$f":"G85/D135","v":0.73750720084227595},"Textiles "]
[null,"C&D Debris",{"$error":"#VALUE!"},{"$f":"C136/(1-C111)","v":{"$error":"#VALUE!"}},{"$f":"#REF!/D136","v":{"$error":"#REF!"}},"C&D Debris"]
[null,"Food Waste",9957.9965109034256,{"$f":"C137/(1-C112)","v":24740.364002244536},{"$f":"G87/D137","v":0.41148225827667095},"Food Waste"]
[null,"Miscellaneous ",8294.9751118329659,{"$f":"C138/(1-C113)","v":12074.199580542891},{"$f":"G88/D138","v":1.0828443486222816},"Miscellaneous "]
[null,"Tires ",1463.7477881619936,{"$f":"Table7141925313743115135141147153159165[[#This Row],[tons-DRY/county-us data ]]","v":1463.7477881619936},{"$f":"G89/Table7141925313743115135141147153159165[[#This Row],[tons-WET/county-us data ]]","v":0.11216492171322413},"Tires "]
[]
[]
[]
[null,"Link to \"New WasteCalc County Factors\""]
[null,"Newspaper","Glass","Aluminum Cans","Plastic Bottles","Steel Cans","Corrugated Paper","Office Paper","Yard Waste","Other Plastics","Ferrous Metals","White Goods","Non-Ferrous Metal","Other Paper","Textiles","C&D Debris","Food Waste","Misc","Tires"]
[null,{"$f":"E122","v":0.66439421623561679},{"$f":"E123","v":1.4109459241207394},{"$f":"E124","v":1.7532646759201909},{"$f":"E125","v":2.6570323428654876},{"$f":"E126","v":2.0389903139011034},{"$f":"E127","v":0.62442725124101084},{"$f":"E128","v":0.97296336660680049},{"$f":"E129","v":0.21231369520108812},{"$f":"E130","v":1.3727721554915786},{"$f":"E131","v":2.3875609606112702},{"$f":"E132","v":0.26405389684171243},{"$f":"E133","v":0.24411540172699725},{"$f":"E134","v":1.6231834370399831},{"$f":"E135","v":0.73750720084227595},{"$error":"#REF!"},{"$f":"E137","v":0.41148225827667095},{"$f":"E138","v":1.0828443486222816},{"$f":"E139","v":0.11216492171322413}]

{"sheet":"55 Highlands County Factor","index":54,"n_rows":142,"n_cols":19,"rows_kept":142,"cut":false,"hidden":true,"merged":[[64,9,64,10],[90,1,90,2],[92,1,92,2],[113,1,113,2],[115,1,115,2],[2,1,2,2],[3,1,3,2],[18,1,18,2],[42,1,42,2],[64,1,64,2]]}
[null,"Finding County Factors for Highlands"]
[]
[null,1]
[null,"Information from annual solid waste report 2017"]
[null,"County","Highlands"]
[null,"Waste comp study","NONE"]
[null,"Year",2017]
[null,"Population",102047]
[null,"Landfilled tons ",34635]
[null,"C&D collected",36692]
[null,"C&D disposed",{"$f":"C10-C14","v":1647}]
[]
[null,"Recycled tons",43730]
[null,"Recycled C&D",35045]
[null,"combustor recy metals",0]
[null,"Combustor input",0]
[null,"Total Tons MSW collected",{"$f":"C9+(C16-C15)+C13","v":78365}]
[]
[null,2]
[]
[null,"Average disposal LANDFILLED from Okaloosa and Collier"]
[null,"Category","Okaloosa (tons)","Collier (tons)","Averaged","Percent"]
[null,"Newspaper",{"$f":"'51 Okaloosa County Factor'!B90","v":2356.3979999999997},{"$f":"'52 Collier County Factor'!C96","v":3283.6080000000002},{"$f":"AVERAGE(Table1932026323844[[#This Row],[Okaloosa (tons)]:[Collier (tons)]])","v":2820.0029999999997},{"$f":"E23/$E$41","v":1.3903984940955063E-2}]
[null,"Glass",{"$f":"'51 Okaloosa County Factor'!B91","v":5498.2620000000006},{"$f":"'52 Collier County Factor'!C97","v":9303.5560000000005},{"$f":"AVERAGE(Table1932026323844[[#This Row],[Okaloosa (tons)]:[Collier (tons)]])","v":7400.9090000000006},{"$f":"E24/$E$41","v":3.6490077239413866E-2}]
[null,"Aluminum Cans",{"$f":"'51 Okaloosa County Factor'!B92","v":1440.021},{"$f":"'52 Collier County Factor'!C98","v":1641.8040000000001},{"$f":"AVERAGE(Table1932026323844[[#This Row],[Okaloosa (tons)]:[Collier (tons)]])","v":1540.9124999999999},7.5974473060239365E-3]
[null,"Plastic Bottles",{"$f":"'51 Okaloosa County Factor'!B93","v":3665.5079999999998},{"$f":"'52 Collier County Factor'!C99","v":8756.2880000000005},{"$f":"AVERAGE(Table1932026323844[[#This Row],[Okaloosa (tons)]:[Collier (tons)]])","v":6210.8980000000001},3.0622744820416124E-2]
[null,"Steel Cans",{"$f":"'51 Okaloosa County Factor'!B94","v":1701.8429999999998},{"$f":"'52 Collier County Factor'!C100","v":3009.9739999999997},{"$f":"AVERAGE(Table1932026323844[[#This Row],[Okaloosa (tons)]:[Collier (tons)]])","v":2355.9084999999995},1.1615773567002599E-2]
[null,"Corrugated Paper",{"$f":"'51 Okaloosa County Factor'!B95","v":8247.393},{"$f":"'52 Collier County Factor'!C101","v":13681.7},{"$f":"AVERAGE(Table1932026323844[[#This Row],[Okaloosa (tons)]:[Collier (tons)]])","v":10964.5465},5.4060541574034338E-2]
[null,"Office Paper",{"$f":"'51 Okaloosa County Factor'!B96","v":1440.021},{"$f":"'52 Collier County Factor'!C102","v":4651.7780000000002},{"$f":"AVERAGE(Table1932026323844[[#This Row],[Okaloosa (tons)]:[Collier (tons)]])","v":3045.8995},1.5017764441974906E-2]
[null,"Yard Trash",{"$f":"'51 Okaloosa County Factor'!B97","v":12960.189},{"$f":"'52 Collier County Factor'!C103","v":6840.85},{"$f":"AVERAGE(Table1932026323844[[#This Row],[Okaloosa (tons)]:[Collier (tons)]])","v":9900.5195000000003},4.8814371486708336E-2]
[null,"Other Plastics",{"$f":"'51 Okaloosa County Factor'!B98","v":13222.010999999999},{"$f":"'52 Collier County Factor'!C104","v":36940.590000000004},{"$f":"AVERAGE(Table1932026323844[[#This Row],[Okaloosa (tons)]:[Collier (tons)]])","v":25081.300500000001},0.12366299768176443]
[null,"Ferrous Metals",{"$f":"'51 Okaloosa County Factor'!B99","v":2225.4870000000001},{"$f":"'52 Collier County Factor'!C105","v":5199.0460000000003},{"$f":"AVERAGE(Table1932026323844[[#This Row],[Okaloosa (tons)]:[Collier (tons)]])","v":3712.2665000000002},1.8303277518787023E-2]
[null,"White Goods",{"$f":"'51 Okaloosa County Factor'!B100","v":523.64400000000001},{"$f":"'52 Collier County Factor'!C106","v":1094.5360000000001},{"$f":"AVERAGE(Table1932026323844[[#This Row],[Okaloosa (tons)]:[Collier (tons)]])","v":809.09},3.9892068114386163E-3]
[null,"NonFerous Metals",{"$f":"'51 Okaloosa County Factor'!B101","v":654.55500000000006},{"$f":"'52 Collier County Factor'!C107","v":1915.4380000000001},{"$f":"AVERAGE(Table1932026323844[[#This Row],[Okaloosa (tons)]:[Collier (tons)]])","v":1284.9965000000002},6.3356570844711755E-3]
[null,"Other Paper",{"$f":"'51 Okaloosa County Factor'!B102","v":21993.048000000003},{"$f":"'52 Collier County Factor'!C108","v":47338.681999999993},{"$f":"AVERAGE(Table1932026323844[[#This Row],[Okaloosa (tons)]:[Collier (tons)]])","v":34665.864999999998},0.17091955750585414]
[null,"Textiles",{"$f":"'51 Okaloosa County Factor'!B103","v":4581.8850000000002},{"$f":"'52 Collier County Factor'!C109","v":9850.8239999999987},{"$f":"AVERAGE(Table1932026323844[[#This Row],[Okaloosa (tons)]:[Collier (tons)]])","v":7216.3544999999995},3.5580133885174343E-2]
[null,"C&D Debris",{"$f":"'51 Okaloosa County Factor'!B104","v":11651.079},{"$f":"'52 Collier County Factor'!C110","v":37487.858},{"$f":"AVERAGE(Table1932026323844[[#This Row],[Okaloosa (tons)]:[Collier (tons)]])","v":24569.468499999999},0.1211394172386589]
[null,"Food",{"$f":"'51 Okaloosa County Factor'!B105","v":18458.450999999997},{"$f":"'52 Collier County Factor'!C111","v":35025.152000000002},{"$f":"AVERAGE(Table1932026323844[[#This Row],[Okaloosa (tons)]:[Collier (tons)]])","v":26741.801500000001},0.13185007439708737]
[null,"Miscellaneous",{"$f":"'51 Okaloosa County Factor'!B106","v":19898.472000000002},{"$f":"'52 Collier County Factor'!C112","v":48706.851999999999},{"$f":"AVERAGE(Table1932026323844[[#This Row],[Okaloosa (tons)]:[Collier (tons)]])","v":34302.661999999997},0.16912879024691516]
[null,"Tires",{"$f":"'51 Okaloosa County Factor'!B107","v":392.733},{"$f":"'52 Collier County Factor'!C113","v":0},{"$f":"AVERAGE(Table1932026323844[[#This Row],[Okaloosa (tons)]:[Collier (tons)]])","v":196.3665},9.6818225331960731E-4]
[null,"Total",{"$f":"SUM(C23:C40)","v":130910.99999999999},{"$f":"SUM(D23:D40)","v":274728.53600000002},{"$f":"AVERAGE(Table1932026323844[[#This Row],[Okaloosa (tons)]:[Collier (tons)]])","v":202819.76800000001},1]
[]
[null,"Recycled tons from Highlands"]
[null,"Materials","Tons"]
[null,"Newspaper",974]
[null,"Glass",675]
[null,"Aluminum Cans",92]
[null,"Plastic Bottles",192]
[null,"Steel Cans",122]
[null,"Corrugated Paper",2131]
[null,"Office Paper",109]
[null,"Yard Trash",0]
[null,"Other Plastics",103]
[null,"Ferrous Metals",2149]
[null,"White Goods",27]
[null,"NonFerous Metals",367]
[null,"Other Paper",856]
[null,"Textiles",53]
[null,"C&D Debris",35045]
[null,"Food",0]
[null,"Miscellaneous",247]
[null,"Tires",588]
[null,"Total",{"$f":"SUM(C45:C62)","v":43730}]
[]
[null,3,null,null,null,null,null,null,null,4]
[]
[null,"Calculating waste compositon percentage utalizing waste compsition study"]
[null,"FDEP Category","Landfilled tons\n(Plus combusor ash, minus C&D  disposed)","Collected C&D \n(disposal C&D LANDFILL + recycled)","Combusted\n(minus recycled metals, minus ash)","Recycled Materials\n(Minus recycled C&D)","Total Collected Tons"]
[null,null,{"$f":"C9-C11","v":32988},{"$f":"C11+C14","v":36692},{"$f":"C16-C15","v":0},{"$f":"C63","v":43730},null,null,null,"FDEP Category","Percentage"]
[null,"Newspaper",{"$f":"$C$69*F23","v":458.66465523222564},null,{"$f":"$E$69*F23","v":0},{"$f":"C45","v":974},{"$f":"SUM(C70:F70)","v":1432.6646552322256},null,null,"Newspaper",{"$f":"G70/$G$89","v":1.8281945450548405E-2}]
[null,"Glass",1203.7346679737846,null,0,675,{"$f":"SUM(C71:F71)","v":1878.7346679737846},null,null,"Glass",2.3974155145457598E-2]
[null,"Aluminum Cans",250.62459173111762,null,0,92,342.62459173111762,null,null,"Aluminum Cans",4.3721634879234049E-3]
[null,"Plastic Bottles",1010.1831061358871,null,0,192,1202.1831061358871,null,null,"Plastic Botles",1.5340816769423685E-2]
[null,"Steel Cans",383.18113842828171,null,0,122,505.18113842828171,null,null,"Steel Cans",6.4465148781762483E-3]
[null,"Corrugated Paper",1783.3491454442446,null,0,2131,3914.3491454442446,null,null,"Corrugated Paper",4.9950221979764495E-2]
[null,"Office Paper",495.40601341186817,null,0,109,604.40601341186812,null,null,"Office Paper",7.7127035463774403E-3]
[null,"Yard Trash",1610.2884866035345,null,0,0,1610.2884866035345,null,null,"Yard Trash",2.0548567429382179E-2]
[null,"Other Plastics",4079.3949675260451,null,0,103,4182.3949675260446,null,null,"Other Plastics",5.3370700791501878E-2]
[null,"Ferrous Metals",603.78851878974638,null,0,2149,2752.7885187897464,null,null,"Ferrous Metals",3.5127780498816388E-2]
[null,"White Goods",131.59595429573707,null,0,27,158.59595429573707,null,null,"White Goods",2.0238110673864236E-3]
[null,"NonFerous Metals",209.00065590253513,null,0,367,576.00065590253507,null,null,"NonFerous Metals",7.3502284936200479E-3]
[null,"Other Paper",5638.2943630031159,null,0,856,6494.2943630031159,null,null,"Other Paper",8.2872383883150838E-2]
[null,"Textiles",1173.7174566041313,null,0,53,1226.7174566041313,null,null,"Textiles",1.5653894680075688E-2]
[null,"C&D Debris",3996.1470958688797,{"$f":"C10","v":36692},0,0,40688.147095868881,null,null,"C&D Debris",0.51921325969334375]
[null,"Food",4349.4702542111181,null,0,{"$f":"C60","v":0},4349.4702542111181,null,null,"Food",5.5502714913687461E-2]
[null,"Miscellaneous",5579.2205326652374,null,0,{"$f":"C61","v":247},5826.2205326652374,null,null,"Miscellaneous",7.4347228133289575E-2]
[null,"Tires",31.938396172507208,null,0,{"$f":"C62","v":588},619.93839617250717,null,null,"Tires",7.9109091580744865E-3]
[null,null,"Total","Total","Total","Total","Total",null,null,null,"total"]
[null,null,{"$f":"SUM(C70:C87)","v":32988.000000000007},{"$f":"D84","v":36692},{"$f":"SUM(E70:E87)","v":0},{"$f":"SUM(F70:F87)","v":8685},{"$f":"SUM(G70:G87)","v":78365},null,null,null,{"$f":"SUM(K70:K87)","v":0.99999999999999989}]
[]
[null,5]
[]
[null,"US EPA Data and Moisture Content"]
[null,"Category","Moisture Content  (MC) ","US EPA DATA (lbs-dry/person)","US EPA DATA             (lbs-WET/person)    [US EPA DATA/(1-MC)"]
[null,"Newspaper",0.27850000000000003,41.931464174454831,58.117067462861854]
[null,"Glass",3.2000000000000001E-2,56.822429906542055,58.700857341469067]
[null,"Aluminum Cans",0.129,8.4112149532710276,9.6569632069701807]
[null,"Plastic Bottles",4.8000000000000001E-2,23.302180685358255,24.477080551846907]
[null,"Steel Cans",5.8000000000000003E-2,10.841121495327103,11.508621544933231]
[null,"Corrugated Paper",0.24049999999999999,195.20249221183801,257.01447295831201]
[null,"Office Paper",0.13400000000000001,28.22429906542056,32.591569359608037]
[null,"Yard Waste",0.50600000000000001,216.3239875389408,437.90280878328099]
[null,"Other Plastics",0.11700000000000001,154.90485396035913,175.43018568557093]
[null,"Non-ferrous Metal",5.3999999999999999E-2,46.762277712979795,49.431583206109721]
[null,"White Goods","x",30.280373831775702,30.280373831775702]
[null,"Ferrous Metal",0.16900000000000001,12.133426323463874,14.600994372399368]
[null,"Other Paper",0.2545,158.56697819314641,212.69883057430772]
[null,"Textiles",0.17,76.349308411214949,91.987118567728857]
[null,"C&D Debris",8.8999999999999996E-2,"-","-"]
[null,"Food Waste",0.59750000000000003,247.53894080996884,615.00357965209651]
[null,"Miscellaneous",0.313,206.19904324930312,300.14416775735532]
[null,"Tires","x",36.386292834890966,36.386292834890966]
[]
[null,6]
[]
[null,"Findig County Factor"]
[null,"Material","tons-DRY/county-us data ","tons-WET/county-us data ","County Factor","Column1"]
[null,"equation","US DATA * County Population/2000","tons-DRY/(1-MoistureContent)","ton-wet-composition/tons-wet-Usdata"]
[null,"Newspaper ",{"$f":"D95*$C$8/2000","v":2139.4900623052963},{"$f":"C119/(1-C95)","v":2965.3361916913323},{"$f":"G70/D119","v":0.48313734518414919},"Newspaper "]
[null,"Glass ",2899.2792523364487,2995.1231945624472,0.62726457174935868,"Glass "]
[null,"Aluminum Cans ",429.16962616822428,492.73206219084301,0.6953568034677915,"Aluminum Cans "]
[null,"Plastic Bottles ",1188.958816199377,1248.9063195371607,0.96258869646957268,"Plastic Bottles "]
[null,"Steel Cans ",553.1519626168224,587.21015139790063,0.86030722940612947,"Steel Cans "]
[null,"Corrugated Paper",9959.9143613707165,13113.777960988435,0.29849133919217324,"Corrugated Paper"]
[null,"Office Paper ",1440.1025233644859,1662.9359392199606,0.36345718386204284,"Office Paper "]
[null,"Yard Waste ",11037.606978193146,22343.333963953737,7.2070197276798337E-2,"Yard Waste "]
[null,"Other Plastics ",7903.7878160463843,8951.0620793277285,0.46725125247261878,"Other Plastics "]
[null,"Ferrous Metal ",{"$f":"D106*$C$8/2000","v":619.08987801525905},{"$f":"C128/(1-C106)","v":744.99383636011919},{"$f":"C79/D128","v":0.81046109285914114},"Ferrous Metal "]
[null,"White Goods ",{"$f":"D105*$C$8/2000","v":1545.0106542056076},{"$f":"Table714192531374349[[#This Row],[tons-DRY/county-us data ]]","v":1545.0106542056076},{"$f":"G80/Table714192531374349[[#This Row],[tons-WET/county-us data ]]","v":0.10265039523451168},"White Goods "]
[null,"Non-ferrous Metal ",{"$f":"D104*$C$8/2000","v":2385.9750768882245},{"$f":"C130/(1-C104)","v":2522.1723857169395},{"$f":"C81/D130","v":8.2865333506189229E-2},"Non-ferrous Metal "]
[null,"Other Paper ",{"$f":"D107*$C$8/2000","v":8090.642211838006},{"$f":"C131/(1-C107)","v":10852.638781808189},{"$f":"G82/D131","v":0.59840693987615456},"Other Paper "]
[null,"Textiles ",3895.6089377196258,{"$f":"C132/(1-C108)","v":4693.504744240513},{"$f":"G83/D132","v":0.26136491245895915},"Textiles "]
[null,"C&D Debris",{"$error":"#VALUE!"},{"$f":"C133/(1-C109)","v":{"$error":"#VALUE!"}},{"$f":"#REF!/D133","v":{"$error":"#REF!"}},"C&D Debris"]
[null,"Food Waste",12630.303146417444,{"$f":"C134/(1-C110)","v":31379.635146378743},{"$f":"G85/D134","v":0.13860805691085459},"Food Waste"]
[null,"Miscellaneous ",10520.996883230819,{"$f":"C135/(1-C111)","v":15314.405943567421},{"$f":"G86/D135","v":0.38044051817187535},"Miscellaneous "]
[null,"Tires ",1856.5560124610593,{"$f":"Table714192531374349[[#This Row],[tons-DRY/county-us data ]]","v":1856.5560124610593},{"$f":"G87/Table714192531374349[[#This Row],[tons-WET/county-us data ]]","v":0.333918498559445},"Tires "]
[]
[]
[]
[null,"Link to \"New WasteCalc County Factors\""]
[null,"Newspaper","Glass","Aluminum Cans","Plastic Bottles","Steel Cans","Corrugated Paper","Office Paper","Yard Waste","Other Plastics","Ferrous Metals","White Goods","Non-Ferrous Metal","Other Paper","Textiles","C&D Debris","Food Waste","Misc","Tires"]
[null,{"$f":"E119","v":0.48313734518414919},{"$f":"E120","v":0.62726457174935868},{"$f":"E121","v":0.6953568034677915},{"$f":"E122","v":0.96258869646957268},{"$f":"E123","v":0.86030722940612947},{"$f":"E124","v":0.29849133919217324},{"$f":"E125","v":0.36345718386204284},{"$f":"E126","v":7.2070197276798337E-2},{"$f":"E127","v":0.46725125247261878},{"$f":"E128","v":0.81046109285914114},{"$f":"E129","v":0.10265039523451168},{"$f":"E130","v":8.2865333506189229E-2},{"$f":"E131","v":0.59840693987615456},{"$f":"E132","v":0.26136491245895915},{"$error":"#REF!"},{"$f":"E134","v":0.13860805691085459},{"$f":"E135","v":0.38044051817187535},{"$f":"E136","v":0.333918498559445}]

{"sheet":"56 Putnam County Factor","index":55,"n_rows":144,"n_cols":19,"rows_kept":144,"cut":false,"hidden":true,"merged":[[2,1,2,2],[3,1,3,2],[19,1,19,2],[43,1,43,2],[65,1,65,2],[65,9,65,10],[91,1,91,2],[93,1,93,2],[115,1,115,2],[117,1,117,2]]}
[null,"Finding County Factors for Putnam"]
[]
[null,1]
[null,"Information from annual solid waste report 2017"]
[null,"County","Putnam"]
[null,"Waste comp study","NONE"]
[null,"Year",2017]
[null,"Population",72730]
[null,"Landfilled tons ",72267]
[null,"C&D collected",20308]
[null,"C&D disposed",{"$f":"C10-C14","v":20289}]
[]
[null,"Recycled tons",45860]
[null,"Recycled C&D",19]
[null,"combustor recy metals wte",0]
[null,"Combustor input wte",0]
[null,"Process Fuel",699]
[null,"Total Tons MSW collected",{"$f":"C9+(C16-C15-C17)+C13","v":117428}]
[]
[null,2]
[]
[null,"Average disposal LANDFILLED from Okaloosa and Collier"]
[null,"Category","Okaloosa (tons)","Collier (tons)","Average","Percent"]
[null,"Newspaper",{"$f":"'51 Okaloosa County Factor'!B90","v":2356.3979999999997},{"$f":"'52 Collier County Factor'!C96","v":3283.6080000000002},{"$f":"AVERAGE(Table1932026323844167[[#This Row],[Okaloosa (tons)]:[Collier (tons)]])","v":2820.0029999999997},{"$f":"E24/$E$42","v":1.3903984940955063E-2}]
[null,"Glass",{"$f":"'51 Okaloosa County Factor'!B91","v":5498.2620000000006},{"$f":"'52 Collier County Factor'!C97","v":9303.5560000000005},{"$f":"AVERAGE(Table1932026323844167[[#This Row],[Okaloosa (tons)]:[Collier (tons)]])","v":7400.9090000000006},{"$f":"E25/$E$42","v":3.6490077239413866E-2}]
[null,"Aluminum Cans",{"$f":"'51 Okaloosa County Factor'!B92","v":1440.021},{"$f":"'52 Collier County Factor'!C98","v":1641.8040000000001},{"$f":"AVERAGE(Table1932026323844167[[#This Row],[Okaloosa (tons)]:[Collier (tons)]])","v":1540.9124999999999},7.5974473060239365E-3]
[null,"Plastic Bottles",{"$f":"'51 Okaloosa County Factor'!B93","v":3665.5079999999998},{"$f":"'52 Collier County Factor'!C99","v":8756.2880000000005},{"$f":"AVERAGE(Table1932026323844167[[#This Row],[Okaloosa (tons)]:[Collier (tons)]])","v":6210.8980000000001},3.0622744820416124E-2]
[null,"Steel Cans",{"$f":"'51 Okaloosa County Factor'!B94","v":1701.8429999999998},{"$f":"'52 Collier County Factor'!C100","v":3009.9739999999997},{"$f":"AVERAGE(Table1932026323844167[[#This Row],[Okaloosa (tons)]:[Collier (tons)]])","v":2355.9084999999995},1.1615773567002599E-2]
[null,"Corrugated Paper",{"$f":"'51 Okaloosa County Factor'!B95","v":8247.393},{"$f":"'52 Collier County Factor'!C101","v":13681.7},{"$f":"AVERAGE(Table1932026323844167[[#This Row],[Okaloosa (tons)]:[Collier (tons)]])","v":10964.5465},5.4060541574034338E-2]
[null,"Office Paper",{"$f":"'51 Okaloosa County Factor'!B96","v":1440.021},{"$f":"'52 Collier County Factor'!C102","v":4651.7780000000002},{"$f":"AVERAGE(Table1932026323844167[[#This Row],[Okaloosa (tons)]:[Collier (tons)]])","v":3045.8995},1.5017764441974906E-2]
[null,"Yard Trash",{"$f":"'51 Okaloosa County Factor'!B97","v":12960.189},{"$f":"'52 Collier County Factor'!C103","v":6840.85},{"$f":"AVERAGE(Table1932026323844167[[#This Row],[Okaloosa (tons)]:[Collier (tons)]])","v":9900.5195000000003},4.8814371486708336E-2]
[null,"Other Plastics",{"$f":"'51 Okaloosa County Factor'!B98","v":13222.010999999999},{"$f":"'52 Collier County Factor'!C104","v":36940.590000000004},{"$f":"AVERAGE(Table1932026323844167[[#This Row],[Okaloosa (tons)]:[Collier (tons)]])","v":25081.300500000001},0.12366299768176443]
[null,"Ferrous Metals",{"$f":"'51 Okaloosa County Factor'!B99","v":2225.4870000000001},{"$f":"'52 Collier County Factor'!C105","v":5199.0460000000003},{"$f":"AVERAGE(Table1932026323844167[[#This Row],[Okaloosa (tons)]:[Collier (tons)]])","v":3712.2665000000002},1.8303277518787023E-2]
[null,"White Goods",{"$f":"'51 Okaloosa County Factor'!B100","v":523.64400000000001},{"$f":"'52 Collier County Factor'!C106","v":1094.5360000000001},{"$f":"AVERAGE(Table1932026323844167[[#This Row],[Okaloosa (tons)]:[Collier (tons)]])","v":809.09},3.9892068114386163E-3]
[null,"NonFerous Metals",{"$f":"'51 Okaloosa County Factor'!B101","v":654.55500000000006},{"$f":"'52 Collier County Factor'!C107","v":1915.4380000000001},{"$f":"AVERAGE(Table1932026323844167[[#This Row],[Okaloosa (tons)]:[Collier (tons)]])","v":1284.9965000000002},6.3356570844711755E-3]
[null,"Other Paper",{"$f":"'51 Okaloosa County Factor'!B102","v":21993.048000000003},{"$f":"'52 Collier County Factor'!C108","v":47338.681999999993},{"$f":"AVERAGE(Table1932026323844167[[#This Row],[Okaloosa (tons)]:[Collier (tons)]])","v":34665.864999999998},0.17091955750585414]
[null,"Textiles",{"$f":"'51 Okaloosa County Factor'!B103","v":4581.8850000000002},{"$f":"'52 Collier County Factor'!C109","v":9850.8239999999987},{"$f":"AVERAGE(Table1932026323844167[[#This Row],[Okaloosa (tons)]:[Collier (tons)]])","v":7216.3544999999995},3.5580133885174343E-2]
[null,"C&D Debris",{"$f":"'51 Okaloosa County Factor'!B104","v":11651.079},{"$f":"'52 Collier County Factor'!C110","v":37487.858},{"$f":"AVERAGE(Table1932026323844167[[#This Row],[Okaloosa (tons)]:[Collier (tons)]])","v":24569.468499999999},0.1211394172386589]
[null,"Food",{"$f":"'51 Okaloosa County Factor'!B105","v":18458.450999999997},{"$f":"'52 Collier County Factor'!C111","v":35025.152000000002},{"$f":"AVERAGE(Table1932026323844167[[#This Row],[Okaloosa (tons)]:[Collier (tons)]])","v":26741.801500000001},0.13185007439708737]
[null,"Miscellaneous",{"$f":"'51 Okaloosa County Factor'!B106","v":19898.472000000002},{"$f":"'52 Collier County Factor'!C112","v":48706.851999999999},{"$f":"AVERAGE(Table1932026323844167[[#This Row],[Okaloosa (tons)]:[Collier (tons)]])","v":34302.661999999997},0.16912879024691516]
[null,"Tires",{"$f":"'51 Okaloosa County Factor'!B107","v":392.733},{"$f":"'52 Collier County Factor'!C113","v":0},{"$f":"AVERAGE(Table1932026323844167[[#This Row],[Okaloosa (tons)]:[Collier (tons)]])","v":196.3665},9.6818225331960731E-4]
[null,"Total",{"$f":"SUM(C24:C41)","v":130910.99999999999},{"$f":"SUM(D24:D41)","v":274728.53600000002},{"$f":"AVERAGE(Table1932026323844167[[#This Row],[Okaloosa (tons)]:[Collier (tons)]])","v":202819.76800000001},1]
[]
[null,"Recycled tons from Putnam"]
[null,"Materials","Tons"]
[null,"Newspaper",728]
[null,"Glass",22]
[null,"Aluminum Cans",258]
[null,"Plastic Bottles",232]
[null,"Steel Cans",103]
[null,"Corrugated Paper",2307]
[null,"Office Paper",111]
[null,"Yard Trash",6963]
[null,"Other Plastics",38]
[null,"Ferrous Metals",26367]
[null,"White Goods",5022]
[null,"NonFerous Metals",2146]
[null,"Other Paper",635]
[null,"Textiles",3]
[null,"C&D Debris",19]
[null,"Food",86]
[null,"Miscellaneous",762]
[null,"Tires",58]
[null,"Total",{"$f":"SUM(C46:C63)","v":45860}]
[]
[null,3,null,null,null,null,null,null,null,4]
[]
[null,"Calculating waste compositon percentage utalizing waste compsition study"]
[null,"FDEP Category","Landfilled tons\n(Plus combusor ash, minus C&D  disposed)","Collected C&D \n(disposal C&D LANDFILL + recycled)","Combusted\n(minus recycled metals, minus ash)","Recycled Materials\n(Minus recycled C&D)","Total Collected Tons"]
[null,null,{"$f":"C9-C11","v":51978},{"$f":"C11+C14","v":20308},{"$f":"C16-C15","v":0},{"$f":"C64","v":45860},null,null,null,"FDEP Category","Percentage"]
[null,"Newspaper",{"$f":"$C$70*F24","v":722.70132926096232},null,{"$f":"$E$70*F24","v":0},{"$f":"C46","v":728},{"$f":"SUM(C71:F71)","v":1450.7013292609622},null,null,"Newspaper",{"$f":"G71/$G$90","v":1.228086152413049E-2}]
[null,"Glass",1896.6812347502539,null,0,22,{"$f":"SUM(C72:F72)","v":1918.6812347502539},null,null,"Glass",1.6242529097922186E-2]
[null,"Aluminum Cans",394.90011607251216,null,0,258,652.90011607251222,null,null,"Aluminum Cans",5.5271031692374507E-3]
[null,"Plastic Bottles",1591.7090302755894,null,0,232,1823.7090302755894,null,null,"Plastic Botles",1.5438545212149548E-2]
[null,"Steel Cans",603.76467846566106,null,0,103,706.76467846566106,null,null,"Steel Cans",5.9830917441877057E-3]
[null,"Corrugated Paper",2809.9588299351567,null,0,2307,5116.9588299351562,null,null,"Corrugated Paper",4.3317436571953548E-2]
[null,"Office Paper",780.59336016497161,null,0,111,891.59336016497161,null,null,"Office Paper",7.5477525050578762E-3]
[null,"Yard Trash",2537.2734011361258,null,0,6963,9500.2734011361263,null,null,"Yard Trash",8.0424233250113247E-2]
[null,"Other Plastics",6427.7552935027516,null,0,38,6465.7552935027516,null,null,"Other Plastics",5.4735626008471837E-2]
[null,"Ferrous Metals",951.36775887151191,null,0,26367,27318.367758871511,null,null,"Ferrous Metals",0.23126268980733883]
[null,"White Goods",207.35099164495639,null,0,5022,5229.3509916449566,null,null,"White Goods",4.4268888498353108E-2]
[null,"NonFerous Metals",329.31478393664275,null,0,2146,2475.3147839366429,null,null,"NonFerous Metals",2.0954691001520764E-2]
[null,"Other Paper",8884.056760039286,null,0,635,9519.056760039286,null,null,"Other Paper",8.0583243120025794E-2]
[null,"Textiles",1849.384199083592,null,0,3,1852.384199083592,null,null,"Textiles",1.5681293853933412E-2]
[null,"C&D Debris",6296.5846292310125,{"$f":"C10","v":20308},0,0,26604.584629231013,null,null,"C&D Debris",0.22522018360942897]
[null,"Food",6853.303167011808,null,0,{"$f":"C61","v":86},6939.303167011808,null,null,"Food",5.8744429021407543E-2]
[null,"Miscellaneous",8790.9762594541553,null,0,{"$f":"C62","v":762},9552.9762594541553,null,null,"Miscellaneous",8.0870387459718404E-2]
[null,"Tires",50.324177163046549,null,0,{"$f":"C63","v":58},108.32417716304656,null,null,"Tires",9.1701454504936693E-4]
[null,null,"Total","Total","Total","Total","Total",null,null,null,"total"]
[null,null,{"$f":"SUM(C71:C88)","v":51977.999999999993},{"$f":"D85","v":20308},{"$f":"SUM(E71:E88)","v":0},{"$f":"SUM(F71:F88)","v":45841},{"$f":"SUM(G71:G88)","v":118126.99999999999},null,null,null,{"$f":"SUM(K71:K88)","v":1.0000000000000002}]
[]
[null,5]
[]
[null,"US EPA Data and Moisture Content"]
[null,"Category","Moisture Content  (MC) ","US EPA DATA (lbs-dry/person)","US EPA DATA             (lbs-WET/person)    [US EPA DATA/(1-MC)"]
[null,"Newspaper",0.27850000000000003,41.931464174454831,58.117067462861854]
[null,"Glass",3.2000000000000001E-2,56.822429906542055,58.700857341469067]
[null,"Aluminum Cans",0.129,8.4112149532710276,9.6569632069701807]
[null,"Plastic Bottles",4.8000000000000001E-2,23.302180685358255,24.477080551846907]
[null,"Steel Cans",5.8000000000000003E-2,10.841121495327103,11.508621544933231]
[null,"Corrugated Paper",0.24049999999999999,195.20249221183801,257.01447295831201]
[null,"Office Paper",0.13400000000000001,28.22429906542056,32.591569359608037]
[null,"Yard Waste",0.50600000000000001,216.3239875389408,437.90280878328099]
[null,"Other Plastics",0.11700000000000001,154.90485396035913,175.43018568557093]
[null,"Non-ferrous Metal",5.3999999999999999E-2,46.762277712979795,49.431583206109721]
[null,"White Goods","x",30.280373831775702,30.280373831775702]
[null,"Ferrous Metal",0.16900000000000001,12.133426323463874,14.600994372399368]
[null,"Other Paper",0.2545,158.56697819314641,212.69883057430772]
[null,"Textiles",0.17,76.349308411214949,91.987118567728857]
[null,"C&D Debris",8.8999999999999996E-2,"-","-"]
[null,"Food Waste",0.59750000000000003,247.53894080996884,615.00357965209651]
[null,"Miscellaneous",0.313,206.19904324930312,300.14416775735532]
[null,"Tires","x",36.386292834890966,36.386292834890966]
[]
[]
[null,6]
[]
[null,"Finding County Factor"]
[null,"Category","tons-DRY/county-us data ","tons-WET/county-us data ","County Factor","Category     "]
[null,"equation","US DATA * County Population/2000","tons-DRY/(1-MoistureContent)","ton-wet-composition/tons-wet-Usdata"]
[null,"Newspaper ",{"$f":"D96*$C$8/2000","v":1524.8376947040499},{"$f":"C121/(1-C96)","v":2113.4271582869715},{"$f":"G71/D121","v":0.68642125827360967},"Newspaper "]
[null,"Glass ",2066.3476635514016,2134.6566772225224,0.89882427241026797,"Glass "]
[null,"Aluminum Cans ",305.87383177570092,351.17546702147064,1.859184873049786,"Aluminum Cans "]
[null,"Plastic Bottles ",847.38380062305293,890.10903426791276,2.0488602632547526,"Plastic Bottles "]
[null,"Steel Cans ",394.23738317757011,418.51102248149698,1.6887600098917543,"Steel Cans "]
[null,"Corrugated Paper",7098.5386292834892,9346.3313091290165,0.54748314185451286,"Corrugated Paper"]
[null,"Office Paper ",1026.3766355140187,1185.1924197621463,0.75227730560739126,"Office Paper "]
[null,"Yard Waste ",7866.6218068535818,15924.335641404012,0.5965883673310034,"Yard Waste "]
[null,"Other Plastics ",5633.1150142684601,6379.5187024557872,1.0135177268175055,"Other Plastics "]
[null,"Ferrous Metal ",{"$f":"D107*$C$8/2000","v":441.23204825276383},{"$f":"C130/(1-C107)","v":530.96516035230309},{"$f":"C80/D130","v":1.791770590447527},"Ferrous Metal "]
[null,"White Goods ",{"$f":"D106*$C$8/2000","v":1101.1457943925234},{"$f":"Table714192531374349172[[#This Row],[tons-DRY/county-us data ]]","v":1101.1457943925234},{"$f":"G81/Table714192531374349172[[#This Row],[tons-WET/county-us data ]]","v":4.7490087309736024},"White Goods "]
[null,"Non-ferrous Metal ",{"$f":"D105*$C$8/2000","v":1700.5102290325101},{"$f":"C132/(1-C105)","v":1797.5795232901798},{"$f":"C82/D132","v":0.18319900714817061},"Non-ferrous Metal "]
[null,"Other Paper ",{"$f":"D108*$C$8/2000","v":5766.2881619937689},{"$f":"C133/(1-C108)","v":7734.7929738346993},{"$f":"G83/D133","v":1.2306802253454494},"Other Paper "]
[null,"Textiles ",2776.4426003738317,{"$f":"C134/(1-C109)","v":3345.11156671546},{"$f":"G84/D134","v":0.55375857042114562},"Textiles "]
[null,"C&D Debris",{"$error":"#VALUE!"},{"$f":"C135/(1-C110)","v":{"$error":"#VALUE!"}},{"$f":"#REF!/D135","v":{"$error":"#REF!"}},"C&D Debris"]
[null,"Food Waste",9001.7535825545165,{"$f":"C136/(1-C111)","v":22364.605174048491},{"$f":"G86/D136","v":0.31028060245230971},"Food Waste"]
[null,"Miscellaneous ",7498.4282077609078,{"$f":"C137/(1-C112)","v":10914.742660496226},{"$f":"G87/D137","v":0.87523605059689435},"Miscellaneous "]
[null,"Tires ",1323.1875389408099,{"$f":"Table714192531374349172[[#This Row],[tons-DRY/county-us data ]]","v":1323.1875389408099},{"$f":"G88/Table714192531374349172[[#This Row],[tons-WET/county-us data ]]","v":8.1866080185245924E-2},"Tires "]
[]
[]
[]
[null,"Link to \"New WasteCalc County Factors\""]
[null,"Newspaper","Glass","Aluminum Cans","Plastic Bottles","Steel Cans","Corrugated Paper","Office Paper","Yard Waste","Other Plastics","Ferrous Metals","White Goods","Non-Ferrous Metal","Other Paper","Textiles","C&D Debris","Food Waste","Misc","Tires"]
[null,{"$f":"E121","v":0.68642125827360967},{"$f":"E122","v":0.89882427241026797},{"$f":"E123","v":1.859184873049786},{"$f":"E124","v":2.0488602632547526},{"$f":"E125","v":1.6887600098917543},{"$f":"E126","v":0.54748314185451286},{"$f":"E127","v":0.75227730560739126},{"$f":"E128","v":0.5965883673310034},{"$f":"E129","v":1.0135177268175055},{"$f":"E130","v":1.791770590447527},{"$f":"E131","v":4.7490087309736024},{"$f":"E132","v":0.18319900714817061},{"$f":"E133","v":1.2306802253454494},{"$f":"E134","v":0.55375857042114562},{"$error":"#REF!"},{"$f":"E136","v":0.31028060245230971},{"$f":"E137","v":0.87523605059689435},{"$f":"E138","v":8.1866080185245924E-2}]

{"sheet":"57 Bradford County Factor","index":56,"n_rows":168,"n_cols":19,"rows_kept":168,"cut":false,"hidden":true,"merged":[[2,1,2,2],[3,1,3,2],[19,1,19,2],[67,1,67,2],[89,1,89,2],[89,9,89,10],[115,1,115,2],[117,1,117,2],[139,1,139,2],[141,1,141,2]]}
[null,"Finding County Factors for Bradford"]
[]
[null,1]
[null,"Information from annual solid waste report 2017"]
[null,"County","Bradford"]
[null,"Waste comp study","NONE"]
[null,"Year",2017]
[null,"Population",27642]
[null,"Landfilled tons",19105]
[null,"C&D collected",1524]
[null,"C&D disposed",{"$f":"C10-C14","v":1411}]
[]
[null,"Recycled tons",9127]
[null,"Recycled C&D",113]
[null,"combustor recy metals",0]
[null,"Combustor input",0]
[null,"Process Fuel",0]
[null,"Total Tons MSW collected",{"$f":"C9+(C16-C15-C17)+C13","v":28232}]
[]
[null,2]
[]
[null,"Aucilla Landifll Waste Composition Study Results"]
[null,"FDEP Category","Waste Comp Category","Percentage in waste stream"]
[null,"Newspapers","Newspaper",3.0000000000000001E-3]
[null,"Glass","Green",2E-3]
[null,null,"Clear ",0.02]
[null,null,"Brown",7.0000000000000001E-3]
[null,"Aluminum Cans","Aluminum cans and tin foil",1.2999999999999999E-2]
[null,"Plastic Bottles","#1 PET Bottles",3.7999999999999999E-2]
[null,null,"#2 HDPE Bottles- translucent ",5.0000000000000001E-3]
[null,null,"#2 HDPE Bottles- colored",4.0000000000000001E-3]
[null,null,"#3-7 (Other Plastic Bottles)",2E-3]
[null,"Steel Cans","Steel/Tin Cans",1.0999999999999999E-2]
[null,"Corrugated Boxes","Corrugated Cardboard (OCC)",0.11899999999999999]
[null,"Office Paper","High Grade Paper (Office Type)",2.1999999999999999E-2]
[null,"Yard Trash","Yard Trash",2.1000000000000001E-2]
[null,"Other Plastics","Expanded Polystyrene (Food Service)",4.0000000000000001E-3]
[null,null,"Expanded Polystyrene",1.7999999999999999E-2]
[null,null,"Rigid Plastic (Tubs, Cups, Lids)",8.9999999999999993E-3]
[null,null,"Rigid Plastic (Food Service)",6.0000000000000001E-3]
[null,null,"Grocery Bags",0.01]
[null,null,"Other Flexible Plastic",7.0999999999999994E-2]
[null,null,"Other Plastics",3.9E-2]
[null,"Ferrous Metals","Other Ferrous Metals",1.9E-2]
[null,"White Goods","White Goods",0]
[null,"Nonferrous Metals","Other Non-Ferrous Metals ",4.0000000000000001E-3]
[null,"Other Paper","Polycoated Aseptic Containers",0]
[null,null,"Food Service Container (Polycoated)",8.0000000000000002E-3]
[null,null,"Other Compsite (Metal Coated)",6.0000000000000001E-3]
[null,null,"Boxboards",2.8000000000000001E-2]
[null,null,"Other Paper",0.121]
[null,"Textiles","Clothing, Footwear, Other Textiles",6.3E-2]
[null,"C&D Debris","Wood",4.7E-2]
[null,null,"Asphalt Shingles",5.0000000000000001E-3]
[null,null,"Gypsum Drywall",6.0000000000000001E-3]
[null,null,"Concrete/Bricks/Ceramics",3.0000000000000001E-3]
[null,"Food Waste","Food Waste",9.2999999999999999E-2]
[null,"Miscellaneous","Animal- By-Product",3.0000000000000001E-3]
[null,null,"Other Organics",3.5999999999999997E-2]
[null,null,"Rubber and Leather",1.0999999999999999E-2]
[null,null,"Small Appliances/Electronics",1.4999999999999999E-2]
[null,null,"Hazardous Waste",0.01]
[null,null,"Residuals ",9.5000000000000001E-2]
[null,"Tires","Tires",0]
[null,null,null,"sum"]
[null,null,null,{"$f":"SUM(D24:D64)","v":0.99700000000000011}]
[]
[null,"Recycled tons from Bradford"]
[null,"Materials","Tons"]
[null,"Newspaper",588]
[null,"Glass",24]
[null,"Aluminum Cans",118]
[null,"Plastic Bottles",5]
[null,"Steel Cans",3]
[null,"Corrugated Paper",1189]
[null,"Office Paper",80]
[null,"Yard Trash",1271]
[null,"Other Plastics",1]
[null,"Ferrous Metals",5342]
[null,"White Goods",1]
[null,"NonFerous Metals",273]
[null,"Other Paper",50]
[null,"Textiles"]
[null,"C&D Debris",113]
[null,"Food",0]
[null,"Miscellaneous",0]
[null,"Tires",69]
[null,"Total",{"$f":"SUM(C70:C87)","v":9127}]
[]
[null,3,null,null,null,null,null,null,null,4]
[]
[null,"Calculating waste compositon percentage utalizing waste compsition study"]
[null,"FDEP Category","Landfilled tons\n(Plus combusor ash, minus C&D  disposed)","Collected C&D \n(disposal C&D LANDFILL + recycled)","Combusted\n(minus recycled metals, minus ash)","Recycled Materials\n(Minus recycled C&D)","Total Collected Tons"]
[null,null,{"$f":"C9-C11","v":17694},{"$f":"C11+C14","v":1524},{"$f":"C16-C15","v":0},{"$f":"C88","v":9127},null,null,null,"FDEP Category","Percentage"]
[null,"Newspaper",{"$f":"$C$94*D24","v":53.082000000000001},null,{"$f":"$E$94*D24","v":0},{"$f":"C70","v":588},{"$f":"SUM(C95:F95)","v":641.08199999999999},null,null,"Newspaper",{"$f":"G95/$G$114","v":2.2750412205323138E-2}]
[null,"Glass",{"$f":"$C$94*SUM(D25:D27)","v":513.12599999999998},null,{"$f":"$E$94*SUM(D25:D27)","v":0},24,{"$f":"SUM(C96:F96)","v":537.12599999999998},null,null,"Glass",1.906127126669661E-2]
[null,"Aluminum Cans",{"$f":"$C$94*D28","v":230.02199999999999},null,{"$f":"$E$94*D28","v":0},118,348.02199999999999,null,null,"Aluminum Cans",1.2350438721600309E-2]
[null,"Plastic Bottles",{"$f":"$C$94*SUM(D29:D32)","v":867.00600000000009},null,{"$f":"$E$94*SUM(D29:D32)","v":0},5,872.00600000000009,null,null,"Plastic Botles",3.0945332961329456E-2]
[null,"Steel Cans",{"$f":"$C$94*D33","v":194.63399999999999},null,{"$f":"$E$94*D33","v":0},3,197.63399999999999,null,null,"Steel Cans",7.0135411160925322E-3]
[null,"Corrugated Paper",{"$f":"$C$94*D34","v":2105.5859999999998},null,{"$f":"$E$94*D34","v":0},1189,3294.5859999999998,null,null,"Corrugated Paper",0.11691669637563795]
[null,"Office Paper",{"$f":"$C$94*D35","v":389.26799999999997},null,{"$f":"$E$94*D35","v":0},80,469.26799999999997,null,null,"Office Paper",1.6653158932504075E-2]
[null,"Yard Trash",{"$f":"$C$94*D36","v":371.57400000000001},null,{"$f":"$E$94*I31","v":0},1271,1642.5740000000001,null,null,"Yard Trash",5.8290882566889184E-2]
[null,"Other Plastics",{"$f":"$C$94*SUM(D37:D43)","v":2777.9580000000001},null,{"$f":"$E$94*SUM(D37:D43)","v":0},1,2778.9580000000001,null,null,"Other Plastics",9.8618335877907012E-2]
[null,"Ferrous Metals",{"$f":"$C$94*D44","v":336.18599999999998},null,{"$f":"$E$94*D44","v":0},5342,5678.1859999999997,null,null,"Ferrous Metals",0.20150475614429195]
[null,"White Goods",{"$f":"$C$94*D45","v":0},null,{"$f":"$E$94*D45","v":0},1,1,null,null,"White Goods",3.5487522977283937E-5]
[null,"NonFerous Metals",{"$f":"$C$94*D46","v":70.775999999999996},null,{"$f":"$E$94*D46","v":0},273,343.77600000000001,null,null,"NonFerous Metals",1.2199758699038762E-2]
[null,"Other Paper",{"$f":"$C$94*SUM(D47:D51)","v":2884.1220000000003},null,{"$f":"$E$94*SUM(D47:D51)","v":0},50,2934.1220000000003,null,null,"Other Paper",0.1041247218931543]
[null,"Textiles",{"$f":"$C$94*D52","v":1114.722},null,{"$f":"$E$94*D52","v":0},0,1114.722,null,null,"Textiles",3.9558722588283898E-2]
[null,"C&D Debris",{"$f":"$C$94*SUM(D53:D56)","v":1079.3340000000001},{"$f":"C10","v":1524},{"$f":"$E$94*SUM(D53:D56)","v":0},0,2603.3339999999998,null,null,"C&D Debris",9.2385875142544482E-2]
[null,"Food",{"$f":"$C$94*D57","v":1645.5419999999999},null,{"$f":"$E$94*D57","v":0},{"$f":"C85","v":0},1645.5419999999999,null,null,"Food",5.8396209535085758E-2]
[null,"Miscellaneous",{"$f":"$C$94*SUM(D58:D63)","v":3007.9799999999996},null,{"$f":"$E$94*SUM(D58:D63)","v":0},{"$f":"C86","v":0},3007.9799999999996,null,null,"Miscellaneous",0.10674575936521051]
[null,"Tires",{"$f":"$C$94*D64","v":0},null,{"$f":"$E$94*D64","v":0},{"$f":"C87","v":69},69,null,null,"Tires",2.4486390854325914E-3]
[null,null,"Total","Total","Total","Total","Total",null,null,null,"total"]
[null,null,{"$f":"SUM(C95:C112)","v":17640.917999999998},{"$f":"D109","v":1524},{"$f":"SUM(E95:E112)","v":0},{"$f":"SUM(F95:F112)","v":9014},{"$f":"SUM(G95:G112)","v":28178.918000000005},null,null,null,{"$f":"SUM(K95:K112)","v":0.99999999999999967}]
[]
[null,5]
[]
[null,"US EPA Data and Moisture Content"]
[null,"Category","Moisture Content  (MC) ","US EPA DATA (lbs-dry/person)","US EPA DATA             (lbs-WET/person)    [US EPA DATA/(1-MC)"]
[null,"Newspaper",0.27850000000000003,41.931464174454831,58.117067462861854]
[null,"Glass",3.2000000000000001E-2,56.822429906542055,58.700857341469067]
[null,"Aluminum Cans",0.129,8.4112149532710276,9.6569632069701807]
[null,"Plastic Bottles",4.8000000000000001E-2,23.302180685358255,24.477080551846907]
[null,"Steel Cans",5.8000000000000003E-2,10.841121495327103,11.508621544933231]
[null,"Corrugated Paper",0.24049999999999999,195.20249221183801,257.01447295831201]
[null,"Office Paper",0.13400000000000001,28.22429906542056,32.591569359608037]
[null,"Yard Waste",0.50600000000000001,216.3239875389408,437.90280878328099]
[null,"Other Plastics",0.11700000000000001,154.90485396035913,175.43018568557093]
[null,"Non-ferrous Metal",5.3999999999999999E-2,46.762277712979795,49.431583206109721]
[null,"White Goods","x",30.280373831775702,30.280373831775702]
[null,"Ferrous Metal",0.16900000000000001,12.133426323463874,14.600994372399368]
[null,"Other Paper",0.2545,158.56697819314641,212.69883057430772]
[null,"Textiles",0.17,76.349308411214949,91.987118567728857]
[null,"C&D Debris",8.8999999999999996E-2,"-","-"]
[null,"Food Waste",0.59750000000000003,247.53894080996884,615.00357965209651]
[null,"Miscellaneous",0.313,206.19904324930312,300.14416775735532]
[null,"Tires","x",36.386292834890966,36.386292834890966]
[]
[]
[null,6]
[]
[null,"Finding County Factor"]
[null,"Category ","tons-DRY/county-us data ","tons-WET/county-us data ","County Factor","Column1"]
[null,"equation","US DATA * County Population/2000","tons-DRY/(1-MoistureContent)","ton-wet-composition/tons-wet-Usdata"]
[null,"Newspaper ",{"$f":"D120*$C$8/2000","v":579.53476635514028},{"$f":"C145/(1-C120)","v":803.2359894042138},{"$f":"G95/D145","v":0.79812409859213518},"Newspaper "]
[null,"Glass ",785.3428037383178,811.30454931644408,0.66205224715250233,"Glass "]
[null,"Aluminum Cans ",116.25140186915887,133.46888848353487,2.6075140353246673,"Aluminum Cans "]
[null,"Plastic Bottles ",322.05943925233646,338.29773030707611,2.5776288809519112,"Plastic Bottles "]
[null,"Steel Cans ",149.83514018691591,159.0606583725222,1.2425071166066628,"Steel Cans "]
[null,"Corrugated Paper",2697.8936448598133,3552.1970307568308,0.92747839477194083,"Corrugated Paper"]
[null,"Office Paper ",390.08803738317755,450.44808011914267,1.0417804419898504,"Office Paper "]
[null,"Yard Waste ",2989.8138317757007,6052.2547201937259,0.27139868956926899,"Yard Waste "]
[null,"Other Plastics ",2140.9399865861237,2424.6205963602761,1.1461413815306354,"Other Plastics "]
[null,"Ferrous Metal ",{"$f":"D131*$C$8/2000","v":167.69608521659421},{"$f":"C154/(1-C131)","v":201.80034322093167},{"$f":"C104/D154","v":1.6659337374463357},"Ferrous Metal "]
[null,"White Goods ",{"$f":"D130*$C$8/2000","v":418.50504672897199},{"$f":"Table714192531374349172178[[#This Row],[tons-DRY/county-us data ]]","v":418.50504672897199},{"$f":"G105/Table714192531374349172178[[#This Row],[tons-WET/county-us data ]]","v":2.3894574457727145E-3},"White Goods "]
[null,"Non-ferrous Metal ",{"$f":"D129*$C$8/2000","v":646.30144027109372},{"$f":"C156/(1-C129)","v":683.19391149164244},{"$f":"C106/D156","v":0.10359577099490268},"Non-ferrous Metal "]
[null,"Other Paper ",{"$f":"D132*$C$8/2000","v":2191.5542056074764},{"$f":"C157/(1-C132)","v":2939.7105373675067},{"$f":"G107/D157","v":0.99809894977873881},"Other Paper "]
[null,"Textiles ",1055.2237915514017,{"$f":"C158/(1-C133)","v":1271.3539657245806},{"$f":"G108/D158","v":0.87679908983072896},"Textiles "]
[null,"C&D Debris",{"$error":"#VALUE!"},{"$f":"C159/(1-C134)","v":{"$error":"#VALUE!"}},{"$f":"#REF!/D159","v":{"$error":"#REF!"}},"C&D Debris"]
[null,"Food Waste",3421.2357009345792,{"$f":"C160/(1-C135)","v":8499.9644743716253},{"$f":"G110/D160","v":0.19359398559388091},"Food Waste"]
[null,"Miscellaneous ",2849.8769767486183,{"$f":"C161/(1-C136)","v":4148.2925425744079},{"$f":"G111/D161","v":0.72511279499426606},"Miscellaneous "]
[null,"Tires ",502.89495327102804,{"$f":"Table714192531374349172178[[#This Row],[tons-DRY/county-us data ]]","v":502.89495327102804},{"$f":"G112/Table714192531374349172178[[#This Row],[tons-WET/county-us data ]]","v":0.13720559244270927},"Tires "]
[]
[]
[]
[null,"Link to \"New WasteCalc County Factors\""]
[null,"Newspaper","Glass","Aluminum Cans","Plastic Bottles","Steel Cans","Corrugated Paper","Office Paper","Yard Waste","Other Plastics","Ferrous Metals","White Goods","Non-Ferrous Metal","Other Paper","Textiles","C&D Debris","Food Waste","Misc","Tires"]
[null,{"$f":"E145","v":0.79812409859213518},{"$f":"E146","v":0.66205224715250233},{"$f":"E147","v":2.6075140353246673},{"$f":"E148","v":2.5776288809519112},{"$f":"E149","v":1.2425071166066628},{"$f":"E150","v":0.92747839477194083},{"$f":"E151","v":1.0417804419898504},{"$f":"E152","v":0.27139868956926899},{"$f":"E153","v":1.1461413815306354},{"$f":"E154","v":1.6659337374463357},{"$f":"E155","v":2.3894574457727145E-3},{"$f":"E156","v":0.10359577099490268},{"$f":"E157","v":0.99809894977873881},{"$f":"E158","v":0.87679908983072896},{"$error":"#REF!"},{"$f":"E160","v":0.19359398559388091},{"$f":"E161","v":0.72511279499426606},{"$f":"E162","v":0.13720559244270927}]

{"sheet":"58 Gadsden County Factor","index":57,"n_rows":168,"n_cols":19,"rows_kept":168,"cut":false,"hidden":true,"merged":[[2,1,2,2],[3,1,3,2],[19,1,19,2],[67,1,67,2],[89,1,89,2],[89,9,89,10],[115,1,115,2],[117,1,117,2],[139,1,139,2],[141,1,141,2]]}
[null,"Finding County Factors for Gadsden"]
[]
[null,1]
[null,"Information from annual solid waste report 2017"]
[null,"County","Gadsden"]
[null,"Waste comp study","NONE"]
[null,"Year",2017]
[null,"Population",48263]
[null,"Landfilled tons",26189]
[null,"C&D collected",808]
[null,"C&D disposed",{"$f":"C10-C14","v":593}]
[]
[null,"Recycled tons",10542]
[null,"Recycled C&D",215]
[null,"combustor recy metals",0]
[null,"Combustor input",0]
[null,"Process Fuel",0]
[null,"Total Tons MSW collected",{"$f":"C9+(C16-C15-C17)+C13","v":36731}]
[]
[null,2]
[]
[null,"Aucilla Landifll Waste Composition Study Results"]
[null,"FDEP Category","Waste Comp Category","Percentage in waste stream"]
[null,"Newspapers","Newspaper",3.0000000000000001E-3]
[null,"Glass","Green",2E-3]
[null,null,"Clear ",0.02]
[null,null,"Brown",7.0000000000000001E-3]
[null,"Aluminum Cans","Aluminum cans and tin foil",1.2999999999999999E-2]
[null,"Plastic Bottles","#1 PET Bottles",3.7999999999999999E-2]
[null,null,"#2 HDPE Bottles- translucent ",5.0000000000000001E-3]
[null,null,"#2 HDPE Bottles- colored",4.0000000000000001E-3]
[null,null,"#3-7 (Other Plastic Bottles)",2E-3]
[null,"Steel Cans","Steel/Tin Cans",1.0999999999999999E-2]
[null,"Corrugated Boxes","Corrugated Cardboard (OCC)",0.11899999999999999]
[null,"Office Paper","High Grade Paper (Office Type)",2.1999999999999999E-2]
[null,"Yard Trash","Yard Trash",2.1000000000000001E-2]
[null,"Other Plastics","Expanded Polystyrene (Food Service)",4.0000000000000001E-3]
[null,null,"Expanded Polystyrene",1.7999999999999999E-2]
[null,null,"Rigid Plastic (Tubs, Cups, Lids)",8.9999999999999993E-3]
[null,null,"Rigid Plastic (Food Service)",6.0000000000000001E-3]
[null,null,"Grocery Bags",0.01]
[null,null,"Other Flexible Plastic",7.0999999999999994E-2]
[null,null,"Other Plastics",3.9E-2]
[null,"Ferrous Metals","Other Ferrous Metals",1.9E-2]
[null,"White Goods","White Goods",0]
[null,"Nonferrous Metals","Other Non-Ferrous Metals ",4.0000000000000001E-3]
[null,"Other Paper","Polycoated Aseptic Containers",0]
[null,null,"Food Service Container (Polycoated)",8.0000000000000002E-3]
[null,null,"Other Compsite (Metal Coated)",6.0000000000000001E-3]
[null,null,"Boxboards",2.8000000000000001E-2]
[null,null,"Other Paper",0.121]
[null,"Textiles","Clothing, Footwear, Other Textiles",6.3E-2]
[null,"C&D Debris","Wood",4.7E-2]
[null,null,"Asphalt Shingles",5.0000000000000001E-3]
[null,null,"Gypsum Drywall",6.0000000000000001E-3]
[null,null,"Concrete/Bricks/Ceramics",3.0000000000000001E-3]
[null,"Food Waste","Food Waste",9.2999999999999999E-2]
[null,"Miscellaneous","Animal- By-Product",3.0000000000000001E-3]
[null,null,"Other Organics",3.5999999999999997E-2]
[null,null,"Rubber and Leather",1.0999999999999999E-2]
[null,null,"Small Appliances/Electronics",1.4999999999999999E-2]
[null,null,"Hazardous Waste",0.01]
[null,null,"Residuals ",9.5000000000000001E-2]
[null,"Tires","Tires",0]
[null,null,null,"sum"]
[null,null,null,{"$f":"SUM(D24:D64)","v":0.99700000000000011}]
[]
[null,"Recycled tons from Gadsden"]
[null,"Materials","Tons"]
[null,"Newspaper",0]
[null,"Glass",0]
[null,"Aluminum Cans",76]
[null,"Plastic Bottles",4]
[null,"Steel Cans",0]
[null,"Corrugated Paper",584]
[null,"Office Paper",125]
[null,"Yard Trash",0]
[null,"Other Plastics",17]
[null,"Ferrous Metals",7657]
[null,"White Goods",0]
[null,"NonFerous Metals",520]
[null,"Other Paper",1295]
[null,"Textiles",0]
[null,"C&D Debris",215]
[null,"Food",29]
[null,"Miscellaneous",0]
[null,"Tires",20]
[null,"Total",{"$f":"SUM(C70:C87)","v":10542}]
[]
[null,3,null,null,null,null,null,null,null,4]
[]
[null,"Calculating waste compositon percentage utalizing waste compsition study"]
[null,"FDEP Category","Landfilled tons\n(Plus combusor ash, minus C&D  disposed)","Collected C&D \n(disposal C&D LANDFILL + recycled)","Combusted\n(minus recycled metals, minus ash)","Recycled Materials\n(Minus recycled C&D)","Total Collected Tons",null,null,"FDEP Category","Percentage"]
[null,null,{"$f":"C9-C11","v":25596},{"$f":"C11+C14","v":808},{"$f":"C16-C15","v":0},{"$f":"C88","v":10542},null,null,null,"Newspaper",{"$f":"G95/$G$114","v":2.0949297723273932E-3}]
[null,"Newspaper",{"$f":"$C$94*D24","v":76.787999999999997},null,{"$f":"$E$94*D24","v":0},{"$f":"C70","v":0},{"$f":"SUM(C95:F95)","v":76.787999999999997},null,null,"Glass",2.0250987799164798E-2]
[null,"Glass",{"$f":"$C$94*SUM(D25:D27)","v":742.28399999999999},null,{"$f":"$E$94*SUM(D25:D27)","v":0},0,742.28399999999999,null,null,"Aluminum Cans",1.1151460574299074E-2]
[null,"Aluminum Cans",{"$f":"$C$94*D28","v":332.74799999999999},null,{"$f":"$E$94*D28","v":0},76,408.74799999999999,null,null,"Plastic Botles",3.432631425823586E-2]
[null,"Plastic Bottles",{"$f":"$C$94*SUM(D29:D32)","v":1254.204},null,{"$f":"$E$94*SUM(D29:D32)","v":0},4,1258.204,null,null,"Steel Cans",7.6814091652004412E-3]
[null,"Steel Cans",{"$f":"$C$94*D33","v":281.55599999999998},null,{"$f":"$E$94*D33","v":0},0,281.55599999999998,null,null,"Corrugated Paper",9.9031565594698917E-2]
[null,"Corrugated Paper",{"$f":"$C$94*D34","v":3045.924},null,{"$f":"$E$94*D34","v":0},584,3629.924,null,null,"Office Paper",1.8773067608164648E-2]
[null,"Office Paper",{"$f":"$C$94*D35","v":563.11199999999997},null,{"$f":"$E$94*D35","v":0},125,688.11199999999997,null,null,"Yard Trash",1.4664508406291753E-2]
[null,"Yard Trash",{"$f":"$C$94*D36","v":537.51600000000008},null,{"$f":"$E$94*D36","v":0},0,537.51600000000008,null,null,"Other Plastics",0.11009845198690944]
[null,"Other Plastics",{"$f":"$C$94*SUM(D37:D43)","v":4018.5720000000001},null,{"$f":"$E$94*SUM(D37:D43)","v":0},17,4035.5720000000001,null,null,"Ferrous Metals",0.2221661183167708]
[null,"Ferrous Metals",{"$f":"$C$94*D44","v":486.32400000000001},null,{"$f":"$E$94*D44","v":0},7657,8143.3239999999996,null,null,"White Goods",0]
[null,"White Goods",{"$f":"$C$94*D45","v":0},null,{"$f":"$E$94*D45","v":0},0,0,null,null,"NonFerous Metals",1.6979876691933796E-2]
[null,"NonFerous Metals",{"$f":"$C$94*D46","v":102.384},null,{"$f":"$E$94*D46","v":0},520,622.38400000000001,null,null,"Other Paper",0.14915470014742099]
[null,"Other Paper",{"$f":"$C$94*SUM(D47:D51)","v":4172.1480000000001},null,{"$f":"$E$94*SUM(D47:D51)","v":0},1295,5467.1480000000001,null,null,"Textiles",4.3993525218875257E-2]
[null,"Textiles",{"$f":"$C$94*D52","v":1612.548},null,{"$f":"$E$94*D52","v":0},0,1612.548,null,null,"C&D Debris",6.4640756702121979E-2]
[null,"C&D Debris",{"$f":"$C$94*SUM(D53:D56)","v":1561.356},{"$f":"C10","v":808},{"$f":"$E$94*SUM(D53:D56)","v":0},0,2369.3559999999998,null,null,"Food",6.5734000774590379E-2]
[null,"Food",{"$f":"$C$94*D57","v":2380.4279999999999},null,{"$f":"$E$94*D57","v":0},{"$f":"C85","v":29},2409.4279999999999,null,null,"Miscellaneous",0.11871268709855227]
[null,"Miscellaneous",{"$f":"$C$94*SUM(D58:D63)","v":4351.32},null,{"$f":"$E$94*SUM(D58:D63)","v":0},{"$f":"C86","v":0},4351.32,null,null,"Tires",5.4563988444220274E-4]
[null,"Tires",{"$f":"$C$94*D64","v":0},null,{"$f":"$E$94*D64","v":0},{"$f":"C87","v":20},20,null,null,null,"total"]
[null,null,"Total","Total","Total","Total","Total",null,null,null,{"$f":"SUM(K94:K111)","v":0.99999999999999989}]
[null,null,{"$f":"SUM(C95:C112)","v":25519.212},{"$f":"D109","v":808},{"$f":"SUM(E95:E112)","v":0},{"$f":"SUM(F95:F112)","v":10327},{"$f":"SUM(G95:G112)","v":36654.212}]
[]
[null,5]
[]
[null,"US EPA Data and Moisture Content"]
[null,"Category","Moisture Content  (MC) ","US EPA DATA (lbs-dry/person)","US EPA DATA             (lbs-WET/person)    [US EPA DATA/(1-MC)"]
[null,"Newspaper",0.27850000000000003,41.931464174454831,58.117067462861854]
[null,"Glass",3.2000000000000001E-2,56.822429906542055,58.700857341469067]
[null,"Aluminum Cans",0.129,8.4112149532710276,9.6569632069701807]
[null,"Plastic Bottles",4.8000000000000001E-2,23.302180685358255,24.477080551846907]
[null,"Steel Cans",5.8000000000000003E-2,10.841121495327103,11.508621544933231]
[null,"Corrugated Paper",0.24049999999999999,195.20249221183801,257.01447295831201]
[null,"Office Paper",0.13400000000000001,28.22429906542056,32.591569359608037]
[null,"Yard Waste",0.50600000000000001,216.3239875389408,437.90280878328099]
[null,"Other Plastics",0.11700000000000001,154.90485396035913,175.43018568557093]
[null,"Non-ferrous Metal",5.3999999999999999E-2,46.762277712979795,49.431583206109721]
[null,"White Goods","x",30.280373831775702,30.280373831775702]
[null,"Ferrous Metal",0.16900000000000001,12.133426323463874,14.600994372399368]
[null,"Other Paper",0.2545,158.56697819314641,212.69883057430772]
[null,"Textiles",0.17,76.349308411214949,91.987118567728857]
[null,"C&D Debris",8.8999999999999996E-2,"-","-"]
[null,"Food Waste",0.59750000000000003,247.53894080996884,615.00357965209651]
[null,"Miscellaneous",0.313,206.19904324930312,300.14416775735532]
[null,"Tires","x",36.386292834890966,36.386292834890966]
[]
[]
[null,6]
[]
[null,"Findig County Factor"]
[null,"Category","tons-DRY/county-us data ","tons-WET/county-us data ","County Factor","Category     "]
[null,"equation","US DATA * County Population/2000","tons-DRY/(1-MoistureContent)","ton-wet-composition/tons-wet-Usdata"]
[null,"Newspaper ",{"$f":"D120*$C$8/2000","v":1011.8691277258567},{"$f":"C145/(1-C120)","v":1402.4520134800509},{"$f":"G95/D145","v":5.4752675501144522E-2},"Newspaper "]
[null,"Glass ",1371.2104672897194,1416.5397389356606,0.5240121258848176,"Glass "]
[null,"Aluminum Cans ",202.9752336448598,233.03700762900093,1.7540046714414308,"Aluminum Cans "]
[null,"Plastic Bottles ",562.31657320872273,590.66866933689369,2.1301349899132216,"Plastic Bottles "]
[null,"Steel Cans ",261.61252336448598,277.72030081155629,1.0138113748877378,"Steel Cans "]
[null,"Corrugated Paper",4710.5289408099688,6202.1447541935067,0.58526915186003514,"Corrugated Paper"]
[null,"Office Paper ",681.09467289719623,786.48345600138134,0.87492240904656915,"Office Paper "]
[null,"Yard Waste ",5220.2223052959498,10567.251630153745,5.0866206163407091E-2,"Yard Waste "]
[null,"Other Plastics ",3738.0864833444061,4233.3935258713545,0.95327117012334994,"Other Plastics "]
[null,"Ferrous Metal ",{"$f":"D131*$C$8/2000","v":292.79777732466846},{"$f":"C154/(1-C131)","v":352.3438956975553},{"$f":"C104/D154","v":1.3802537973226319},"Ferrous Metal "]
[null,"White Goods ",{"$f":"D130*$C$8/2000","v":730.71084112149538},{"$f":"Table714192531374349172178184[[#This Row],[tons-DRY/county-us data ]]","v":730.71084112149538},{"$f":"G105/Table714192531374349172178184[[#This Row],[tons-WET/county-us data ]]","v":0},"White Goods "]
[null,"Non-ferrous Metal ",{"$f":"D129*$C$8/2000","v":1128.4439046307718},{"$f":"C156/(1-C129)","v":1192.8582501382366},{"$f":"C106/D156","v":8.5830818530311576E-2},"Non-ferrous Metal "]
[null,"Other Paper ",{"$f":"D132*$C$8/2000","v":3826.4590342679126},{"$f":"C157/(1-C132)","v":5132.7418300039062},{"$f":"G107/D157","v":1.0651515663697115},"Other Paper "]
[null,"Textiles ",1842.4233359252335,{"$f":"C158/(1-C133)","v":2219.7871517171488},{"$f":"G108/D158","v":0.72644262255171177},"Textiles "]
[null,"C&D Debris",{"$error":"#VALUE!"},{"$f":"C159/(1-C134)","v":{"$error":"#VALUE!"}},{"$f":"#REF!/D159","v":{"$error":"#REF!"}},"C&D Debris"]
[null,"Food Waste",5973.485950155763,{"$f":"C160/(1-C135)","v":14840.958882374567},{"$f":"G110/D160","v":0.16234988716675761},"Food Waste"]
[null,"Miscellaneous ",4975.8922121705582,{"$f":"C161/(1-C136)","v":7242.9289842366197},{"$f":"G111/D161","v":0.60076800552237009},"Miscellaneous "]
[null,"Tires ",878.05582554517139,{"$f":"Table714192531374349172178184[[#This Row],[tons-DRY/county-us data ]]","v":878.05582554517139},{"$f":"G112/Table714192531374349172178184[[#This Row],[tons-WET/county-us data ]]","v":2.2777595020888684E-2},"Tires "]
[]
[]
[]
[null,"Link to \"New WasteCalc County Factors\""]
[null,"Newspaper","Glass","Aluminum Cans","Plastic Bottles","Steel Cans","Corrugated Paper","Office Paper","Yard Waste","Other Plastics","Ferrous Metals","White Goods","Non-Ferrous Metal","Other Paper","Textiles","C&D Debris","Food Waste","Misc","Tires"]
[null,{"$f":"E145","v":5.4752675501144522E-2},{"$f":"E146","v":0.5240121258848176},{"$f":"E147","v":1.7540046714414308},{"$f":"E148","v":2.1301349899132216},{"$f":"E149","v":1.0138113748877378},{"$f":"E150","v":0.58526915186003514},{"$f":"E151","v":0.87492240904656915},{"$f":"E152","v":5.0866206163407091E-2},{"$f":"E153","v":0.95327117012334994},{"$f":"E154","v":1.3802537973226319},{"$f":"E155","v":0},{"$f":"E156","v":8.5830818530311576E-2},{"$f":"E157","v":1.0651515663697115},{"$f":"E158","v":0.72644262255171177},{"$error":"#REF!"},{"$f":"E160","v":0.16234988716675761},{"$f":"E161","v":0.60076800552237009},{"$f":"E162","v":2.2777595020888684E-2}]

{"sheet":"59 Columbia County Factor","index":58,"n_rows":168,"n_cols":19,"rows_kept":168,"cut":false,"hidden":true,"merged":[[2,1,2,2],[3,1,3,2],[19,1,19,2],[67,1,67,2],[89,1,89,2],[89,9,89,10],[115,1,115,2],[117,1,117,2],[139,1,139,2],[141,1,141,2]]}
[null,"Finding County Factors for Columbia"]
[null,"***USES AVERAGES FOR ALL COMBUSTED TONS"]
[null,1]
[null,"Information from annual solid waste report 2017"]
[null,"County","Columbia"]
[null,"Waste comp study","NONE"]
[null,"Year",2017]
[null,"Population",68943]
[null,"Landfilled tons ",63495]
[null,"C&D collected",15401]
[null,"C&D disposed",{"$f":"C10-C14","v":15385}]
[]
[null,"Recycled tons",25106]
[null,"Recycled C&D",16]
[null,"WTE Metals",0]
[null,"WTE input",424]
[null,"WTE Ash",0]
[null,"Total Tons MSW collected",{"$f":"C9+(C16-C15)+C13","v":89025}]
[]
[null,2]
[]
[null,"Aucilla Landifll Waste Composition Study Results"]
[null,"FDEP Category","Waste Comp Category","Percentage in waste stream"]
[null,"Newspapers","Newspaper",3.0000000000000001E-3]
[null,"Glass","Green",2E-3]
[null,null,"Clear ",0.02]
[null,null,"Brown",7.0000000000000001E-3]
[null,"Aluminum Cans","Aluminum cans and tin foil",1.2999999999999999E-2]
[null,"Plastic Bottles","#1 PET Bottles",3.7999999999999999E-2]
[null,null,"#2 HDPE Bottles- translucent ",5.0000000000000001E-3]
[null,null,"#2 HDPE Bottles- colored",4.0000000000000001E-3]
[null,null,"#3-7 (Other Plastic Bottles)",2E-3]
[null,"Steel Cans","Steel/Tin Cans",1.0999999999999999E-2]
[null,"Corrugated Boxes","Corrugated Cardboard (OCC)",0.11899999999999999]
[null,"Office Paper","High Grade Paper (Office Type)",2.1999999999999999E-2]
[null,"Yard Trash","Yard Trash",2.1000000000000001E-2]
[null,"Other Plastics","Expanded Polystyrene (Food Service)",4.0000000000000001E-3]
[null,null,"Expanded Polystyrene",1.7999999999999999E-2]
[null,null,"Rigid Plastic (Tubs, Cups, Lids)",8.9999999999999993E-3]
[null,null,"Rigid Plastic (Food Service)",6.0000000000000001E-3]
[null,null,"Grocery Bags",0.01]
[null,null,"Other Flexible Plastic",7.0999999999999994E-2]
[null,null,"Other Plastics",3.9E-2]
[null,"Ferrous Metals","Other Ferrous Metals+H44:L61",1.9E-2]
[null,"White Goods","White Goods",0]
[null,"Nonferrous Metals","Other Non-Ferrous Metals ",4.0000000000000001E-3]
[null,"Other Paper","Polycoated Aseptic Containers",0]
[null,null,"Food Service Container (Polycoated)",8.0000000000000002E-3]
[null,null,"Other Compsite (Metal Coated)",6.0000000000000001E-3]
[null,null,"Boxboards",2.8000000000000001E-2]
[null,null,"Other Paper",0.121]
[null,"Textiles","Clothing, Footwear, Other Textiles",6.3E-2]
[null,"C&D Debris","Wood",4.7E-2]
[null,null,"Asphalt Shingles",5.0000000000000001E-3]
[null,null,"Gypsum Drywall",6.0000000000000001E-3]
[null,null,"Concrete/Bricks/Ceramics",3.0000000000000001E-3]
[null,"Food Waste","Food Waste",9.2999999999999999E-2]
[null,"Miscellaneous","Animal- By-Product",3.0000000000000001E-3]
[null,null,"Other Organics",3.5999999999999997E-2]
[null,null,"Rubber and Leather",1.0999999999999999E-2]
[null,null,"Small Appliances/Electronics",1.4999999999999999E-2]
[null,null,"Hazardous Waste",0.01]
[null,null,"Residuals ",9.5000000000000001E-2]
[null,"Tires","Tires",0]
[null,null,null,"sum"]
[null,null,null,{"$f":"SUM(D24:D64)","v":0.99700000000000011}]
[]
[null,"Recycled tons from Columbia"]
[null,"Materials","Tons"]
[null,"Newspaper",16]
[null,"Glass",1]
[null,"Aluminum Cans",408]
[null,"Plastic Bottles",6]
[null,"Steel Cans",0]
[null,"Corrugated Paper",1333]
[null,"Office Paper",164]
[null,"Yard Trash",0]
[null,"Other Plastics",23]
[null,"Ferrous Metals",19875]
[null,"White Goods",0]
[null,"NonFerous Metals",2837]
[null,"Other Paper",131]
[null,"Textiles",4]
[null,"C&D Debris",16]
[null,"Food",15]
[null,"Miscellaneous",221]
[null,"Tires",56]
[null,"Total",{"$f":"SUM(C70:C87)","v":25106}]
[]
[null,3,null,null,null,null,null,null,null,4]
[]
[null,"Calculating waste compositon percentage utalizing waste compsition study"]
[null,"FDEP Category","Landfilled tons\n(Plus combusor ash, minus C&D  disposed)","Collected C&D \n(disposal C&D LANDFILL + recycled)","Combusted\n(minus recycled metals, minus ash)","Recycled Materials\n(Minus recycled C&D)","Total Collected Tons"]
[null,null,{"$f":"C9-C11+C17","v":48110},{"$f":"C11+C14","v":15401},{"$f":"C16-C15-C17","v":424},{"$f":"C88","v":25106},null,null,null,"FDEP Category","Percentage"]
[null,"Newspaper",{"$f":"$C$94*D24","v":144.33000000000001},null,{"$f":"$E$94*D24","v":1.272},{"$f":"C70","v":16},{"$f":"SUM(C95:F95)","v":161.602},null,null,"Newspaper",{"$f":"G95/$G$114","v":1.8183120525570294E-3}]
[null,"Glass",{"$f":"$C$94*SUM(D25:D27)","v":1395.1899999999998},null,{"$f":"$E$94*SUM(D25:D27)","v":12.295999999999999},1,1408.4859999999999,null,null,"Glass",1.5847991173734484E-2]
[null,"Aluminum Cans",{"$f":"$C$94*D28","v":625.42999999999995},null,{"$f":"$E$94*D28","v":5.5119999999999996},408,1038.942,null,null,"Aluminum Cans",1.1689959038302158E-2]
[null,"Plastic Bottles",{"$f":"$C$94*SUM(D29:D32)","v":2357.39},null,{"$f":"$E$94*SUM(D29:D32)","v":20.776},6,2384.1659999999997,null,null,"Plastic Botles",2.6826139361497272E-2]
[null,"Steel Cans",{"$f":"$C$94*D33","v":529.20999999999992},null,{"$f":"$E$94*I28","v":0},0,529.20999999999992,null,null,"Steel Cans",5.9545607191353166E-3]
[null,"Corrugated Paper",{"$f":"$C$94*D34","v":5725.09},null,{"$f":"$E$94*D34","v":50.455999999999996},1333,7108.5460000000003,null,null,"Corrugated Paper",7.998387933290467E-2]
[null,"Office Paper",{"$f":"$C$94*D35","v":1058.4199999999998},null,{"$f":"$E$94*D35","v":9.3279999999999994},164,1231.7479999999998,null,null,"Office Paper",1.3859372001045875E-2]
[null,"Yard Trash",{"$f":"$C$94*D36","v":1010.3100000000001},null,{"$f":"$E$94*D36","v":8.9039999999999999},0,1019.2140000000001,null,null,"Yard Trash",1.1467983690392819E-2]
[null,"Other Plastics",{"$f":"$C$94*SUM(D37:D43)","v":7553.27},null,{"$f":"$E$94*SUM(D37:D43)","v":66.567999999999998},23,7642.8380000000006,null,null,"Other Plastics",8.5995621657781851E-2]
[null,"Ferrous Metals",{"$f":"$C$94*D44","v":914.09},null,{"$f":"$E$94*D44","v":8.0559999999999992},19875,20797.146000000001,null,null,"Ferrous Metals",0.23400515606606487]
[null,"White Goods",{"$f":"$C$94*D45","v":0},null,{"$f":"$E$94*D45","v":0},0,0,null,null,"White Goods",0]
[null,"NonFerous Metals",{"$f":"$C$94*D46","v":192.44},null,{"$f":"$E$94*D46","v":1.696},2837,3031.136,null,null,"NonFerous Metals",3.4105711078696449E-2]
[null,"Other Paper",{"$f":"$C$94*SUM(D47:D51)","v":7841.93},null,{"$f":"$E$94*SUM(D47:D51)","v":69.112000000000009},131,8042.0420000000004,null,null,"Other Paper",9.048738193691809E-2]
[null,"Textiles",{"$f":"$C$94*D52","v":3030.93},null,{"$f":"$E$94*D52","v":26.712},4,3061.6419999999998,null,null,"Textiles",3.4448958238232248E-2]
[null,"C&D Debris",{"$f":"$C$94*SUM(D53:D56)","v":2934.71},{"$f":"C10","v":15401},{"$f":"$E$94*SUM(D53:D56)","v":25.864000000000001},0,18361.574000000001,null,null,"C&D Debris",0.20660060709717568]
[null,"Food",{"$f":"$C$94*D57","v":4474.2299999999996},null,{"$f":"$E$94*D57","v":39.432000000000002},{"$f":"C85","v":15},4528.6619999999994,null,null,"Food",5.0955561791048508E-2]
[null,"Miscellaneous",{"$f":"$C$94*SUM(D58:D63)","v":8178.6999999999989},null,{"$f":"$E$94*SUM(D58:D63)","v":72.08},{"$f":"C86","v":221},8471.7799999999988,null,null,"Miscellaneous",9.5322704425759505E-2]
[null,"Tires",{"$f":"$C$94*D64","v":0},null,{"$f":"$E$94*D64","v":0},{"$f":"C87","v":56},56,null,null,"Tires",6.3010033875319398E-4]
[null,null,"Total","Total","Total","Total","Total",null,null,null,"total"]
[null,null,{"$f":"SUM(C95:C112)","v":47965.67},{"$f":"D109","v":15401},{"$f":"SUM(E95:E112)","v":418.06399999999996},{"$f":"SUM(F95:F112)","v":25090},{"$f":"SUM(C114:F114)","v":88874.733999999997},null,null,null,{"$f":"SUM(K95:K112)","v":1}]
[]
[null,5]
[]
[null,"US EPA Data and Moisture Content"]
[null,"Category","Moisture Content  (MC) ","US EPA DATA (lbs-dry/person)","US EPA DATA             (lbs-WET/person)    [US EPA DATA/(1-MC)"]
[null,"Newspaper",0.27850000000000003,41.931464174454831,58.117067462861854]
[null,"Glass",3.2000000000000001E-2,56.822429906542055,58.700857341469067]
[null,"Aluminum Cans",0.129,8.4112149532710276,9.6569632069701807]
[null,"Plastic Bottles",4.8000000000000001E-2,23.302180685358255,24.477080551846907]
[null,"Steel Cans",5.8000000000000003E-2,10.841121495327103,11.508621544933231]
[null,"Corrugated Paper",0.24049999999999999,195.20249221183801,257.01447295831201]
[null,"Office Paper",0.13400000000000001,28.22429906542056,32.591569359608037]
[null,"Yard Waste",0.50600000000000001,216.3239875389408,437.90280878328099]
[null,"Other Plastics",0.11700000000000001,154.90485396035913,175.43018568557093]
[null,"Non-ferrous Metal",5.3999999999999999E-2,46.762277712979795,49.431583206109721]
[null,"White Goods","x",30.280373831775702,30.280373831775702]
[null,"Ferrous Metal",0.16900000000000001,12.133426323463874,14.600994372399368]
[null,"Other Paper",0.2545,158.56697819314641,212.69883057430772]
[null,"Textiles",0.17,76.349308411214949,91.987118567728857]
[null,"C&D Debris",8.8999999999999996E-2,"-","-"]
[null,"Food Waste",0.59750000000000003,247.53894080996884,615.00357965209651]
[null,"Miscellaneous",0.313,206.19904324930312,300.14416775735532]
[null,"Tires","x",36.386292834890966,36.386292834890966]
[]
[]
[null,6]
[]
[null,"Finding County Factor"]
[null,"Category ","tons-DRY/county-us data ","tons-WET/county-us data ","County Factor","Column1"]
[null,"equation","US DATA * County Population/2000","tons-DRY/(1-MoistureContent)","ton-wet-composition/tons-wet-Usdata"]
[null,"Newspaper ",{"$f":"D120*$C$8/2000","v":1445.4404672897197},{"$f":"C145/(1-C120)","v":2003.3824910460423},{"$f":"G95/D145","v":8.0664576396303353E-2},"Newspaper "]
[null,"Glass ",1958.7543925233645,2023.5066038464508,0.69606197346854792,"Glass "]
[null,"Aluminum Cans ",289.94719626168228,332.89000718907266,3.1209768318756068,"Aluminum Cans "]
[null,"Plastic Bottles ",803.26112149532707,843.76168224299067,2.825639099493257,"Plastic Bottles "]
[null,"Steel Cans ",373.70971962616824,396.71944758616587,1.3339653581894486,"Steel Cans "]
[null,"Corrugated Paper",6728.9227102803734,8859.6744045824526,0.80234844706293906,"Corrugated Paper"]
[null,"Office Paper ",972.9339252336448,1123.4802831797283,1.0963681503282345,"Office Paper "]
[null,"Yard Waste ",7457.012336448598,15095.166672972871,6.7519227980758295E-2,"Yard Waste "]
[null,"Other Plastics ",5339.80267329452,6047.3416458601587,1.2638343337575568,"Other Plastics "]
[null,"Ferrous Metal ",{"$f":"D131*$C$8/2000","v":418.25740550928492},{"$f":"C154/(1-C131)","v":503.31817750816481},{"$f":"C104/D154","v":1.8161275329365025},"Ferrous Metal "]
[null,"White Goods ",{"$f":"D130*$C$8/2000","v":1043.8099065420561},{"$f":"Table7141925313743121127190[[#This Row],[tons-DRY/county-us data ]]","v":1043.8099065420561},{"$f":"G105/Table7141925313743121127190[[#This Row],[tons-WET/county-us data ]]","v":0},"White Goods "]
[null,"Non-ferrous Metal ",{"$f":"D129*$C$8/2000","v":1611.9658561829829},{"$f":"C156/(1-C129)","v":1703.9808204894111},{"$f":"C106/D156","v":0.11293554345566406},"Non-ferrous Metal "]
[null,"Other Paper ",{"$f":"D132*$C$8/2000","v":5466.0415887850468},{"$f":"C157/(1-C132)","v":7332.0477381422488},{"$f":"G107/D157","v":1.0968343752270284},"Other Paper "]
[null,"Textiles ",2631.875184897196,{"$f":"C158/(1-C133)","v":3170.9339577074652},{"$f":"G108/D158","v":0.96553319647613167},"Textiles "]
[null,"C&D Debris",{"$error":"#VALUE!"},{"$f":"C159/(1-C134)","v":{"$error":"#VALUE!"}},{"$f":"#REF!/D159","v":{"$error":"#REF!"}},"C&D Debris"]
[null,"Food Waste",8533.0385981308409,{"$f":"C160/(1-C135)","v":21200.095895977247},{"$f":"G110/D160","v":0.213615165809666},"Food Waste"]
[null,"Miscellaneous ",7107.9903193683522,{"$f":"C161/(1-C136)","v":10346.419678847673},{"$f":"G111/D161","v":0.81881271618237106},"Miscellaneous "]
[null,"Tires ",1254.2900934579441,{"$f":"Table7141925313743121127190[[#This Row],[tons-DRY/county-us data ]]","v":1254.2900934579441},{"$f":"G112/Table7141925313743121127190[[#This Row],[tons-WET/county-us data ]]","v":4.4646768950884375E-2},"Tires "]
[]
[]
[]
[null,"Link to \"New WasteCalc County Factors\""]
[null,"Newspaper","Glass","Aluminum Cans","Plastic Bottles","Steel Cans","Corrugated Paper","Office Paper","Yard Waste","Other Plastics","Ferrous Metals","White Goods","Non-Ferrous Metal","Other Paper","Textiles","C&D Debris","Food Waste","Misc","Tires"]
[null,{"$f":"E145","v":8.0664576396303353E-2},{"$f":"E146","v":0.69606197346854792},{"$f":"E147","v":3.1209768318756068},{"$f":"E148","v":2.825639099493257},{"$f":"E149","v":1.3339653581894486},{"$f":"E150","v":0.80234844706293906},{"$f":"E151","v":1.0963681503282345},{"$f":"E152","v":6.7519227980758295E-2},{"$f":"E153","v":1.2638343337575568},{"$f":"E154","v":1.8161275329365025},{"$f":"E155","v":0},{"$f":"E156","v":0.11293554345566406},{"$f":"E157","v":1.0968343752270284},{"$f":"E158","v":0.96553319647613167},{"$error":"#REF!"},{"$f":"E160","v":0.213615165809666},{"$f":"E161","v":0.81881271618237106},{"$f":"E162","v":4.4646768950884375E-2}]

{"sheet":"60 Monroe County Factor","index":59,"n_rows":168,"n_cols":19,"rows_kept":168,"cut":false,"hidden":true,"merged":[[2,1,2,2],[3,1,3,2],[19,1,19,2],[67,1,67,2],[89,9,89,10],[115,1,115,2],[117,1,117,2],[139,1,139,2],[141,1,141,2],[89,1,89,2]]}
[null,"Finding County Factors for Monroe"]
[null,"***USES AVERAGES FOR ALL COMBUSTED TONS"]
[null,1]
[null,"Information from annual solid waste report 2017"]
[null,"County","Monroe"]
[null,"Waste comp study","NONE"]
[null,"Year",2017]
[null,"Population",76889]
[null,"Landfilled tons ",251462]
[null,"C&D collected",266967]
[null,"C&D disposed",{"$f":"C10-C14","v":50000}]
[]
[null,"Recycled tons",352165]
[null,"Recycled C&D",216967]
[null,"WTE metals",331]
[null,"WTE input",68437]
[null,"WTE ash",14950]
[null,"Total Tons MSW collected",{"$f":"C9+(C16-C15)+C13","v":671733}]
[]
[null,2]
[]
[null,"Aucilla Landifll Waste Composition Study Results"]
[null,"FDEP Category","Waste Comp Category","Percentage in waste stream"]
[null,"Newspapers","Newspaper",3.0000000000000001E-3]
[null,"Glass","Green",2E-3]
[null,null,"Clear ",0.02]
[null,null,"Brown",7.0000000000000001E-3]
[null,"Aluminum Cans","Aluminum cans and tin foil",1.2999999999999999E-2]
[null,"Plastic Bottles","#1 PET Bottles",3.7999999999999999E-2]
[null,null,"#2 HDPE Bottles- translucent ",5.0000000000000001E-3]
[null,null,"#2 HDPE Bottles- colored",4.0000000000000001E-3]
[null,null,"#3-7 (Other Plastic Bottles)",2E-3]
[null,"Steel Cans","Steel/Tin Cans",1.0999999999999999E-2]
[null,"Corrugated Boxes","Corrugated Cardboard (OCC)",0.11899999999999999]
[null,"Office Paper","High Grade Paper (Office Type)",2.1999999999999999E-2]
[null,"Yard Trash","Yard Trash",2.1000000000000001E-2]
[null,"Other Plastics","Expanded Polystyrene (Food Service)",4.0000000000000001E-3]
[null,null,"Expanded Polystyrene",1.7999999999999999E-2]
[null,null,"Rigid Plastic (Tubs, Cups, Lids)",8.9999999999999993E-3]
[null,null,"Rigid Plastic (Food Service)",6.0000000000000001E-3]
[null,null,"Grocery Bags",0.01]
[null,null,"Other Flexible Plastic",7.0999999999999994E-2]
[null,null,"Other Plastics",3.9E-2]
[null,"Ferrous Metals","Other Ferrous Metals",1.9E-2]
[null,"White Goods","White Goods",0]
[null,"Nonferrous Metals","Other Non-Ferrous Metals ",4.0000000000000001E-3]
[null,"Other Paper","Polycoated Aseptic Containers",0]
[null,null,"Food Service Container (Polycoated)",8.0000000000000002E-3]
[null,null,"Other Compsite (Metal Coated)",6.0000000000000001E-3]
[null,null,"Boxboards",2.8000000000000001E-2]
[null,null,"Other Paper",0.121]
[null,"Textiles","Clothing, Footwear, Other Textiles",6.3E-2]
[null,"C&D Debris","Wood",4.7E-2]
[null,null,"Asphalt Shingles",5.0000000000000001E-3]
[null,null,"Gypsum Drywall",6.0000000000000001E-3]
[null,null,"Concrete/Bricks/Ceramics",3.0000000000000001E-3]
[null,"Food Waste","Food Waste",9.2999999999999999E-2]
[null,"Miscellaneous","Animal- By-Product",3.0000000000000001E-3]
[null,null,"Other Organics",3.5999999999999997E-2]
[null,null,"Rubber and Leather",1.0999999999999999E-2]
[null,null,"Small Appliances/Electronics",1.4999999999999999E-2]
[null,null,"Hazardous Waste",0.01]
[null,null,"Residuals ",9.5000000000000001E-2]
[null,"Tires","Tires",0]
[null,null,null,"sum"]
[null,null,null,{"$f":"SUM(D24:D64)","v":0.99700000000000011}]
[]
[null,"Recycled tons from Monroe"]
[null,"Materials","Tons"]
[null,"Newspaper",3750]
[null,"Glass",1504]
[null,"Aluminum Cans",153]
[null,"Plastic Bottles",219]
[null,"Steel Cans",240]
[null,"Corrugated Paper",7193]
[null,"Office Paper",239]
[null,"Yard Trash",96606]
[null,"Other Plastics",738]
[null,"Ferrous Metals",631]
[null,"White Goods",1093]
[null,"NonFerous Metals",268]
[null,"Other Paper",643]
[null,"Textiles",13]
[null,"C&D Debris",216967]
[null,"Food",841]
[null,"Miscellaneous",20853]
[null,"Tires",214]
[null,"Total",{"$f":"SUM(C70:C87)","v":352165}]
[]
[null,3,null,null,null,null,null,null,null,4]
[]
[null,"Calculating waste compositon percentage utalizing waste compsition study"]
[null,"FDEP Category","Landfilled tons\n(Plus combusor ash, minus C&D  disposed)","Collected C&D \n(disposal C&D LANDFILL + recycled)","Combusted\n(minus recycled metals, minus ash)","Recycled Materials\n(Minus recycled C&D)","Total Collected Tons"]
[null,null,{"$f":"C9-C11+C17","v":216412},{"$f":"C11+C14","v":266967},{"$f":"C16-C15-C17","v":53156},{"$f":"C88","v":352165},null,null,null,"FDEP Category","Percentage"]
[null,"Newspaper",{"$f":"$C$94*D24","v":649.23599999999999},null,{"$f":"$E$94*D24","v":159.46799999999999},{"$f":"C70","v":3750},{"$f":"SUM(C95:F95)","v":4558.7039999999997},null,null,"Newspaper",{"$f":"G95/$G$114","v":6.7946622699142792E-3}]
[null,"Glass",{"$f":"$C$94*SUM(D25:D27)","v":6275.9479999999994},null,{"$f":"$E$94*SUM(D25:D27)","v":1541.5239999999999},1504,9321.4719999999998,null,null,"Glass",1.3893478080275096E-2]
[null,"Aluminum Cans",{"$f":"$C$94*D28","v":2813.3559999999998},null,{"$f":"$E$94*D28","v":691.02800000000002},153,3657.384,null,null,"Aluminum Cans",5.4512618216467157E-3]
[null,"Plastic Bottles",{"$f":"$C$94*SUM(D29:D32)","v":10604.188},null,{"$f":"$E$94*SUM(D29:D32)","v":2604.6440000000002},219,13427.832,null,null,"Plastic Botles",2.0013930155839819E-2]
[null,"Steel Cans",{"$f":"$C$94*D33","v":2380.5319999999997},null,{"$f":"$E$94*D33","v":584.71600000000001},240,3205.2479999999996,null,null,"Steel Cans",4.7773616473713153E-3]
[null,"Corrugated Paper",{"$f":"$C$94*D34","v":25753.027999999998},null,{"$f":"$E$94*D34","v":6325.5639999999994},7193,39271.591999999997,null,null,"Corrugated Paper",5.8533566654441142E-2]
[null,"Office Paper",{"$f":"$C$94*D35","v":4761.0639999999994},null,{"$f":"$E$94*D35","v":1169.432},239,6169.4959999999992,null,null,"Office Paper",9.1955173434351226E-3]
[null,"Yard Trash",{"$f":"$C$94*D36","v":4544.652},null,{"$f":"$E$94*D36","v":1116.2760000000001},96606,102266.928,null,null,"Yard Trash",0.15242692597318014]
[null,"Other Plastics",{"$f":"$C$94*SUM(D37:D43)","v":33976.684000000001},null,{"$f":"$E$94*SUM(D37:D43)","v":8345.4920000000002},738,43060.175999999999,null,null,"Other Plastics",6.4180379599787216E-2]
[null,"Ferrous Metals",{"$f":"$C$94*D44","v":4111.8279999999995},null,{"$f":"$E$94*D44","v":1009.9639999999999},631,5752.7919999999995,null,null,"Ferrous Metals",8.5744278964075549E-3]
[null,"White Goods",{"$f":"$C$94*D45","v":0},null,{"$f":"$E$94*D45","v":0},1093,1093,null,null,"White Goods",1.6290958704527226E-3]
[null,"NonFerous Metals",{"$f":"$C$94*D46","v":865.64800000000002},null,{"$f":"$E$94*D46","v":212.624},268,1346.2719999999999,null,null,"NonFerous Metals",2.0065930061355236E-3]
[null,"Other Paper",{"$f":"$C$94*SUM(D47:D51)","v":35275.156000000003},null,{"$f":"$E$94*SUM(D47:D51)","v":8664.4279999999999},643,44582.584000000003,null,null,"Other Paper",6.6449499989489139E-2]
[null,"Textiles",{"$f":"$C$94*D52","v":13633.956},null,{"$f":"$E$94*D52","v":3348.828},13,16995.784,null,null,"Textiles",2.5331895269447808E-2]
[null,"C&D Debris",{"$f":"$C$94*SUM(D53:D56)","v":13201.132},{"$f":"C10","v":266967},{"$f":"$E$94*SUM(D53:D56)","v":3242.5160000000001},0,283410.64799999999,null,null,"C&D Debris",0.4224182216826442]
[null,"Food",{"$f":"$C$94*D57","v":20126.315999999999},null,{"$f":"$E$94*D57","v":4943.5079999999998},{"$f":"C85","v":841},25910.824000000001,null,null,"Food",3.8619594124819114E-2]
[null,"Miscellaneous",{"$f":"$C$94*SUM(D58:D63)","v":36790.039999999994},null,{"$f":"$E$94*SUM(D58:D63)","v":9036.5199999999986},{"$f":"C86","v":20853},66679.56,null,null,"Miscellaneous",9.9384625653801031E-2]
[null,"Tires",{"$f":"$C$94*D64","v":0},null,{"$f":"$E$94*D64","v":0},{"$f":"C87","v":214},214,null,null,"Tires",3.1896296091206097E-4]
[null,null,"Total","Total","Total","Total","Total",null,null,null,"total"]
[null,null,{"$f":"SUM(C95:C112)","v":215762.76400000002},{"$f":"D109","v":266967},{"$f":"SUM(E95:E112)","v":52996.531999999999},{"$f":"SUM(F95:F112)","v":135198},{"$f":"SUM(C114:F114)","v":670924.29599999997},null,null,null,{"$f":"SUM(K95:K112)","v":1}]
[]
[null,5]
[]
[null,"US EPA Data and Moisture Content"]
[null,"Category","Moisture Content  (MC) ","US EPA DATA (lbs-dry/person)","US EPA DATA             (lbs-WET/person)    [US EPA DATA/(1-MC)"]
[null,"Newspaper",0.27850000000000003,41.931464174454831,58.117067462861854]
[null,"Glass",3.2000000000000001E-2,56.822429906542055,58.700857341469067]
[null,"Aluminum Cans",0.129,8.4112149532710276,9.6569632069701807]
[null,"Plastic Bottles",4.8000000000000001E-2,23.302180685358255,24.477080551846907]
[null,"Steel Cans",5.8000000000000003E-2,10.841121495327103,11.508621544933231]
[null,"Corrugated Paper",0.24049999999999999,195.20249221183801,257.01447295831201]
[null,"Office Paper",0.13400000000000001,28.22429906542056,32.591569359608037]
[null,"Yard Waste",0.50600000000000001,216.3239875389408,437.90280878328099]
[null,"Other Plastics",0.11700000000000001,154.90485396035913,175.43018568557093]
[null,"Non-ferrous Metal",5.3999999999999999E-2,46.762277712979795,49.431583206109721]
[null,"White Goods","x",30.280373831775702,30.280373831775702]
[null,"Ferrous Metal",0.16900000000000001,12.133426323463874,14.600994372399368]
[null,"Other Paper",0.2545,158.56697819314641,212.69883057430772]
[null,"Textiles",0.17,76.349308411214949,91.987118567728857]
[null,"C&D Debris",8.8999999999999996E-2,"-","-"]
[null,"Food Waste",0.59750000000000003,247.53894080996884,615.00357965209651]
[null,"Miscellaneous",0.313,206.19904324930312,300.14416775735532]
[null,"Tires","x",36.386292834890966,36.386292834890966]
[]
[]
[null,6]
[]
[null,"Finding County Factor"]
[null,"Category ","tons-DRY/county-us data ","tons-WET/county-us data ","County Factor","Column1"]
[null,"equation","US DATA * County Population/2000","tons-DRY/(1-MoistureContent)","ton-wet-composition/tons-wet-Usdata"]
[null,"Newspaper ",{"$f":"D120*$C$8/2000","v":1612.0341744548286},{"$f":"C145/(1-C120)","v":2234.2816000759926},{"$f":"G95/D145","v":2.0403444220482094},"Newspaper "]
[null,"Glass ",2184.5099065420563,2256.7251100641079,4.130530545536935,"Glass "]
[null,"Aluminum Cans ",323.36495327102801,371.25712201036509,9.8513504069502797,"Aluminum Cans "]
[null,"Plastic Bottles ",895.84068535825543,941.00912327547849,14.269608729467153,"Plastic Bottles "]
[null,"Steel Cans ",416.78149532710285,442.44320098418564,7.2444281952353151,"Steel Cans "]
[null,"Corrugated Paper",7504.4622118380057,9880.792905645827,3.9745385188227598,"Corrugated Paper"]
[null,"Office Paper ",1085.0690654205607,1252.9665882454512,4.9239110267411368,"Office Paper "]
[null,"Yard Waste ",8316.4675389408094,16834.954532268846,6.074678004266489,"Yard Waste "]
[null,"Other Plastics ",5955.2396580790264,6744.325773588931,6.3846524390363077,"Other Plastics "]
[null,"Ferrous Metal ",{"$f":"D131*$C$8/2000","v":466.46350829240691},{"$f":"C154/(1-C131)","v":561.32792814970753},{"$f":"C104/D154","v":7.3251797991839185},"Ferrous Metal "]
[null,"White Goods ",{"$f":"D130*$C$8/2000","v":1164.1138317757009},{"$f":"Table7141925313743121127190196[[#This Row],[tons-DRY/county-us data ]]","v":1164.1138317757009},{"$f":"G105/Table7141925313743121127190196[[#This Row],[tons-WET/county-us data ]]","v":0.93891161685861413},"White Goods "]
[null,"Non-ferrous Metal ",{"$f":"D129*$C$8/2000","v":1797.7523855366519},{"$f":"C156/(1-C129)","v":1900.3725005672854},{"$f":"C106/D156","v":0.45551490549436652},"Non-ferrous Metal "]
[null,"Other Paper ",{"$f":"D132*$C$8/2000","v":6096.0281931464169},{"$f":"C157/(1-C132)","v":8177.1001920139724},{"$f":"G107/D157","v":5.4521264205055031},"Other Paper "]
[null,"Textiles ",{"$f":"D133*$C$8/2000","v":2935.2109872149531},{"$f":"C158/(1-C133)","v":3536.3987797770519},{"$f":"G108/D158","v":4.8059579980602409},"Textiles "]
[null,"C&D Debris",{"$f":"D134*$C$8/2000","v":{"$error":"#VALUE!"}},{"$f":"C159/(1-C134)","v":{"$error":"#VALUE!"}},{"$f":"#REF!/D159","v":{"$error":"#REF!"}},"C&D Debris"]
[null,"Food Waste",{"$f":"D135*$C$8/2000","v":9516.5108099688478},{"$f":"C160/(1-C135)","v":23643.505117935027},{"$f":"G110/D160","v":1.0958960556294624},"Food Waste"]
[null,"Miscellaneous ",{"$f":"D136*$C$8/2000","v":7927.2191181978342},{"$f":"C161/(1-C136)","v":11538.892457347647},{"$f":"G111/D161","v":5.7786793876859734},"Miscellaneous "]
[null,"Tires ",{"$f":"D137*$C$8/2000","v":1398.8528348909658},{"$f":"Table7141925313743121127190196[[#This Row],[tons-DRY/county-us data ]]","v":1398.8528348909658},{"$f":"G112/Table7141925313743121127190196[[#This Row],[tons-WET/county-us data ]]","v":0.15298249727368948},"Tires "]
[]
[]
[]
[null,"Link to \"New WasteCalc County Factors\""]
[null,"Newspaper","Glass","Aluminum Cans","Plastic Bottles","Steel Cans","Corrugated Paper","Office Paper","Yard Waste","Other Plastics","Ferrous Metals","White Goods","Non-Ferrous Metal","Other Paper","Textiles","C&D Debris","Food Waste","Misc","Tires"]
[null,{"$f":"E145","v":2.0403444220482094},{"$f":"E146","v":4.130530545536935},{"$f":"E147","v":9.8513504069502797},{"$f":"E148","v":14.269608729467153},{"$f":"E149","v":7.2444281952353151},{"$f":"E150","v":3.9745385188227598},{"$f":"E151","v":4.9239110267411368},{"$f":"E152","v":6.074678004266489},{"$f":"E153","v":6.3846524390363077},{"$f":"E154","v":7.3251797991839185},{"$f":"E155","v":0.93891161685861413},{"$f":"E156","v":0.45551490549436652},{"$f":"E157","v":5.4521264205055031},{"$f":"E158","v":4.8059579980602409},{"$error":"#REF!"},{"$f":"E160","v":1.0958960556294624},{"$f":"E161","v":5.7786793876859734},{"$f":"E162","v":0.15298249727368948}]

{"sheet":"61 Walton County Factor","index":60,"n_rows":168,"n_cols":19,"rows_kept":168,"cut":false,"hidden":true,"merged":[[2,1,2,2],[3,1,3,2],[19,1,19,2],[67,1,67,2],[89,1,89,2],[89,9,89,10],[115,1,115,2],[117,1,117,2],[139,1,139,2],[141,1,141,2]]}
[null,"Finding County Factors forWalton"]
[]
[null,1]
[null,"Information from annual solid waste report 2017"]
[null,"County","Walton"]
[null,"Waste comp study","NONE"]
[null,"Year",2017]
[null,"Population",65301]
[null,"Landfilled tons ",166449]
[null,"C&D collected",32037]
[null,"C&D disposed",{"$f":"C10-C14","v":32037}]
[]
[null,"Recycled tons",12529]
[null,"Recycled C&D",0]
[null,"combustor recy metals",0]
[null,"Combustor input",0]
[null,"Process Fuel",0]
[null,"Total Tons MSW collected",{"$f":"C9+(C16-C15-C17)+C13","v":178978}]
[]
[null,2]
[]
[null,"Aucilla Landifll Waste Composition Study Results"]
[null,"FDEP Category","Waste Comp Category","Percentage in waste stream"]
[null,"Newspapers","Newspaper",3.0000000000000001E-3]
[null,"Glass","Green",2E-3]
[null,null,"Clear ",0.02]
[null,null,"Brown",7.0000000000000001E-3]
[null,"Aluminum Cans","Aluminum cans and tin foil",1.2999999999999999E-2]
[null,"Plastic Bottles","#1 PET Bottles",3.7999999999999999E-2]
[null,null,"#2 HDPE Bottles- translucent ",5.0000000000000001E-3]
[null,null,"#2 HDPE Bottles- colored",4.0000000000000001E-3]
[null,null,"#3-7 (Other Plastic Bottles)",2E-3]
[null,"Steel Cans","Steel/Tin Cans",1.0999999999999999E-2]
[null,"Corrugated Boxes","Corrugated Cardboard (OCC)",0.11899999999999999]
[null,"Office Paper","High Grade Paper (Office Type)",2.1999999999999999E-2]
[null,"Yard Trash","Yard Trash",2.1000000000000001E-2]
[null,"Other Plastics","Expanded Polystyrene (Food Service)",4.0000000000000001E-3]
[null,null,"Expanded Polystyrene",1.7999999999999999E-2]
[null,null,"Rigid Plastic (Tubs, Cups, Lids)",8.9999999999999993E-3]
[null,null,"Rigid Plastic (Food Service)",6.0000000000000001E-3]
[null,null,"Grocery Bags",0.01]
[null,null,"Other Flexible Plastic",7.0999999999999994E-2]
[null,null,"Other Plastics",3.9E-2]
[null,"Ferrous Metals","Other Ferrous Metals",1.9E-2]
[null,"White Goods","White Goods",0]
[null,"Nonferrous Metals","Other Non-Ferrous Metals ",4.0000000000000001E-3]
[null,"Other Paper","Polycoated Aseptic Containers",0]
[null,null,"Food Service Container (Polycoated)",8.0000000000000002E-3]
[null,null,"Other Compsite (Metal Coated)",6.0000000000000001E-3]
[null,null,"Boxboards",2.8000000000000001E-2]
[null,null,"Other Paper",0.121]
[null,"Textiles","Clothing, Footwear, Other Textiles",6.3E-2]
[null,"C&D Debris","Wood",4.7E-2]
[null,null,"Asphalt Shingles",5.0000000000000001E-3]
[null,null,"Gypsum Drywall",6.0000000000000001E-3]
[null,null,"Concrete/Bricks/Ceramics",3.0000000000000001E-3]
[null,"Food Waste","Food Waste",9.2999999999999999E-2]
[null,"Miscellaneous","Animal- By-Product",3.0000000000000001E-3]
[null,null,"Other Organics",3.5999999999999997E-2]
[null,null,"Rubber and Leather",1.0999999999999999E-2]
[null,null,"Small Appliances/Electronics",1.4999999999999999E-2]
[null,null,"Hazardous Waste",0.01]
[null,null,"Residuals ",9.5000000000000001E-2]
[null,"Tires","Tires",0]
[null,null,null,"sum"]
[null,null,null,{"$f":"SUM(D24:D64)","v":0.99700000000000011}]
[]
[null,"Recycled tons from Walton"]
[null,"Materials","Tons"]
[null,"Newspaper",0]
[null,"Glass",0]
[null,"Aluminum Cans",32]
[null,"Plastic Bottles",0]
[null,"Steel Cans",0]
[null,"Corrugated Paper",1767]
[null,"Office Paper",17]
[null,"Yard Trash",6000]
[null,"Other Plastics",78]
[null,"Ferrous Metals",3752]
[null,"White Goods",0]
[null,"NonFerous Metals",538]
[null,"Other Paper",20]
[null,"Textiles",4]
[null,"C&D Debris",0]
[null,"Food",124]
[null,"Miscellaneous",143]
[null,"Tires",54]
[null,"Total",{"$f":"SUM(C70:C87)","v":12529}]
[]
[null,3,null,null,null,null,null,null,null,4]
[]
[null,"Calculating waste compositon percentage utalizing waste compsition study"]
[null,"FDEP Category","Landfilled tons\n(Plus combusor ash, minus C&D  disposed)","Collected C&D \n(disposal C&D LANDFILL + recycled)","Combusted\n(minus recycled metals, minus ash)","Recycled Materials\n(Minus recycled C&D)","Total Collected Tons"]
[null,null,{"$f":"C9-C11","v":134412},{"$f":"C11+C14","v":32037},{"$f":"C16-C15","v":0},{"$f":"C88","v":12529},null,null,null,"FDEP Category","Percentage"]
[null,"Newspaper",{"$f":"$C$94*D24","v":403.23599999999999},null,{"$f":"$E$94*D24","v":0},{"$f":"C70","v":0},{"$f":"SUM(C95:F95)","v":403.23599999999999},null,null,"Newspaper",{"$f":"G95/$G$114","v":2.2580794226893107E-3}]
[null,"Glass",{"$f":"$C$94*SUM(D25:D27)","v":3897.9479999999999},null,{"$f":"$E$94*SUM(D25:D27)","v":0},0,3897.9479999999999,null,null,"Glass",2.1828101085996671E-2]
[null,"Aluminum Cans",{"$f":"$C$94*D28","v":1747.356},null,{"$f":"$E$94*D28","v":0},32,1779.356,null,null,"Aluminum Cans",9.9642074845469192E-3]
[null,"Plastic Bottles",{"$f":"$C$94*SUM(D29:D32)","v":6586.1880000000001},null,{"$f":"$E$94*SUM(D29:D32)","v":0},0,6586.1880000000001,null,null,"Plastic Botles",3.688196390392541E-2]
[null,"Steel Cans",{"$f":"$C$94*D33","v":1478.5319999999999},null,{"$f":"$E$94*D33","v":0},0,1478.5319999999999,null,null,"Steel Cans",8.2796245498608055E-3]
[null,"Corrugated Paper",{"$f":"$C$94*D34","v":15995.027999999998},null,{"$f":"$E$94*D34","v":0},1767,17762.027999999998,null,null,"Corrugated Paper",9.9465498943624511E-2]
[null,"Office Paper",{"$f":"$C$94*D35","v":2957.0639999999999},null,{"$f":"$E$94*D35","v":0},17,2974.0639999999999,null,null,"Office Paper",1.6654447321571144E-2]
[null,"Yard Trash",{"$f":"$C$94*D36","v":2822.652},null,{"$f":"$E$94*D36","v":0},6000,8822.652,null,null,"Yard Trash",4.9405928376307411E-2]
[null,"Other Plastics",{"$f":"$C$94*SUM(D37:D43)","v":21102.684000000001},null,{"$f":"$E$94*SUM(D37:D43)","v":0},78,21180.684000000001,null,null,"Other Plastics",0.11860961496216788]
[null,"Ferrous Metals",{"$f":"$C$94*D44","v":2553.828},null,{"$f":"$E$94*D44","v":0},3752,6305.8279999999995,null,null,"Ferrous Metals",3.5311977228764523E-2]
[null,"White Goods",{"$f":"$C$94*D45","v":0},null,{"$f":"$E$94*D45","v":0},0,0,null,null,"White Goods",0]
[null,"NonFerous Metals",{"$f":"$C$94*D46","v":537.64800000000002},null,{"$f":"$E$94*D46","v":0},538,1075.6480000000001,null,null,"NonFerous Metals",6.0235162903533226E-3]
[null,"Other Paper",{"$f":"$C$94*SUM(D47:D51)","v":21909.155999999999},null,{"$f":"$E$94*I36","v":0},20,21929.155999999999,null,null,"Other Paper",0.1228009798741775]
[null,"Textiles",{"$f":"$C$94*D52","v":8467.9560000000001},null,{"$f":"$E$94*I37","v":0},4,8471.9560000000001,null,null,"Textiles",4.7442067458087184E-2]
[null,"C&D Debris",{"$f":"$C$94*SUM(D53:D56)","v":8199.1319999999996},{"$f":"C10","v":32037},{"$f":"$E$94*I38","v":0},0,40236.131999999998,null,null,"C&D Debris",0.22531813061782902]
[null,"Food",{"$f":"$C$94*D57","v":12500.316000000001},null,{"$f":"$E$94*D57","v":0},{"$f":"C85","v":124},12624.316000000001,null,null,"Food",7.0694849133329948E-2]
[null,"Miscellaneous",{"$f":"$C$94*SUM(D58:D63)","v":22850.039999999997},null,{"$f":"$E$94*SUM(D58:D63)","v":0},{"$f":"C86","v":143},22993.039999999997,null,null,"Miscellaneous",0.12875861899501093]
[null,"Tires",{"$f":"$C$94*D64","v":0},null,{"$f":"$E$94*D64","v":0},{"$f":"C87","v":54},54,null,null,"Tires",3.023943517573401E-4]
[null,null,"Total","Total","Total","Total","Total",null,null,null,"total"]
[null,null,{"$f":"SUM(C95:C112)","v":134008.76400000002},{"$f":"D109","v":32037},{"$f":"SUM(E95:E112)","v":0},{"$f":"SUM(F95:F112)","v":12529},{"$f":"SUM(C114:F114)","v":178574.76400000002},null,null,null,{"$f":"SUM(K95:K112)","v":0.99999999999999989}]
[]
[null,5]
[]
[null,"US EPA Data and Moisture Content"]
[null,"Category","Moisture Content  (MC) ","US EPA DATA (lbs-dry/person)","US EPA DATA             (lbs-WET/person)    [US EPA DATA/(1-MC)"]
[null,"Newspaper",0.27850000000000003,41.931464174454831,58.117067462861854]
[null,"Glass",3.2000000000000001E-2,56.822429906542055,58.700857341469067]
[null,"Aluminum Cans",0.129,8.4112149532710276,9.6569632069701807]
[null,"Plastic Bottles",4.8000000000000001E-2,23.302180685358255,24.477080551846907]
[null,"Steel Cans",5.8000000000000003E-2,10.841121495327103,11.508621544933231]
[null,"Corrugated Paper",0.24049999999999999,195.20249221183801,257.01447295831201]
[null,"Office Paper",0.13400000000000001,28.22429906542056,32.591569359608037]
[null,"Yard Waste",0.50600000000000001,216.3239875389408,437.90280878328099]
[null,"Other Plastics",0.11700000000000001,154.90485396035913,175.43018568557093]
[null,"Non-ferrous Metal",5.3999999999999999E-2,46.762277712979795,49.431583206109721]
[null,"White Goods","x",30.280373831775702,30.280373831775702]
[null,"Ferrous Metal",0.16900000000000001,12.133426323463874,14.600994372399368]
[null,"Other Paper",0.2545,158.56697819314641,212.69883057430772]
[null,"Textiles",0.17,76.349308411214949,91.987118567728857]
[null,"C&D Debris",8.8999999999999996E-2,"-","-"]
[null,"Food Waste",0.59750000000000003,247.53894080996884,615.00357965209651]
[null,"Miscellaneous",0.313,206.19904324930312,300.14416775735532]
[null,"Tires","x",36.386292834890966,36.386292834890966]
[]
[]
[null,6]
[]
[null,"Findig County Factor"]
[null,"Category      ","tons-DRY/county-us data ","tons-WET/county-us data ","County Factor","Category"]
[null,"equation","US DATA * County Population/2000","tons-DRY/(1-MoistureContent)","ton-wet-composition/tons-wet-Usdata"]
[null,"Newspaper ",{"$f":"D120*$C$8/2000","v":1369.0832710280374},{"$f":"C145/(1-C120)","v":1897.5513111961709},{"$f":"G95/D145","v":0.21250334450550887},"Newspaper "]
[null,"Glass ",1855.2807476635514,1916.6123426276358,2.0337696430859848,"Glass "]
[null,"Aluminum Cans ",274.63037383177567,315.30467718917987,5.6432908508122228,"Aluminum Cans "]
[null,"Plastic Bottles ",760.82785046728964,799.18891855807738,8.2410902441978475,"Plastic Bottles "]
[null,"Steel Cans ",353.9680373831776,375.76224775284248,3.9347539803213651,"Steel Cans "]
[null,"Corrugated Paper",6373.4589719626165,8391.6510493253663,2.116630910365124,"Corrugated Paper"]
[null,"Office Paper ",921.53747663551394,1064.1310353758822,2.7948287392534072,"Office Paper "]
[null,"Yard Waste ",7063.0863551401872,14297.745658178517,0.61706594948087612,"Yard Waste "]
[null,"Other Plastics ",5057.720934232706,5727.8832777267335,3.69782046403818,"Other Plastics "]
[null,"Ferrous Metal ",{"$f":"D131*$C$8/2000","v":396.16243617425727},{"$f":"C154/(1-C131)","v":476.72976675602564},{"$f":"C104/D154","v":5.3569719746637174},"Ferrous Metal "]
[null,"White Goods ",{"$f":"D130*$C$8/2000","v":988.66934579439248},{"$f":"Table714192531374349172178202[[#This Row],[tons-DRY/county-us data ]]","v":988.66934579439248},{"$f":"G105/Table714192531374349172178202[[#This Row],[tons-WET/county-us data ]]","v":0},"White Goods "]
[null,"Non-ferrous Metal ",{"$f":"D129*$C$8/2000","v":1526.8117484676468},{"$f":"C156/(1-C129)","v":1613.9659074710855},{"$f":"C106/D156","v":0.33312227817899681},"Non-ferrous Metal "]
[null,"Other Paper ",{"$f":"D132*$C$8/2000","v":5177.2911214953274},{"$f":"C157/(1-C132)","v":6944.7231676664351},{"$f":"G107/D157","v":3.1576717272329562},"Other Paper "]
[null,"Textiles ",2492.8430942803739,{"$f":"C158/(1-C133)","v":3003.4254147956312},{"$f":"G108/D158","v":2.8207645704351463},"Textiles "]
[null,"C&D Debris",{"$error":"#VALUE!"},{"$f":"C159/(1-C134)","v":{"$error":"#VALUE!"}},{"$f":"#REF!/D159","v":{"$error":"#REF!"}},"C&D Debris"]
[null,"Food Waste",8082.2701869158873,{"$f":"C160/(1-C135)","v":20080.174377430776},{"$f":"G110/D160","v":0.62869553633902553},"Food Waste"]
[null,"Miscellaneous ",6732.5018616113721,{"$f":"C161/(1-C136)","v":9799.8571493615309},{"$f":"G111/D161","v":2.3462627719525497},"Miscellaneous "]
[null,"Tires ",1188.0306542056076,{"$f":"Table714192531374349172178202[[#This Row],[tons-DRY/county-us data ]]","v":1188.0306542056076},{"$f":"G112/Table714192531374349172178202[[#This Row],[tons-WET/county-us data ]]","v":4.5453372611927945E-2},"Tires "]
[]
[]
[]
[null,"Link to \"New WasteCalc County Factors\""]
[null,"Newspaper","Glass","Aluminum Cans","Plastic Bottles","Steel Cans","Corrugated Paper","Office Paper","Yard Waste","Other Plastics","Ferrous Metals","White Goods","Non-Ferrous Metal","Other Paper","Textiles","C&D Debris","Food Waste","Misc","Tires"]
[null,{"$f":"E145","v":0.21250334450550887},{"$f":"E146","v":2.0337696430859848},{"$f":"E147","v":5.6432908508122228},{"$f":"E148","v":8.2410902441978475},{"$f":"E149","v":3.9347539803213651},{"$f":"E150","v":2.116630910365124},{"$f":"E151","v":2.7948287392534072},{"$f":"E152","v":0.61706594948087612},{"$f":"E153","v":3.69782046403818},{"$f":"E154","v":5.3569719746637174},{"$f":"E155","v":0},{"$f":"E156","v":0.33312227817899681},{"$f":"E157","v":3.1576717272329562},{"$f":"E158","v":2.8207645704351463},{"$error":"#REF!"},{"$f":"E160","v":0.62869553633902553},{"$f":"E161","v":2.3462627719525497},{"$f":"E162","v":4.5453372611927945E-2}]

{"sheet":"62 Suwannee County Factor","index":61,"n_rows":168,"n_cols":19,"rows_kept":168,"cut":false,"hidden":true,"merged":[[2,1,2,2],[3,1,3,2],[19,1,19,2],[67,1,67,2],[89,1,89,2],[89,9,89,10],[115,1,115,2],[117,1,117,2],[139,1,139,2],[141,1,141,2]]}
[null,"Finding County Factors for Suwannee"]
[]
[null,1]
[null,"Information from annual solid waste report 2017"]
[null,"County","Suwannee"]
[null,"Waste comp study","NONE"]
[null,"Year",2017]
[null,"Population",41511]
[null,"Landfilled tons ",141877]
[null,"C&D collected",3817]
[null,"C&D disposed",{"$f":"C10-C14","v":3817}]
[]
[null,"Recycled tons",31627]
[null,"Recycled C&D",0]
[null,"combustor recy metals",0]
[null,"Combustor input",0]
[null,"Process Fuel",0]
[null,"Total Tons MSW collected",{"$f":"C9+(C16-C15-C17)+C13","v":173504}]
[]
[null,2]
[]
[null,"Aucilla Landifll Waste Composition Study Results"]
[null,"FDEP Category","Waste Comp Category","Percentage in waste stream"]
[null,"Newspapers","Newspaper",3.0000000000000001E-3]
[null,"Glass","Green",2E-3]
[null,null,"Clear ",0.02]
[null,null,"Brown",7.0000000000000001E-3]
[null,"Aluminum Cans","Aluminum cans and tin foil",1.2999999999999999E-2]
[null,"Plastic Bottles","#1 PET Bottles",3.7999999999999999E-2]
[null,null,"#2 HDPE Bottles- translucent ",5.0000000000000001E-3]
[null,null,"#2 HDPE Bottles- colored",4.0000000000000001E-3]
[null,null,"#3-7 (Other Plastic Bottles)",2E-3]
[null,"Steel Cans","Steel/Tin Cans",1.0999999999999999E-2]
[null,"Corrugated Boxes","Corrugated Cardboard (OCC)",0.11899999999999999]
[null,"Office Paper","High Grade Paper (Office Type)",2.1999999999999999E-2]
[null,"Yard Trash","Yard Trash",2.1000000000000001E-2]
[null,"Other Plastics","Expanded Polystyrene (Food Service)",4.0000000000000001E-3]
[null,null,"Expanded Polystyrene",1.7999999999999999E-2]
[null,null,"Rigid Plastic (Tubs, Cups, Lids)",8.9999999999999993E-3]
[null,null,"Rigid Plastic (Food Service)",6.0000000000000001E-3]
[null,null,"Grocery Bags",0.01]
[null,null,"Other Flexible Plastic",7.0999999999999994E-2]
[null,null,"Other Plastics",3.9E-2]
[null,"Ferrous Metals","Other Ferrous Metals",1.9E-2]
[null,"White Goods","White Goods",0]
[null,"Nonferrous Metals","Other Non-Ferrous Metals ",4.0000000000000001E-3]
[null,"Other Paper","Polycoated Aseptic Containers",0]
[null,null,"Food Service Container (Polycoated)",8.0000000000000002E-3]
[null,null,"Other Compsite (Metal Coated)",6.0000000000000001E-3]
[null,null,"Boxboards",2.8000000000000001E-2]
[null,null,"Other Paper",0.121]
[null,"Textiles","Clothing, Footwear, Other Textiles",6.3E-2]
[null,"C&D Debris","Wood",4.7E-2]
[null,null,"Asphalt Shingles",5.0000000000000001E-3]
[null,null,"Gypsum Drywall",6.0000000000000001E-3]
[null,null,"Concrete/Bricks/Ceramics",3.0000000000000001E-3]
[null,"Food Waste","Food Waste",9.2999999999999999E-2]
[null,"Miscellaneous","Animal- By-Product",3.0000000000000001E-3]
[null,null,"Other Organics",3.5999999999999997E-2]
[null,null,"Rubber and Leather",1.0999999999999999E-2]
[null,null,"Small Appliances/Electronics",1.4999999999999999E-2]
[null,null,"Hazardous Waste",0.01]
[null,null,"Residuals ",9.5000000000000001E-2]
[null,"Tires","Tires",0]
[null,null,null,"sum"]
[null,null,null,{"$f":"SUM(D24:D64)","v":0.99700000000000011}]
[]
[null,"Recycled tons from Suwannee"]
[null,"Materials","Tons"]
[null,"Newspaper",0]
[null,"Glass",0]
[null,"Aluminum Cans",144]
[null,"Plastic Bottles",0]
[null,"Steel Cans",0]
[null,"Corrugated Paper",386]
[null,"Office Paper",40]
[null,"Yard Trash",0]
[null,"Other Plastics",8]
[null,"Ferrous Metals",21115]
[null,"White Goods",9049]
[null,"NonFerous Metals",881]
[null,"Other Paper",4]
[null,"Textiles",0]
[null,"C&D Debris",0]
[null,"Food",0]
[null,"Miscellaneous",0]
[null,"Tires",0]
[null,"Total",{"$f":"SUM(C70:C87)","v":31627}]
[]
[null,3,null,null,null,null,null,null,null,4]
[]
[null,"Calculating waste compositon percentage utalizing waste compsition study"]
[null,"FDEP Category","Landfilled tons\n(Plus combusor ash, minus C&D  disposed)","Collected C&D \n(disposal C&D LANDFILL + recycled)","Combusted\n(minus recycled metals, minus ash)","Recycled Materials\n(Minus recycled C&D)","Total Collected Tons"]
[null,null,{"$f":"C9-C11","v":138060},{"$f":"C11+C14","v":3817},{"$f":"C16-C15","v":0},{"$f":"C88","v":31627},null,null,null,"FDEP Category","Percentage"]
[null,"Newspaper",{"$f":"$C$94*D24","v":414.18},null,{"$f":"$E$94*D24","v":0},{"$f":"C70","v":0},{"$f":"SUM(C95:F95)","v":414.18},null,null,"Newspaper",{"$f":"G95/$G$114","v":2.3928616945814605E-3}]
[null,"Glass",{"$f":"$C$94*SUM(D25:D27)","v":4003.74},null,{"$f":"$E$94*SUM(D25:D27)","v":0},0,4003.74,null,null,"Glass",2.3130996380954116E-2]
[null,"Aluminum Cans",{"$f":"$C$94*D28","v":1794.78},null,{"$f":"$E$94*D28","v":0},144,1938.78,null,null,"Aluminum Cans",1.12010053508635E-2]
[null,"Plastic Bottles",{"$f":"$C$94*SUM(D29:D32)","v":6764.9400000000005},null,{"$f":"$E$94*SUM(D29:D32)","v":0},0,6764.9400000000005,null,null,"Plastic Botles",3.9083407678163859E-2]
[null,"Steel Cans",{"$f":"$C$94*D33","v":1518.6599999999999},null,{"$f":"$E$94*D33","v":0},0,1518.6599999999999,null,null,"Steel Cans",8.773826213465355E-3]
[null,"Corrugated Paper",{"$f":"$C$94*D34","v":16429.14},null,{"$f":"$E$94*D34","v":0},386,16815.14,null,null,"Corrugated Paper",9.7146903266754792E-2]
[null,"Office Paper",{"$f":"$C$94*D35","v":3037.3199999999997},null,{"$f":"$E$94*D35","v":0},40,3077.3199999999997,null,null,"Office Paper",1.7778746317952145E-2]
[null,"Yard Trash",{"$f":"$C$94*D36","v":2899.26},null,{"$f":"$E$94*D36","v":0},0,2899.26,null,null,"Yard Trash",1.6750031862070226E-2]
[null,"Other Plastics",{"$f":"$C$94*SUM(D37:D43)","v":21675.420000000002},null,{"$f":"$E$94*SUM(D37:D43)","v":0},8,21683.420000000002,null,null,"Other Plastics",0.12527264746130073]
[null,"Ferrous Metals",{"$f":"$C$94*D44","v":2623.14},null,{"$f":"$E$94*D44","v":0},21115,23738.14,null,null,"Ferrous Metals",0.13714347845528985]
[null,"White Goods",{"$f":"$C$94*D45","v":0},null,{"$f":"$E$94*D45","v":0},9049,9049,null,null,"White Goods",5.2279215496324395E-2]
[null,"NonFerous Metals",{"$f":"$C$94*D46","v":552.24},null,{"$f":"$E$94*D46","v":0},881,1433.24,null,null,"NonFerous Metals",8.2803252091890791E-3]
[null,"Other Paper",{"$f":"$C$94*SUM(D47:D51)","v":22503.780000000002},null,{"$f":"$E$94*SUM(D47:D51)","v":0},4,22507.780000000002,null,null,"Other Paper",0.13003526146136152]
[null,"Textiles",{"$f":"$C$94*D52","v":8697.7800000000007},null,{"$f":"$E$94*D52","v":0},0,8697.7800000000007,null,null,"Textiles",5.0250095586210679E-2]
[null,"C&D Debris",{"$f":"$C$94*SUM(D53:D56)","v":8421.66},{"$f":"C10","v":3817},{"$f":"$E$94*SUM(D53:D56)","v":0},0,12238.66,null,null,"C&D Debris",7.0706989007210244E-2]
[null,"Food",{"$f":"$C$94*D57","v":12839.58},null,{"$f":"$E$94*D57","v":0},{"$f":"C85","v":0},12839.58,null,null,"Food",7.4178712532025279E-2]
[null,"Miscellaneous",{"$f":"$C$94*SUM(D58:D63)","v":23470.199999999997},null,{"$f":"$E$94*SUM(D58:D63)","v":0},{"$f":"C86","v":0},23470.199999999997,null,null,"Miscellaneous",0.13559549602628274]
[null,"Tires",{"$f":"$C$94*D64","v":0},null,{"$f":"$E$94*D64","v":0},{"$f":"C87","v":0},0,null,null,"Tires",0]
[null,null,"Total","Total","Total","Total","Total",null,null,null,"total"]
[null,null,{"$f":"SUM(C95:C112)","v":137645.82},{"$f":"D109","v":3817},{"$f":"SUM(E95:E112)","v":0},{"$f":"SUM(F95:F112)","v":31627},{"$f":"SUM(C114:F114)","v":173089.82},null,null,null,{"$f":"SUM(K95:K112)","v":0.99999999999999989}]
[]
[null,5]
[]
[null,"US EPA Data and Moisture Content"]
[null,"Category","Moisture Content  (MC) ","US EPA DATA (lbs-dry/person)","US EPA DATA             (lbs-WET/person)    [US EPA DATA/(1-MC)"]
[null,"Newspaper",0.27850000000000003,41.931464174454831,58.117067462861854]
[null,"Glass",3.2000000000000001E-2,56.822429906542055,58.700857341469067]
[null,"Aluminum Cans",0.129,8.4112149532710276,9.6569632069701807]
[null,"Plastic Bottles",4.8000000000000001E-2,23.302180685358255,24.477080551846907]
[null,"Steel Cans",5.8000000000000003E-2,10.841121495327103,11.508621544933231]
[null,"Corrugated Paper",0.24049999999999999,195.20249221183801,257.01447295831201]
[null,"Office Paper",0.13400000000000001,28.22429906542056,32.591569359608037]
[null,"Yard Waste",0.50600000000000001,216.3239875389408,437.90280878328099]
[null,"Other Plastics",0.11700000000000001,154.90485396035913,175.43018568557093]
[null,"Non-ferrous Metal",5.3999999999999999E-2,46.762277712979795,49.431583206109721]
[null,"White Goods","x",30.280373831775702,30.280373831775702]
[null,"Ferrous Metal",0.16900000000000001,12.133426323463874,14.600994372399368]
[null,"Other Paper",0.2545,158.56697819314641,212.69883057430772]
[null,"Textiles",0.17,76.349308411214949,91.987118567728857]
[null,"C&D Debris",8.8999999999999996E-2,"-","-"]
[null,"Food Waste",0.59750000000000003,247.53894080996884,615.00357965209651]
[null,"Miscellaneous",0.313,206.19904324930312,300.14416775735532]
[null,"Tires","x",36.386292834890966,36.386292834890966]
[]
[]
[null,6]
[]
[null,"Findig County Factor"]
[null,"Category ","tons-DRY/county-us data ","tons-WET/county-us data ","County Factor","Category     "]
[null,"equation","US DATA * County Population/2000","tons-DRY/(1-MoistureContent)","ton-wet-composition/tons-wet-Usdata"]
[null,"Newspaper ",{"$f":"D120*$C$8/2000","v":870.30850467289724},{"$f":"C145/(1-C120)","v":1206.2487937254293},{"$f":"G95/D145","v":0.34336200140008361},"Newspaper "]
[null,"Glass ",1179.3779439252335,1218.3656445508611,3.2861563504410372,"Glass "]
[null,"Aluminum Cans ",174.57897196261681,200.43509984226958,9.6728567078605678,"Aluminum Cans "]
[null,"Plastic Bottles ",483.64841121495328,508.03404539385849,13.315918610839187,"Plastic Bottles "]
[null,"Steel Cans ",225.01289719626169,238.86719447586168,6.357758767721724,"Steel Cans "]
[null,"Corrugated Paper",4051.5253271028037,5334.4638934862451,3.1521705527958424,"Corrugated Paper"]
[null,"Office Paper ",585.80943925233635,676.45431784334448,4.5491911557472759,"Office Paper "]
[null,"Yard Waste ",4489.9125233644863,9088.8917477013892,0.31898938621787776,"Yard Waste "]
[null,"Other Plastics ",3215.1276963742339,3641.1412189968673,5.9551164582333262,"Other Plastics "]
[null,"Ferrous Metal ",{"$f":"D131*$C$8/2000","v":251.83533005665444},{"$f":"C154/(1-C131)","v":303.05093869633509},{"$f":"C104/D154","v":8.6557725618149437},"Ferrous Metal "]
[null,"White Goods ",{"$f":"D130*$C$8/2000","v":628.48429906542049},{"$f":"Table714192531374349172178202208[[#This Row],[tons-DRY/county-us data ]]","v":628.48429906542049},{"$f":"G105/Table714192531374349172178202208[[#This Row],[tons-WET/county-us data ]]","v":14.398132162499842},"White Goods "]
[null,"Non-ferrous Metal ",{"$f":"D129*$C$8/2000","v":970.57445507175214},{"$f":"C156/(1-C129)","v":1025.9772252344103},{"$f":"C106/D156","v":0.53825756207583153},"Non-ferrous Metal "]
[null,"Other Paper ",{"$f":"D132*$C$8/2000","v":3291.1369158878501},{"$f":"C157/(1-C132)","v":4414.6705779850436},{"$f":"G107/D157","v":5.0984053288689699},"Other Paper "]
[null,"Textiles ",1584.6680707289718,{"$f":"C158/(1-C133)","v":1909.2386394324963},{"$f":"G108/D158","v":4.5556274738842157},"Textiles "]
[null,"C&D Debris",{"$error":"#VALUE!"},{"$f":"C159/(1-C134)","v":{"$error":"#VALUE!"}},{"$f":"#REF!/D159","v":{"$error":"#REF!"}},"C&D Debris"]
[null,"Food Waste",5137.7944859813078,{"$f":"C160/(1-C135)","v":12764.706797469089},{"$f":"G110/D160","v":1.005865642174073},"Food Waste"]
[null,"Miscellaneous ",4279.7642421609107,{"$f":"C161/(1-C136)","v":6229.6422738877882},{"$f":"G111/D161","v":3.7675036491867036},"Miscellaneous "]
[null,"Tires ",755.21570093457944,{"$f":"Table714192531374349172178202208[[#This Row],[tons-DRY/county-us data ]]","v":755.21570093457944},{"$f":"G112/Table714192531374349172178202208[[#This Row],[tons-WET/county-us data ]]","v":0},"Tires "]
[]
[]
[]
[null,"Link to \"New WasteCalc County Factors\""]
[null,"Newspaper","Glass","Aluminum Cans","Plastic Bottles","Steel Cans","Corrugated Paper","Office Paper","Yard Waste","Other Plastics","Ferrous Metals","White Goods","Non-Ferrous Metal","Other Paper","Textiles","C&D Debris","Food Waste","Misc","Tires"]
[null,{"$f":"E145","v":0.34336200140008361},{"$f":"E146","v":3.2861563504410372},{"$f":"E147","v":9.6728567078605678},{"$f":"E148","v":13.315918610839187},{"$f":"E149","v":6.357758767721724},{"$f":"E150","v":3.1521705527958424},{"$f":"E151","v":4.5491911557472759},{"$f":"E152","v":0.31898938621787776},{"$f":"E153","v":5.9551164582333262},{"$f":"E154","v":8.6557725618149437},{"$f":"E155","v":14.398132162499842},{"$f":"E156","v":0.53825756207583153},{"$f":"E157","v":5.0984053288689699},{"$f":"E158","v":4.5556274738842157},{"$error":"#REF!"},{"$f":"E160","v":1.005865642174073},{"$f":"E161","v":3.7675036491867036},{"$f":"E162","v":0}]

{"sheet":"63 Union County Factor","index":62,"n_rows":168,"n_cols":19,"rows_kept":168,"cut":false,"hidden":true,"merged":[[2,1,2,2],[3,1,3,2],[19,1,19,2],[67,1,67,2],[89,1,89,2],[89,9,89,10],[115,1,115,2],[117,1,117,2],[139,1,139,2],[141,1,141,2]]}
[null,"Finding County Factors for Union"]
[]
[null,1]
[null,"Information from annual solid waste report 2017"]
[null,"County","Union"]
[null,"Waste comp study","NONE"]
[null,"Year",2017]
[null,"Population",15947]
[null,"Landfilled tons ",8313]
[null,"C&D collected",1243]
[null,"C&D disposed",{"$f":"C10-C14","v":1212}]
[]
[null,"Recycled tons",628]
[null,"Recycled C&D",31]
[null,"combustor recy metals",0]
[null,"Combustor input",0]
[null,"Process Fuel",0]
[null,"Total Tons MSW collected",{"$f":"C9+(C16-C15-C17)+C13","v":8941}]
[]
[null,2]
[]
[null,"Aucilla Landifll Waste Composition Study Results"]
[null,"FDEP Category","Waste Comp Category","Percentage in waste stream"]
[null,"Newspapers","Newspaper",3.0000000000000001E-3]
[null,"Glass","Green",2E-3]
[null,null,"Clear ",0.02]
[null,null,"Brown",7.0000000000000001E-3]
[null,"Aluminum Cans","Aluminum cans and tin foil",1.2999999999999999E-2]
[null,"Plastic Bottles","#1 PET Bottles",3.7999999999999999E-2]
[null,null,"#2 HDPE Bottles- translucent ",5.0000000000000001E-3]
[null,null,"#2 HDPE Bottles- colored",4.0000000000000001E-3]
[null,null,"#3-7 (Other Plastic Bottles)",2E-3]
[null,"Steel Cans","Steel/Tin Cans",1.0999999999999999E-2]
[null,"Corrugated Boxes","Corrugated Cardboard (OCC)",0.11899999999999999]
[null,"Office Paper","High Grade Paper (Office Type)",2.1999999999999999E-2]
[null,"Yard Trash","Yard Trash",2.1000000000000001E-2]
[null,"Other Plastics","Expanded Polystyrene (Food Service)",4.0000000000000001E-3]
[null,null,"Expanded Polystyrene",1.7999999999999999E-2]
[null,null,"Rigid Plastic (Tubs, Cups, Lids)",8.9999999999999993E-3]
[null,null,"Rigid Plastic (Food Service)",6.0000000000000001E-3]
[null,null,"Grocery Bags",0.01]
[null,null,"Other Flexible Plastic",7.0999999999999994E-2]
[null,null,"Other Plastics",3.9E-2]
[null,"Ferrous Metals","Other Ferrous Metals",1.9E-2]
[null,"White Goods","White Goods",0]
[null,"Nonferrous Metals","Other Non-Ferrous Metals ",4.0000000000000001E-3]
[null,"Other Paper","Polycoated Aseptic Containers",0]
[null,null,"Food Service Container (Polycoated)",8.0000000000000002E-3]
[null,null,"Other Compsite (Metal Coated)",6.0000000000000001E-3]
[null,null,"Boxboards",2.8000000000000001E-2]
[null,null,"Other Paper",0.121]
[null,"Textiles","Clothing, Footwear, Other Textiles",6.3E-2]
[null,"C&D Debris","Wood",4.7E-2]
[null,null,"Asphalt Shingles",5.0000000000000001E-3]
[null,null,"Gypsum Drywall",6.0000000000000001E-3]
[null,null,"Concrete/Bricks/Ceramics",3.0000000000000001E-3]
[null,"Food Waste","Food Waste",9.2999999999999999E-2]
[null,"Miscellaneous","Animal- By-Product",3.0000000000000001E-3]
[null,null,"Other Organics",3.5999999999999997E-2]
[null,null,"Rubber and Leather",1.0999999999999999E-2]
[null,null,"Small Appliances/Electronics",1.4999999999999999E-2]
[null,null,"Hazardous Waste",0.01]
[null,null,"Residuals ",9.5000000000000001E-2]
[null,"Tires","Tires",0]
[null,null,null,"sum"]
[null,null,null,{"$f":"SUM(D24:D64)","v":0.99700000000000011}]
[]
[null,"Recycled tons from Union"]
[null,"Materials","Tons"]
[null,"Newspaper",0]
[null,"Glass",0]
[null,"Aluminum Cans",1]
[null,"Plastic Bottles",0]
[null,"Steel Cans",0]
[null,"Corrugated Paper",0]
[null,"Office Paper",23]
[null,"Yard Trash",529]
[null,"Other Plastics",0]
[null,"Ferrous Metals",1]
[null,"White Goods",1]
[null,"NonFerous Metals",0]
[null,"Other Paper",0]
[null,"Textiles",0]
[null,"C&D Debris",31]
[null,"Food",0]
[null,"Miscellaneous",0]
[null,"Tires",42]
[null,"Total",{"$f":"SUM(C70:C87)","v":628}]
[]
[null,3,null,null,null,null,null,null,null,4]
[]
[null,"Calculating waste compositon percentage utalizing waste compsition study"]
[null,"FDEP Category","Landfilled tons\n(Plus combusor ash, minus C&D  disposed)","Collected C&D \n(disposal C&D LANDFILL + recycled)","Combusted\n(minus recycled metals, minus ash)","Recycled Materials\n(Minus recycled C&D)","Total Collected Tons"]
[null,null,{"$f":"C9-C11","v":7101},{"$f":"C11+C14","v":1243},{"$f":"C16-C15","v":0},{"$f":"C88","v":628},null,null,null,"FDEP Category","Percentage"]
[null,"Newspaper",{"$f":"$C$94*D24","v":21.303000000000001},null,{"$f":"$E$94*D24","v":0},{"$f":"C70","v":0},{"$f":"SUM(C95:F95)","v":21.303000000000001},null,null,"Newspaper",{"$f":"G95/$G$114","v":2.6329238456780095E-3}]
[null,"Glass",{"$f":"$C$94*SUM(D25:D27)","v":205.92899999999997},null,{"$f":"$E$94*SUM(D25:D27)","v":0},0,205.92899999999997,null,null,"Glass",2.545159717488742E-2]
[null,"Aluminum Cans",{"$f":"$C$94*D28","v":92.313000000000002},null,{"$f":"$E$94*D28","v":0},1,93.313000000000002,null,null,"Aluminum Cans",1.153293070514726E-2]
[null,"Plastic Bottles",{"$f":"$C$94*SUM(D29:D32)","v":347.94900000000001},null,{"$f":"$E$94*SUM(D29:D32)","v":0},0,347.94900000000001,null,null,"Plastic Botles",4.300442281274082E-2]
[null,"Steel Cans",{"$f":"$C$94*D33","v":78.11099999999999},null,{"$f":"$E$94*D33","v":0},0,78.11099999999999,null,null,"Steel Cans",9.6540541008193672E-3]
[null,"Corrugated Paper",{"$f":"$C$94*D34","v":845.01900000000001},null,{"$f":"$E$94*D34","v":0},0,845.01900000000001,null,null,"Corrugated Paper",0.1044393125452277]
[null,"Office Paper",{"$f":"$C$94*D35","v":156.22199999999998},null,{"$f":"$E$94*D35","v":0},23,179.22199999999998,null,null,"Office Paper",2.2150771134117456E-2]
[null,"Yard Trash",{"$f":"$C$94*D36","v":149.12100000000001},null,{"$f":"$E$94*D36","v":0},529,678.12099999999998,null,null,"Yard Trash",8.3811714366756676E-2]
[null,"Other Plastics",{"$f":"$C$94*SUM(D37:D43)","v":1114.857},null,{"$f":"$E$94*SUM(D37:D43)","v":0},0,1114.857,null,null,"Other Plastics",0.13778968125714916]
[null,"Ferrous Metals",{"$f":"$C$94*D44","v":134.91899999999998},null,{"$f":"$E$94*D44","v":0},1,135.91899999999998,null,null,"Ferrous Metals",1.6798778396503278E-2]
[null,"White Goods",{"$f":"$C$94*D45","v":0},null,{"$f":"$E$94*D46","v":0},1,1,null,null,"White Goods",1.2359404054255313E-4]
[null,"NonFerous Metals",{"$f":"$C$94*D46","v":28.404},null,{"$f":"$E$94*D46","v":0},0,28.404,null,null,"NonFerous Metals",3.5105651275706791E-3]
[null,"Other Paper",{"$f":"$C$7*SUM(D47:D51)","v":328.77100000000002},null,{"$f":"$E$94*SUM(D47:D51)","v":0},0,328.77100000000002,null,null,"Other Paper",4.0634136303215738E-2]
[null,"Textiles",{"$f":"$C$94*D52","v":447.363},null,{"$f":"$E$94*D52","v":0},0,447.363,null,null,"Textiles",5.5291400759238198E-2]
[null,"C&D Debris",{"$f":"$C$94*SUM(D53:D56)","v":433.161},{"$f":"C10","v":1243},{"$f":"$E$94*SUM(D53:D56)","v":0},0,1676.1610000000001,null,null,"C&D Debris",0.20716351058984642]
[null,"Food",{"$f":"$C$94*D57","v":660.39300000000003},null,{"$f":"$E$94*D57","v":0},{"$f":"C85","v":0},660.39300000000003,null,null,"Food",8.1620639216018295E-2]
[null,"Miscellaneous",{"$f":"$C$94*SUM(D58:D63)","v":1207.1699999999998},null,{"$f":"$E$94*SUM(D58:D63)","v":0},{"$f":"C86","v":0},1207.1699999999998,null,null,"Miscellaneous",0.14919901792175386]
[null,"Tires",{"$f":"$C$94*D64","v":0},null,{"$f":"$E$94*D64","v":0},{"$f":"C87","v":42},42,null,null,"Tires",5.1909497027872314E-3]
[null,null,"Total","Total","Total","Total","Total",null,null,null,"total"]
[null,null,{"$f":"SUM(C95:C112)","v":6251.0049999999992},{"$f":"D109","v":1243},{"$f":"SUM(E95:E112)","v":0},{"$f":"SUM(F95:F112)","v":597},{"$f":"SUM(C114:F114)","v":8091.0049999999992},null,null,null,{"$f":"SUM(K95:K112)","v":1}]
[]
[null,5]
[]
[null,"US EPA Data and Moisture Content"]
[null,"Category","Moisture Content  (MC) ","US EPA DATA (lbs-dry/person)","US EPA DATA             (lbs-WET/person)    [US EPA DATA/(1-MC)"]
[null,"Newspaper",0.27850000000000003,41.931464174454831,58.117067462861854]
[null,"Glass",3.2000000000000001E-2,56.822429906542055,58.700857341469067]
[null,"Aluminum Cans",0.129,8.4112149532710276,9.6569632069701807]
[null,"Plastic Bottles",4.8000000000000001E-2,23.302180685358255,24.477080551846907]
[null,"Steel Cans",5.8000000000000003E-2,10.841121495327103,11.508621544933231]
[null,"Corrugated Paper",0.24049999999999999,195.20249221183801,257.01447295831201]
[null,"Office Paper",0.13400000000000001,28.22429906542056,32.591569359608037]
[null,"Yard Waste",0.50600000000000001,216.3239875389408,437.90280878328099]
[null,"Other Plastics",0.11700000000000001,154.90485396035913,175.43018568557093]
[null,"Non-ferrous Metal",5.3999999999999999E-2,46.762277712979795,49.431583206109721]
[null,"White Goods","x",30.280373831775702,30.280373831775702]
[null,"Ferrous Metal",0.16900000000000001,12.133426323463874,14.600994372399368]
[null,"Other Paper",0.2545,158.56697819314641,212.69883057430772]
[null,"Textiles",0.17,76.349308411214949,91.987118567728857]
[null,"C&D Debris",8.8999999999999996E-2,"-","-"]
[null,"Food Waste",0.59750000000000003,247.53894080996884,615.00357965209651]
[null,"Miscellaneous",0.313,206.19904324930312,300.14416775735532]
[null,"Tires","x",36.386292834890966,36.386292834890966]
[]
[]
[null,6]
[]
[null,"Finding County Factor"]
[null,"Category ","tons-DRY/county-us data ","tons-WET/county-us data ","County Factor","Category    "]
[null,"equation","US DATA * County Population/2000","tons-DRY/(1-MoistureContent)","ton-wet-composition/tons-wet-Usdata"]
[null,"Newspaper ",{"$f":"D120*$C$8/2000","v":334.3405295950156},{"$f":"C145/(1-C120)","v":463.39643741512901},{"$f":"G95/D145","v":4.5971436722367212E-2},"Newspaper "]
[null,"Glass ",453.0736448598131,468.0512860122036,0.43997101632710983,"Glass "]
[null,"Aluminum Cans ",67.066822429906537,76.99979613077673,1.2118603514419295,"Aluminum Cans "]
[null,"Plastic Bottles ",185.79993769470406,195.16800178015131,1.782817863719024,"Plastic Bottles "]
[null,"Steel Cans ",86.441682242990666,91.763993888525121,0.85121621989218577,"Steel Cans "]
[null,"Corrugated Paper",1556.4470716510905,2049.304900133101,0.41234420507417741,"Corrugated Paper"]
[null,"Office Paper ",225.04644859813084,259.86887828883471,0.68966319160696621,"Office Paper "]
[null,"Yard Waste ",1724.8593146417443,3491.6180458334907,0.19421396931121784,"Yard Waste "]
[null,"Other Plastics ",1235.1338530529235,1398.7925855638998,0.79701380426645885,"Other Plastics "]
[null,"Ferrous Metal ",{"$f":"D131*$C$8/2000","v":96.745874790139212},{"$f":"C154/(1-C131)","v":116.42102862832637},{"$f":"C104/D154","v":1.1588885752824629},"Ferrous Metal "]
[null,"White Goods ",{"$f":"D130*$C$8/2000","v":241.44056074766354},{"$f":"Table714192531374349172178202208214[[#This Row],[tons-DRY/county-us data ]]","v":241.44056074766354},{"$f":"G105/Table714192531374349172178202208214[[#This Row],[tons-WET/county-us data ]]","v":4.1418061526336857E-3},"White Goods "]
[null,"Non-ferrous Metal ",{"$f":"D129*$C$8/2000","v":372.85902134444444},{"$f":"C156/(1-C129)","v":394.1427286939159},{"$f":"C106/D156","v":7.2065264515023014E-2},"Non-ferrous Metal "]
[null,"Other Paper ",{"$f":"D132*$C$8/2000","v":1264.3338006230531},{"$f":"C157/(1-C132)","v":1695.9541255842428},{"$f":"G107/D157","v":0.19385606900584118},"Other Paper "]
[null,"Textiles ",608.77121061682237,{"$f":"C158/(1-C133)","v":733.45928989978597},{"$f":"G108/D158","v":0.60993569262872671},"Textiles "]
[null,"C&D Debris",{"$error":"#VALUE!"},{"$f":"C159/(1-C134)","v":{"$error":"#VALUE!"}},{"$f":"#REF!/D159","v":{"$error":"#REF!"}},"C&D Debris"]
[null,"Food Waste",1973.7517445482865,{"$f":"C160/(1-C135)","v":4903.731042355992},{"$f":"G110/D160","v":0.13467153771196941},"Food Waste"]
[null,"Miscellaneous ",1644.1280713483184,{"$f":"C161/(1-C136)","v":2393.1995216132727},{"$f":"G111/D161","v":0.50441678142499291},"Miscellaneous "]
[null,"Tires ",290.12610591900312,{"$f":"Table714192531374349172178202208214[[#This Row],[tons-DRY/county-us data ]]","v":290.12610591900312},{"$f":"G112/Table714192531374349172178202208214[[#This Row],[tons-WET/county-us data ]]","v":0.14476463559513492},"Tires "]
[]
[]
[]
[null,"Link to \"New WasteCalc County Factors\""]
[null,"Newspaper","Glass","Aluminum Cans","Plastic Bottles","Steel Cans","Corrugated Paper","Office Paper","Yard Waste","Other Plastics","Ferrous Metals","White Goods","Non-Ferrous Metal","Other Paper","Textiles","C&D Debris","Food Waste","Misc","Tires"]
[null,{"$f":"E145","v":4.5971436722367212E-2},{"$f":"E146","v":0.43997101632710983},{"$f":"E147","v":1.2118603514419295},{"$f":"E148","v":1.782817863719024},{"$f":"E149","v":0.85121621989218577},{"$f":"E150","v":0.41234420507417741},{"$f":"E151","v":0.68966319160696621},{"$f":"E152","v":0.19421396931121784},{"$f":"E153","v":0.79701380426645885},{"$f":"E154","v":1.1588885752824629},{"$f":"E155","v":4.1418061526336857E-3},{"$f":"E156","v":7.2065264515023014E-2},{"$f":"E157","v":0.19385606900584118},{"$f":"E158","v":0.60993569262872671},{"$error":"#REF!"},{"$f":"E160","v":0.13467153771196941},{"$f":"E161","v":0.50441678142499291},{"$f":"E162","v":0.14476463559513492}]

{"sheet":"64 DeSoto County Factor","index":63,"n_rows":170,"n_cols":19,"rows_kept":170,"cut":false,"hidden":true,"merged":[[91,9,91,10],[117,1,117,2],[119,1,119,2],[141,1,141,2],[143,1,143,2],[2,1,2,2],[3,1,3,2],[19,1,19,2],[91,1,91,2]]}
[null,"Finding County Factors for DeSoto"]
[]
[null,1]
[null,"Information from annual solid waste report 2017"]
[null,"County","DeSoto"]
[null,"Waste comp study","NONE"]
[null,"Year",2017]
[null,"Population",35621]
[null,"Landfilled tons ",41260]
[null,"C&D collected",3073]
[null,"C&D disposed",{"$f":"C10-C14","v":2771}]
[]
[null,"Recycled tons",5258]
[null,"Recycled C&D",302]
[null,"combustor recy metals"]
[null,"Combustor input"]
[null,"Process Fuel"]
[null,"Total Tons MSW collected",{"$f":"C9+(C16-C15-C17)+C13","v":46518}]
[]
[null,2]
[]
[null,"Aucilla Landifll Waste Composition Study Results"]
[null,"FDEP Category","Waste Comp Category","Percentage in waste stream"]
[null,"Newspapers","Newspaper",3.0000000000000001E-3]
[null,"Glass","Green",2E-3]
[null,null,"Clear ",0.02]
[null,null,"Brown",7.0000000000000001E-3]
[null,"Aluminum Cans","Aluminum cans and tin foil",1.2999999999999999E-2]
[null,"Plastic Bottles","#1 PET Bottles",3.7999999999999999E-2]
[null,null,"#2 HDPE Bottles- translucent ",5.0000000000000001E-3]
[null,null,"#2 HDPE Bottles- colored",4.0000000000000001E-3]
[null,null,"#3-7 (Other Plastic Bottles)",2E-3]
[null,"Steel Cans","Steel/Tin Cans",1.0999999999999999E-2]
[null,"Corrugated Boxes","Corrugated Cardboard (OCC)",0.11899999999999999]
[null,"Office Paper","High Grade Paper (Office Type)",2.1999999999999999E-2]
[null,"Yard Trash","Yard Trash",2.1000000000000001E-2]
[null,"Other Plastics","Expanded Polystyrene (Food Service)",4.0000000000000001E-3]
[null,null,"Expanded Polystyrene",1.7999999999999999E-2]
[null,null,"Rigid Plastic (Tubs, Cups, Lids)",8.9999999999999993E-3]
[null,null,"Rigid Plastic (Food Service)",6.0000000000000001E-3]
[null,null,"Grocery Bags",0.01]
[null,null,"Other Flexible Plastic",7.0999999999999994E-2]
[null,null,"Other Plastics",3.9E-2]
[null,"Ferrous Metals","Other Ferrous Metals",1.9E-2]
[null,"White Goods","White Goods",0]
[null,"Nonferrous Metals","Other Non-Ferrous Metals ",4.0000000000000001E-3]
[null,"Other Paper","Polycoated Aseptic Containers",0]
[null,null,"Food Service Container (Polycoated)",8.0000000000000002E-3]
[null,null,"Other Compsite (Metal Coated)",6.0000000000000001E-3]
[null,null,"Boxboards",2.8000000000000001E-2]
[null,null,"Other Paper",0.121]
[null,"Textiles","Clothing, Footwear, Other Textiles",6.3E-2]
[null,"C&D Debris","Wood",4.7E-2]
[null,null,"Asphalt Shingles",5.0000000000000001E-3]
[null,null,"Gypsum Drywall",6.0000000000000001E-3]
[null,null,"Concrete/Bricks/Ceramics",3.0000000000000001E-3]
[null,"Food Waste","Food Waste",9.2999999999999999E-2]
[null,"Miscellaneous","Animal- By-Product",3.0000000000000001E-3]
[null,null,"Other Organics",3.5999999999999997E-2]
[null,null,"Rubber and Leather",1.0999999999999999E-2]
[null,null,"Small Appliances/Electronics",1.4999999999999999E-2]
[null,null,"Hazardous Waste",0.01]
[null,null,"Residuals ",9.5000000000000001E-2]
[null,"Tires","Tires",0]
[null,null,null,"sum"]
[null,null,null,{"$f":"SUM(D24:D64)","v":0.99700000000000011}]
[]
[]
[null,"Recycled tons from DeSoto"]
[null,"Materials","Tons"]
[null,"Newspaper",26]
[null,"Glass",0]
[null,"Aluminum Cans",9]
[null,"Plastic Bottles",2]
[null,"Steel Cans",0]
[null,"Corrugated Paper",779]
[null,"Office Paper",13]
[null,"Yard Trash",59]
[null,"Other Plastics",23]
[null,"Ferrous Metals",3634]
[null,"White Goods",0]
[null,"NonFerous Metals",138]
[null,"Other Paper",42]
[null,"Textiles",1]
[null,"C&D Debris",302]
[null,"Food",67]
[null,"Miscellaneous",110]
[null,"Tires",53]
[null,"Total",{"$f":"SUM(C71:C88)","v":5258}]
[]
[]
[null,3,null,null,null,null,null,null,null,4]
[]
[null,"Calculating waste compositon percentage utalizing waste compsition study"]
[null,"FDEP Category","Landfilled tons\n(Plus combusor ash, minus C&D  disposed)","Collected C&D \n(disposal C&D LANDFILL + recycled)","Combusted\n(minus recycled metals, minus ash)","Recycled Materials\n(Minus recycled C&D)","Total Collected Tons"]
[null,null,{"$f":"C9-C11","v":38489},{"$f":"C11+C14","v":3073},{"$f":"C16-C15","v":0},{"$f":"C89","v":5258},null,null,null,"FDEP Category","Percentage"]
[null,"Newspaper",{"$f":"$C$96*D24","v":115.467},null,{"$f":"$E$96*D24","v":0},{"$f":"C71","v":26},{"$f":"SUM(C97:F97)","v":141.46699999999998},null,null,"Newspaper",{"$f":"G97/$G$116","v":3.0486913289841312E-3}]
[null,"Glass",{"$f":"$C$96*SUM(D25:D27)","v":1116.1809999999998},null,{"$f":"$E$96*SUM(D25:D27)","v":0},0,1116.1809999999998,null,null,"Glass",2.4054311862673528E-2]
[null,"Aluminum Cans",{"$f":"$C$96*D28","v":500.35699999999997},null,{"$f":"$E$96*D28","v":0},9,509.35699999999997,null,null,"Aluminum Cans",1.0976922315857196E-2]
[null,"Plastic Bottles",{"$f":"$C$96*SUM(D29:D32)","v":1885.961},null,{"$f":"$E$96*SUM(D29:D32)","v":0},2,1887.961,null,null,"Plastic Botles",4.0686593552985567E-2]
[null,"Steel Cans",{"$f":"$C$96*D33","v":423.37899999999996},null,{"$f":"$E$96*D33","v":0},0,423.37899999999996,null,null,"Steel Cans",9.1240493272209938E-3]
[null,"Corrugated Paper",{"$f":"$C$96*D34","v":4580.1909999999998},null,{"$f":"$E$96*D34","v":0},779,5359.1909999999998,null,null,"Corrugated Paper",0.11549350118451508]
[null,"Office Paper",{"$f":"$C$96*D35","v":846.75799999999992},null,{"$f":"$E$96*D35","v":0},13,859.75799999999992,null,null,"Office Paper",1.852825577431301E-2]
[null,"Yard Trash",{"$f":"$C$96*D36","v":808.26900000000001},null,{"$f":"$E$96*D36","v":0},59,867.26900000000001,null,null,"Yard Trash",1.8690121937955415E-2]
[null,"Other Plastics",{"$f":"$C$96*SUM(D37:D43)","v":6042.7730000000001},null,{"$f":"$E$96*SUM(D37:D43)","v":0},23,6065.7730000000001,null,null,"Other Plastics",0.1307207302670309]
[null,"Ferrous Metals",{"$f":"$C$96*D44","v":731.29099999999994},null,{"$f":"$E$96*D44","v":0},3634,4365.2910000000002,null,null,"Ferrous Metals",9.4074411842991423E-2]
[null,"White Goods",{"$f":"$C$96*D45","v":0},null,{"$f":"$E$96*D45","v":0},0,0,null,null,"White Goods",0]
[null,"NonFerous Metals",{"$f":"$C$96*D46","v":153.95600000000002},null,{"$f":"$E$96*D46","v":0},138,291.95600000000002,null,null,"NonFerous Metals",6.2918116991587513E-3]
[null,"Other Paper",{"$f":"$C$96*SUM(D47:D51)","v":6273.7070000000003},null,{"$f":"$E$96*SUM(D47:D51)","v":0},42,6315.7070000000003,null,null,"Other Paper",0.13610694485148042]
[null,"Textiles",{"$f":"$C$96*D52","v":2424.8070000000002},null,{"$f":"$E$96*D52","v":0},1,2425.8070000000002,null,null,"Textiles",5.2277469421766275E-2]
[null,"C&D Debris",{"$f":"$C$96*SUM(D53:D56)","v":2347.8289999999997},{"$f":"C10","v":3073},{"$f":"$E$96*SUM(D53:D56)","v":0},0,5420.8289999999997,null,null,"C&D Debris",0.11682183384256201]
[null,"Food",{"$f":"$C$96*D57","v":3579.4769999999999},null,{"$f":"$E$96*D57","v":0},{"$f":"C86","v":67},3646.4769999999999,null,null,"Food",7.8583576461224658E-2]
[null,"Miscellaneous",{"$f":"$C$96*SUM(D58:D63)","v":6543.1299999999992},null,{"$f":"$E$96*SUM(D58:D63)","v":0},{"$f":"C87","v":110},6653.1299999999992,null,null,"Miscellaneous",0.14337859530211422]
[null,"Tires",{"$f":"$C$96*D64","v":0},null,{"$f":"$E$96*D64","v":0},{"$f":"C88","v":53},53,null,null,"Tires",1.1421790271664697E-3]
[null,null,"Total","Total","Total","Total","Total",null,null,null,"total"]
[null,null,{"$f":"SUM(C97:C114)","v":38373.532999999996},{"$f":"D111","v":3073},{"$f":"SUM(E97:E114)","v":0},{"$f":"SUM(F97:F114)","v":4956},{"$f":"SUM(C116:F116)","v":46402.532999999996},null,null,null,{"$f":"SUM(K97:K114)","v":1}]
[]
[null,5]
[]
[null,"US EPA Data and Moisture Content"]
[null,"Category","Moisture Content  (MC) ","US EPA DATA (lbs-dry/person)","US EPA DATA             (lbs-WET/person)    [US EPA DATA/(1-MC)"]
[null,"Newspaper",0.27850000000000003,41.931464174454831,58.117067462861854]
[null,"Glass",3.2000000000000001E-2,56.822429906542055,58.700857341469067]
[null,"Aluminum Cans",0.129,8.4112149532710276,9.6569632069701807]
[null,"Plastic Bottles",4.8000000000000001E-2,23.302180685358255,24.477080551846907]
[null,"Steel Cans",5.8000000000000003E-2,10.841121495327103,11.508621544933231]
[null,"Corrugated Paper",0.24049999999999999,195.20249221183801,257.01447295831201]
[null,"Office Paper",0.13400000000000001,28.22429906542056,32.591569359608037]
[null,"Yard Waste",0.50600000000000001,216.3239875389408,437.90280878328099]
[null,"Other Plastics",0.11700000000000001,154.90485396035913,175.43018568557093]
[null,"Non-ferrous Metal",5.3999999999999999E-2,46.762277712979795,49.431583206109721]
[null,"White Goods","x",30.280373831775702,30.280373831775702]
[null,"Ferrous Metal",0.16900000000000001,12.133426323463874,14.600994372399368]
[null,"Other Paper",0.2545,158.56697819314641,212.69883057430772]
[null,"Textiles",0.17,76.349308411214949,91.987118567728857]
[null,"C&D Debris",8.8999999999999996E-2,"-","-"]
[null,"Food Waste",0.59750000000000003,247.53894080996884,615.00357965209651]
[null,"Miscellaneous",0.313,206.19904324930312,300.14416775735532]
[null,"Tires","x",36.386292834890966,36.386292834890966]
[]
[]
[null,6]
[]
[null,"Findig County Factor"]
[null,"Material","tons-DRY/county-us data ","tons-WET/county-us data ","County Factor","Column1"]
[null,"equation","US DATA * County Population/2000","tons-DRY/(1-MoistureContent)","ton-wet-composition/tons-wet-Usdata"]
[null,"Newspaper ",{"$f":"D122*$C$8/2000","v":746.82034267912786},{"$f":"C147/(1-C122)","v":1035.0940300473012},{"$f":"G97/D147","v":0.13667067521733778},"Newspaper "]
[null,"Glass ",1012.0358878504672,1045.4916196802349,1.0676135312699928,"Glass "]
[null,"Aluminum Cans ",149.80794392523364,171.99534319774241,2.9614580867715361,"Aluminum Cans "]
[null,"Plastic Bottles ",415.0234890965732,435.94904316866933,4.3306919227932452,"Plastic Bottles "]
[null,"Steel Cans ",193.08579439252335,204.97430402603331,2.0655223200378696,"Steel Cans "]
[null,"Corrugated Paper",3476.6539875389408,4577.5562706240162,1.170753712934572,"Corrugated Paper"]
[null,"Office Paper ",502.68887850467291,580.47214607929902,1.4811356682781249,"Office Paper "]
[null,"Yard Waste ",3852.8383800623051,7799.2679758346258,0.11119876925464799,"Yard Waste "]
[null,"Other Plastics ",2758.9329014609762,3124.4993221528607,1.9413583984459071,"Other Plastics "]
[null,"Ferrous Metal ",{"$f":"D133*$C$8/2000","v":216.10238953405334},{"$f":"C156/(1-C133)","v":260.05101026961898},{"$f":"C106/D156","v":2.8121059758306757},"Ferrous Metal "]
[null,"White Goods ",{"$f":"D132*$C$8/2000","v":539.30859813084112},{"$f":"Table714192531374349172178202208214226[[#This Row],[tons-DRY/county-us data ]]","v":539.30859813084112},{"$f":"G107/Table714192531374349172178202208214226[[#This Row],[tons-WET/county-us data ]]","v":0},"White Goods "]
[null,"Non-ferrous Metal ",{"$f":"D131*$C$8/2000","v":832.85954720702659},{"$f":"C158/(1-C131)","v":880.40121269241718},{"$f":"C108/D158","v":0.17487027253083431},"Non-ferrous Metal "]
[null,"Other Paper ",{"$f":"D134*$C$8/2000","v":2824.1571651090339},{"$f":"C159/(1-C134)","v":3788.272521943707},{"$f":"G109/D159","v":1.6671733523435912},"Other Paper "]
[null,"Textiles ",1359.8193574579439,{"$f":"C160/(1-C135)","v":1638.3365752505349},{"$f":"G110/D160","v":1.4806524108936805},"Textiles "]
[null,"C&D Debris",{"$error":"#VALUE!"},{"$f":"C161/(1-C136)","v":{"$error":"#VALUE!"}},{"$f":"#REF!/D161","v":{"$error":"#REF!"}},"C&D Debris"]
[null,"Food Waste",4408.7923052959495,{"$f":"C162/(1-C137)","v":10953.521255393664},{"$f":"G112/D162","v":0.33290454411675374},"Food Waste"]
[null,"Miscellaneous ",3672.5080597917131,{"$f":"C163/(1-C138)","v":5345.7176998423765},{"$f":"G113/D163","v":1.2445718935356749},"Miscellaneous "]
[null,"Tires ",648.05806853582556,{"$f":"Table714192531374349172178202208214226[[#This Row],[tons-DRY/county-us data ]]","v":648.05806853582556},{"$f":"G114/Table714192531374349172178202208214226[[#This Row],[tons-WET/county-us data ]]","v":8.1782794742058032E-2},"Tires "]
[]
[]
[]
[null,"Link to \"New WasteCalc County Factors\""]
[null,"Newspaper","Glass","Aluminum Cans","Plastic Bottles","Steel Cans","Corrugated Paper","Office Paper","Yard Waste","Other Plastics","Ferrous Metals","White Goods","Non-Ferrous Metal","Other Paper","Textiles","C&D Debris","Food Waste","Misc","Tires"]
[null,{"$f":"E147","v":0.13667067521733778},{"$f":"E148","v":1.0676135312699928},{"$f":"E149","v":2.9614580867715361},{"$f":"E150","v":4.3306919227932452},{"$f":"E151","v":2.0655223200378696},{"$f":"E152","v":1.170753712934572},{"$f":"E153","v":1.4811356682781249},{"$f":"E154","v":0.11119876925464799},{"$f":"E155","v":1.9413583984459071},{"$f":"E156","v":2.8121059758306757},{"$f":"E157","v":0},{"$f":"E158","v":0.17487027253083431},{"$f":"E159","v":1.6671733523435912},{"$f":"E160","v":1.4806524108936805},{"$error":"#REF!"},{"$f":"E162","v":0.33290454411675374},{"$f":"E163","v":1.2445718935356749},{"$f":"E164","v":8.1782794742058032E-2}]

{"sheet":"65 Okeechobee County Factor","index":64,"n_rows":168,"n_cols":19,"rows_kept":168,"cut":false,"hidden":true,"merged":[[2,1,2,2],[3,1,3,2],[19,1,19,2],[67,1,67,2],[89,1,89,2],[89,9,89,10],[115,1,115,2],[117,1,117,2],[139,1,139,2],[141,1,141,2]]}
[null,"Finding County Factors for Okeechobee"]
[]
[null,1]
[null,"Information from annual solid waste report 2017"]
[null,"County","Okeechobee"]
[null,"Waste comp study","NONE"]
[null,"Year",2017]
[null,"Population",38718]
[null,"Landfilled tons",53265]
[null,"C&D collected",12031]
[null,"C&D disposed",{"$f":"C10-C14","v":12031}]
[]
[null,"Recycled tons",9268]
[null,"Recycled C&D",0]
[null,"combustor recy metals"]
[null,"Combustor input"]
[null,"Process Fuel"]
[null,"Total Tons MSW collected",{"$f":"C9+(C16-C15-C17)+C13","v":62533}]
[]
[null,2]
[]
[null,"Aucilla Landifll Waste Composition Study Results"]
[null,"FDEP Category","Waste Comp Category","Percentage in waste stream"]
[null,"Newspapers","Newspaper",3.0000000000000001E-3]
[null,"Glass","Green",2E-3]
[null,null,"Clear ",0.02]
[null,null,"Brown",7.0000000000000001E-3]
[null,"Aluminum Cans","Aluminum cans and tin foil",1.2999999999999999E-2]
[null,"Plastic Bottles","#1 PET Bottles",3.7999999999999999E-2]
[null,null,"#2 HDPE Bottles- translucent ",5.0000000000000001E-3]
[null,null,"#2 HDPE Bottles- colored",4.0000000000000001E-3]
[null,null,"#3-7 (Other Plastic Bottles)",2E-3]
[null,"Steel Cans","Steel/Tin Cans",1.0999999999999999E-2]
[null,"Corrugated Boxes","Corrugated Cardboard (OCC)",0.11899999999999999]
[null,"Office Paper","High Grade Paper (Office Type)",2.1999999999999999E-2]
[null,"Yard Trash","Yard Trash",2.1000000000000001E-2]
[null,"Other Plastics","Expanded Polystyrene (Food Service)",4.0000000000000001E-3]
[null,null,"Expanded Polystyrene",1.7999999999999999E-2]
[null,null,"Rigid Plastic (Tubs, Cups, Lids)",8.9999999999999993E-3]
[null,null,"Rigid Plastic (Food Service)",6.0000000000000001E-3]
[null,null,"Grocery Bags",0.01]
[null,null,"Other Flexible Plastic",7.0999999999999994E-2]
[null,null,"Other Plastics",3.9E-2]
[null,"Ferrous Metals","Other Ferrous Metals",1.9E-2]
[null,"White Goods","White Goods",0]
[null,"Nonferrous Metals","Other Non-Ferrous Metals ",4.0000000000000001E-3]
[null,"Other Paper","Polycoated Aseptic Containers",0]
[null,null,"Food Service Container (Polycoated)",8.0000000000000002E-3]
[null,null,"Other Compsite (Metal Coated)",6.0000000000000001E-3]
[null,null,"Boxboards",2.8000000000000001E-2]
[null,null,"Other Paper",0.121]
[null,"Textiles","Clothing, Footwear, Other Textiles",6.3E-2]
[null,"C&D Debris","Wood",4.7E-2]
[null,null,"Asphalt Shingles",5.0000000000000001E-3]
[null,null,"Gypsum Drywall",6.0000000000000001E-3]
[null,null,"Concrete/Bricks/Ceramics",3.0000000000000001E-3]
[null,"Food Waste","Food Waste",9.2999999999999999E-2]
[null,"Miscellaneous","Animal- By-Product",3.0000000000000001E-3]
[null,null,"Other Organics",3.5999999999999997E-2]
[null,null,"Rubber and Leather",1.0999999999999999E-2]
[null,null,"Small Appliances/Electronics",1.4999999999999999E-2]
[null,null,"Hazardous Waste",0.01]
[null,null,"Residuals ",9.5000000000000001E-2]
[null,"Tires","Tires",0]
[null,null,null,"sum"]
[null,null,null,0.997]
[]
[null,"Recycled tons from Okeechobee"]
[null,"Materials","Tons"]
[null,"Newspaper",0]
[null,"Glass",293]
[null,"Aluminum Cans",157]
[null,"Plastic Bottles",75]
[null,"Steel Cans",26]
[null,"Corrugated Paper",417]
[null,"Office Paper",29]
[null,"Yard Trash",0]
[null,"Other Plastics",28]
[null,"Ferrous Metals",6151]
[null,"White Goods",0]
[null,"NonFerous Metals",1535]
[null,"Other Paper",557]
[null,"Textiles",0]
[null,"C&D Debris",0]
[null,"Food",0]
[null,"Miscellaneous",0]
[null,"Tires",0]
[null,"Total",{"$f":"SUM(C70:C87)","v":9268}]
[]
[null,3,null,null,null,null,null,null,null,4]
[]
[null,"Calculating waste compositon percentage utalizing waste compsition study"]
[null,"FDEP Category","Landfilled tons\n(Plus combusor ash, minus C&D  disposed)","Collected C&D \n(disposal C&D LANDFILL + recycled)","Combusted\n(minus recycled metals, minus ash)","Recycled Materials\n(Minus recycled C&D)","Total Collected Tons"]
[null,null,{"$f":"C9-C11","v":41234},{"$f":"C11+C14","v":12031},{"$f":"C16-C15","v":0},{"$f":"C88","v":9268},null,null,null,"FDEP Category","Percentage"]
[null,"Newspaper",{"$f":"$C$94*D24","v":123.702},null,{"$f":"$E$94*D24","v":0},{"$f":"C70","v":0},{"$f":"SUM(C95:F95)","v":123.702},null,null,"Newspaper",{"$f":"G95/$G$114","v":1.9821084992816293E-3}]
[null,"Glass",{"$f":"$C$94*SUM(D25:D27)","v":1195.7859999999998},null,{"$f":"$E$94*SUM(D25:D27)","v":0},293,1488.7859999999998,null,null,"Glass",2.3855195422964055E-2]
[null,"Aluminum Cans",{"$f":"$C$94*D28","v":536.04200000000003},null,{"$f":"$E$94*D28","v":0},157,693.04200000000003,null,null,"Aluminum Cans",1.1104787623151922E-2]
[null,"Plastic Bottles",{"$f":"$C$94*SUM(D29:D32)","v":2020.4660000000001},null,{"$f":"$E$94*SUM(D29:D32)","v":0},75,2095.4660000000003,null,null,"Plastic Botles",3.3576182830962149E-2]
[null,"Steel Cans",{"$f":"$C$94*D33","v":453.57399999999996},null,{"$f":"$E$94*D33","v":0},26,479.57399999999996,null,null,"Steel Cans",7.6843357539448679E-3]
[null,"Corrugated Paper",{"$f":"$C$94*D34","v":4906.8459999999995},null,{"$f":"$E$94*D34","v":0},417,5323.8459999999995,null,null,"Corrugated Paper",8.5305333830225094E-2]
[null,"Office Paper",{"$f":"$C$94*D35","v":907.14799999999991},null,{"$f":"$E$94*D35","v":0},29,936.14799999999991,null,null,"Office Paper",1.5000136678351997E-2]
[null,"Yard Trash",{"$f":"$C$94*D36","v":865.9140000000001},null,{"$f":"$E$94*D36","v":0},0,865.9140000000001,null,null,"Yard Trash",1.3874759494971408E-2]
[null,"Other Plastics",{"$f":"$C$94*SUM(D37:D43)","v":6473.7380000000003},null,{"$f":"$E$94*SUM(D37:D43)","v":0},28,6501.7380000000003,null,null,"Other Plastics",0.10417899589256716]
[null,"Ferrous Metals",{"$f":"$C$94*D44","v":783.44600000000003},null,{"$f":"$E$94*D44","v":0},6151,6934.4459999999999,null,null,"Ferrous Metals",0.11111238584994178]
[null,"White Goods",{"$f":"$C$94*D45","v":0},null,{"$f":"$E$94*D45","v":0},0,0,null,null,"White Goods",0]
[null,"NonFerous Metals",{"$f":"$C$94*D46","v":164.93600000000001},null,{"$f":"$E$94*D46","v":0},1535,1699.9359999999999,null,null,"NonFerous Metals",2.7238505390655088E-2]
[null,"Other Paper",{"$f":"$C$94*SUM(D47:D51)","v":6721.1419999999998},null,{"$f":"$E$94*SUM(D47:D51)","v":0},557,7278.1419999999998,null,null,"Other Paper",0.11661951397049843]
[null,"Textiles",{"$f":"$C$94*D52","v":2597.7420000000002},null,{"$f":"$E$94*D52","v":0},0,2597.7420000000002,null,null,"Textiles",4.1624278484914221E-2]
[null,"C&D Debris",{"$f":"$C$94*SUM(D53:D56)","v":2515.2739999999999},{"$f":"C10","v":12031},{"$f":"$E$94*SUM(D53:D56)","v":0},0,14546.273999999999,null,null,"C&D Debris",0.23307863517388064]
[null,"Food",{"$f":"$C$94*D57","v":3834.7620000000002},null,{"$f":"$E$94*D57","v":0},{"$f":"C85","v":0},3834.7620000000002,null,null,"Food",6.1445363477730511E-2]
[null,"Miscellaneous",{"$f":"$C$94*SUM(D58:D63)","v":7009.78},null,{"$f":"$E$94*SUM(D58:D63)","v":0},{"$f":"C86","v":0},7009.78,null,null,"Miscellaneous",0.11231948162595899]
[null,"Tires",{"$f":"$C$94*D64","v":0},null,{"$f":"$E$94*D64","v":0},{"$f":"C87","v":0},{"$f":"SUM(C112:F112)","v":0},null,null,"Tires",0]
[null,null,"Total","Total","Total","Total","Total",null,null,null,"total"]
[null,null,{"$f":"SUM(C95:C112)","v":41110.298000000003},{"$f":"D109","v":12031},{"$f":"SUM(E95:E112)","v":0},{"$f":"SUM(F95:F112)","v":9268},{"$f":"SUM(C114:F114)","v":62409.298000000003},null,null,null,{"$f":"SUM(K95:K112)","v":0.99999999999999989}]
[]
[null,5]
[]
[null,"US EPA Data and Moisture Content"]
[null,"Category","Moisture Content  (MC) ","US EPA DATA (lbs-dry/person)","US EPA DATA             (lbs-WET/person)    [US EPA DATA/(1-MC)"]
[null,"Newspaper",0.27850000000000003,41.931464174454831,58.117067462861854]
[null,"Glass",3.2000000000000001E-2,56.822429906542055,58.700857341469067]
[null,"Aluminum Cans",0.129,8.4112149532710276,9.6569632069701807]
[null,"Plastic Bottles",4.8000000000000001E-2,23.302180685358255,24.477080551846907]
[null,"Steel Cans",5.8000000000000003E-2,10.841121495327103,11.508621544933231]
[null,"Corrugated Paper",0.24049999999999999,195.20249221183801,257.01447295831201]
[null,"Office Paper",0.13400000000000001,28.22429906542056,32.591569359608037]
[null,"Yard Waste",0.50600000000000001,216.3239875389408,437.90280878328099]
[null,"Other Plastics",0.11700000000000001,154.90485396035913,175.43018568557093]
[null,"Non-ferrous Metal",5.3999999999999999E-2,46.762277712979795,49.431583206109721]
[null,"White Goods","x",30.280373831775702,30.280373831775702]
[null,"Ferrous Metal",0.16900000000000001,12.133426323463874,14.600994372399368]
[null,"Other Paper",0.2545,158.56697819314641,212.69883057430772]
[null,"Textiles",0.17,76.349308411214949,91.987118567728857]
[null,"C&D Debris",8.8999999999999996E-2,"-","-"]
[null,"Food Waste",0.59750000000000003,247.53894080996884,615.00357965209651]
[null,"Miscellaneous",0.313,206.19904324930312,300.14416775735532]
[null,"Tires","x",36.386292834890966,36.386292834890966]
[]
[]
[null,6]
[]
[null,"Finding County Factor"]
[null,"Category ","tons-DRY/county-us data ","tons-WET/county-us data ","County Factor","Category    "]
[null,"equation","US DATA * County Population/2000","tons-DRY/(1-MoistureContent)","ton-wet-composition/tons-wet-Usdata"]
[null,"Newspaper ",{"$f":"D120*$C$8/2000","v":811.75121495327107},{"$f":"C145/(1-C120)","v":1125.0883090135426},{"$f":"G95/D145","v":0.10994870270091039},"Newspaper "]
[null,"Glass ",1100.0254205607475,1136.3898972734996,1.3101014040797017,"Glass "]
[null,"Aluminum Cans ",162.83271028037385,186.94915072373576,3.7071149952649067,"Aluminum Cans "]
[null,"Plastic Bottles ",451.10691588785045,473.85180240320426,4.4221969598354542,"Plastic Bottles "]
[null,"Steel Cans ",209.87327102803738,222.79540448836241,2.1525309334872311,"Steel Cans "]
[null,"Corrugated Paper",3778.9250467289717,4975.5431819999621,1.0700029735969518,"Corrugated Paper"]
[null,"Office Paper ",546.39420560747669,630.94019123265207,1.4837349292506965,"Office Paper "]
[null,"Yard Waste ",4187.8160747663551,8477.3604752355368,0.10214429391430843,"Yard Waste "]
[null,"Other Plastics ",2998.8030678185924,3396.1529646869676,1.9144420370945461,"Other Plastics "]
[null,"Ferrous Metal ",{"$f":"D131*$C$8/2000","v":234.89100019593715},{"$f":"C154/(1-C131)","v":282.6606500552794},{"$f":"C104/D154","v":2.7716839957977277},"Ferrous Metal "]
[null,"White Goods ",{"$f":"D130*$C$8/2000","v":586.19775700934576},{"$f":"Table714192531374349172178202208214226232[[#This Row],[tons-DRY/county-us data ]]","v":586.19775700934576},{"$f":"G105/Table714192531374349172178202208214226232[[#This Row],[tons-WET/county-us data ]]","v":0},"White Goods "]
[null,"Non-ferrous Metal ",{"$f":"D129*$C$8/2000","v":905.27093424557575},{"$f":"C156/(1-C129)","v":956.946019287078},{"$f":"C106/D156","v":0.17235663942975263},"Non-ferrous Metal "]
[null,"Other Paper ",{"$f":"D132*$C$8/2000","v":3069.6981308411214},{"$f":"C157/(1-C132)","v":4117.6366610880232},{"$f":"G107/D157","v":1.7675532347909639},"Other Paper "]
[null,"Textiles ",1478.0462615327101,{"$f":"C158/(1-C133)","v":1780.778628352663},{"$f":"G108/D158","v":1.4587675068871879},"Textiles "]
[null,"C&D Debris",{"$error":"#VALUE!"},{"$f":"C159/(1-C134)","v":{"$error":"#VALUE!"}},{"$f":"#REF!/D159","v":{"$error":"#REF!"}},"C&D Debris"]
[null,"Food Waste",4792.1063551401867,{"$f":"C160/(1-C135)","v":11905.854298484937},{"$f":"G110/D160","v":0.32209045263454866},"Food Waste"]
[null,"Miscellaneous ",3991.8072782632594,{"$f":"C161/(1-C136)","v":5810.4909436146418},{"$f":"G111/D161","v":1.206400641189072},"Miscellaneous "]
[null,"Tires ",704.40224299065414,{"$f":"Table714192531374349172178202208214226232[[#This Row],[tons-DRY/county-us data ]]","v":704.40224299065414},{"$f":"G112/Table714192531374349172178202208214226232[[#This Row],[tons-WET/county-us data ]]","v":0},"Tires "]
[]
[]
[]
[null,"Link to \"New WasteCalc County Factors\""]
[null,"Newspaper","Glass","Aluminum Cans","Plastic Bottles","Steel Cans","Corrugated Paper","Office Paper","Yard Waste","Other Plastics","Ferrous Metals","White Goods","Non-Ferrous Metal","Other Paper","Textiles","C&D Debris","Food Waste","Misc","Tires"]
[null,{"$f":"E145","v":0.10994870270091039},{"$f":"E146","v":1.3101014040797017},{"$f":"E147","v":3.7071149952649067},{"$f":"E148","v":4.4221969598354542},{"$f":"E149","v":2.1525309334872311},{"$f":"E150","v":1.0700029735969518},{"$f":"E151","v":1.4837349292506965},{"$f":"E152","v":0.10214429391430843},{"$f":"E153","v":1.9144420370945461},{"$f":"E154","v":2.7716839957977277},{"$f":"E155","v":0},{"$f":"E156","v":0.17235663942975263},{"$f":"E157","v":1.7675532347909639},{"$f":"E158","v":1.4587675068871879},{"$error":"#REF!"},{"$f":"E160","v":0.32209045263454866},{"$f":"E161","v":1.206400641189072},{"$f":"E162","v":0}]

{"sheet":"66 Wakulla County Factor","index":65,"n_rows":168,"n_cols":19,"rows_kept":168,"cut":false,"hidden":true,"merged":[[2,1,2,2],[3,1,3,2],[19,1,19,2],[67,1,67,2],[89,1,89,2],[89,9,89,10],[115,1,115,2],[117,1,117,2],[139,1,139,2],[141,1,141,2]]}
[null,"Finding County Factors for Wakulla"]
[]
[null,1]
[null,"Information from annual solid waste report 2017"]
[null,"County","Wakulla"]
[null,"Waste comp study","NONE"]
[null,"Year",2017]
[null,"Population",32120]
[null,"Landfilled tons ",16901]
[null,"C&D collected",1467]
[null,"C&D disposed",{"$f":"C10-C14","v":856}]
[]
[null,"Recycled tons",3887]
[null,"Recycled C&D",611]
[null,"combustor recy metals"]
[null,"Combustor input"]
[null,"Process Fuel"]
[null,"Total Tons MSW collected",{"$f":"C9+(C16-C15-C17)+C13","v":20788}]
[]
[null,2]
[]
[null,"Aucilla Landifll Waste Composition Study Results"]
[null,"FDEP Category","Waste Comp Category","Percentage in waste stream"]
[null,"Newspapers","Newspaper",3.0000000000000001E-3]
[null,"Glass","Green",2E-3]
[null,null,"Clear ",0.02]
[null,null,"Brown",7.0000000000000001E-3]
[null,"Aluminum Cans","Aluminum cans and tin foil",1.2999999999999999E-2]
[null,"Plastic Bottles","#1 PET Bottles",3.7999999999999999E-2]
[null,null,"#2 HDPE Bottles- translucent ",5.0000000000000001E-3]
[null,null,"#2 HDPE Bottles- colored",4.0000000000000001E-3]
[null,null,"#3-7 (Other Plastic Bottles)",2E-3]
[null,"Steel Cans","Steel/Tin Cans",1.0999999999999999E-2]
[null,"Corrugated Boxes","Corrugated Cardboard (OCC)",0.11899999999999999]
[null,"Office Paper","High Grade Paper (Office Type)",2.1999999999999999E-2]
[null,"Yard Trash","Yard Trash",2.1000000000000001E-2]
[null,"Other Plastics","Expanded Polystyrene (Food Service)",4.0000000000000001E-3]
[null,null,"Expanded Polystyrene",1.7999999999999999E-2]
[null,null,"Rigid Plastic (Tubs, Cups, Lids)",8.9999999999999993E-3]
[null,null,"Rigid Plastic (Food Service)",6.0000000000000001E-3]
[null,null,"Grocery Bags",0.01]
[null,null,"Other Flexible Plastic",7.0999999999999994E-2]
[null,null,"Other Plastics",3.9E-2]
[null,"Ferrous Metals","Other Ferrous Metals",1.9E-2]
[null,"White Goods","White Goods",0]
[null,"Nonferrous Metals","Other Non-Ferrous Metals ",4.0000000000000001E-3]
[null,"Other Paper","Polycoated Aseptic Containers",0]
[null,null,"Food Service Container (Polycoated)",8.0000000000000002E-3]
[null,null,"Other Compsite (Metal Coated)",6.0000000000000001E-3]
[null,null,"Boxboards",2.8000000000000001E-2]
[null,null,"Other Paper",0.121]
[null,"Textiles","Clothing, Footwear, Other Textiles",6.3E-2]
[null,"C&D Debris","Wood",4.7E-2]
[null,null,"Asphalt Shingles",5.0000000000000001E-3]
[null,null,"Gypsum Drywall",6.0000000000000001E-3]
[null,null,"Concrete/Bricks/Ceramics",3.0000000000000001E-3]
[null,"Food Waste","Food Waste",9.2999999999999999E-2]
[null,"Miscellaneous","Animal- By-Product",3.0000000000000001E-3]
[null,null,"Other Organics",3.5999999999999997E-2]
[null,null,"Rubber and Leather",1.0999999999999999E-2]
[null,null,"Small Appliances/Electronics",1.4999999999999999E-2]
[null,null,"Hazardous Waste",0.01]
[null,null,"Residuals ",9.5000000000000001E-2]
[null,"Tires","Tires",0]
[null,null,null,"sum"]
[null,null,null,{"$f":"SUM(D24:D64)","v":0.99700000000000011}]
[]
[null,"Recycled tons from Wakulla"]
[null,"Category","Tons"]
[null,"Newspaper",0]
[null,"Glass",204]
[null,"Aluminum Cans",13]
[null,"Plastic Bottles",31]
[null,"Steel Cans",18]
[null,"Corrugated Paper",1172]
[null,"Office Paper",646]
[null,"Yard Trash",34]
[null,"Other Plastics",51]
[null,"Ferrous Metals",166]
[null,"White Goods",139]
[null,"NonFerous Metals",16]
[null,"Other Paper",441]
[null,"Textiles",0]
[null,"C&D Debris",611]
[null,"Food",101]
[null,"Miscellaneous",232]
[null,"Tires",12]
[null,"Total",{"$f":"SUM(C70:C87)","v":3887}]
[]
[null,3,null,null,null,null,null,null,null,4]
[]
[null,"Calculating waste compositon percentage utalizing waste compsition study"]
[null,"FDEP Category","Landfilled tons\n(Plus combusor ash, minus C&D  disposed)","Collected C&D \n(disposal C&D LANDFILL + recycled)","Combusted\n(minus recycled metals, minus ash)","Recycled Materials\n(Minus recycled C&D)","Total Collected Tons"]
[null,null,{"$f":"C9-C11","v":16045},{"$f":"C11+C14","v":1467},{"$f":"C16-C15","v":0},{"$f":"C88","v":3887},null,null,null,"FDEP Category","Percentage"]
[null,"Newspaper",{"$f":"$C$94*D24","v":48.134999999999998},null,{"$f":"$E$94*D24","v":0},{"$f":"C70","v":0},{"$f":"SUM(C95:F95)","v":48.134999999999998},null,null,"Newspaper",{"$f":"G95/$G$114","v":2.3208926384043487E-3}]
[null,"Glass",{"$f":"$C$94*SUM(D25:D27)","v":465.30499999999995},null,{"$f":"$E$94*SUM(D25:D27)","v":0},204,669.30499999999995,null,null,"Glass",3.2271425103297439E-2]
[null,"Aluminum Cans",{"$f":"$C$94*D28","v":208.58499999999998},null,{"$f":"$E$94*D28","v":0},13,221.58499999999998,null,null,"Aluminum Cans",1.0684013613396231E-2]
[null,"Plastic Bottles",{"$f":"$C$94*SUM(D29:D32)","v":786.20500000000004},null,{"$f":"$E$94*SUM(D29:D32)","v":0},31,817.20500000000004,null,null,"Plastic Botles",3.9402619062370949E-2]
[null,"Steel Cans",{"$f":"$C$94*D33","v":176.49499999999998},null,{"$f":"$E$94*D33","v":0},18,194.49499999999998,null,null,"Steel Cans",9.3778334622718132E-3]
[null,"Corrugated Paper",{"$f":"$C$94*D34","v":1909.355},null,{"$f":"$E$94*D34","v":0},1172,3081.355,null,null,"Corrugated Paper",0.14857160352779539]
[null,"Office Paper",{"$f":"$C$94*D35","v":352.98999999999995},null,{"$f":"$E$94*D35","v":0},646,998.99,null,null,"Office Paper",4.8167623077585132E-2]
[null,"Yard Trash",{"$f":"$C$94*D36","v":336.94499999999999},null,{"$f":"$E$94*D36","v":0},34,370.94499999999999,null,null,"Yard Trash",1.7885603401950785E-2]
[null,"Other Plastics",{"$f":"$C$94*SUM(D37:D43)","v":2519.0650000000001},null,{"$f":"$E$94*SUM(D37:D43)","v":0},51,2570.0650000000001,null,null,"Other Plastics",0.12391908047617477]
[null,"Ferrous Metals",{"$f":"$C$94*D44","v":304.85500000000002},null,{"$f":"$E$94*D44","v":0},166,470.85500000000002,null,null,"Ferrous Metals",2.2702896089246485E-2]
[null,"White Goods",{"$f":"$C$94*D45","v":0},null,{"$f":"$E$94*D45","v":0},139,139,null,null,"White Goods",6.7020686971684734E-3]
[null,"NonFerous Metals",{"$f":"$C$94*D46","v":64.180000000000007},null,{"$f":"$E$94*D46","v":0},16,80.180000000000007,null,null,"NonFerous Metals",3.865984662870275E-3]
[null,"Other Paper",{"$f":"$C$94*SUM(D47:D51)","v":2615.335},null,{"$f":"$E$94*SUM(D47:D51)","v":0},441,3056.335,null,null,"Other Paper",0.14736523116230507]
[null,"Textiles",{"$f":"$C$94*D52","v":1010.835},null,{"$f":"$E$94*D52","v":0},0,1010.835,null,null,"Textiles",4.873874540649132E-2]
[null,"C&D Debris",{"$f":"$C$94*SUM(D53:D56)","v":978.745},{"$f":"C10","v":1467},{"$f":"$E$94*SUM(D53:D56)","v":0},0,2445.7449999999999,null,null,"C&D Debris",0.11792482737954177]
[null,"Food",{"$f":"$C$94*D57","v":1492.1849999999999},null,{"$f":"$E$94*D57","v":0},{"$f":"C85","v":101},1593.1849999999999,null,null,"Food",7.6817520268333481E-2]
[null,"Miscellaneous",{"$f":"$C$94*SUM(D58:D63)","v":2727.6499999999996},null,{"$f":"$E$94*SUM(D58:D63)","v":0},{"$f":"C86","v":232},2959.6499999999996,null,null,"Miscellaneous",0.14270343611204797]
[null,"Tires",{"$f":"$C$94*D64","v":0},null,{"$f":"$E$94*D64","v":0},{"$f":"C87","v":12},12,null,null,"Tires",5.7859585874835736E-4]
[null,null,"Total","Total","Total","Total","Total",null,null,null,"total"]
[null,null,{"$f":"SUM(C95:C112)","v":15996.865},{"$f":"D109","v":1467},{"$f":"SUM(E95:E112)","v":0},{"$f":"SUM(F95:F112)","v":3276},{"$f":"SUM(C114:F114)","v":20739.864999999998},null,null,null,{"$f":"SUM(K95:K112)","v":1}]
[]
[null,5]
[]
[null,"US EPA Data and Moisture Content"]
[null,"Category","Moisture Content  (MC) ","US EPA DATA (lbs-dry/person)","US EPA DATA             (lbs-WET/person)    [US EPA DATA/(1-MC)"]
[null,"Newspaper",0.27850000000000003,41.931464174454831,58.117067462861854]
[null,"Glass",3.2000000000000001E-2,56.822429906542055,58.700857341469067]
[null,"Aluminum Cans",0.129,8.4112149532710276,9.6569632069701807]
[null,"Plastic Bottles",4.8000000000000001E-2,23.302180685358255,24.477080551846907]
[null,"Steel Cans",5.8000000000000003E-2,10.841121495327103,11.508621544933231]
[null,"Corrugated Paper",0.24049999999999999,195.20249221183801,257.01447295831201]
[null,"Office Paper",0.13400000000000001,28.22429906542056,32.591569359608037]
[null,"Yard Waste",0.50600000000000001,216.3239875389408,437.90280878328099]
[null,"Other Plastics",0.11700000000000001,154.90485396035913,175.43018568557093]
[null,"Non-ferrous Metal",5.3999999999999999E-2,46.762277712979795,49.431583206109721]
[null,"White Goods","x",30.280373831775702,30.280373831775702]
[null,"Ferrous Metal",0.16900000000000001,12.133426323463874,14.600994372399368]
[null,"Other Paper",0.2545,158.56697819314641,212.69883057430772]
[null,"Textiles",0.17,76.349308411214949,91.987118567728857]
[null,"C&D Debris",8.8999999999999996E-2,"-","-"]
[null,"Food Waste",0.59750000000000003,247.53894080996884,615.00357965209651]
[null,"Miscellaneous",0.313,206.19904324930312,300.14416775735532]
[null,"Tires","x",36.386292834890966,36.386292834890966]
[]
[]
[null,6]
[]
[null,"Finding County Factor"]
[null,"Category","tons-DRY/county-us data ","tons-WET/county-us data ","County Factor","Column1"]
[null,"equation","US DATA * County Population/2000","tons-DRY/(1-MoistureContent)","ton-wet-composition/tons-wet-Usdata"]
[null,"Newspaper ",{"$f":"D120*$C$8/2000","v":673.41931464174456},{"$f":"C145/(1-C120)","v":933.36010345356135},{"$f":"G95/D145","v":5.1571735091197758E-2},"Newspaper "]
[null,"Glass ",912.56822429906538,942.73576890399318,0.70996033255227109,"Glass "]
[null,"Aluminum Cans ",135.0841121495327,155.0908291039411,1.4287434097827592,"Aluminum Cans "]
[null,"Plastic Bottles ",374.23302180685357,393.10191366266133,2.0788629401109477,"Plastic Bottles "]
[null,"Steel Cans ",174.10841121495329,184.82846201162772,1.0523000509941165,"Steel Cans "]
[null,"Corrugated Paper",3134.9520249221187,4127.6524357104918,0.74651513129874447,"Corrugated Paper"]
[null,"Office Paper ",453.2822429906542,523.42060391530504,1.9085798161694971,"Office Paper "]
[null,"Yard Waste ",3474.1632398753891,7032.7191090594924,5.2745601558599378E-2,"Yard Waste "]
[null,"Other Plastics ",2487.7719546033677,2817.4087821102694,0.91220877010079948,"Other Plastics "]
[null,"Ferrous Metal ",{"$f":"D131*$C$8/2000","v":194.86282675482983},{"$f":"C154/(1-C131)","v":234.49196962073387},{"$f":"C104/D154","v":1.3000658423103826},"Ferrous Metal "]
[null,"White Goods ",{"$f":"D130*$C$8/2000","v":486.30280373831772},{"$f":"Table714192531374349172178202208214226232238[[#This Row],[tons-DRY/county-us data ]]","v":486.30280373831772},{"$f":"G105/Table714192531374349172178202208214226232238[[#This Row],[tons-WET/county-us data ]]","v":0.28583014313607924},"White Goods "]
[null,"Non-ferrous Metal ",{"$f":"D129*$C$8/2000","v":751.00218007045555},{"$f":"C156/(1-C129)","v":793.87122629012219},{"$f":"C106/D156","v":8.0844345877004078E-2},"Non-ferrous Metal "]
[null,"Other Paper ",{"$f":"D132*$C$8/2000","v":2546.5856697819313},{"$f":"C157/(1-C132)","v":3415.943219023382},{"$f":"G107/D157","v":0.89472652325696622},"Other Paper "]
[null,"Textiles ",1226.1698930841121,{"$f":"C158/(1-C133)","v":1477.3131241977255},{"$f":"G108/D158","v":0.68423882753288834},"Textiles "]
[null,"C&D Debris",{"$error":"#VALUE!"},{"$f":"C159/(1-C134)","v":{"$error":"#VALUE!"}},{"$f":"#REF!/D159","v":{"$error":"#REF!"}},"C&D Debris"]
[null,"Food Waste",3975.4753894080995,{"$f":"C160/(1-C135)","v":9876.9574892126711},{"$f":"G110/D160","v":0.1613032152603705},"Food Waste"]
[null,"Miscellaneous ",3311.5566345838079,{"$f":"C161/(1-C136)","v":4820.3153341831257},{"$f":"G111/D161","v":0.61399510090382015},"Miscellaneous "]
[null,"Tires ",584.36386292834891,{"$f":"Table714192531374349172178202208214226232238[[#This Row],[tons-DRY/county-us data ]]","v":584.36386292834891},{"$f":"G112/Table714192531374349172178202208214226232238[[#This Row],[tons-WET/county-us data ]]","v":2.0535150719050137E-2},"Tires "]
[]
[]
[]
[null,"Link to \"New WasteCalc County Factors\""]
[null,"Newspaper","Glass","Aluminum Cans","Plastic Bottles","Steel Cans","Corrugated Paper","Office Paper","Yard Waste","Other Plastics","Ferrous Metals","White Goods","Non-Ferrous Metal","Other Paper","Textiles","C&D Debris","Food Waste","Misc","Tires"]
[null,{"$f":"E145","v":5.1571735091197758E-2},{"$f":"E146","v":0.70996033255227109},{"$f":"E147","v":1.4287434097827592},{"$f":"E148","v":2.0788629401109477},{"$f":"E149","v":1.0523000509941165},{"$f":"E150","v":0.74651513129874447},{"$f":"E151","v":1.9085798161694971},{"$f":"E152","v":5.2745601558599378E-2},{"$f":"E153","v":0.91220877010079948},{"$f":"E154","v":1.3000658423103826},{"$f":"E155","v":0.28583014313607924},{"$f":"E156","v":8.0844345877004078E-2},{"$f":"E157","v":0.89472652325696622},{"$f":"E158","v":0.68423882753288834},{"$error":"#REF!"},{"$f":"E160","v":0.1613032152603705},{"$f":"E161","v":0.61399510090382015},{"$f":"E162","v":2.0535150719050137E-2}]

{"sheet":"67 Jackson County Factor","index":66,"n_rows":168,"n_cols":19,"rows_kept":168,"cut":false,"hidden":true,"merged":[[2,1,2,2],[3,1,3,2],[19,1,19,2],[67,1,67,2],[89,1,89,2],[89,9,89,10],[115,1,115,2],[117,1,117,2],[139,1,139,2],[141,1,141,2]]}
[null,"Finding County Factors for Jackson"]
[null,"***USES AVERAGES FOR ALL COMBUSTED TONS"]
[null,1]
[null,"Information from annual solid waste report 2017"]
[null,"County","Jackson"]
[null,"Waste comp study","NONE"]
[null,"Year",2017]
[null,"Population",50418]
[null,"Landfilled tons",42934]
[null,"C&D collected",4371]
[null,"C&D disposed",{"$f":"C10-C14","v":4371}]
[]
[null,"Recycled tons",6622]
[null,"Recycled C&D",0]
[null,"WTE metals"]
[null,"WTE input",190]
[null,"WTE ash",71]
[null,"Total Tons MSW collected",{"$f":"C9+(C16-C15)+C13","v":49746}]
[]
[null,2]
[]
[null,"Aucilla Landifll Waste Composition Study Results"]
[null,"FDEP Category","Waste Comp Category","Percentage in waste stream"]
[null,"Newspapers","Newspaper",3.0000000000000001E-3]
[null,"Glass","Green",2E-3]
[null,null,"Clear ",0.02]
[null,null,"Brown",7.0000000000000001E-3]
[null,"Aluminum Cans","Aluminum cans and tin foil",1.2999999999999999E-2]
[null,"Plastic Bottles","#1 PET Bottles",3.7999999999999999E-2]
[null,null,"#2 HDPE Bottles- translucent ",5.0000000000000001E-3]
[null,null,"#2 HDPE Bottles- colored",4.0000000000000001E-3]
[null,null,"#3-7 (Other Plastic Bottles)",2E-3]
[null,"Steel Cans","Steel/Tin Cans",1.0999999999999999E-2]
[null,"Corrugated Boxes","Corrugated Cardboard (OCC)",0.11899999999999999]
[null,"Office Paper","High Grade Paper (Office Type)",2.1999999999999999E-2]
[null,"Yard Trash","Yard Trash",2.1000000000000001E-2]
[null,"Other Plastics","Expanded Polystyrene (Food Service)",4.0000000000000001E-3]
[null,null,"Expanded Polystyrene",1.7999999999999999E-2]
[null,null,"Rigid Plastic (Tubs, Cups, Lids)",8.9999999999999993E-3]
[null,null,"Rigid Plastic (Food Service)",6.0000000000000001E-3]
[null,null,"Grocery Bags",0.01]
[null,null,"Other Flexible Plastic",7.0999999999999994E-2]
[null,null,"Other Plastics",3.9E-2]
[null,"Ferrous Metals","Other Ferrous Metals",1.9E-2]
[null,"White Goods","White Goods",0]
[null,"Nonferrous Metals","Other Non-Ferrous Metals ",4.0000000000000001E-3]
[null,"Other Paper","Polycoated Aseptic Containers",0]
[null,null,"Food Service Container (Polycoated)",8.0000000000000002E-3]
[null,null,"Other Compsite (Metal Coated)",6.0000000000000001E-3]
[null,null,"Boxboards",2.8000000000000001E-2]
[null,null,"Other Paper",0.121]
[null,"Textiles","Clothing, Footwear, Other Textiles",6.3E-2]
[null,"C&D Debris","Wood",4.7E-2]
[null,null,"Asphalt Shingles",5.0000000000000001E-3]
[null,null,"Gypsum Drywall",6.0000000000000001E-3]
[null,null,"Concrete/Bricks/Ceramics",3.0000000000000001E-3]
[null,"Food Waste","Food Waste",9.2999999999999999E-2]
[null,"Miscellaneous","Animal- By-Product",3.0000000000000001E-3]
[null,null,"Other Organics",3.5999999999999997E-2]
[null,null,"Rubber and Leather",1.0999999999999999E-2]
[null,null,"Small Appliances/Electronics",1.4999999999999999E-2]
[null,null,"Hazardous Waste",0.01]
[null,null,"Residuals ",9.5000000000000001E-2]
[null,"Tires","Tires",0]
[null,null,null,"sum"]
[null,null,null,{"$f":"SUM(D24:D64)","v":0.99700000000000011}]
[]
[null,"Recycled tons from Jackson"]
[null,"Materials","Tons"]
[null,"Newspaper",0]
[null,"Glass",0]
[null,"Aluminum Cans",8]
[null,"Plastic Bottles",28]
[null,"Steel Cans",0]
[null,"Corrugated Paper",1146]
[null,"Office Paper",99]
[null,"Yard Trash",0]
[null,"Other Plastics",80]
[null,"Ferrous Metals",4532]
[null,"White Goods",0]
[null,"NonFerous Metals",436]
[null,"Other Paper",22]
[null,"Textiles",23]
[null,"C&D Debris",0]
[null,"Food",0]
[null,"Miscellaneous",195]
[null,"Tires",53]
[null,"Total",{"$f":"SUM(C70:C87)","v":6622}]
[]
[null,3,null,null,null,null,null,null,null,4]
[]
[null,"Calculating waste compositon percentage utalizing waste compsition study"]
[null,"FDEP Category","Landfilled tons\n(Plus combusor ash, minus C&D  disposed)","Collected C&D \n(disposal C&D LANDFILL + recycled)","Combusted\n(minus recycled metals, minus ash)","Recycled Materials\n(Minus recycled C&D)","Total Collected Tons"]
[null,null,{"$f":"C9-C11+C17","v":38634},{"$f":"C11+C14","v":4371},{"$f":"C16-C15-C17","v":119},{"$f":"C88","v":6622},null,null,null,"FDEP Category","Percentage"]
[null,"Newspaper",{"$f":"$C$94*D24","v":115.902},null,{"$f":"$E$94*D24","v":0.35699999999999998},{"$f":"C70","v":0},{"$f":"SUM(C95:F95)","v":116.259},null,null,"Newspaper",{"$f":"G95/$G$114","v":2.3425268328520999E-3}]
[null,"Glass",{"$f":"$C$94*SUM(D25:D27)","v":1120.386},null,{"$f":"$E$94*SUM(D25:D27)","v":3.4509999999999996},0,1123.837,null,null,"Glass",2.2644426050903634E-2]
[null,"Aluminum Cans",{"$f":"$C$94*D28","v":502.24199999999996},null,{"$f":"$E$94*D28","v":1.5469999999999999},8,511.78899999999999,null,null,"Aluminum Cans",1.0312143277153109E-2]
[null,"Plastic Bottles",{"$f":"$C$94*SUM(D29:D32)","v":1893.066},null,{"$f":"$E$94*SUM(D29:D32)","v":5.8310000000000004},28,1926.8969999999999,null,null,"Plastic Botles",3.8825449441696663E-2]
[null,"Steel Cans",{"$f":"$C$94*D33","v":424.97399999999999},null,{"$f":"$E$94*D33","v":1.3089999999999999},0,426.28300000000002,null,null,"Steel Cans",8.5892650537910328E-3]
[null,"Corrugated Paper",{"$f":"$C$94*D34","v":4597.4459999999999},null,{"$f":"$E$94*D34","v":14.161},1146,5757.607,null,null,"Corrugated Paper",0.11601122399570855]
[null,"Office Paper",{"$f":"$C$94*D35","v":849.94799999999998},null,{"$f":"$E$94*D35","v":2.6179999999999999},99,951.56600000000003,null,null,"Office Paper",1.9173301750657939E-2]
[null,"Yard Trash",{"$f":"$C$94*D36","v":811.31400000000008},null,{"$f":"$E$94*D36","v":2.4990000000000001},0,813.8130000000001,null,null,"Yard Trash",1.6397687829964702E-2]
[null,"Other Plastics",{"$f":"$C$94*SUM(D37:D43)","v":6065.5380000000005},null,{"$f":"$E$94*SUM(D37:D43)","v":18.683},80,6164.2210000000005,null,null,"Other Plastics",0.12420417426720001]
[null,"Ferrous Metals",{"$f":"$C$94*D44","v":734.04599999999994},null,{"$f":"$E$94*D44","v":2.2610000000000001},4532,5268.3069999999998,null,null,"Ferrous Metals",0.10615221626886992]
[null,"White Goods",{"$f":"$C$94*D45","v":0},null,{"$f":"$E$94*D45","v":0},0,0,null,null,"White Goods",0]
[null,"NonFerous Metals",{"$f":"$C$94*D46","v":154.536},null,{"$f":"$E$94*D46","v":0.47600000000000003},436,591.01199999999994,null,null,"NonFerous Metals",1.1908424023409673E-2]
[null,"Other Paper",{"$f":"$C$94*SUM(D47:D51)","v":6297.3420000000006},null,{"$f":"$E$94*SUM(D47:D51)","v":19.397000000000002},22,6338.7390000000005,null,null,"Other Paper",0.12772057383898097]
[null,"Textiles",{"$f":"$C$94*D52","v":2433.942},null,{"$f":"$E$94*D52","v":7.4969999999999999},23,2464.4389999999999,null,null,"Textiles",4.9656495285760209E-2]
[null,"C&D Debris",{"$f":"$C$94*SUM(D53:D56)","v":2356.674},{"$f":"C10","v":4371},{"$f":"$E$94*SUM(D53:D56)","v":7.2589999999999995},0,6734.933,null,null,"C&D Debris",0.13570356935773653]
[null,"Food",{"$f":"$C$94*D57","v":3592.962},null,{"$f":"$E$94*D57","v":11.067},{"$f":"C85","v":0},3604.029,null,null,"Food",7.2618331818415094E-2]
[null,"Miscellaneous",{"$f":"$C$94*SUM(D58:D63)","v":6567.78},null,{"$f":"$E$94*SUM(D58:D63)","v":20.229999999999997},{"$f":"C86","v":195},6783.0099999999993,null,null,"Miscellaneous",0.1366722828555563]
[null,"Tires",{"$f":"$C$94*D64","v":0},null,{"$f":"$E$94*D64","v":0},{"$f":"C87","v":53},53,null,null,"Tires",1.0679080513436492E-3]
[null,null,"Total","Total","Total","Total","Total",null,null,null,"total"]
[null,null,{"$f":"SUM(C95:C112)","v":38518.097999999998},{"$f":"D109","v":4371},{"$f":"SUM(E95:E112)","v":118.643},{"$f":"SUM(F95:F112)","v":6622},{"$f":"SUM(C114:F114)","v":49629.740999999995},null,null,null,{"$f":"SUM(K95:K112)","v":1.0000000000000002}]
[]
[null,5]
[]
[null,"US EPA Data and Moisture Content"]
[null,"Category","Moisture Content  (MC) ","US EPA DATA (lbs-dry/person)","US EPA DATA             (lbs-WET/person)    [US EPA DATA/(1-MC)"]
[null,"Newspaper",0.27850000000000003,41.931464174454831,58.117067462861854]
[null,"Glass",3.2000000000000001E-2,56.822429906542055,58.700857341469067]
[null,"Aluminum Cans",0.129,8.4112149532710276,9.6569632069701807]
[null,"Plastic Bottles",4.8000000000000001E-2,23.302180685358255,24.477080551846907]
[null,"Steel Cans",5.8000000000000003E-2,10.841121495327103,11.508621544933231]
[null,"Corrugated Paper",0.24049999999999999,195.20249221183801,257.01447295831201]
[null,"Office Paper",0.13400000000000001,28.22429906542056,32.591569359608037]
[null,"Yard Waste",0.50600000000000001,216.3239875389408,437.90280878328099]
[null,"Other Plastics",0.11700000000000001,154.90485396035913,175.43018568557093]
[null,"Non-ferrous Metal",5.3999999999999999E-2,46.762277712979795,49.431583206109721]
[null,"White Goods","x",30.280373831775702,30.280373831775702]
[null,"Ferrous Metal",0.16900000000000001,12.133426323463874,14.600994372399368]
[null,"Other Paper",0.2545,158.56697819314641,212.69883057430772]
[null,"Textiles",0.17,76.349308411214949,91.987118567728857]
[null,"C&D Debris",8.8999999999999996E-2,"-","-"]
[null,"Food Waste",0.59750000000000003,247.53894080996884,615.00357965209651]
[null,"Miscellaneous",0.313,206.19904324930312,300.14416775735532]
[null,"Tires","x",36.386292834890966,36.386292834890966]
[]
[]
[null,6]
[]
[null,"Finding County Factor"]
[null,"Category ","tons-DRY/county-us data ","tons-WET/county-us data ","County Factor","Category      "]
[null,"equation","US DATA * County Population/2000","tons-DRY/(1-MoistureContent)","ton-wet-composition/tons-wet-Usdata"]
[null,"Newspaper ",{"$f":"D120*$C$8/2000","v":1057.0502803738318},{"$f":"C145/(1-C120)","v":1465.0731536712844},{"$f":"G95/D145","v":7.9353716712827566E-2},"Newspaper "]
[null,"Glass ",1432.4366355140187,1479.7899127210937,0.75945712992018299,"Glass "]
[null,"Aluminum Cans ",212.03831775700934,243.44238548451131,2.1023002998488192,"Aluminum Cans "]
[null,"Plastic Bottles ",587.42467289719627,617.04272363150869,3.122793489338223,"Plastic Bottles "]
[null,"Steel Cans ",273.29383177570094,290.1208405262218,1.469329122398815,"Steel Cans "]
[null,"Corrugated Paper",4920.8596261682242,6479.0778488060878,0.88864605957172826,"Corrugated Paper"]
[null,"Office Paper ",711.50635514018688,821.60087198635904,1.1581852362199037,"Office Paper "]
[null,"Yard Waste ",5453.3114018691585,11039.09190661773,7.3721009561677292E-2,"Yard Waste "]
[null,"Other Plastics ",3904.9964634866933,4422.4195509475576,1.3938571248128733,"Other Plastics "]
[null,"Ferrous Metal ",{"$f":"D131*$C$8/2000","v":305.8715441882008},{"$f":"C154/(1-C131)","v":368.07646713381564},{"$f":"C104/D154","v":1.9942758245751544},"Ferrous Metal "]
[null,"White Goods ",{"$f":"D130*$C$8/2000","v":763.33794392523373},{"$f":"Table7141925313743121127190196244[[#This Row],[tons-DRY/county-us data ]]","v":763.33794392523373},{"$f":"G105/Table7141925313743121127190196244[[#This Row],[tons-WET/county-us data ]]","v":0},"White Goods "]
[null,"Non-ferrous Metal ",{"$f":"D129*$C$8/2000","v":1178.8302588665076},{"$f":"C156/(1-C129)","v":1246.12078104282},{"$f":"C106/D156","v":0.12401366091549816},"Non-ferrous Metal "]
[null,"Other Paper ",{"$f":"D132*$C$8/2000","v":3997.3149532710281},{"$f":"C157/(1-C132)","v":5361.9248199477233},{"$f":"G107/D157","v":1.1821760305960054},"Other Paper "]
[null,"Textiles ",1924.6897157383178,{"$f":"C158/(1-C133)","v":2318.9032719738771},{"$f":"G108/D158","v":1.0627605859136338},"Textiles "]
[null,"C&D Debris",{"$error":"#VALUE!"},{"$f":"C159/(1-C134)","v":{"$error":"#VALUE!"}},{"$f":"#REF!/D159","v":{"$error":"#REF!"}},"C&D Debris"]
[null,"Food Waste",6240.2091588785042,{"$f":"C160/(1-C135)","v":15503.625239449701},{"$f":"G110/D160","v":0.23246362991472339},"Food Waste"]
[null,"Miscellaneous ",5198.0716812716828,{"$f":"C161/(1-C136)","v":7566.3343249951713},{"$f":"G111/D161","v":0.89647241433576597},"Miscellaneous "]
[null,"Tires ",917.26205607476629,{"$f":"Table7141925313743121127190196244[[#This Row],[tons-DRY/county-us data ]]","v":917.26205607476629},{"$f":"G112/Table7141925313743121127190196244[[#This Row],[tons-WET/county-us data ]]","v":5.7780652376271363E-2},"Tires "]
[]
[]
[]
[null,"Link to \"New WasteCalc County Factors\""]
[null,"Newspaper","Glass","Aluminum Cans","Plastic Bottles","Steel Cans","Corrugated Paper","Office Paper","Yard Waste","Other Plastics","Ferrous Metals","White Goods","Non-Ferrous Metal","Other Paper","Textiles","C&D Debris","Food Waste","Misc","Tires"]
[null,{"$f":"E145","v":7.9353716712827566E-2},{"$f":"E146","v":0.75945712992018299},{"$f":"E147","v":2.1023002998488192},{"$f":"E148","v":3.122793489338223},{"$f":"E149","v":1.469329122398815},{"$f":"E150","v":0.88864605957172826},{"$f":"E151","v":1.1581852362199037},{"$f":"E152","v":7.3721009561677292E-2},{"$f":"E153","v":1.3938571248128733},{"$f":"E154","v":1.9942758245751544},{"$f":"E155","v":0},{"$f":"E156","v":0.12401366091549816},{"$f":"E157","v":1.1821760305960054},{"$f":"E158","v":1.0627605859136338},{"$error":"#REF!"},{"$f":"E160","v":0.23246362991472339},{"$f":"E161","v":0.89647241433576597},{"$f":"E162","v":5.7780652376271363E-2}]

{"sheet":"68 Gilchrist County Factor","index":67,"n_rows":168,"n_cols":19,"rows_kept":168,"cut":false,"hidden":true,"merged":[[89,9,89,10],[115,1,115,2],[117,1,117,2],[139,1,139,2],[141,1,141,2],[2,1,2,2],[3,1,3,2],[19,1,19,2],[67,1,67,2],[89,1,89,2]]}
[null,"Finding County Factors for Gilchrist"]
[]
[null,1]
[null,"Information from annual solid waste report 2017"]
[null,"County","Gilchrist"]
[null,"Waste comp study","NONE"]
[null,"Year",2017]
[null,"Population",17224]
[null,"Landfilled tons ",4142]
[null,"C&D collected",54]
[null,"C&D disposed",{"$f":"C10-C14","v":54}]
[]
[null,"Recycled tons",1847]
[null,"Recycled C&D",0]
[null,"combustor recy metals",0]
[null,"Combustor input",0]
[null,"Process Fuel",0]
[null,"Total Tons MSW collected",{"$f":"C9+(C16-C15-C17)+C13","v":5989}]
[]
[null,2]
[]
[null,"Aucilla Landifll Waste Composition Study Results"]
[null,"FDEP Category","Waste Comp Category","Percentage in waste stream"]
[null,"Newspapers","Newspaper",3.0000000000000001E-3]
[null,"Glass","Green",2E-3]
[null,null,"Clear ",0.02]
[null,null,"Brown",7.0000000000000001E-3]
[null,"Aluminum Cans","Aluminum cans and tin foil",1.2999999999999999E-2]
[null,"Plastic Bottles","#1 PET Bottles",3.7999999999999999E-2]
[null,null,"#2 HDPE Bottles- translucent ",5.0000000000000001E-3]
[null,null,"#2 HDPE Bottles- colored",4.0000000000000001E-3]
[null,null,"#3-7 (Other Plastic Bottles)",2E-3]
[null,"Steel Cans","Steel/Tin Cans",1.0999999999999999E-2]
[null,"Corrugated Boxes","Corrugated Cardboard (OCC)",0.11899999999999999]
[null,"Office Paper","High Grade Paper (Office Type)",2.1999999999999999E-2]
[null,"Yard Trash","Yard Trash",2.1000000000000001E-2]
[null,"Other Plastics","Expanded Polystyrene (Food Service)",4.0000000000000001E-3]
[null,null,"Expanded Polystyrene",1.7999999999999999E-2]
[null,null,"Rigid Plastic (Tubs, Cups, Lids)",8.9999999999999993E-3]
[null,null,"Rigid Plastic (Food Service)",6.0000000000000001E-3]
[null,null,"Grocery Bags",0.01]
[null,null,"Other Flexible Plastic",7.0999999999999994E-2]
[null,null,"Other Plastics",3.9E-2]
[null,"Ferrous Metals","Other Ferrous Metals",1.9E-2]
[null,"White Goods","White Goods",0]
[null,"Nonferrous Metals","Other Non-Ferrous Metals ",4.0000000000000001E-3]
[null,"Other Paper","Polycoated Aseptic Containers",0]
[null,null,"Food Service Container (Polycoated)",8.0000000000000002E-3]
[null,null,"Other Compsite (Metal Coated)",6.0000000000000001E-3]
[null,null,"Boxboards",2.8000000000000001E-2]
[null,null,"Other Paper",0.121]
[null,"Textiles","Clothing, Footwear, Other Textiles",6.3E-2]
[null,"C&D Debris","Wood",4.7E-2]
[null,null,"Asphalt Shingles",5.0000000000000001E-3]
[null,null,"Gypsum Drywall",6.0000000000000001E-3]
[null,null,"Concrete/Bricks/Ceramics",3.0000000000000001E-3]
[null,"Food Waste","Food Waste",9.2999999999999999E-2]
[null,"Miscellaneous","Animal- By-Product",3.0000000000000001E-3]
[null,null,"Other Organics",3.5999999999999997E-2]
[null,null,"Rubber and Leather",1.0999999999999999E-2]
[null,null,"Small Appliances/Electronics",1.4999999999999999E-2]
[null,null,"Hazardous Waste",0.01]
[null,null,"Residuals ",9.5000000000000001E-2]
[null,"Tires","Tires",0]
[null,null,null,"sum"]
[null,null,null,{"$f":"SUM(D24:D64)","v":0.99700000000000011}]
[]
[null,"Recycled tons from Gilchrist"]
[null,"Materials","Tons"]
[null,"Newspaper",31]
[null,"Glass",0]
[null,"Aluminum Cans",35]
[null,"Plastic Bottles",21]
[null,"Steel Cans",0]
[null,"Corrugated Paper",131]
[null,"Office Paper",14]
[null,"Yard Trash",0]
[null,"Other Plastics",0]
[null,"Ferrous Metals",1595]
[null,"White Goods",0]
[null,"NonFerous Metals",20]
[null,"Other Paper",0]
[null,"Textiles",0]
[null,"C&D Debris",0]
[null,"Food",0]
[null,"Miscellaneous",0]
[null,"Tires",0]
[null,"Total",{"$f":"SUM(C70:C87)","v":1847}]
[]
[null,3,null,null,null,null,null,null,null,4]
[]
[null,"Calculating waste compositon percentage utalizing waste compsition study"]
[null,"FDEP Category","Landfilled tons\n(Plus combusor ash, minus C&D  disposed)","Collected C&D \n(disposal C&D LANDFILL + recycled)","Combusted\n(minus recycled metals, minus ash)","Recycled Materials\n(Minus recycled C&D)","Total Collected Tons"]
[null,null,{"$f":"C9-C11","v":4088},{"$f":"C11+C14","v":54},{"$f":"C16-C15","v":0},{"$f":"C88","v":1847},null,null,null,"FDEP Category","Percentage"]
[null,"Newspaper",{"$f":"$C$94*D24","v":12.264000000000001},null,{"$f":"$E$94*D24","v":0},{"$f":"C70","v":31},{"$f":"SUM(C95:F95)","v":43.264000000000003},null,null,"Newspaper",{"$f":"G95/$G$114","v":7.2387336499386964E-3}]
[null,"Glass",{"$f":"$C$94*SUM(D25:D27)","v":118.55199999999999},null,{"$f":"$E$94*SUM(D25:D27)","v":0},0,118.55199999999999,null,null,"Glass",1.9835575805924838E-2]
[null,"Aluminum Cans",{"$f":"$C$94*D28","v":53.143999999999998},null,{"$f":"$E$94*D28","v":0},35,88.144000000000005,null,null,"Aluminum Cans",1.4747848993162824E-2]
[null,"Plastic Bottles",{"$f":"$C$94*SUM(D29:D32)","v":200.31200000000001},null,{"$f":"$E$94*SUM(D29:D32)","v":0},21,221.31200000000001,null,null,"Plastic Botles",3.7028906747763331E-2]
[null,"Steel Cans",{"$f":"$C$94*D33","v":44.967999999999996},null,{"$f":"$E$94*D33","v":0},0,44.967999999999996,null,null,"Steel Cans",7.5238390987990766E-3]
[null,"Corrugated Paper",{"$f":"$C$94*D34","v":486.47199999999998},null,{"$f":"$E$94*D34","v":0},131,617.47199999999998,null,null,"Corrugated Paper",0.10331257729971677]
[null,"Office Paper",{"$f":"$C$94*D35","v":89.935999999999993},null,{"$f":"$E$94*D35","v":0},14,103.93599999999999,null,null,"Office Paper",1.7390093857249173E-2]
[null,"Yard Trash",{"$f":"$C$94*D36","v":85.847999999999999},null,{"$f":"$E$94*D36","v":0},0,85.847999999999999,null,null,"Yard Trash",1.4363692824980056E-2]
[null,"Other Plastics",{"$f":"$C$94*SUM(D37:D43)","v":641.81600000000003},null,{"$f":"$E$94*SUM(D37:D43)","v":0},0,641.81600000000003,null,null,"Other Plastics",0.10738570350104137]
[null,"Ferrous Metals",{"$f":"$C$94*D44","v":77.671999999999997},null,{"$f":"$E$94*D44","v":0},1595,1672.672,null,null,"Ferrous Metals",0.27986379187569937]
[null,"White Goods",{"$f":"$C$94*D45","v":0},null,{"$f":"$E$94*D45","v":0},0,0,null,null,"White Goods",0]
[null,"NonFerous Metals",{"$f":"$C$94*D46","v":16.352},null,{"$f":"$E$94*D46","v":0},20,36.352000000000004,null,null,"NonFerous Metals",6.0822495756881357E-3]
[null,"Other Paper",{"$f":"$C$94*SUM(D47:D51)","v":666.34400000000005},null,{"$f":"$E$94*SUM(D47:D51)","v":0},0,666.34400000000005,null,null,"Other Paper",0.11148961573674997]
[null,"Textiles",{"$f":"$C$94*D52","v":257.54399999999998},null,{"$f":"$E$94*D52","v":0},0,257.54399999999998,null,null,"Textiles",4.3091078474940168E-2]
[null,"C&D Debris",{"$f":"$C$94*SUM(D53:D56)","v":249.36799999999999},{"$f":"C10","v":54},{"$f":"$E$94*SUM(D53:D56)","v":0},0,303.36799999999999,null,null,"C&D Debris",5.0758139559786482E-2]
[null,"Food",{"$f":"$C$94*D57","v":380.18399999999997},null,{"$f":"$E$94*D57","v":0},{"$f":"C85","v":0},380.18399999999997,null,null,"Food",6.3610639653483098E-2]
[null,"Miscellaneous",{"$f":"$C$94*SUM(D58:D63)","v":694.95999999999992},null,{"$f":"$E$94*SUM(D58:D63)","v":0},{"$f":"C86","v":0},694.95999999999992,null,null,"Miscellaneous",0.11627751334507663]
[null,"Tires",{"$f":"$C$94*D64","v":0},null,{"$f":"$E$94*D64","v":0},{"$f":"C87","v":0},0,null,null,"Tires",0]
[null,null,"Total","Total","Total","Total","Total",null,null,null,"total"]
[null,null,{"$f":"SUM(C95:C112)","v":4075.7359999999999},{"$f":"D109","v":54},{"$f":"SUM(E95:E112)","v":0},{"$f":"SUM(F95:F112)","v":1847},{"$f":"SUM(C114:F114)","v":5976.7359999999999},null,null,null,{"$f":"SUM(K95:K112)","v":1}]
[]
[null,5]
[]
[null,"US EPA Data and Moisture Content"]
[null,"Category","Moisture Content  (MC) ","US EPA DATA (lbs-dry/person)","US EPA DATA             (lbs-WET/person)    [US EPA DATA/(1-MC)"]
[null,"Newspaper",0.27850000000000003,41.931464174454831,58.117067462861854]
[null,"Glass",3.2000000000000001E-2,56.822429906542055,58.700857341469067]
[null,"Aluminum Cans",0.129,8.4112149532710276,9.6569632069701807]
[null,"Plastic Bottles",4.8000000000000001E-2,23.302180685358255,24.477080551846907]
[null,"Steel Cans",5.8000000000000003E-2,10.841121495327103,11.508621544933231]
[null,"Corrugated Paper",0.24049999999999999,195.20249221183801,257.01447295831201]
[null,"Office Paper",0.13400000000000001,28.22429906542056,32.591569359608037]
[null,"Yard Waste",0.50600000000000001,216.3239875389408,437.90280878328099]
[null,"Other Plastics",0.11700000000000001,154.90485396035913,175.43018568557093]
[null,"Non-ferrous Metal",5.3999999999999999E-2,46.762277712979795,49.431583206109721]
[null,"White Goods","x",30.280373831775702,30.280373831775702]
[null,"Ferrous Metal",0.16900000000000001,12.133426323463874,14.600994372399368]
[null,"Other Paper",0.2545,158.56697819314641,212.69883057430772]
[null,"Textiles",0.17,76.349308411214949,91.987118567728857]
[null,"C&D Debris",8.8999999999999996E-2,"-","-"]
[null,"Food Waste",0.59750000000000003,247.53894080996884,615.00357965209651]
[null,"Miscellaneous",0.313,206.19904324930312,300.14416775735532]
[null,"Tires","x",36.386292834890966,36.386292834890966]
[]
[]
[null,6]
[]
[null,"Finding County Factor"]
[null,"Material","tons-DRY/county-us data ","tons-WET/county-us data ","County Factor","Column1"]
[null,"equation","US DATA * County Population/2000","tons-DRY/(1-MoistureContent)","ton-wet-composition/tons-wet-Usdata"]
[null,"Newspaper ",{"$f":"D120*$C$8/2000","v":361.11376947040503},{"$f":"C145/(1-C120)","v":500.50418499016632},{"$f":"G95/D145","v":8.6440835656249382E-2},"Newspaper "]
[null,"Glass ",489.35476635514021,505.53178342473166,0.23450948859608375,"Glass "]
[null,"Aluminum Cans ",72.437383177570098,83.165767138427213,1.0598591587965112,"Aluminum Cans "]
[null,"Plastic Bottles ",200.67838006230528,210.79661771250557,1.0498840180720348,"Plastic Bottles "]
[null,"Steel Cans ",93.363738317757011,99.112248744964987,0.45370779665903221,"Steel Cans "]
[null,"Corrugated Paper",1681.0838629283489,2213.4086411169833,0.27896882145015772,"Corrugated Paper"]
[null,"Office Paper ",243.06766355140186,280.67859532494441,0.37030255149906338,"Office Paper "]
[null,"Yard Waste ",1862.9821806853581,3771.2189892416159,2.2763992291326432E-2,"Yard Waste "]
[null,"Other Plastics ",1334.0406023066128,1510.8047591241368,0.42481730092780612,"Other Plastics "]
[null,"Ferrous Metal ",{"$f":"D131*$C$8/2000","v":104.49306749767088},{"$f":"C154/(1-C131)","v":125.74376353510335},{"$f":"C104/D154","v":0.61770061445883662},"Ferrous Metal "]
[null,"White Goods ",{"$f":"D130*$C$8/2000","v":260.77457943925236},{"$f":"Table714192531374349172178202208214226232238108[[#This Row],[tons-DRY/county-us data ]]","v":260.77457943925236},{"$f":"G105/Table714192531374349172178202208214226232238108[[#This Row],[tons-WET/county-us data ]]","v":0},"White Goods "]
[null,"Non-ferrous Metal ",{"$f":"D129*$C$8/2000","v":402.71673566418201},{"$f":"C156/(1-C129)","v":425.70479457101692},{"$f":"C106/D156","v":3.8411594627394144E-2},"Non-ferrous Metal "]
[null,"Other Paper ",{"$f":"D132*$C$8/2000","v":1365.5788161993769},{"$f":"C157/(1-C132)","v":1831.7623289059379},{"$f":"G107/D157","v":0.36377208412075451},"Other Paper "]
[null,"Textiles ",657.52024403738312,{"$f":"C158/(1-C133)","v":792.19306510528088},{"$f":"G108/D158","v":0.32510256823035039},"Textiles "]
[null,"C&D Debris",{"$error":"#VALUE!"},{"$f":"C159/(1-C134)","v":{"$error":"#VALUE!"}},{"$f":"#REF!/D159","v":{"$error":"#REF!"}},"C&D Debris"]
[null,"Food Waste",2131.8053582554517,{"$f":"C160/(1-C135)","v":5296.4108279638558},{"$f":"G110/D160","v":7.1781440743364192E-2},"Food Waste"]
[null,"Miscellaneous ",1775.7861604629986,{"$f":"C161/(1-C136)","v":2584.8415727263441},{"$f":"G111/D161","v":0.26885980453610375},"Miscellaneous "]
[null,"Tires ",313.35875389408096,{"$f":"Table714192531374349172178202208214226232238108[[#This Row],[tons-DRY/county-us data ]]","v":313.35875389408096},{"$f":"G112/Table714192531374349172178202208214226232238108[[#This Row],[tons-WET/county-us data ]]","v":0},"Tires "]
[]
[]
[]
[null,"Link to \"New WasteCalc County Factors\""]
[null,"Newspaper","Glass","Aluminum Cans","Plastic Bottles","Steel Cans","Corrugated Paper","Office Paper","Yard Waste","Other Plastics","Ferrous Metals","White Goods","Non-Ferrous Metal","Other Paper","Textiles","C&D Debris","Food Waste","Misc","Tires"]
[null,{"$f":"E145","v":8.6440835656249382E-2},{"$f":"E146","v":0.23450948859608375},{"$f":"E147","v":1.0598591587965112},{"$f":"E148","v":1.0498840180720348},{"$f":"E149","v":0.45370779665903221},{"$f":"E150","v":0.27896882145015772},{"$f":"E151","v":0.37030255149906338},{"$f":"E152","v":2.2763992291326432E-2},{"$f":"E153","v":0.42481730092780612},{"$f":"E154","v":0.61770061445883662},{"$f":"E155","v":0},{"$f":"E156","v":3.8411594627394144E-2},{"$f":"E157","v":0.36377208412075451},{"$f":"E158","v":0.32510256823035039},{"$error":"#REF!"},{"$f":"E160","v":7.1781440743364192E-2},{"$f":"E161","v":0.26885980453610375},{"$f":"E162","v":0}]

{"sheet":"69 Baker County Factor","index":68,"n_rows":168,"n_cols":19,"rows_kept":168,"cut":false,"hidden":true,"merged":[[89,9,89,10],[115,1,115,2],[117,1,117,2],[139,1,139,2],[141,1,141,2],[2,1,2,2],[3,1,3,2],[19,1,19,2],[67,1,67,2],[89,1,89,2]]}
[null,"Finding County Factors for Baker"]
[]
[null,1]
[null,"Information from annual solid waste report 2017"]
[null,"County","Baker"]
[null,"Waste comp study","NONE"]
[null,"Year",2017]
[null,"Population",27191]
[null,"Landfilled tons ",19172]
[null,"C&D collected",1132]
[null,"C&D disposed",{"$f":"C10-C14","v":1103}]
[]
[null,"Recycled tons",3936]
[null,"Recycled C&D",29]
[null,"combustor recy metals",0]
[null,"Combustor input",0]
[null,"Process Fuel",0]
[null,"Total Tons MSW collected",{"$f":"C9+(C16-C15-C17)+C13","v":23108}]
[]
[null,2]
[]
[null,"Aucilla Landifll Waste Composition Study Results"]
[null,"FDEP Category","Waste Comp Category","Percentage in waste stream"]
[null,"Newspapers","Newspaper",3.0000000000000001E-3]
[null,"Glass","Green",2E-3]
[null,null,"Clear ",0.02]
[null,null,"Brown",7.0000000000000001E-3]
[null,"Aluminum Cans","Aluminum cans and tin foil",1.2999999999999999E-2]
[null,"Plastic Bottles","#1 PET Bottles",3.7999999999999999E-2]
[null,null,"#2 HDPE Bottles- translucent ",5.0000000000000001E-3]
[null,null,"#2 HDPE Bottles- colored",4.0000000000000001E-3]
[null,null,"#3-7 (Other Plastic Bottles)",2E-3]
[null,"Steel Cans","Steel/Tin Cans",1.0999999999999999E-2]
[null,"Corrugated Boxes","Corrugated Cardboard (OCC)",0.11899999999999999]
[null,"Office Paper","High Grade Paper (Office Type)",2.1999999999999999E-2]
[null,"Yard Trash","Yard Trash",2.1000000000000001E-2]
[null,"Other Plastics","Expanded Polystyrene (Food Service)",4.0000000000000001E-3]
[null,null,"Expanded Polystyrene",1.7999999999999999E-2]
[null,null,"Rigid Plastic (Tubs, Cups, Lids)",8.9999999999999993E-3]
[null,null,"Rigid Plastic (Food Service)",6.0000000000000001E-3]
[null,null,"Grocery Bags",0.01]
[null,null,"Other Flexible Plastic",7.0999999999999994E-2]
[null,null,"Other Plastics",3.9E-2]
[null,"Ferrous Metals","Other Ferrous Metals",1.9E-2]
[null,"White Goods","White Goods",0]
[null,"Nonferrous Metals","Other Non-Ferrous Metals ",4.0000000000000001E-3]
[null,"Other Paper","Polycoated Aseptic Containers",0]
[null,null,"Food Service Container (Polycoated)",8.0000000000000002E-3]
[null,null,"Other Compsite (Metal Coated)",6.0000000000000001E-3]
[null,null,"Boxboards",2.8000000000000001E-2]
[null,null,"Other Paper",0.121]
[null,"Textiles","Clothing, Footwear, Other Textiles",6.3E-2]
[null,"C&D Debris","Wood",4.7E-2]
[null,null,"Asphalt Shingles",5.0000000000000001E-3]
[null,null,"Gypsum Drywall",6.0000000000000001E-3]
[null,null,"Concrete/Bricks/Ceramics",3.0000000000000001E-3]
[null,"Food Waste","Food Waste",9.2999999999999999E-2]
[null,"Miscellaneous","Animal- By-Product",3.0000000000000001E-3]
[null,null,"Other Organics",3.5999999999999997E-2]
[null,null,"Rubber and Leather",1.0999999999999999E-2]
[null,null,"Small Appliances/Electronics",1.4999999999999999E-2]
[null,null,"Hazardous Waste",0.01]
[null,null,"Residuals ",9.5000000000000001E-2]
[null,"Tires","Tires",0]
[null,null,null,"sum"]
[null,null,null,{"$f":"SUM(D24:D64)","v":0.99700000000000011}]
[]
[null,"Recycled tons from Baker"]
[null,"Materials","Tons"]
[null,"Newspaper",0]
[null,"Glass",0]
[null,"Aluminum Cans",59]
[null,"Plastic Bottles",0]
[null,"Steel Cans",0]
[null,"Corrugated Paper",606]
[null,"Office Paper",88]
[null,"Yard Trash",14]
[null,"Other Plastics",1]
[null,"Ferrous Metals",2483]
[null,"White Goods",1]
[null,"NonFerous Metals",520]
[null,"Other Paper",0]
[null,"Textiles",0]
[null,"C&D Debris",29]
[null,"Food",0]
[null,"Miscellaneous",0]
[null,"Tires",135]
[null,"Total",{"$f":"SUM(C70:C87)","v":3936}]
[]
[null,3,null,null,null,null,null,null,null,4]
[]
[null,"Calculating waste compositon percentage utalizing waste compsition study"]
[null,"FDEP Category","Landfilled tons\n(Plus combusor ash, minus C&D  disposed)","Collected C&D \n(disposal C&D LANDFILL + recycled)","Combusted\n(minus recycled metals, minus ash)","Recycled Materials\n(Minus recycled C&D)","Total Collected Tons"]
[null,null,{"$f":"C9-C11","v":18069},{"$f":"C11+C14","v":1132},{"$f":"C16-C15","v":0},{"$f":"C88","v":3936},null,null,null,"FDEP Category","Percentage"]
[null,"Newspaper",{"$f":"$C$94*D24","v":54.207000000000001},null,{"$f":"$E$94*D24","v":0},{"$f":"C70","v":0},{"$f":"SUM(C95:F95)","v":54.207000000000001},null,null,"Newspaper",{"$f":"G95/$G$114","v":2.351326742631896E-3}]
[null,"Glass",{"$f":"$C$94*SUM(D25:D27)","v":524.00099999999998},null,{"$f":"$E$94*SUM(D25:D27)","v":0},0,524.00099999999998,null,null,"Glass",2.2729491845441659E-2]
[null,"Aluminum Cans",{"$f":"$C$94*D28","v":234.89699999999999},null,{"$f":"$E$94*D28","v":0},59,293.89699999999999,null,null,"Aluminum Cans",1.274831434462867E-2]
[null,"Plastic Bottles",{"$f":"$C$94*SUM(D29:D32)","v":885.38100000000009},null,{"$f":"$E$94*SUM(D29:D32)","v":0},0,885.38100000000009,null,null,"Plastic Botles",3.8405003462987641E-2]
[null,"Steel Cans",{"$f":"$C$94*D33","v":198.75899999999999},null,{"$f":"$E$94*D33","v":0},0,198.75899999999999,null,null,"Steel Cans",8.6215313896502842E-3]
[null,"Corrugated Paper",{"$f":"$C$94*D34","v":2150.2109999999998},null,{"$f":"$E$94*D34","v":0},606,2756.2109999999998,null,null,"Corrugated Paper",0.11955564101751065]
[null,"Office Paper",{"$f":"$C$94*D35","v":397.51799999999997},null,{"$f":"$E$94*D35","v":0},88,485.51799999999997,null,null,"Office Paper",2.106022206410893E-2]
[null,"Yard Trash",{"$f":"$C$94*D36","v":379.44900000000001},null,{"$f":"$E$94*D36","v":0},14,393.44900000000001,null,null,"Yard Trash",1.706656253918824E-2]
[null,"Other Plastics",{"$f":"$C$94*SUM(D37:D43)","v":2836.8330000000001},null,{"$f":"$E$94*SUM(D37:D43)","v":0},1,2837.8330000000001,null,null,"Other Plastics",0.12309614300779054]
[null,"Ferrous Metals",{"$f":"$C$94*D44","v":343.31099999999998},null,{"$f":"$E$94*D44","v":0},2483,2826.3110000000001,null,null,"Ferrous Metals",0.12259635540234097]
[null,"White Goods",{"$f":"$C$94*D45","v":0},null,{"$f":"$E$94*D45","v":0},1,1,null,null,"White Goods",4.3376810054640471E-5]
[null,"NonFerous Metals",{"$f":"$C$94*D46","v":72.275999999999996},null,{"$f":"$E$94*D46","v":0},520,592.27599999999995,null,null,"NonFerous Metals",2.5691043551922237E-2]
[null,"Other Paper",{"$f":"$C$94*SUM(D47:D51)","v":2945.2470000000003},null,{"$f":"$E$94*SUM(D47:D51)","v":0},0,2945.2470000000003,null,null,"Other Paper",0.12775541968299969]
[null,"Textiles",{"$f":"$C$94*D52","v":1138.347},null,{"$f":"$E$94*D52","v":0},0,1138.347,null,null,"Textiles",4.9377861595269815E-2]
[null,"C&D Debris",{"$f":"$C$94*SUM(D53:D56)","v":1102.2090000000001},{"$f":"C10","v":1132},{"$f":"$E$94*SUM(D53:D56)","v":0},0,2234.2089999999998,null,null,"C&D Debris",9.691285941536823E-2]
[null,"Food",{"$f":"$C$94*D57","v":1680.4169999999999},null,{"$f":"$E$94*D57","v":0},{"$f":"C85","v":0},1680.4169999999999,null,null,"Food",7.2891129021588771E-2]
[null,"Miscellaneous",{"$f":"$C$94*SUM(D58:D63)","v":3071.7299999999996},null,{"$f":"$E$94*SUM(D58:D63)","v":0},{"$f":"C86","v":0},3071.7299999999996,null,null,"Miscellaneous",0.13324184874914075]
[null,"Tires",{"$f":"$C$94*D64","v":0},null,{"$f":"$E$94*D64","v":0},{"$f":"C87","v":135},135,null,null,"Tires",5.8558693573764631E-3]
[null,null,"Total","Total","Total","Total","Total",null,null,null,"total"]
[null,null,{"$f":"SUM(C95:C112)","v":18014.792999999998},{"$f":"D109","v":1132},{"$f":"SUM(E95:E112)","v":0},{"$f":"SUM(F95:F112)","v":3907},{"$f":"SUM(C114:F114)","v":23053.792999999998},null,null,null,{"$f":"SUM(K95:K112)","v":1}]
[]
[null,5]
[]
[null,"US EPA Data and Moisture Content"]
[null,"Category","Moisture Content  (MC) ","US EPA DATA (lbs-dry/person)","US EPA DATA             (lbs-WET/person)    [US EPA DATA/(1-MC)"]
[null,"Newspaper",0.27850000000000003,41.931464174454831,58.117067462861854]
[null,"Glass",3.2000000000000001E-2,56.822429906542055,58.700857341469067]
[null,"Aluminum Cans",0.129,8.4112149532710276,9.6569632069701807]
[null,"Plastic Bottles",4.8000000000000001E-2,23.302180685358255,24.477080551846907]
[null,"Steel Cans",5.8000000000000003E-2,10.841121495327103,11.508621544933231]
[null,"Corrugated Paper",0.24049999999999999,195.20249221183801,257.01447295831201]
[null,"Office Paper",0.13400000000000001,28.22429906542056,32.591569359608037]
[null,"Yard Waste",0.50600000000000001,216.3239875389408,437.90280878328099]
[null,"Other Plastics",0.11700000000000001,154.90485396035913,175.43018568557093]
[null,"Non-ferrous Metal",5.3999999999999999E-2,46.762277712979795,49.431583206109721]
[null,"White Goods","x",30.280373831775702,30.280373831775702]
[null,"Ferrous Metal",0.16900000000000001,12.133426323463874,14.600994372399368]
[null,"Other Paper",0.2545,158.56697819314641,212.69883057430772]
[null,"Textiles",0.17,76.349308411214949,91.987118567728857]
[null,"C&D Debris",8.8999999999999996E-2,"-","-"]
[null,"Food Waste",0.59750000000000003,247.53894080996884,615.00357965209651]
[null,"Miscellaneous",0.313,206.19904324930312,300.14416775735532]
[null,"Tires","x",36.386292834890966,36.386292834890966]
[]
[]
[null,6]
[]
[null,"Findig County Factor"]
[null,"Category ","tons-DRY/county-us data ","tons-WET/county-us data ","County Factor","Category    "]
[null,"equation","US DATA * County Population/2000","tons-DRY/(1-MoistureContent)","ton-wet-composition/tons-wet-Usdata"]
[null,"Newspaper ",{"$f":"D120*$C$8/2000","v":570.07922118380066},{"$f":"C145/(1-C120)","v":790.1305906913384},{"$f":"G95/D145","v":6.8605114950138366E-2},"Newspaper "]
[null,"Glass ",772.5293457943925,798.06750598594272,0.6565873138170718,"Glass "]
[null,"Aluminum Cans ",114.35467289719625,131.29124328036309,2.2385118204144345,"Aluminum Cans "]
[null,"Plastic Bottles ",316.80479750778818,332.77814864263468,2.660574330410129,"Plastic Bottles "]
[null,"Steel Cans ",147.39046728971965,156.46546421413976,1.2703058850608528,"Steel Cans "]
[null,"Corrugated Paper",2653.8754828660435,3494.2402671047312,0.7887869148402179,"Corrugated Paper"]
[null,"Office Paper ",383.72345794392521,443.09868122855107,1.0957333446667807,"Office Paper "]
[null,"Yard Waste ",2941.0327725856696,5953.5076368130967,6.6086922869996123E-2,"Yard Waste "]
[null,"Other Plastics ",2106.008942018063,2385.0610894881802,1.1898366094299841,"Other Plastics "]
[null,"Ferrous Metal ",{"$f":"D131*$C$8/2000","v":164.95999758065312},{"$f":"C154/(1-C131)","v":198.50781898995564},{"$f":"C104/D154","v":1.7294583243462631},"Ferrous Metal "]
[null,"White Goods ",{"$f":"D130*$C$8/2000","v":411.67682242990657},{"$f":"Table714192531374349172178202208214226232238108217[[#This Row],[tons-DRY/county-us data ]]","v":411.67682242990657},{"$f":"G105/Table714192531374349172178202208214226232238108217[[#This Row],[tons-WET/county-us data ]]","v":2.4290898722389531E-3},"White Goods "]
[null,"Non-ferrous Metal ",{"$f":"D129*$C$8/2000","v":635.75654664681679},{"$f":"C156/(1-C129)","v":672.0470894786647},{"$f":"C106/D156","v":0.10754603528759799},"Non-ferrous Metal "]
[null,"Other Paper ",{"$f":"D132*$C$8/2000","v":2155.797352024922},{"$f":"C157/(1-C132)","v":2891.7469510730007},{"$f":"G107/D157","v":1.018500944180869},"Other Paper "]
[null,"Textiles ",1038.0070225046729,{"$f":"C158/(1-C133)","v":1250.6108704875578},{"$f":"G108/D158","v":0.91023277252996282},"Textiles "]
[null,"C&D Debris",{"$error":"#VALUE!"},{"$f":"C159/(1-C134)","v":{"$error":"#VALUE!"}},{"$f":"#REF!/D159","v":{"$error":"#REF!"}},"C&D Debris"]
[null,"Food Waste",3365.4156697819312,{"$f":"C160/(1-C135)","v":8361.2811671600775},{"$f":"G110/D160","v":0.20097601867522849},"Food Waste"]
[null,"Miscellaneous ",2803.3790924959007,{"$f":"C161/(1-C136)","v":4080.6100327451245},{"$f":"G111/D161","v":0.75276244859241614},"Miscellaneous "]
[null,"Tires ",494.68984423676011,{"$f":"Table714192531374349172178202208214226232238108217[[#This Row],[tons-DRY/county-us data ]]","v":494.68984423676011},{"$f":"G112/Table714192531374349172178202208214226232238108217[[#This Row],[tons-WET/county-us data ]]","v":0.27289826458492766},"Tires "]
[]
[]
[]
[null,"Link to \"New WasteCalc County Factors\""]
[null,"Newspaper","Glass","Aluminum Cans","Plastic Bottles","Steel Cans","Corrugated Paper","Office Paper","Yard Waste","Other Plastics","Ferrous Metals","White Goods","Non-Ferrous Metal","Other Paper","Textiles","C&D Debris","Food Waste","Misc","Tires"]
[null,{"$f":"E145","v":6.8605114950138366E-2},{"$f":"E146","v":0.6565873138170718},{"$f":"E147","v":2.2385118204144345},{"$f":"E148","v":2.660574330410129},{"$f":"E149","v":1.2703058850608528},{"$f":"E150","v":0.7887869148402179},{"$f":"E151","v":1.0957333446667807},{"$f":"E152","v":6.6086922869996123E-2},{"$f":"E153","v":1.1898366094299841},{"$f":"E154","v":1.7294583243462631},{"$f":"E155","v":2.4290898722389531E-3},{"$f":"E156","v":0.10754603528759799},{"$f":"E157","v":1.018500944180869},{"$f":"E158","v":0.91023277252996282},{"$error":"#REF!"},{"$f":"E160","v":0.20097601867522849},{"$f":"E161","v":0.75276244859241614},{"$f":"E162","v":0.27289826458492766}]

{"sheet":"70 Hardee County Factor","index":69,"n_rows":168,"n_cols":19,"rows_kept":168,"cut":false,"hidden":true,"merged":[[89,9,89,10],[115,1,115,2],[117,1,117,2],[139,1,139,2],[141,1,141,2],[2,1,2,2],[3,1,3,2],[19,1,19,2],[67,1,67,2],[89,1,89,2]]}
[null,"Finding County Factors for Hardee"]
[]
[null,1]
[null,"Information from annual solid waste report 2017"]
[null,"County","Hardee"]
[null,"Waste comp study","NONE"]
[null,"Year",2017]
[null,"Population",25887]
[null,"Landfilled tons ",19411]
[null,"C&D collected",1578]
[null,"C&D disposed",{"$f":"C10-C14","v":1578}]
[]
[null,"Recycled tons",569]
[null,"Recycled C&D",0]
[null,"combustor recy metals",0]
[null,"Combustor input",0]
[null,"Process Fuel",0]
[null,"Total Tons MSW collected",{"$f":"C9+(C16-C15-C17)+C13","v":19980}]
[]
[null,2]
[]
[null,"Aucilla Landifll Waste Composition Study Results"]
[null,"FDEP Category","Waste Comp Category","Percentage in waste stream"]
[null,"Newspapers","Newspaper",3.0000000000000001E-3]
[null,"Glass","Green",2E-3]
[null,null,"Clear ",0.02]
[null,null,"Brown",7.0000000000000001E-3]
[null,"Aluminum Cans","Aluminum cans and tin foil",1.2999999999999999E-2]
[null,"Plastic Bottles","#1 PET Bottles",3.7999999999999999E-2]
[null,null,"#2 HDPE Bottles- translucent ",5.0000000000000001E-3]
[null,null,"#2 HDPE Bottles- colored",4.0000000000000001E-3]
[null,null,"#3-7 (Other Plastic Bottles)",2E-3]
[null,"Steel Cans","Steel/Tin Cans",1.0999999999999999E-2]
[null,"Corrugated Boxes","Corrugated Cardboard (OCC)",0.11899999999999999]
[null,"Office Paper","High Grade Paper (Office Type)",2.1999999999999999E-2]
[null,"Yard Trash","Yard Trash",2.1000000000000001E-2]
[null,"Other Plastics","Expanded Polystyrene (Food Service)",4.0000000000000001E-3]
[null,null,"Expanded Polystyrene",1.7999999999999999E-2]
[null,null,"Rigid Plastic (Tubs, Cups, Lids)",8.9999999999999993E-3]
[null,null,"Rigid Plastic (Food Service)",6.0000000000000001E-3]
[null,null,"Grocery Bags",0.01]
[null,null,"Other Flexible Plastic",7.0999999999999994E-2]
[null,null,"Other Plastics",3.9E-2]
[null,"Ferrous Metals","Other Ferrous Metals",1.9E-2]
[null,"White Goods","White Goods",0]
[null,"Nonferrous Metals","Other Non-Ferrous Metals ",4.0000000000000001E-3]
[null,"Other Paper","Polycoated Aseptic Containers",0]
[null,null,"Food Service Container (Polycoated)",8.0000000000000002E-3]
[null,null,"Other Compsite (Metal Coated)",6.0000000000000001E-3]
[null,null,"Boxboards",2.8000000000000001E-2]
[null,null,"Other Paper",0.121]
[null,"Textiles","Clothing, Footwear, Other Textiles",6.3E-2]
[null,"C&D Debris","Wood",4.7E-2]
[null,null,"Asphalt Shingles",5.0000000000000001E-3]
[null,null,"Gypsum Drywall",6.0000000000000001E-3]
[null,null,"Concrete/Bricks/Ceramics",3.0000000000000001E-3]
[null,"Food Waste","Food Waste",9.2999999999999999E-2]
[null,"Miscellaneous","Animal- By-Product",3.0000000000000001E-3]
[null,null,"Other Organics",3.5999999999999997E-2]
[null,null,"Rubber and Leather",1.0999999999999999E-2]
[null,null,"Small Appliances/Electronics",1.4999999999999999E-2]
[null,null,"Hazardous Waste",0.01]
[null,null,"Residuals ",9.5000000000000001E-2]
[null,"Tires","Tires",0]
[null,null,null,"sum"]
[null,null,null,{"$f":"SUM(D24:D64)","v":0.99700000000000011}]
[]
[null,"Recycled tons from Hardee"]
[null,"Materials","Tons"]
[null,"Newspaper",8]
[null,"Glass",8]
[null,"Aluminum Cans",40]
[null,"Plastic Bottles",3]
[null,"Steel Cans",0]
[null,"Corrugated Paper",115]
[null,"Office Paper",16]
[null,"Yard Trash",0]
[null,"Other Plastics",0]
[null,"Ferrous Metals",119]
[null,"White Goods",0]
[null,"NonFerous Metals",131]
[null,"Other Paper",0]
[null,"Textiles",0]
[null,"C&D Debris",0]
[null,"Food",0]
[null,"Miscellaneous",0]
[null,"Tires",129]
[null,"Total",{"$f":"SUM(C70:C87)","v":569}]
[]
[null,3,null,null,null,null,null,null,null,4]
[]
[null,"Calculating waste compositon percentage utalizing waste compsition study"]
[null,"FDEP Category","Landfilled tons\n(Plus combusor ash, minus C&D  disposed)","Collected C&D \n(disposal C&D LANDFILL + recycled)","Combusted\n(minus recycled metals, minus ash)","Recycled Materials\n(Minus recycled C&D)","Total Collected Tons"]
[null,null,{"$f":"C9-C11","v":17833},{"$f":"C11+C14","v":1578},{"$f":"C16-C15","v":0},{"$f":"C88","v":569},null,null,null,"FDEP Category","Percentage"]
[null,"Newspaper",{"$f":"$C$94*D24","v":53.499000000000002},null,{"$f":"$E$94*D24","v":0},{"$f":"C70","v":8},{"$f":"SUM(C95:F95)","v":61.499000000000002},null,null,"Newspaper",{"$f":"G95/$G$114","v":3.0862919686702648E-3}]
[null,"Glass",{"$f":"$C$94*SUM(D25:D27)","v":517.15699999999993},null,{"$f":"$E$94*SUM(D25:D27)","v":0},8,525.15699999999993,null,null,"Glass",2.6354702212897284E-2]
[null,"Aluminum Cans",{"$f":"$C$94*D28","v":231.82899999999998},null,{"$f":"$E$94*D28","v":0},40,271.82899999999995,null,null,"Aluminum Cans",1.3641582132256936E-2]
[null,"Plastic Bottles",{"$f":"$C$94*SUM(D29:D32)","v":873.81700000000001},null,{"$f":"$E$94*SUM(D29:D32)","v":0},3,876.81700000000001,null,null,"Plastic Botles",4.4002557197573219E-2]
[null,"Steel Cans",{"$f":"$C$94*D33","v":196.16299999999998},null,{"$f":"$E$94*D33","v":0},0,196.16299999999998,null,null,"Steel Cans",9.8443274110191232E-3]
[null,"Corrugated Paper",{"$f":"$C$94*D34","v":2122.127},null,{"$f":"$E$94*D34","v":0},115,2237.127,null,null,"Corrugated Paper",0.11226893271427833]
[null,"Office Paper",{"$f":"$C$94*D35","v":392.32599999999996},null,{"$f":"$E$94*D35","v":0},16,408.32599999999996,null,null,"Office Paper",2.0491605626095619E-2]
[null,"Yard Trash",{"$f":"$C$94*D36","v":374.49299999999999},null,{"$f":"$E$94*D36","v":0},0,374.49299999999999,null,null,"Yard Trash",1.8793715966491056E-2]
[null,"Other Plastics",{"$f":"$C$94*SUM(D37:D43)","v":2799.7809999999999},null,{"$f":"$E$94*SUM(D37:D43)","v":0},0,2799.7809999999999,null,null,"Other Plastics",0.14050540032090933]
[null,"Ferrous Metals",{"$f":"$C$94*D44","v":338.827},null,{"$f":"$E$94*D44","v":0},119,457.827,null,null,"Ferrous Metals",2.2975784860573365E-2]
[null,"White Goods",{"$f":"$C$94*D45","v":0},null,{"$f":"$E$94*D45","v":0},0,0,null,null,"White Goods",0]
[null,"NonFerous Metals",{"$f":"$C$94*D46","v":71.332000000000008},null,{"$f":"$E$94*D46","v":0},131,202.33199999999999,null,null,"NonFerous Metals",1.0153915130408494E-2]
[null,"Other Paper",{"$f":"$C$94*SUM(D47:D51)","v":2906.779},null,{"$f":"$E$94*SUM(D47:D51)","v":0},0,2906.779,null,null,"Other Paper",0.14587503345419248]
[null,"Textiles",{"$f":"$C$94*D52","v":1123.479},null,{"$f":"$E$94*D52","v":0},0,1123.479,null,null,"Textiles",5.6381147899473169E-2]
[null,"C&D Debris",{"$f":"$C$94*SUM(D53:D56)","v":1087.8129999999999},{"$f":"C10","v":1578},{"$f":"$E$94*SUM(D53:D56)","v":0},0,2665.8130000000001,null,null,"C&D Debris",0.13378229323853696]
[null,"Food",{"$f":"$C$94*D57","v":1658.4690000000001},null,{"$f":"$E$94*D57","v":0},{"$f":"C85","v":0},1658.4690000000001,null,null,"Food",8.322931356588896E-2]
[null,"Miscellaneous",{"$f":"$C$94*SUM(D58:D63)","v":3031.6099999999997},null,{"$f":"$E$94*SUM(D58:D63)","v":0},{"$f":"C86","v":0},3031.6099999999997,null,null,"Miscellaneous",0.15213960544302282]
[null,"Tires",{"$f":"$C$94*D64","v":0},null,{"$f":"$E$94*D64","v":0},{"$f":"C87","v":129},129,null,null,"Tires",6.4737908577125504E-3]
[null,null,"Total","Total","Total","Total","Total",null,null,null,"total"]
[null,null,{"$f":"SUM(C95:C112)","v":17779.501},{"$f":"D109","v":1578},{"$f":"SUM(E95:E112)","v":0},{"$f":"SUM(F95:F112)","v":569},{"$f":"SUM(C114:F114)","v":19926.501},null,null,null,{"$f":"SUM(K95:K112)","v":1}]
[]
[null,5]
[]
[null,"US EPA Data and Moisture Content"]
[null,"Category","Moisture Content  (MC) ","US EPA DATA (lbs-dry/person)","US EPA DATA             (lbs-WET/person)    [US EPA DATA/(1-MC)"]
[null,"Newspaper",0.27850000000000003,41.931464174454831,58.117067462861854]
[null,"Glass",3.2000000000000001E-2,56.822429906542055,58.700857341469067]
[null,"Aluminum Cans",0.129,8.4112149532710276,9.6569632069701807]
[null,"Plastic Bottles",4.8000000000000001E-2,23.302180685358255,24.477080551846907]
[null,"Steel Cans",5.8000000000000003E-2,10.841121495327103,11.508621544933231]
[null,"Corrugated Paper",0.24049999999999999,195.20249221183801,257.01447295831201]
[null,"Office Paper",0.13400000000000001,28.22429906542056,32.591569359608037]
[null,"Yard Waste",0.50600000000000001,216.3239875389408,437.90280878328099]
[null,"Other Plastics",0.11700000000000001,154.90485396035913,175.43018568557093]
[null,"Non-ferrous Metal",5.3999999999999999E-2,46.762277712979795,49.431583206109721]
[null,"White Goods","x",30.280373831775702,30.280373831775702]
[null,"Ferrous Metal",0.16900000000000001,12.133426323463874,14.600994372399368]
[null,"Other Paper",0.2545,158.56697819314641,212.69883057430772]
[null,"Textiles",0.17,76.349308411214949,91.987118567728857]
[null,"C&D Debris",8.8999999999999996E-2,"-","-"]
[null,"Food Waste",0.59750000000000003,247.53894080996884,615.00357965209651]
[null,"Miscellaneous",0.313,206.19904324930312,300.14416775735532]
[null,"Tires","x",36.386292834890966,36.386292834890966]
[]
[]
[null,6]
[]
[null,"Finding County Factor"]
[null,"Category ","tons-DRY/county-us data ","tons-WET/county-us data ","County Factor","Category"]
[null,"equation","US DATA * County Population/2000","tons-DRY/(1-MoistureContent)","ton-wet-composition/tons-wet-Usdata"]
[null,"Newspaper ",{"$f":"D120*$C$8/2000","v":542.73990654205613},{"$f":"C145/(1-C120)","v":752.23826270555253},{"$f":"G95/D145","v":8.1754682058857803E-2},"Newspaper "]
[null,"Glass ",735.4811214953271,759.79454699930488,0.69118290210693023,"Glass "]
[null,"Aluminum Cans ",108.87056074766355,124.99490326941854,2.1747206717228291,"Aluminum Cans "]
[null,"Plastic Bottles ",301.61177570093457,316.81909212283045,2.7675636405777557,"Plastic Bottles "]
[null,"Steel Cans ",140.32205607476635,148.96184296684328,1.316867434593052,"Steel Cans "]
[null,"Corrugated Paper",2526.6034579439252,3326.6668307359118,0.67248303296579648,"Corrugated Paper"]
[null,"Office Paper ",365.32121495327101,421.84897800608661,0.96794355631722895,"Office Paper "]
[null,"Yard Waste ",2799.9895327102804,5667.9950054863975,6.6071511996306523E-2,"Yard Waste "]
[null,"Other Plastics ",2005.0109772359083,2270.6806084211871,1.2330140089348358,"Other Plastics "]
[null,"Ferrous Metal ",{"$f":"D131*$C$8/2000","v":157.04900361775466},{"$f":"C154/(1-C131)","v":188.98797065915122},{"$f":"C104/D154","v":1.7928495597801333},"Ferrous Metal "]
[null,"White Goods ",{"$f":"D130*$C$8/2000","v":391.93401869158879},{"$f":"Table714192531374349172178202208214226232238108217247[[#This Row],[tons-DRY/county-us data ]]","v":391.93401869158879},{"$f":"G105/Table714192531374349172178202208214226232238108217247[[#This Row],[tons-WET/county-us data ]]","v":0},"White Goods "]
[null,"Non-ferrous Metal ",{"$f":"D129*$C$8/2000","v":605.26754157795392},{"$f":"C156/(1-C129)","v":639.81769722828108},{"$f":"C106/D156","v":0.11148800714486864},"Non-ferrous Metal "]
[null,"Other Paper ",{"$f":"D132*$C$8/2000","v":2052.4116822429905},{"$f":"C157/(1-C132)","v":2753.0673135385518},{"$f":"G107/D157","v":1.0558328834553197},"Other Paper "]
[null,"Textiles ",988.22727342056066,{"$f":"C158/(1-C133)","v":1190.6352691813984},{"$f":"G108/D158","v":0.9435962708986686},"Textiles "]
[null,"C&D Debris",{"$error":"#VALUE!"},{"$f":"C159/(1-C134)","v":{"$error":"#VALUE!"}},{"$f":"#REF!/D159","v":{"$error":"#REF!"}},"C&D Debris"]
[null,"Food Waste",3204.0202803738316,{"$f":"C160/(1-C135)","v":7960.2988332269115},{"$f":"G110/D160","v":0.20834255531682058},"Food Waste"]
[null,"Miscellaneous ",2668.9373162973552,{"$f":"C161/(1-C136)","v":3884.9160353673292},{"$f":"G111/D161","v":0.78035405975340544},"Miscellaneous "]
[null,"Tires ",470.96598130841124,{"$f":"Table714192531374349172178202208214226232238108217247[[#This Row],[tons-DRY/county-us data ]]","v":470.96598130841124},{"$f":"G112/Table714192531374349172178202208214226232238108217247[[#This Row],[tons-WET/county-us data ]]","v":0.27390513353346552},"Tires "]
[]
[]
[]
[null,"Link to \"New WasteCalc County Factors\""]
[null,"Newspaper","Glass","Aluminum Cans","Plastic Bottles","Steel Cans","Corrugated Paper","Office Paper","Yard Waste","Other Plastics","Ferrous Metals","White Goods","Non-Ferrous Metal","Other Paper","Textiles","C&D Debris","Food Waste","Misc","Tires"]
[null,{"$f":"E145","v":8.1754682058857803E-2},{"$f":"E146","v":0.69118290210693023},{"$f":"E147","v":2.1747206717228291},{"$f":"E148","v":2.7675636405777557},{"$f":"E149","v":1.316867434593052},{"$f":"E150","v":0.67248303296579648},{"$f":"E151","v":0.96794355631722895},{"$f":"E152","v":6.6071511996306523E-2},{"$f":"E153","v":1.2330140089348358},{"$f":"E154","v":1.7928495597801333},{"$f":"E155","v":0},{"$f":"E156","v":0.11148800714486864},{"$f":"E157","v":1.0558328834553197},{"$f":"E158","v":0.9435962708986686},{"$error":"#REF!"},{"$f":"E160","v":0.20834255531682058},{"$f":"E161","v":0.78035405975340544},{"$f":"E162","v":0.27390513353346552}]

{"sheet":"71 Washington County Factor","index":70,"n_rows":168,"n_cols":19,"rows_kept":168,"cut":false,"hidden":true,"merged":[[89,9,89,10],[115,1,115,2],[117,1,117,2],[139,1,139,2],[141,1,141,2],[2,1,2,2],[3,1,3,2],[19,1,19,2],[67,1,67,2],[89,1,89,2]]}
[null,"Finding County Factors for Washington"]
[]
[null,1]
[null,"Information from annual solid waste report 2017"]
[null,"County","Washington"]
[null,"Waste comp study","NONE"]
[null,"Year",2017]
[null,"Population",24567]
[null,"Landfilled tons ",15203]
[null,"C&D collected",1020]
[null,"C&D disposed",{"$f":"C10-C14","v":1020}]
[]
[null,"Recycled tons",1524]
[null,"Recycled C&D",0]
[null,"combustor recy metals",0]
[null,"Combustor input",0]
[null,"Process Fuel",0]
[null,"Total Tons MSW collected",{"$f":"C9+(C16-C15-C17)+C13","v":16727}]
[]
[null,2]
[]
[null,"Aucilla Landifll Waste Composition Study Results"]
[null,"FDEP Category","Waste Comp Category","Percentage in waste stream"]
[null,"Newspapers","Newspaper",3.0000000000000001E-3]
[null,"Glass","Green",2E-3]
[null,null,"Clear ",0.02]
[null,null,"Brown",7.0000000000000001E-3]
[null,"Aluminum Cans","Aluminum cans and tin foil",1.2999999999999999E-2]
[null,"Plastic Bottles","#1 PET Bottles",3.7999999999999999E-2]
[null,null,"#2 HDPE Bottles- translucent ",5.0000000000000001E-3]
[null,null,"#2 HDPE Bottles- colored",4.0000000000000001E-3]
[null,null,"#3-7 (Other Plastic Bottles)",2E-3]
[null,"Steel Cans","Steel/Tin Cans",1.0999999999999999E-2]
[null,"Corrugated Boxes","Corrugated Cardboard (OCC)",0.11899999999999999]
[null,"Office Paper","High Grade Paper (Office Type)",2.1999999999999999E-2]
[null,"Yard Trash","Yard Trash",2.1000000000000001E-2]
[null,"Other Plastics","Expanded Polystyrene (Food Service)",4.0000000000000001E-3]
[null,null,"Expanded Polystyrene",1.7999999999999999E-2]
[null,null,"Rigid Plastic (Tubs, Cups, Lids)",8.9999999999999993E-3]
[null,null,"Rigid Plastic (Food Service)",6.0000000000000001E-3,null,null,null,null,null," "]
[null,null,"Grocery Bags",0.01]
[null,null,"Other Flexible Plastic",7.0999999999999994E-2]
[null,null,"Other Plastics",3.9E-2]
[null,"Ferrous Metals","Other Ferrous Metals",1.9E-2]
[null,"White Goods","White Goods",0]
[null,"Nonferrous Metals","Other Non-Ferrous Metals ",4.0000000000000001E-3]
[null,"Other Paper","Polycoated Aseptic Containers",0]
[null,null,"Food Service Container (Polycoated)",8.0000000000000002E-3]
[null,null,"Other Compsite (Metal Coated)",6.0000000000000001E-3]
[null,null,"Boxboards",2.8000000000000001E-2]
[null,null,"Other Paper",0.121]
[null,"Textiles","Clothing, Footwear, Other Textiles",6.3E-2]
[null,"C&D Debris","Wood",4.7E-2]
[null,null,"Asphalt Shingles",5.0000000000000001E-3]
[null,null,"Gypsum Drywall",6.0000000000000001E-3]
[null,null,"Concrete/Bricks/Ceramics",3.0000000000000001E-3]
[null,"Food Waste","Food Waste",9.2999999999999999E-2]
[null,"Miscellaneous","Animal- By-Product",3.0000000000000001E-3]
[null,null,"Other Organics",3.5999999999999997E-2]
[null,null,"Rubber and Leather",1.0999999999999999E-2]
[null,null,"Small Appliances/Electronics",1.4999999999999999E-2]
[null,null,"Hazardous Waste",0.01]
[null,null,"Residuals ",9.5000000000000001E-2]
[null,"Tires","Tires",0]
[null,null,null,"sum"]
[null,null,null,{"$f":"SUM(D24:D64)","v":0.99700000000000011}]
[]
[null,"Recycled tons from Washington"]
[null,"Materials","Tons"]
[null,"Newspaper",0]
[null,"Glass",0]
[null,"Aluminum Cans",5]
[null,"Plastic Bottles",0]
[null,"Steel Cans",0]
[null,"Corrugated Paper",765]
[null,"Office Paper",34]
[null,"Yard Trash",31]
[null,"Other Plastics",21]
[null,"Ferrous Metals",351]
[null,"White Goods",0]
[null,"NonFerous Metals",45]
[null,"Other Paper",3]
[null,"Textiles",4]
[null,"C&D Debris",0]
[null,"Food",84]
[null,"Miscellaneous",131]
[null,"Tires",50]
[null,"Total",{"$f":"SUM(C70:C87)","v":1524}]
[]
[null,3,null,null,null,null,null,null,null,4]
[]
[null,"Calculating waste compositon percentage utalizing waste compsition study"]
[null,"FDEP Category","Landfilled tons\n(Plus combusor ash, minus C&D  disposed)","Collected C&D \n(disposal C&D LANDFILL + recycled)","Combusted\n(minus recycled metals, minus ash)","Recycled Materials\n(Minus recycled C&D)","Total Collected Tons"]
[null,null,{"$f":"C9-C11","v":14183},{"$f":"C11+C14","v":1020},{"$f":"C16-C15","v":0},{"$f":"C88","v":1524},null,null,null,"FDEP Category","Percentage"]
[null,"Newspaper",{"$f":"$C$94*D24","v":42.548999999999999},null,{"$f":"$E$94*D24","v":0},{"$f":"C70","v":0},{"$f":"SUM(C95:F95)","v":42.548999999999999},null,null,"Newspaper",{"$f":"G95/$G$114","v":2.550218763566149E-3}]
[null,"Glass",{"$f":"$C$94*SUM(D25:D27)","v":411.30699999999996},null,{"$f":"$E$94*SUM(D25:D27)","v":0},0,411.30699999999996,null,null,"Glass",2.4652114714472772E-2]
[null,"Aluminum Cans",{"$f":"$C$94*D28","v":184.37899999999999},null,{"$f":"$E$94*D28","v":0},5,189.37899999999999,null,null,"Aluminum Cans",1.1350628198674322E-2]
[null,"Plastic Bottles",{"$f":"$C$94*SUM(D29:D32)","v":694.96699999999998},null,{"$f":"$E$94*SUM(D29:D32)","v":0},0,694.96699999999998,null,null,"Plastic Botles",4.1653573138247101E-2]
[null,"Steel Cans",{"$f":"$C$94*D33","v":156.01299999999998},null,{"$f":"$E$94*D33","v":0},0,156.01299999999998,null,null,"Steel Cans",9.3508021330758785E-3]
[null,"Corrugated Paper",{"$f":"$C$94*D34","v":1687.7769999999998},null,{"$f":"$E$94*D34","v":0},765,2452.777,null,null,"Corrugated Paper",0.14700975177427175]
[null,"Office Paper",{"$f":"$C$94*D35","v":312.02599999999995},null,{"$f":"$E$94*D35","v":0},34,346.02599999999995,null,null,"Office Paper",2.0739429784054624E-2]
[null,"Yard Trash",{"$f":"$C$94*D36","v":297.84300000000002},null,{"$f":"$E$94*D36","v":0},31,328.84300000000002,null,null,"Yard Trash",1.9709548728933303E-2]
[null,"Other Plastics",{"$f":"$C$94*SUM(D37:D43)","v":2226.7310000000002},null,{"$f":"$E$94*SUM(D37:D43)","v":0},21,2247.7310000000002,null,null,"Other Plastics",0.13472010556415673]
[null,"Ferrous Metals",{"$f":"$C$94*D44","v":269.47699999999998},null,{"$f":"$E$94*D44","v":0},351,620.47699999999998,null,null,"Ferrous Metals",3.7188937172700498E-2]
[null,"White Goods",{"$f":"$C$94*D45","v":0},null,{"$f":"$E$94*D45","v":0},0,0,null,null,"White Goods",0]
[null,"NonFerous Metals",{"$f":"$C$94*D46","v":56.731999999999999},null,{"$f":"$E$94*D46","v":0},45,101.732,null,null,"NonFerous Metals",6.0974136937439532E-3]
[null,"Other Paper",{"$f":"$C$94*SUM(D47:D51)","v":2311.8290000000002},null,{"$f":"$E$94*SUM(D47:D51)","v":0},3,2314.8290000000002,null,null,"Other Paper",0.13874169428769337]
[null,"Textiles",{"$f":"$C$94*D52","v":893.529},null,{"$f":"$E$94*D52","v":0},4,897.529,null,null,"Textiles",5.3794338213465936E-2]
[null,"C&D Debris",{"$f":"$C$94*SUM(D53:D56)","v":865.16300000000001},{"$f":"C10","v":1020},{"$f":"$E$94*SUM(D53:D56)","v":0},0,1885.163,null,null,"C&D Debris",0.11298921372959769]
[null,"Food",{"$f":"$C$94*D57","v":1319.019},null,{"$f":"$E$94*D57","v":0},{"$f":"C85","v":84},1403.019,null,null,"Food",8.4091409420663579E-2]
[null,"Miscellaneous",{"$f":"$C$94*SUM(D58:D63)","v":2411.1099999999997},null,{"$f":"$E$94*SUM(D58:D62)","v":0},{"$f":"C86","v":131},2542.1099999999997,null,null,"Miscellaneous",0.15236401845047221]
[null,"Tires",{"$f":"$C$94*D64","v":0},null,{"$f":"$E$94*D64","v":0},{"$f":"C87","v":50},50,null,null,"Tires",2.9968022322100977E-3]
[null,null,"Total","Total","Total","Total","Total",null,null,null,"total"]
[null,null,{"$f":"SUM(C95:C112)","v":14140.451000000001},{"$f":"D109","v":1020},{"$f":"SUM(E95:E112)","v":0},{"$f":"SUM(F95:F112)","v":1524},{"$f":"SUM(C114:F114)","v":16684.451000000001},null,null,null,{"$f":"SUM(K95:K112)","v":1}]
[]
[null,5]
[]
[null,"US EPA Data and Moisture Content"]
[null,"Category","Moisture Content  (MC) ","US EPA DATA (lbs-dry/person)","US EPA DATA             (lbs-WET/person)    [US EPA DATA/(1-MC)"]
[null,"Newspaper",0.27850000000000003,41.931464174454831,58.117067462861854]
[null,"Glass",3.2000000000000001E-2,56.822429906542055,58.700857341469067]
[null,"Aluminum Cans",0.129,8.4112149532710276,9.6569632069701807]
[null,"Plastic Bottles",4.8000000000000001E-2,23.302180685358255,24.477080551846907]
[null,"Steel Cans",5.8000000000000003E-2,10.841121495327103,11.508621544933231]
[null,"Corrugated Paper",0.24049999999999999,195.20249221183801,257.01447295831201]
[null,"Office Paper",0.13400000000000001,28.22429906542056,32.591569359608037]
[null,"Yard Waste",0.50600000000000001,216.3239875389408,437.90280878328099]
[null,"Other Plastics",0.11700000000000001,154.90485396035913,175.43018568557093]
[null,"Non-ferrous Metal",5.3999999999999999E-2,46.762277712979795,49.431583206109721]
[null,"White Goods","x",30.280373831775702,30.280373831775702]
[null,"Ferrous Metal",0.16900000000000001,12.133426323463874,14.600994372399368]
[null,"Other Paper",0.2545,158.56697819314641,212.69883057430772]
[null,"Textiles",0.17,76.349308411214949,91.987118567728857]
[null,"C&D Debris",8.8999999999999996E-2,"-","-"]
[null,"Food Waste",0.59750000000000003,247.53894080996884,615.00357965209651]
[null,"Miscellaneous",0.313,206.19904324930312,300.14416775735532]
[null,"Tires","x",36.386292834890966,36.386292834890966]
[]
[]
[null,6]
[]
[null,"Findig County Factor"]
[null,"Category ","tons-DRY/county-us data ","tons-WET/county-us data ","County Factor","Category     "]
[null,"equation","US DATA * County Population/2000","tons-DRY/(1-MoistureContent)","ton-wet-composition/tons-wet-Usdata"]
[null,"Newspaper ",{"$f":"D120*$C$8/2000","v":515.06514018691598},{"$f":"C145/(1-C120)","v":713.88099818006367},{"$f":"G95/D145","v":5.9602370855188075E-2},"Newspaper "]
[null,"Glass ",697.97831775700934,721.05198115393523,0.57042628097597758,"Glass "]
[null,"Aluminum Cans ",103.31915887850467,118.62130755281822,1.5965006954224954,"Aluminum Cans "]
[null,"Plastic Bottles ",286.23233644859812,300.66421895861146,2.3114389946602429,"Plastic Bottles "]
[null,"Steel Cans ",133.16691588785048,141.36615274718736,1.1036092937961348,"Steel Cans "]
[null,"Corrugated Paper",2397.7698130841122,3157.0372785834261,0.77692367354641112,"Corrugated Paper"]
[null,"Office Paper ",346.69317757009344,400.33854222874533,0.86433346655463339,"Office Paper "]
[null,"Yard Waste ",2657.2157009345792,5378.979151689432,6.1134834459567827E-2,"Yard Waste "]
[null,"Other Plastics ",1902.7737736220713,2154.8966858687104,1.0430806333965219,"Other Plastics "]
[null,"Ferrous Metal ",{"$f":"D131*$C$8/2000","v":149.04094224426848},{"$f":"C154/(1-C131)","v":179.35131437336761},{"$f":"C104/D154","v":1.5025092006797993},"Ferrous Metal "]
[null,"White Goods ",{"$f":"D130*$C$8/2000","v":371.94897196261684},{"$f":"Table714192531374349172178202208214226232238108217247253[[#This Row],[tons-DRY/county-us data ]]","v":371.94897196261684},{"$f":"G105/Table714192531374349172178202208214226232238108217247253[[#This Row],[tons-WET/county-us data ]]","v":0},"White Goods "]
[null,"Non-ferrous Metal ",{"$f":"D129*$C$8/2000","v":574.40443828738739},{"$f":"C156/(1-C129)","v":607.19285231224887},{"$f":"C106/D156","v":9.3433247417124693E-2},"Non-ferrous Metal "]
[null,"Other Paper ",{"$f":"D132*$C$8/2000","v":1947.757476635514},{"$f":"C157/(1-C132)","v":2612.686085359509},{"$f":"G107/D157","v":0.88599583890748079},"Other Paper "]
[null,"Textiles ",937.83672986915883,{"$f":"C158/(1-C133)","v":1129.9237709266974},{"$f":"G108/D158","v":0.79432703611846234},"Textiles "]
[null,"C&D Debris",{"$error":"#VALUE!"},{"$f":"C159/(1-C134)","v":{"$error":"#VALUE!"}},{"$f":"#REF!/D159","v":{"$error":"#REF!"}},"C&D Debris"]
[null,"Food Waste",3040.6445794392521,{"$f":"C160/(1-C135)","v":7554.3964706565275},{"$f":"G110/D160","v":0.18572218249991693},"Food Waste"]
[null,"Miscellaneous ",2532.8459477528149,{"$f":"C161/(1-C136)","v":3686.820884647474},{"$f":"G111/D161","v":0.68951274812013841},"Miscellaneous "]
[null,"Tires ",446.95102803738314,{"$f":"Table714192531374349172178202208214226232238108217247253[[#This Row],[tons-DRY/county-us data ]]","v":446.95102803738314},{"$f":"G112/Table714192531374349172178202208214226232238108217247253[[#This Row],[tons-WET/county-us data ]]","v":0.11186907930284028},"Tires "]
[]
[]
[]
[null,"Link to \"New WasteCalc County Factors\""]
[null,"Newspaper","Glass","Aluminum Cans","Plastic Bottles","Steel Cans","Corrugated Paper","Office Paper","Yard Waste","Other Plastics","Ferrous Metals","White Goods","Non-Ferrous Metal","Other Paper","Textiles","C&D Debris","Food Waste","Misc","Tires"]
[null,{"$f":"E145","v":5.9602370855188075E-2},{"$f":"E146","v":0.57042628097597758},{"$f":"E147","v":1.5965006954224954},{"$f":"E148","v":2.3114389946602429},{"$f":"E149","v":1.1036092937961348},{"$f":"E150","v":0.77692367354641112},{"$f":"E151","v":0.86433346655463339},{"$f":"E152","v":6.1134834459567827E-2},{"$f":"E153","v":1.0430806333965219},{"$f":"E154","v":1.5025092006797993},{"$f":"E155","v":0},{"$f":"E156","v":9.3433247417124693E-2},{"$f":"E157","v":0.88599583890748079},{"$f":"E158","v":0.79432703611846234},{"$error":"#REF!"},{"$f":"E160","v":0.18572218249991693},{"$f":"E161","v":0.68951274812013841},{"$f":"E162","v":0.11186907930284028}]

{"sheet":"72 Holmes County Factor","index":71,"n_rows":168,"n_cols":19,"rows_kept":168,"cut":false,"hidden":true,"merged":[[89,9,89,10],[115,1,115,2],[117,1,117,2],[139,1,139,2],[141,1,141,2],[2,1,2,2],[3,1,3,2],[19,1,19,2],[67,1,67,2],[89,1,89,2]]}
[null,"Finding County Factors for Holmes"]
[]
[null,1]
[null,"Information from annual solid waste report 2017"]
[null,"County","Holmes"]
[null,"Waste comp study","NONE"]
[null,"Year",2017]
[null,"Population",20210]
[null,"Landfilled tons ",4819]
[null,"C&D collected",277]
[null,"C&D disposed",{"$f":"C10-C14","v":277}]
[]
[null,"Recycled tons",1149]
[null,"Recycled C&D",0]
[null,"combustor recy metals",0]
[null,"Combustor input",0]
[null,"Process Fuel",0]
[null,"Total Tons MSW collected",{"$f":"C9+(C16-C15-C17)+C13","v":5968}]
[]
[null,2]
[]
[null,"Aucilla Landifll Waste Composition Study Results"]
[null,"FDEP Category","Waste Comp Category","Percentage in waste stream"]
[null,"Newspapers","Newspaper",3.0000000000000001E-3]
[null,"Glass","Green",2E-3]
[null,null,"Clear ",0.02]
[null,null,"Brown",7.0000000000000001E-3]
[null,"Aluminum Cans","Aluminum cans and tin foil",1.2999999999999999E-2]
[null,"Plastic Bottles","#1 PET Bottles",3.7999999999999999E-2]
[null,null,"#2 HDPE Bottles- translucent ",5.0000000000000001E-3]
[null,null,"#2 HDPE Bottles- colored",4.0000000000000001E-3]
[null,null,"#3-7 (Other Plastic Bottles)",2E-3]
[null,"Steel Cans","Steel/Tin Cans",1.0999999999999999E-2]
[null,"Corrugated Boxes","Corrugated Cardboard (OCC)",0.11899999999999999]
[null,"Office Paper","High Grade Paper (Office Type)",2.1999999999999999E-2]
[null,"Yard Trash","Yard Trash",2.1000000000000001E-2]
[null,"Other Plastics","Expanded Polystyrene (Food Service)",4.0000000000000001E-3]
[null,null,"Expanded Polystyrene",1.7999999999999999E-2]
[null,null,"Rigid Plastic (Tubs, Cups, Lids)",8.9999999999999993E-3]
[null,null,"Rigid Plastic (Food Service)",6.0000000000000001E-3]
[null,null,"Grocery Bags",0.01]
[null,null,"Other Flexible Plastic",7.0999999999999994E-2]
[null,null,"Other Plastics",3.9E-2]
[null,"Ferrous Metals","Other Ferrous Metals",1.9E-2]
[null,"White Goods","White Goods",0]
[null,"Nonferrous Metals","Other Non-Ferrous Metals ",4.0000000000000001E-3]
[null,"Other Paper","Polycoated Aseptic Containers",0]
[null,null,"Food Service Container (Polycoated)",8.0000000000000002E-3]
[null,null,"Other Compsite (Metal Coated)",6.0000000000000001E-3]
[null,null,"Boxboards",2.8000000000000001E-2]
[null,null,"Other Paper",0.121]
[null,"Textiles","Clothing, Footwear, Other Textiles",6.3E-2]
[null,"C&D Debris","Wood",4.7E-2]
[null,null,"Asphalt Shingles",5.0000000000000001E-3]
[null,null,"Gypsum Drywall",6.0000000000000001E-3]
[null,null,"Concrete/Bricks/Ceramics",3.0000000000000001E-3]
[null,"Food Waste","Food Waste",9.2999999999999999E-2]
[null,"Miscellaneous","Animal- By-Product",3.0000000000000001E-3]
[null,null,"Other Organics",3.5999999999999997E-2]
[null,null,"Rubber and Leather",1.0999999999999999E-2]
[null,null,"Small Appliances/Electronics",1.4999999999999999E-2]
[null,null,"Hazardous Waste",0.01]
[null,null,"Residuals ",9.5000000000000001E-2]
[null,"Tires","Tires",0]
[null,null,null,"sum"]
[null,null,null,{"$f":"SUM(D24:D64)","v":0.99700000000000011}]
[]
[null,"Recycled tons from Holmes"]
[null,"Materials","Tons"]
[null,"Newspaper",0]
[null,"Glass",0]
[null,"Aluminum Cans",1]
[null,"Plastic Bottles",0]
[null,"Steel Cans",0]
[null,"Corrugated Paper",464]
[null,"Office Paper",1]
[null,"Yard Trash",0]
[null,"Other Plastics",0]
[null,"Ferrous Metals",528]
[null,"White Goods",0]
[null,"NonFerous Metals",58]
[null,"Other Paper",43]
[null,"Textiles",0]
[null,"C&D Debris",0]
[null,"Food",0]
[null,"Miscellaneous",2]
[null,"Tires",52]
[null,"Total",{"$f":"SUM(C70:C87)","v":1149}]
[]
[null,3,null,null,null,null,null,null,null,4]
[]
[null,"Calculating waste compositon percentage utalizing waste compsition study"]
[null,"FDEP Category","Landfilled tons\n(Plus combusor ash, minus C&D  disposed)","Collected C&D \n(disposal C&D LANDFILL + recycled)","Combusted\n(minus recycled metals, minus ash)","Recycled Materials\n(Minus recycled C&D)","Total Collected Tons"]
[null,null,{"$f":"C9-C11","v":4542},{"$f":"C11+C14","v":277},{"$f":"C16-C15","v":0},{"$f":"C88","v":1149},null,null,null,"FDEP Category","Percentage"]
[null,"Newspaper",{"$f":"$C$94*D24","v":13.625999999999999},null,{"$f":"$E$94*D24","v":0},{"$f":"C70","v":0},{"$f":"SUM(C95:F95)","v":13.625999999999999},null,null,"Newspaper",{"$f":"G95/$G$114","v":2.2625140639175997E-3}]
[null,"Glass",{"$f":"$C$94*SUM(D25:D27)","v":131.71799999999999},null,{"$f":"$E$94*SUM(D25:D27)","v":0},0,131.71799999999999,null,null,"Glass",2.1870969284536797E-2]
[null,"Aluminum Cans",{"$f":"$C$94*D28","v":59.045999999999999},null,{"$f":"$E$94*D28","v":0},1,60.045999999999999,null,null,"Aluminum Cans",9.9702715016876699E-3]
[null,"Plastic Bottles",{"$f":"$C$94*SUM(D29:D32)","v":222.55800000000002},null,{"$f":"$E$94*SUM(D29:D32)","v":0},0,222.55800000000002,null,null,"Plastic Botles",3.69543963773208E-2]
[null,"Steel Cans",{"$f":"$C$94*D33","v":49.961999999999996},null,{"$f":"$E$94*D33","v":0},0,49.961999999999996,null,null,"Steel Cans",8.2958849010311992E-3]
[null,"Corrugated Paper",{"$f":"$C$94*D34","v":540.49799999999993},null,{"$f":"$E$94*D34","v":0},464,1004.4979999999999,null,null,"Corrugated Paper",0.16679075680148986]
[null,"Office Paper",{"$f":"$C$94*D35","v":99.923999999999992},null,{"$f":"$E$94*D35","v":0},1,100.92399999999999,null,null,"Office Paper",1.6757813693440468E-2]
[null,"Yard Trash",{"$f":"$C$94*D36","v":95.382000000000005},null,{"$f":"$E$94*D36","v":0},0,95.382000000000005,null,null,"Yard Trash",1.5837598447423201E-2]
[null,"Other Plastics",{"$f":"$C$94*SUM(D37:D43)","v":713.09400000000005},null,{"$f":"$E$94*SUM(D37:D43)","v":0},0,713.09400000000005,null,null,"Other Plastics",0.11840490267835439]
[null,"Ferrous Metals",{"$f":"$C$94*D44","v":86.298000000000002},null,{"$f":"$E$94*D44","v":0},528,614.298,null,null,"Ferrous Metals",0.10200043038576645]
[null,"White Goods",{"$f":"$C$94*F34","v":0},null,{"$f":"$E$94*D45","v":0},0,0,null,null,"White Goods",0]
[null,"NonFerous Metals",{"$f":"$C$94*D44","v":86.298000000000002},null,{"$f":"$E$94*D46","v":0},58,144.298,null,null,"NonFerous Metals",2.3959801438072935E-2]
[null,"Other Paper",{"$f":"$C$94*SUM(D47:D51)","v":740.346},null,{"$f":"$E$94*SUM(D47:D51)","v":0},43,783.346,null,null,"Other Paper",0.13006981813544666]
[null,"Textiles",{"$f":"$C$94*D52","v":286.14600000000002},null,{"$f":"$E$94*D52","v":0},0,286.14600000000002,null,null,"Textiles",4.7512795342269598E-2]
[null,"C&D Debris",{"$f":"$C$94*SUM(D53:D56)","v":277.06200000000001},{"$f":"C10","v":277},{"$f":"$E$94*SUM(D53:D56)","v":0},0,554.06200000000001,null,null,"C&D Debris",9.1998610544716947E-2]
[null,"Food",{"$f":"$C$94*D57","v":422.40600000000001},null,{"$f":"$E$94*D57","v":0},{"$f":"C85","v":0},422.40600000000001,null,null,"Food",7.013793598144559E-2]
[null,"Miscellaneous",{"$f":"$C$94*SUM(D58:D63)","v":772.13999999999987},null,{"$f":"$E$94*SUM(D58:D63)","v":0},{"$f":"C86","v":2},774.13999999999987,null,null,"Miscellaneous",0.1285412180714201]
[null,"Tires",{"$f":"$C$94*D64","v":0},null,{"$f":"$E$94*D64","v":0},{"$f":"C87","v":52},52,null,null,"Tires",8.6342823516597084E-3]
[null,null,"Total","Total","Total","Total","Total",null,null,null,"total"]
[null,null,{"$f":"SUM(C95:C112)","v":4596.5039999999999},{"$f":"D109","v":277},{"$f":"SUM(E95:E112)","v":0},{"$f":"SUM(F95:F112)","v":1149},{"$f":"SUM(C114:F114)","v":6022.5039999999999},null,null,null,{"$f":"SUM(K95:K112)","v":1}]
[]
[null,5]
[]
[null,"US EPA Data and Moisture Content"]
[null,"Category","Moisture Content  (MC) ","US EPA DATA (lbs-dry/person)","US EPA DATA             (lbs-WET/person)    [US EPA DATA/(1-MC)"]
[null,"Newspaper",0.27850000000000003,41.931464174454831,58.117067462861854]
[null,"Glass",3.2000000000000001E-2,56.822429906542055,58.700857341469067]
[null,"Aluminum Cans",0.129,8.4112149532710276,9.6569632069701807]
[null,"Plastic Bottles",4.8000000000000001E-2,23.302180685358255,24.477080551846907]
[null,"Steel Cans",5.8000000000000003E-2,10.841121495327103,11.508621544933231]
[null,"Corrugated Paper",0.24049999999999999,195.20249221183801,257.01447295831201]
[null,"Office Paper",0.13400000000000001,28.22429906542056,32.591569359608037]
[null,"Yard Waste",0.50600000000000001,216.3239875389408,437.90280878328099]
[null,"Other Plastics",0.11700000000000001,154.90485396035913,175.43018568557093]
[null,"Non-ferrous Metal",5.3999999999999999E-2,46.762277712979795,49.431583206109721]
[null,"White Goods","x",30.280373831775702,30.280373831775702]
[null,"Ferrous Metal",0.16900000000000001,12.133426323463874,14.600994372399368]
[null,"Other Paper",0.2545,158.56697819314641,212.69883057430772]
[null,"Textiles",0.17,76.349308411214949,91.987118567728857]
[null,"C&D Debris",8.8999999999999996E-2,"-","-"]
[null,"Food Waste",0.59750000000000003,247.53894080996884,615.00357965209651]
[null,"Miscellaneous",0.313,206.19904324930312,300.14416775735532]
[null,"Tires","x",36.386292834890966,36.386292834890966]
[]
[]
[null,6]
[]
[null,"Findig County Factor"]
[null,"Category","tons-DRY/county-us data ","tons-WET/county-us data ","County Factor","Column1"]
[null,"equation","US DATA * County Population/2000","tons-DRY/(1-MoistureContent)","ton-wet-composition/tons-wet-Usdata"]
[null,"Newspaper ",{"$f":"D120*$C$8/2000","v":423.71744548286608},{"$f":"C145/(1-C120)","v":587.27296671221904},{"$f":"G95/D145","v":2.320215772281093E-2},"Newspaper "]
[null,"Glass ",574.19065420560753,593.17216343554503,0.22205694757675976,"Glass "]
[null,"Aluminum Cans ",84.995327102803728,97.583613206433668,0.61532872197482003,"Aluminum Cans "]
[null,"Plastic Bottles ",235.46853582554516,247.340898976413,0.89980266474742487,"Plastic Bottles "]
[null,"Steel Cans ",109.54953271028037,116.29462071155029,0.429615743998362,"Steel Cans "]
[null,"Corrugated Paper",1972.521183800623,2597.1312492437432,0.38677213571416502,"Corrugated Paper"]
[null,"Office Paper ",285.2065420560748,329.33780837883927,0.30644522867507062,"Office Paper "]
[null,"Yard Waste ",2185.9538940809971,4425.0078827550551,2.1555215838534099E-2,"Yard Waste "]
[null,"Other Plastics ",1565.3135492694289,1772.722026352694,0.40225934433000926,"Other Plastics "]
[null,"Ferrous Metal ",{"$f":"D131*$C$8/2000","v":122.60827299860244},{"$f":"C154/(1-C131)","v":147.5430481330956},{"$f":"C104/D154","v":0.58490048221148527},"Ferrous Metal "]
[null,"White Goods ",{"$f":"D130*$C$8/2000","v":305.98317757009346},{"$f":"Table714192531374349172178202208214226232238108217247253259[[#This Row],[tons-DRY/county-us data ]]","v":305.98317757009346},{"$f":"G105/Table714192531374349172178202208214226232238108217247253259[[#This Row],[tons-WET/county-us data ]]","v":0},"White Goods "]
[null,"Non-ferrous Metal ",{"$f":"D129*$C$8/2000","v":472.53281628966079},{"$f":"C156/(1-C129)","v":499.50614829773872},{"$f":"C106/D156","v":0.17276664220068955},"Non-ferrous Metal "]
[null,"Other Paper ",{"$f":"D132*$C$8/2000","v":1602.3193146417445},{"$f":"C157/(1-C132)","v":2149.3216829533794},{"$f":"G107/D157","v":0.36446196314532386},"Other Paper "]
[null,"Textiles ",771.5097614953271,{"$f":"C158/(1-C133)","v":929.52983312690014},{"$f":"G108/D158","v":0.30783950100602647},"Textiles "]
[null,"C&D Debris",{"$error":"#VALUE!"},{"$f":"C159/(1-C134)","v":{"$error":"#VALUE!"}},{"$f":"#REF!/D159","v":{"$error":"#REF!"}},"C&D Debris"]
[null,"Food Waste",2501.3809968847354,{"$f":"C160/(1-C135)","v":6214.611172384436},{"$f":"G110/D160","v":6.7969819556374642E-2},"Food Waste"]
[null,"Miscellaneous ",2083.6413320342081,{"$f":"C161/(1-C136)","v":3032.9568151880753},{"$f":"G111/D161","v":0.25524267148261226},"Miscellaneous "]
[null,"Tires ",367.68348909657323,{"$f":"Table714192531374349172178202208214226232238108217247253259[[#This Row],[tons-DRY/county-us data ]]","v":367.68348909657323},{"$f":"G112/Table714192531374349172178202208214226232238108217247253259[[#This Row],[tons-WET/county-us data ]]","v":0.14142598605057852},"Tires "]
[]
[]
[]
[null,"Link to \"New WasteCalc County Factors\""]
[null,"Newspaper","Glass","Aluminum Cans","Plastic Bottles","Steel Cans","Corrugated Paper","Office Paper","Yard Waste","Other Plastics","Ferrous Metals","White Goods","Non-Ferrous Metal","Other Paper","Textiles","C&D Debris","Food Waste","Misc","Tires"]
[null,{"$f":"E145","v":2.320215772281093E-2},{"$f":"E146","v":0.22205694757675976},{"$f":"E147","v":0.61532872197482003},{"$f":"E148","v":0.89980266474742487},{"$f":"E149","v":0.429615743998362},{"$f":"E150","v":0.38677213571416502},{"$f":"E151","v":0.30644522867507062},{"$f":"E152","v":2.1555215838534099E-2},{"$f":"E153","v":0.40225934433000926},{"$f":"E154","v":0.58490048221148527},{"$f":"E155","v":0},{"$f":"E156","v":0.17276664220068955},{"$f":"E157","v":0.36446196314532386},{"$f":"E158","v":0.30783950100602647},{"$error":"#REF!"},{"$f":"E160","v":6.7969819556374642E-2},{"$f":"E161","v":0.25524267148261226},{"$f":"E162","v":0.14142598605057852}]

{"sheet":"73 Levy County Factor","index":72,"n_rows":169,"n_cols":19,"rows_kept":169,"cut":false,"hidden":true,"merged":[[89,9,89,10],[116,1,116,2],[118,1,118,2],[140,1,140,2],[142,1,142,2],[2,1,2,2],[3,1,3,2],[19,1,19,2],[67,1,67,2],[89,1,89,2]]}
[null,"Finding County Factors for Levy"]
[]
[null,1]
[null,"Information from annual solid waste report 2017"]
[null,"County","Levy"]
[null,"Waste comp study","NONE"]
[null,"Year",2017]
[null,"Population",41015]
[null,"Landfilled tons",29481]
[null,"C&D collected",3268]
[null,"C&D disposed",{"$f":"C10-C14","v":3268}]
[]
[null,"Recycled tons",3864]
[null,"Recycled C&D",0]
[null,"combustor recy metals",0]
[null,"Combustor input",0]
[null,"Process Fuel",0]
[null,"Total Tons MSW collected",{"$f":"C9+(C16-C15-C17)+C13","v":33345}]
[]
[null,2]
[]
[null,"Aucilla Landifll Waste Composition Study Results"]
[null,"FDEP Category","Waste Comp Category","Percentage in waste stream"]
[null,"Newspapers","Newspaper",3.0000000000000001E-3]
[null,"Glass","Green",2E-3]
[null,null,"Clear ",0.02]
[null,null,"Brown",7.0000000000000001E-3]
[null,"Aluminum Cans","Aluminum cans and tin foil",1.2999999999999999E-2]
[null,"Plastic Bottles","#1 PET Bottles",3.7999999999999999E-2]
[null,null,"#2 HDPE Bottles- translucent ",5.0000000000000001E-3]
[null,null,"#2 HDPE Bottles- colored",4.0000000000000001E-3]
[null,null,"#3-7 (Other Plastic Bottles)",2E-3]
[null,"Steel Cans","Steel/Tin Cans",1.0999999999999999E-2]
[null,"Corrugated Boxes","Corrugated Cardboard (OCC)",0.11899999999999999]
[null,"Office Paper","High Grade Paper (Office Type)",2.1999999999999999E-2]
[null,"Yard Trash","Yard Trash",2.1000000000000001E-2]
[null,"Other Plastics","Expanded Polystyrene (Food Service)",4.0000000000000001E-3]
[null,null,"Expanded Polystyrene",1.7999999999999999E-2]
[null,null,"Rigid Plastic (Tubs, Cups, Lids)",8.9999999999999993E-3]
[null,null,"Rigid Plastic (Food Service)",6.0000000000000001E-3]
[null,null,"Grocery Bags",0.01]
[null,null,"Other Flexible Plastic",7.0000000000000007E-2]
[null,null,"Other Plastics",3.9E-2]
[null,"Ferrous Metals","Other Ferrous Metals",1.9E-2]
[null,"White Goods","White Goods",0]
[null,"Nonferrous Metals","Other Non-Ferrous Metals ",4.0000000000000001E-3]
[null,"Other Paper","Polycoated Aseptic Containers",0]
[null,null,"Food Service Container (Polycoated)",8.0000000000000002E-3]
[null,null,"Other Compsite (Metal Coated)","`"]
[null,null,"Boxboards",2.8000000000000001E-2]
[null,null,"Other Paper",0.121]
[null,"Textiles","Clothing, Footwear, Other Textiles",6.3E-2]
[null,"C&D Debris","Wood",4.7E-2]
[null,null,"Asphalt Shingles",0.01]
[null,null,"Gypsum Drywall",6.0000000000000001E-3]
[null,null,"Concrete/Bricks/Ceramics",3.0000000000000001E-3]
[null,"Food Waste","Food Waste",9.2999999999999999E-2]
[null,"Miscellaneous","Animal- By-Product",3.0000000000000001E-3]
[null,null,"Other Organics",3.5999999999999997E-2]
[null,null,"Rubber and Leather",1.0999999999999999E-2]
[null,null,"Small Appliances/Electronics",1.4999999999999999E-2]
[null,null,"Hazardous Waste",0.01]
[null,null,"Residuals ",9.5000000000000001E-2]
[null,"Tires","Tires",0]
[null,null,null,"sum"]
[null,null,null,0.997]
[]
[null,"Recycled tons from Levy"]
[null,"Materials","Tons"]
[null,"Newspaper",25]
[null,"Glass",0]
[null,"Aluminum Cans",77]
[null,"Plastic Bottles",18]
[null,"Steel Cans",0]
[null,"Corrugated Paper",377]
[null,"Office Paper",27]
[null,"Yard Trash",0]
[null,"Other Plastics",0]
[null,"Ferrous Metals",2999]
[null,"White Goods",0]
[null,"NonFerous Metals",341]
[null,"Other Paper",0]
[null,"Textiles",0]
[null,"C&D Debris",0]
[null,"Food",0]
[null,"Miscellaneous",0]
[null,"Tires",0]
[null,"Total",{"$f":"SUM(C70:C87)","v":3864}]
[]
[null,3,null,null,null,null,null,null,null,4]
[null,"Calculating waste compositon percentage utalizing waste compsition study"]
[]
[]
[null,"FDEP Category","Landfilled tons\n(Plus combusor ash, minus C&D  disposed)","Collected C&D \n(disposal C&D LANDFILL + recycled)","Combusted\n(minus recycled metals, minus ash)","Recycled Materials\n(Minus recycled C&D)","Total Collected Tons"]
[null,null,{"$f":"C9-C11","v":26213},{"$f":"C11+C14","v":3268},{"$f":"C16-C15","v":0},{"$f":"C88","v":3864},null,null,null,"FDEP Category","Percentage"]
[null,"Newspaper",{"$f":"$C$95*D24","v":78.638999999999996},null,{"$f":"$E$95*D24","v":0},{"$f":"C70","v":25},{"$f":"SUM(C96:F96)","v":103.639},null,null,"Newspaper",{"$f":"G96/$G$115","v":3.1203469266740001E-3}]
[null,"Glass",{"$f":"$C$95*SUM(D25:D27)","v":760.17699999999991},null,{"$f":"$E$95*SUM(D25:D27)","v":0},0,{"$f":"SUM(C97:F97)","v":760.17699999999991},null,null,"Glass",2.2887291132471958E-2]
[null,"Aluminum Cans",{"$f":"$C$95*D28","v":340.76900000000001},null,{"$f":"$E$95*D28","v":0},77,417.76900000000001,null,null,"Aluminum Cans",1.2578124212021251E-2]
[null,"Plastic Bottles",{"$f":"$C$95*SUM(D29:D32)","v":1284.4370000000001},null,{"$f":"$E$95*SUM(D29:D32)","v":0},18,1302.4370000000001,null,null,"Plastic Botles",3.9213571050825513E-2]
[null,"Steel Cans",{"$f":"$C$95*D33","v":288.34299999999996},null,{"$f":"$E$95*D33","v":0},0,288.34299999999996,null,null,"Steel Cans",8.6813862916272945E-3]
[null,"Corrugated Paper",{"$f":"$C$95*D34","v":3119.3469999999998},null,{"$f":"$E$95*D34","v":0},377,3496.3469999999998,null,null,"Corrugated Paper",0.10526747282428293]
[null,"Office Paper",{"$f":"$C$95*D35","v":576.68599999999992},null,{"$f":"$E$95*D35","v":0},27,603.68599999999992,null,null,"Office Paper",1.8175684392710469E-2]
[null,"Yard Trash",{"$f":"$C$95*D36","v":550.47300000000007},null,{"$f":"$E$95*D36","v":0},0,550.47300000000007,null,null,"Yard Trash",1.6573555647652109E-2]
[null,"Other Plastics",{"$f":"$C$95*SUM(D37:D43)","v":4089.2280000000001},null,{"$f":"$E$95*SUM(D37:D43)","v":0},0,4089.2280000000001,null,null,"Other Plastics",0.12311784195398709]
[null,"Ferrous Metals",{"$f":"$C$95*D44","v":498.04699999999997},null,{"$f":"$E$95*D44","v":0},2999,3497.047,null,null,"Ferrous Metals",0.10528854831563922]
[null,"White Goods",{"$f":"$C$95*D45","v":0},null,{"$f":"$E$95*D45","v":0},0,0,null,null,"White Goods",0]
[null,"NonFerous Metals",{"$f":"$C$95*D46","v":104.852},null,{"$f":"$E$95*D46","v":0},341,445.85199999999998,null,null,"NonFerous Metals",1.3423642817389749E-2]
[null,"Other Paper",{"$f":"$C$95*SUM(D47:D51)","v":4115.4409999999998},null,{"$f":"$E$95*SUM(D47:D51)","v":0},0,4115.4409999999998,null,null,"Other Paper",0.12390705888958957]
[null,"Textiles",{"$f":"$C$95*D52","v":1651.4190000000001},null,{"$f":"$E$95*D52","v":0},0,1651.4190000000001,null,null,"Textiles",4.9720666942956328E-2]
[null,"C&D Debris",{"$f":"$C$95*SUM(D53:D56)","v":1730.058},{"$f":"C10","v":3268},{"$f":"$E$95*SUM(D53:D56)","v":0},0,4998.058,null,null,"C&D Debris",0.15048075453871998]
[null,"Food",{"$f":"$C$95*D57","v":2437.8090000000002},null,{"$f":"$E$95*D57","v":0},{"$f":"C85","v":0},2437.8090000000002,null,null,"Food",7.3397175011030769E-2]
[null,"Miscellaneous",{"$f":"$C$95*SUM(D58:D63)","v":4456.21},null,{"$f":"$E$95*SUM(D58:D63)","v":0},{"$f":"C86","v":0},4456.21,null,null,"Miscellaneous",0.13416687905242183]
[null,"Tires",{"$f":"$C$95*D64","v":0},null,{"$f":"$E$95*D64","v":0},{"$f":"C87","v":0},0,null,null,"Tires",0]
[null,null,"Total","Total","Total","Total","Total",null,null,null,"total"]
[null,null,{"$f":"SUM(C96:C113)","v":26081.935000000001},{"$f":"D110","v":3268},{"$f":"SUM(E96:E113)","v":0},{"$f":"SUM(F96:F113)","v":3864},{"$f":"SUM(C115:F115)","v":33213.934999999998},null,null,null,{"$f":"SUM(K96:K113)","v":1}]
[]
[null,5]
[]
[null,"US EPA Data and Moisture Content"]
[null,"Category","Moisture Content  (MC) ","US EPA DATA (lbs-dry/person)","US EPA DATA             (lbs-WET/person)    [US EPA DATA/(1-MC)"]
[null,"Newspaper",0.27850000000000003,41.931464174454831,58.117067462861854]
[null,"Glass",3.2000000000000001E-2,56.822429906542055,58.700857341469067]
[null,"Aluminum Cans",0.129,8.4112149532710276,9.6569632069701807]
[null,"Plastic Bottles",4.8000000000000001E-2,23.302180685358255,24.477080551846907]
[null,"Steel Cans",5.8000000000000003E-2,10.841121495327103,11.508621544933231]
[null,"Corrugated Paper",0.24049999999999999,195.20249221183801,257.01447295831201]
[null,"Office Paper",0.13400000000000001,28.22429906542056,32.591569359608037]
[null,"Yard Waste",0.50600000000000001,216.3239875389408,437.90280878328099]
[null,"Other Plastics",0.11700000000000001,154.90485396035913,175.43018568557093]
[null,"Non-ferrous Metal",5.3999999999999999E-2,46.762277712979795,49.431583206109721]
[null,"White Goods","x",30.280373831775702,30.280373831775702]
[null,"Ferrous Metal",0.16900000000000001,12.133426323463874,14.600994372399368]
[null,"Other Paper",0.2545,158.56697819314641,212.69883057430772]
[null,"Textiles",0.17,76.349308411214949,91.987118567728857]
[null,"C&D Debris",8.8999999999999996E-2,"-","-"]
[null,"Food Waste",0.59750000000000003,247.53894080996884,615.00357965209651]
[null,"Miscellaneous",0.313,206.19904324930312,300.14416775735532]
[null,"Tires","x",36.386292834890966,36.386292834890966]
[]
[]
[null,6]
[]
[null,"Findig County Factor"]
[null,"Material","tons-DRY/county-us data ","tons-WET/county-us data ","County Factor","Column1"]
[null,"equation","US DATA * County Population/2000","tons-DRY/(1-MoistureContent)","ton-wet-composition/tons-wet-Usdata"]
[null,"Newspaper ",{"$f":"D121*$C$8/2000","v":859.90950155763244},{"$f":"C146/(1-C121)","v":1191.8357609946395},{"$f":"G96/D146","v":8.695745117893483E-2},"Newspaper "]
[null,"Glass ",1165.285981308411,1203.8078319301767,0.63147703465356064,"Glass "]
[null,"Aluminum Cans ",172.49299065420561,198.04017296694101,2.1095164366966013,"Aluminum Cans "]
[null,"Plastic Bottles ",477.86947040498444,501.96372941700048,2.5946834874159124,"Plastic Bottles "]
[null,"Steel Cans ",222.32429906542058,236.01305633271824,1.2217247828590883,"Steel Cans "]
[null,"Corrugated Paper",4003.1151090342678,5270.724304192584,0.66335228295261806,"Corrugated Paper"]
[null,"Office Paper ",578.80981308411208,668.37160864216173,0.90321909577581461,"Office Paper "]
[null,"Yard Waste ",4436.2641744548291,8980.2918511231364,6.129789645212412E-2,"Yard Waste "]
[null,"Other Plastics ",3176.7112925920651,3597.6345329468459,1.1366435257809488,"Other Plastics "]
[null,"Ferrous Metal ",{"$f":"D132*$C$8/2000","v":248.8262403284354},{"$f":"C155/(1-C132)","v":299.42989209198004},{"$f":"C105/D155","v":1.6633175683308463},"Ferrous Metal "]
[null,"White Goods ",{"$f":"D131*$C$8/2000","v":620.97476635514022},{"$f":"Table714192531374349172178202208214226232238108217247253259265[[#This Row],[tons-DRY/county-us data ]]","v":620.97476635514022},{"$f":"G106/Table714192531374349172178202208214226232238108217247253259265[[#This Row],[tons-WET/county-us data ]]","v":0},"White Goods "]
[null,"Non-ferrous Metal ",{"$f":"D130*$C$8/2000","v":958.97741019893306},{"$f":"C157/(1-C130)","v":1013.7181925992951},{"$f":"C107/D157","v":0.10343308501857591},"Non-ferrous Metal "]
[null,"Other Paper ",{"$f":"D133*$C$8/2000","v":3251.81230529595},{"$f":"C158/(1-C133)","v":4361.9212680026158},{"$f":"G108/D158","v":0.94349272880950397},"Other Paper "]
[null,"Textiles ",1565.7334422429906,{"$f":"C159/(1-C134)","v":1886.4258340276997},{"$f":"G109/D159","v":0.87542217150093971},"Textiles "]
[null,"C&D Debris",{"$error":"#VALUE!"},{"$f":"C160/(1-C135)","v":{"$error":"#VALUE!"}},{"$f":"#REF!/D160","v":{"$error":"#REF!"}},"C&D Debris"]
[null,"Food Waste",5076.4048286604357,{"$f":"C161/(1-C136)","v":12612.185909715368},{"$f":"G111/D161","v":0.19328996713584098},"Food Waste"]
[null,"Miscellaneous ",4228.6268794350835,{"$f":"C162/(1-C137)","v":6155.206520283964},{"$f":"G112/D162","v":0.72397408361765536},"Miscellaneous "]
[null,"Tires ",746.19190031152652,{"$f":"Table714192531374349172178202208214226232238108217247253259265[[#This Row],[tons-DRY/county-us data ]]","v":746.19190031152652},{"$f":"G113/Table714192531374349172178202208214226232238108217247253259265[[#This Row],[tons-WET/county-us data ]]","v":0},"Tires "]
[]
[]
[]
[null,"Link to \"New WasteCalc County Factors\""]
[null,"Newspaper","Glass","Aluminum Cans","Plastic Bottles","Steel Cans","Corrugated Paper","Office Paper","Yard Waste","Other Plastics","Ferrous Metals","White Goods","Non-Ferrous Metal","Other Paper","Textiles","C&D Debris","Food Waste","Misc","Tires"]
[null,{"$f":"E146","v":8.695745117893483E-2},{"$f":"E147","v":0.63147703465356064},{"$f":"E148","v":2.1095164366966013},{"$f":"E149","v":2.5946834874159124},{"$f":"E150","v":1.2217247828590883},{"$f":"E151","v":0.66335228295261806},{"$f":"E152","v":0.90321909577581461},{"$f":"E153","v":6.129789645212412E-2},{"$f":"E154","v":1.1366435257809488},{"$f":"E155","v":1.6633175683308463},{"$f":"E156","v":0},{"$f":"E157","v":0.10343308501857591},{"$f":"E158","v":0.94349272880950397},{"$f":"E159","v":0.87542217150093971},{"$error":"#REF!"},{"$f":"E161","v":0.19328996713584098},{"$f":"E162","v":0.72397408361765536},{"$f":"E163","v":0}]

{"sheet":"74 Hendry County Factor","index":73,"n_rows":168,"n_cols":19,"rows_kept":168,"cut":false,"hidden":true,"merged":[[89,9,89,10],[115,1,115,2],[117,1,117,2],[139,1,139,2],[141,1,141,2],[2,1,2,2],[3,1,3,2],[19,1,19,2],[67,1,67,2],[89,1,89,2]]}
[null,"Finding County Factors for Hendry"]
[null,"***USES AVERAGES FOR ALL COMBUSTED TONS"]
[null,1]
[null,"Information from annual solid waste report 2017"]
[null,"County","Hendry"]
[null,"Waste comp study","NONE"]
[null,"Year",2017]
[null,"Population",39057]
[null,"Landfilled tons ",24944]
[null,"C&D collected",6959]
[null,"C&D disposed",{"$f":"C10-C14","v":6959}]
[]
[null,"Recycled tons",9339]
[null,"Recycled C&D",0]
[null,"WTE metals",0]
[null,"WTE input",27743]
[null,"WTE ash",5504]
[null,"Total Tons MSW collected",{"$f":"C9+(C16-C15)+C13","v":62026}]
[]
[null,2]
[]
[null,"Aucilla Landifll Waste Composition Study Results"]
[null,"FDEP Category","Waste Comp Category","Percentage in waste stream"]
[null,"Newspapers","Newspaper",3.0000000000000001E-3]
[null,"Glass","Green",2E-3]
[null,null,"Clear ",0.02]
[null,null,"Brown",7.0000000000000001E-3]
[null,"Aluminum Cans","Aluminum cans and tin foil",1.2999999999999999E-2]
[null,"Plastic Bottles","#1 PET Bottles",3.7999999999999999E-2]
[null,null,"#2 HDPE Bottles- translucent ",5.0000000000000001E-3]
[null,null,"#2 HDPE Bottles- colored",4.0000000000000001E-3]
[null,null,"#3-7 (Other Plastic Bottles)",2E-3]
[null,"Steel Cans","Steel/Tin Cans",1.0999999999999999E-2]
[null,"Corrugated Boxes","Corrugated Cardboard (OCC)",0.11899999999999999]
[null,"Office Paper","High Grade Paper (Office Type)",2.1999999999999999E-2]
[null,"Yard Trash","Yard Trash",2.1000000000000001E-2]
[null,"Other Plastics","Expanded Polystyrene (Food Service)",4.0000000000000001E-3]
[null,null,"Expanded Polystyrene",1.7999999999999999E-2]
[null,null,"Rigid Plastic (Tubs, Cups, Lids)",8.9999999999999993E-3]
[null,null,"Rigid Plastic (Food Service)",6.0000000000000001E-3]
[null,null,"Grocery Bags",0.01]
[null,null,"Other Flexible Plastic",7.0999999999999994E-2]
[null,null,"Other Plastics",3.9E-2]
[null,"Ferrous Metals","Other Ferrous Metals",1.9E-2]
[null,"White Goods","White Goods",0]
[null,"Nonferrous Metals","Other Non-Ferrous Metals ",4.0000000000000001E-3]
[null,"Other Paper","Polycoated Aseptic Containers",0]
[null,null,"Food Service Container (Polycoated)",8.0000000000000002E-3]
[null,null,"Other Compsite (Metal Coated)",6.0000000000000001E-3]
[null,null,"Boxboards",2.8000000000000001E-2]
[null,null,"Other Paper",0.121]
[null,"Textiles","Clothing, Footwear, Other Textiles",6.3E-2]
[null,"C&D Debris","Wood",4.7E-2]
[null,null,"Asphalt Shingles",5.0000000000000001E-3]
[null,null,"Gypsum Drywall",6.0000000000000001E-3]
[null,null,"Concrete/Bricks/Ceramics",3.0000000000000001E-3]
[null,"Food Waste","Food Waste",9.2999999999999999E-2]
[null,"Miscellaneous","Animal- By-Product",3.0000000000000001E-3]
[null,null,"Other Organics",3.5999999999999997E-2]
[null,null,"Rubber and Leather",1.0999999999999999E-2]
[null,null,"Small Appliances/Electronics",1.4999999999999999E-2]
[null,null,"Hazardous Waste",0.01]
[null,null,"Residuals ",9.5000000000000001E-2]
[null,"Tires","Tires",0]
[null,null,null,"sum"]
[null,null,null,{"$f":"SUM(D24:D64)","v":0.99700000000000011}]
[]
[null,"Recycled tons from Hendry"]
[null,"Materials","Tons"]
[null,"Newspaper",203]
[null,"Glass",251]
[null,"Aluminum Cans",98]
[null,"Plastic Bottles",44]
[null,"Steel Cans",322]
[null,"Corrugated Paper",1124]
[null,"Office Paper",52]
[null,"Yard Trash",529]
[null,"Other Plastics",41]
[null,"Ferrous Metals",5747]
[null,"White Goods",0]
[null,"NonFerous Metals",350]
[null,"Other Paper",68]
[null,"Textiles",87]
[null,"C&D Debris",0]
[null,"Food",58]
[null,"Miscellaneous",336]
[null,"Tires",29]
[null,"Total",{"$f":"SUM(C70:C87)","v":9339}]
[]
[null,3,null,null,null,null,null,null,null,4]
[]
[null,"Calculating waste compositon percentage utalizing waste compsition study"]
[null,"FDEP Category","Landfilled tons\n(Plus combusor ash, minus C&D  disposed)","Collected C&D \n(disposal C&D LANDFILL + recycled)","Combusted\n(minus recycled metals, minus ash)","Recycled Materials\n(Minus recycled C&D)","Total Collected Tons"]
[null,null,{"$f":"C9-C11+C17","v":23489},{"$f":"C11+C14","v":6959},{"$f":"C16-C15-C17","v":22239},{"$f":"C88","v":9339},null,null,null,"FDEP Category","Percentage"]
[null,"Newspaper",{"$f":"$C$94*D24","v":70.466999999999999},null,{"$f":"$E$94*D24","v":66.716999999999999},{"$f":"C70","v":203},{"$f":"SUM(C95:F95)","v":340.18399999999997},null,null,"Newspaper",{"$f":"G95/$G$114","v":5.4966958812073573E-3}]
[null,"Glass",{"$f":"$C$94*SUM(D25:D27)","v":681.18099999999993},null,{"$f":"$E$94*SUM(D25:D27)","v":644.93099999999993},251,{"$f":"SUM(C96:F96)","v":1577.1119999999999},null,null,"Glass",2.5482988719642011E-2]
[null,"Aluminum Cans",{"$f":"$C$94*D28","v":305.35699999999997},null,{"$f":"$E$94*D28","v":289.10699999999997},98,692.46399999999994,null,null,"Aluminum Cans",1.118883903030234E-2]
[null,"Plastic Bottles",{"$f":"$C$94*SUM(D29:D32)","v":1150.961},null,{"$f":"$E$94*SUM(D29:D32)","v":1089.711},44,2284.672,null,null,"Plastic Botles",3.6915749042605694E-2]
[null,"Steel Cans",{"$f":"$C$94*D33","v":258.37899999999996},null,{"$f":"$E$94*D33","v":244.62899999999999},322,825.00799999999992,null,null,"Steel Cans",1.3330486076838179E-2]
[null,"Corrugated Paper",{"$f":"$C$94*D34","v":2795.1909999999998},null,{"$f":"$E$94*D34","v":2646.4409999999998},1124,6565.6319999999996,null,null,"Corrugated Paper",0.10608753607436923]
[null,"Office Paper",{"$f":"$C$94*D35","v":516.75799999999992},null,{"$f":"$E$94*D35","v":489.25799999999998},52,1058.0159999999998,null,null,"Office Paper",1.7095431264996245E-2]
[null,"Yard Trash",{"$f":"$C$94*D36","v":493.26900000000001},null,{"$f":"$E$94*D36","v":467.01900000000001},529,1489.288,null,null,"Yard Trash",2.4063927802399711E-2]
[null,"Other Plastics",{"$f":"$C$94*SUM(D37:D43)","v":3687.7730000000001},null,{"$f":"$E$94*SUM(D37:D43)","v":3491.5230000000001},41,7220.2960000000003,null,null,"Other Plastics",0.11666560239252276]
[null,"Ferrous Metals",{"$f":"$C$94*D44","v":446.291},null,{"$f":"$E$94*D44","v":422.541},5747,6615.8320000000003,null,null,"Ferrous Metals",0.1068986680889161]
[null,"White Goods",{"$f":"$C$94*D45","v":0},null,{"$f":"$E$94*D45","v":0},0,0,null,null,"White Goods",0]
[null,"NonFerous Metals",{"$f":"$C$94*D46","v":93.956000000000003},null,{"$f":"$E$94*D46","v":88.956000000000003},350,532.91200000000003,null,null,"NonFerous Metals",8.610796496736987E-3]
[null,"Other Paper",{"$f":"$C$94*SUM(D47:D51)","v":3828.7070000000003},null,{"$f":"$E$94*SUM(D47:D51)","v":3624.9570000000003},68,7521.6640000000007,null,null,"Other Paper",0.12153510902519125]
[null,"Textiles",{"$f":"$C$94*D52","v":1479.807},null,{"$f":"$E$94*D52","v":1401.057},87,2967.864,null,null,"Textiles",4.7954771020340736E-2]
[null,"C&D Debris",{"$f":"$C$94*SUM(D53:D56)","v":1432.829},{"$f":"C10","v":6959},{"$f":"$E$94*SUM(D53:D56)","v":1356.579},0,9748.4079999999994,null,null,"C&D Debris",0.15751485696543296]
[null,"Food",{"$f":"$C$94*D57","v":2184.4769999999999},null,{"$f":"$E$94*D57","v":2068.2269999999999},{"$f":"C85","v":58},4310.7039999999997,null,null,"Food",6.9652390829386679E-2]
[null,"Miscellaneous",{"$f":"$C$94*SUM(D58:D63)","v":3993.1299999999997},null,{"$f":"$E$94*SUM(D58:D63)","v":3780.6299999999997},{"$f":"C86","v":336},8109.7599999999993,null,null,"Miscellaneous",0.13103756904963249]
[null,"Tires",{"$f":"$C$94*D64","v":0},null,{"$f":"$E$94*D64","v":0},{"$f":"C87","v":29},29,null,null,"Tires",4.6858223947926231E-4]
[null,null,"Total","Total","Total","Total","Total",null,null,null,"total"]
[null,null,{"$f":"SUM(C95:C112)","v":23418.532999999999},{"$f":"D109","v":6959},{"$f":"SUM(E95:E112)","v":22172.282999999999},{"$f":"SUM(F95:F112)","v":9339},{"$f":"SUM(C114:F114)","v":61888.815999999999},null,null,null,{"$f":"SUM(K95:K112)","v":0.99999999999999989}]
[]
[null,5]
[]
[null,"US EPA Data and Moisture Content"]
[null,"Category","Moisture Content  (MC) ","US EPA DATA (lbs-dry/person)","US EPA DATA             (lbs-WET/person)    [US EPA DATA/(1-MC)"]
[null,"Newspaper",0.27850000000000003,41.931464174454831,58.117067462861854]
[null,"Glass",3.2000000000000001E-2,56.822429906542055,58.700857341469067]
[null,"Aluminum Cans",0.129,8.4112149532710276,9.6569632069701807]
[null,"Plastic Bottles",4.8000000000000001E-2,23.302180685358255,24.477080551846907]
[null,"Steel Cans",5.8000000000000003E-2,10.841121495327103,11.508621544933231]
[null,"Corrugated Paper",0.24049999999999999,195.20249221183801,257.01447295831201]
[null,"Office Paper",0.13400000000000001,28.22429906542056,32.591569359608037]
[null,"Yard Waste",0.50600000000000001,216.3239875389408,437.90280878328099]
[null,"Other Plastics",0.11700000000000001,154.90485396035913,175.43018568557093]
[null,"Non-ferrous Metal",5.3999999999999999E-2,46.762277712979795,49.431583206109721]
[null,"White Goods","x",30.280373831775702,30.280373831775702]
[null,"Ferrous Metal",0.16900000000000001,12.133426323463874,14.600994372399368]
[null,"Other Paper",0.2545,158.56697819314641,212.69883057430772]
[null,"Textiles",0.17,76.349308411214949,91.987118567728857]
[null,"C&D Debris",8.8999999999999996E-2,"-","-"]
[null,"Food Waste",0.59750000000000003,247.53894080996884,615.00357965209651]
[null,"Miscellaneous",0.313,206.19904324930312,300.14416775735532]
[null,"Tires","x",36.386292834890966,36.386292834890966]
[]
[]
[null,6]
[]
[null,"Finding County Factor"]
[null,"Category ","tons-DRY/county-us data ","tons-WET/county-us data ","County Factor","Category    "]
[null,"equation","US DATA * County Population/2000","tons-DRY/(1-MoistureContent)","ton-wet-composition/tons-wet-Usdata"]
[null,"Newspaper ",{"$f":"D120*$C$8/2000","v":818.85859813084119},{"$f":"C145/(1-C120)","v":1134.9391519484977},{"$f":"G95/D145","v":0.29973765502402644},"Newspaper "]
[null,"Glass ",1109.6568224299065,1146.3396925928787,1.3757806784416298,"Glass "]
[null,"Aluminum Cans ",164.25841121495327,188.58600598731718,3.6718737234753762,"Aluminum Cans "]
[null,"Plastic Bottles ",455.05663551401869,478.00066755674237,4.7796418604975939,"Plastic Bottles "]
[null,"Steel Cans ",211.71084112149532,224.74611584022858,3.6708443076564485,"Steel Cans "]
[null,"Corrugated Paper",3812.0118691588787,5019.1071351663968,1.3081274862610262,"Corrugated Paper"]
[null,"Office Paper ",551.17822429906539,636.4644622391055,1.6623331902583538,"Office Paper "]
[null,"Yard Waste ",4224.4829906542054,8551.5850013243034,0.17415344638091862,"Yard Waste "]
[null,"Other Plastics ",3025.0594405648731,3425.8883811606715,2.1075689563341244,"Other Plastics "]
[null,"Ferrous Metal ",{"$f":"D131*$C$8/2000","v":236.94761595776427},{"$f":"C154/(1-C131)","v":285.13551860140109},{"$f":"C104/D154","v":1.5651890798770765},"Ferrous Metal "]
[null,"White Goods ",{"$f":"D130*$C$8/2000","v":591.33028037383178},{"$f":"Table7141925313743121127190196244271[[#This Row],[tons-DRY/county-us data ]]","v":591.33028037383178},{"$f":"G105/Table7141925313743121127190196244271[[#This Row],[tons-WET/county-us data ]]","v":0},"White Goods "]
[null,"Non-ferrous Metal ",{"$f":"D129*$C$8/2000","v":913.19714031792591},{"$f":"C156/(1-C129)","v":965.32467264051365},{"$f":"C106/D156","v":9.7330983722809253E-2},"Non-ferrous Metal "]
[null,"Other Paper ",{"$f":"D132*$C$8/2000","v":3096.57523364486},{"$f":"C157/(1-C132)","v":4153.6891128703683},{"$f":"G107/D157","v":1.8108394238494716},"Other Paper "]
[null,"Textiles ",1490.9874693084112,{"$f":"C158/(1-C133)","v":1796.370444949893},{"$f":"G108/D158","v":1.6521447501786215},"Textiles "]
[null,"C&D Debris",{"$error":"#VALUE!"},{"$f":"C159/(1-C134)","v":{"$error":"#VALUE!"}},{"$f":"#REF!/D159","v":{"$error":"#REF!"}},"C&D Debris"]
[null,"Food Waste",4834.0642056074767,{"$f":"C160/(1-C135)","v":12010.097405235967},{"$f":"G110/D160","v":0.35892331715150694},"Food Waste"]
[null,"Miscellaneous ",4026.7580160940161,{"$f":"C161/(1-C136)","v":5861.3653800495131},{"$f":"G111/D161","v":1.3835957109248653},"Miscellaneous "]
[null,"Tires ",710.56971962616831,{"$f":"Table7141925313743121127190196244271[[#This Row],[tons-DRY/county-us data ]]","v":710.56971962616831},{"$f":"G112/Table7141925313743121127190196244271[[#This Row],[tons-WET/county-us data ]]","v":4.0812321717363556E-2},"Tires "]
[]
[]
[]
[null,"Link to \"New WasteCalc County Factors\""]
[null,"Newspaper","Glass","Aluminum Cans","Plastic Bottles","Steel Cans","Corrugated Paper","Office Paper","Yard Waste","Other Plastics","Ferrous Metals","White Goods","Non-Ferrous Metal","Other Paper","Textiles","C&D Debris","Food Waste","Misc","Tires"]
[null,{"$f":"E145","v":0.29973765502402644},{"$f":"E146","v":1.3757806784416298},{"$f":"E147","v":3.6718737234753762},{"$f":"E148","v":4.7796418604975939},{"$f":"E149","v":3.6708443076564485},{"$f":"E150","v":1.3081274862610262},{"$f":"E151","v":1.6623331902583538},{"$f":"E152","v":0.17415344638091862},{"$f":"E153","v":2.1075689563341244},{"$f":"E154","v":1.5651890798770765},{"$f":"E155","v":0},{"$f":"E156","v":9.7330983722809253E-2},{"$f":"E157","v":1.8108394238494716},{"$f":"E158","v":1.6521447501786215},{"$error":"#REF!"},{"$f":"E160","v":0.35892331715150694},{"$f":"E161","v":1.3835957109248653},{"$f":"E162","v":4.0812321717363556E-2}]

{"sheet":"75 Gulf County Factor","index":74,"n_rows":167,"n_cols":19,"rows_kept":167,"cut":false,"hidden":true,"merged":[[88,9,88,10],[114,1,114,2],[116,1,116,2],[138,1,138,2],[140,1,140,2],[2,1,2,2],[3,1,3,2],[18,1,18,2],[66,1,66,2],[88,1,88,2]]}
[null,"Finding County Factors for Gulf"]
[]
[null,1]
[null,"Information from annual solid waste report 2017"]
[null,"County","Gulf"]
[null,"Waste comp study","NONE"]
[null,"Year",2017]
[null,"Population",16297]
[null,"Landfilled tons",15715]
[null,"C&D collected",3985]
[null,"C&D disposed",{"$f":"C10-C14","v":3985}]
[]
[null,"Recycled tons",2247]
[null,"Recycled C&D",0]
[null,"WTE metals",0]
[null,"WTE input",6487]
[null,"Total Tons MSW collected",{"$f":"C9+(C16-C15)+C13","v":24449}]
[]
[null,2]
[]
[null,"Aucilla Landifll Waste Composition Study Results"]
[null,"FDEP Category","Waste Comp Category","Percentage in waste stream"]
[null,"Newspapers","Newspaper",3.0000000000000001E-3]
[null,"Glass","Green",2E-3]
[null,null,"Clear ",0.02]
[null,null,"Brown",7.0000000000000001E-3]
[null,"Aluminum Cans","Aluminum cans and tin foil",1.2999999999999999E-2]
[null,"Plastic Bottles","#1 PET Bottles",3.7999999999999999E-2]
[null,null,"#2 HDPE Bottles- translucent ",5.0000000000000001E-3]
[null,null,"#2 HDPE Bottles- colored",4.0000000000000001E-3]
[null,null,"#3-7 (Other Plastic Bottles)",2E-3]
[null,"Steel Cans","Steel/Tin Cans",1.0999999999999999E-2]
[null,"Corrugated Boxes","Corrugated Cardboard (OCC)",0.11899999999999999]
[null,"Office Paper","High Grade Paper (Office Type)",2.1999999999999999E-2]
[null,"Yard Trash","Yard Trash",2.1000000000000001E-2]
[null,"Other Plastics","Expanded Polystyrene (Food Service)",4.0000000000000001E-3]
[null,null,"Expanded Polystyrene",1.7999999999999999E-2]
[null,null,"Rigid Plastic (Tubs, Cups, Lids)",8.9999999999999993E-3]
[null,null,"Rigid Plastic (Food Service)",6.0000000000000001E-3]
[null,null,"Grocery Bags",0.01]
[null,null,"Other Flexible Plastic",7.0999999999999994E-2]
[null,null,"Other Plastics",3.9E-2]
[null,"Ferrous Metals","Other Ferrous Metals",1.9E-2]
[null,"White Goods","White Goods",0]
[null,"Nonferrous Metals","Other Non-Ferrous Metals ",4.0000000000000001E-3]
[null,"Other Paper","Polycoated Aseptic Containers",0]
[null,null,"Food Service Container (Polycoated)",8.0000000000000002E-3]
[null,null,"Other Compsite (Metal Coated)",6.0000000000000001E-3]
[null,null,"Boxboards",2.8000000000000001E-2]
[null,null,"Other Paper",0.121]
[null,"Textiles","Clothing, Footwear, Other Textiles",6.3E-2]
[null,"C&D Debris","Wood",4.7E-2]
[null,null,"Asphalt Shingles",5.0000000000000001E-3]
[null,null,"Gypsum Drywall",6.0000000000000001E-3]
[null,null,"Concrete/Bricks/Ceramics",3.0000000000000001E-3]
[null,"Food Waste","Food Waste",9.2999999999999999E-2]
[null,"Miscellaneous","Animal- By-Product",3.0000000000000001E-3]
[null,null,"Other Organics",3.5999999999999997E-2]
[null,null,"Rubber and Leather",1.0999999999999999E-2]
[null,null,"Small Appliances/Electronics",1.4999999999999999E-2]
[null,null,"Hazardous Waste",0.01]
[null,null,"Residuals ",9.5000000000000001E-2]
[null,"Tires","Tires",0]
[null,null,null,"sum"]
[null,null,null,{"$f":"SUM(D23:D63)","v":0.99700000000000011}]
[]
[null,"Recycled tons from Gulf"]
[null,"Materials","Tons"]
[null,"Newspaper",0]
[null,"Glass",0]
[null,"Aluminum Cans",20]
[null,"Plastic Bottles",0]
[null,"Steel Cans",0]
[null,"Corrugated Paper",36]
[null,"Office Paper",3]
[null,"Yard Trash",0]
[null,"Other Plastics",0]
[null,"Ferrous Metals",1955]
[null,"White Goods",0]
[null,"NonFerous Metals",233]
[null,"Other Paper",0]
[null,"Textiles",0]
[null,"C&D Debris",0]
[null,"Food",0]
[null,"Miscellaneous",0]
[null,"Tires",0]
[null,"Total",{"$f":"SUM(C69:C86)","v":2247}]
[]
[null,3,null,null,null,null,null,null,null,4]
[]
[null,"Calculating waste compositon percentage utalizing waste compsition study"]
[null,"FDEP Category","Landfilled tons\n(Plus combusor ash, minus C&D  disposed)","Collected C&D \n(disposal C&D LANDFILL + recycled)","Combusted\n(minus recycled metals, minus ash)","Recycled Materials\n(Minus recycled C&D)","Total Collected Tons"]
[null,null,{"$f":"C9-C11","v":11730},{"$f":"C11+C14","v":3985},{"$f":"C16-C15","v":6487},{"$f":"C87","v":2247},null,null,null,"FDEP Category","Percentage"]
[null,"Newspaper",{"$f":"$C$93*D23","v":35.19},null,{"$f":"$E$93*D23","v":19.461000000000002},{"$f":"C69","v":0},{"$f":"SUM(C94:F94)","v":54.650999999999996},null,null,"Newspaper",{"$f":"G94/$G$113","v":2.2403139350019134E-3}]
[null,"Glass",{"$f":"$C$93*SUM(D24:D26)","v":340.16999999999996},null,{"$f":"$E$93*SUM(D24:D26)","v":188.12299999999999},0,{"$f":"SUM(C95:F95)","v":528.29299999999989},null,null,"Glass",2.1656368038351827E-2]
[null,"Aluminum Cans",{"$f":"$C$93*D27","v":152.48999999999998},null,{"$f":"$E$93*D27","v":84.331000000000003},20,256.82099999999997,null,null,"Aluminum Cans",1.0527889061519942E-2]
[null,"Plastic Bottles",{"$f":"$C$93*SUM(D28:D31)","v":574.77},null,{"$f":"$E$93*SUM(D28:D31)","v":317.863},0,892.63300000000004,null,null,"Plastic Botles",3.6591794271697925E-2]
[null,"Steel Cans",{"$f":"$C$93*D32","v":129.03},null,{"$f":"$E$93*D32","v":71.356999999999999},0,200.387,null,null,"Steel Cans",8.2144844283403504E-3]
[null,"Corrugated Paper",{"$f":"$C$93*D33","v":1395.87},null,{"$f":"$E$93*D33","v":771.95299999999997},36,2203.8229999999999,null,null,"Corrugated Paper",9.0341537706130209E-2]
[null,"Office Paper",{"$f":"$C$93*D34","v":258.06},null,{"$f":"$E$93*D34","v":142.714},3,403.774,null,null,"Office Paper",1.6551948158157446E-2]
[null,"Yard Trash",{"$f":"$C$93*D35","v":246.33},null,{"$f":"$E$93*D35","v":136.227},0,382.55700000000002,null,null,"Yard Trash",1.5682197545013397E-2]
[null,"Other Plastics",{"$f":"$C$93*SUM(D36:D42)","v":1841.61},null,{"$f":"$E$93*SUM(D36:D42)","v":1018.4590000000001},0,2860.069,null,null,"Other Plastics",0.11724309593176681]
[null,"Ferrous Metals",{"$f":"$C$93*D43","v":222.87},null,{"$f":"$E$93*D43","v":123.253},1955,2301.123,null,null,"Ferrous Metals",9.4330166384026068E-2]
[null,"White Goods",{"$f":"$C$93*D44","v":0},null,{"$f":"$E$93*D44","v":0},0,0,null,null,"White Goods",0]
[null,"NonFerous Metals",{"$f":"$C$93*D45","v":46.92},null,{"$f":"$E$93*D45","v":25.948},233,305.86799999999999,null,null,"NonFerous Metals",1.2538477661363292E-2]
[null,"Other Paper",{"$f":"$C$93*SUM(D46:D50)","v":1911.99},null,{"$f":"$E$93*SUM(D46:D50)","v":1057.3810000000001},0,2969.3710000000001,null,null,"Other Paper",0.12172372380177064]
[null,"Textiles",{"$f":"$C$93*D51","v":738.99},null,{"$f":"$E$93*D51","v":408.68099999999998},0,1147.671,null,null,"Textiles",4.7046592635040185E-2]
[null,"C&D Debris",{"$f":"$C$93*SUM(D52:D55)","v":715.53},{"$f":"C10","v":3985},{"$f":"$E$93*SUM(D52:D55)","v":395.70699999999999},0,5096.2370000000001,null,null,"C&D Debris",0.20891055547331883]
[null,"Food",{"$f":"$C$93*D56","v":1090.8900000000001},null,{"$f":"$E$93*D56","v":603.29099999999994},{"$f":"C84","v":0},1694.181,null,null,"Food",6.9449731985059326E-2]
[null,"Miscellaneous",{"$f":"$C$93*SUM(D57:D62)","v":1994.1},null,{"$f":"$E$93*SUM(D57:D62)","v":1102.79},{"$f":"C85","v":0},3096.89,null,null,"Miscellaneous",0.12695112298344177]
[null,"Tires",{"$f":"$C$93*D63","v":0},null,{"$f":"$E$93*D63","v":0},{"$f":"C86","v":0},0,null,null,"Tires",0]
[null,null,"Total","Total","Total","Total","Total",null,null,null,"total"]
[null,null,{"$f":"SUM(C94:C111)","v":11694.81},{"$f":"D108","v":3985},{"$f":"SUM(E94:E111)","v":6467.5390000000007},{"$f":"SUM(F94:F111)","v":2247},{"$f":"SUM(C113:F113)","v":24394.349000000002},null,null,null,{"$f":"SUM(K94:K111)","v":1}]
[]
[null,5]
[]
[null,"US EPA Data and Moisture Content"]
[null,"Category","Moisture Content  (MC) ","US EPA DATA (lbs-dry/person)","US EPA DATA             (lbs-WET/person)    [US EPA DATA/(1-MC)"]
[null,"Newspaper",0.27850000000000003,41.931464174454831,58.117067462861854]
[null,"Glass",3.2000000000000001E-2,56.822429906542055,58.700857341469067]
[null,"Aluminum Cans",0.129,8.4112149532710276,9.6569632069701807]
[null,"Plastic Bottles",4.8000000000000001E-2,23.302180685358255,24.477080551846907]
[null,"Steel Cans",5.8000000000000003E-2,10.841121495327103,11.508621544933231]
[null,"Corrugated Paper",0.24049999999999999,195.20249221183801,257.01447295831201]
[null,"Office Paper",0.13400000000000001,28.22429906542056,32.591569359608037]
[null,"Yard Waste",0.50600000000000001,216.3239875389408,437.90280878328099]
[null,"Other Plastics",0.11700000000000001,154.90485396035913,175.43018568557093]
[null,"Non-ferrous Metal",5.3999999999999999E-2,46.762277712979795,49.431583206109721]
[null,"White Goods","x",30.280373831775702,30.280373831775702]
[null,"Ferrous Metal",0.16900000000000001,12.133426323463874,14.600994372399368]
[null,"Other Paper",0.2545,158.56697819314641,212.69883057430772]
[null,"Textiles",0.17,76.349308411214949,91.987118567728857]
[null,"C&D Debris",8.8999999999999996E-2,"-","-"]
[null,"Food Waste",0.59750000000000003,247.53894080996884,615.00357965209651]
[null,"Miscellaneous",0.313,206.19904324930312,300.14416775735532]
[null,"Tires","x",36.386292834890966,36.386292834890966]
[]
[]
[null,6]
[]
[null,"Findig County Factor"]
[null,"Category ","tons-DRY/county-us data ","tons-WET/county-us data ","County Factor","Category     "]
[null,"equation","US DATA * County Population/2000","tons-DRY/(1-MoistureContent)","ton-wet-composition/tons-wet-Usdata"]
[null,"Newspaper ",{"$f":"D119*$C$8/2000","v":341.67853582554523},{"$f":"C144/(1-C119)","v":473.56692422112991},{"$f":"G94/D144","v":0.11540290760357444},"Newspaper "]
[null,"Glass ",463.01757009345795,478.32393604696068,1.104466994409691,"Glass "]
[null,"Aluminum Cans ",68.538785046728975,78.68976469199653,3.2637154400605422,"Aluminum Cans "]
[null,"Plastic Bottles ",189.87781931464173,199.45149087672451,4.4754390958737531,"Plastic Bottles "]
[null,"Steel Cans ",88.338878504672905,93.77800265888844,2.1368230749048371,"Steel Cans "]
[null,"Corrugated Paper",1590.6075077881619,2094.2824329008054,1.0523045819314203,"Corrugated Paper"]
[null,"Office Paper ",229.98570093457943,265.57240292676607,1.5203914094618642,"Office Paper "]
[null,"Yard Waste ",1762.7160124610591,3568.251037370565,0.10721134695778167,"Yard Waste "]
[null,"Other Plastics ",1262.2422024959865,1429.4928680588748,2.0007577959334077,"Other Plastics "]
[null,"Ferrous Metal ",{"$f":"D130*$C$8/2000","v":98.869224396745381},{"$f":"C153/(1-C130)","v":118.97620264349625},{"$f":"C103/D153","v":1.8732317475942155},"Ferrous Metal "]
[null,"White Goods ",{"$f":"D129*$C$8/2000","v":246.73962616822431},{"$f":"Table7141925313743121127190196244271277[[#This Row],[tons-DRY/county-us data ]]","v":246.73962616822431},{"$f":"G104/Table7141925313743121127190196244271277[[#This Row],[tons-WET/county-us data ]]","v":0},"White Goods "]
[null,"Non-ferrous Metal ",{"$f":"D128*$C$8/2000","v":381.04241994421585},{"$f":"C155/(1-C128)","v":402.79325575498507},{"$f":"C105/D155","v":0.11648655812782761},"Non-ferrous Metal "]
[null,"Other Paper ",{"$f":"D131*$C$8/2000","v":1292.0830218068536},{"$f":"C156/(1-C131)","v":1733.1764209347464},{"$f":"G106/D156","v":1.7132537485125388},"Other Paper "]
[null,"Textiles ",622.13233958878493,{"$f":"C157/(1-C132)","v":749.55703564913847},{"$f":"G107/D157","v":1.531132316043279},"Textiles "]
[null,"C&D Debris",{"$error":"#VALUE!"},{"$f":"C158/(1-C133)","v":{"$error":"#VALUE!"}},{"$f":"#REF!/D158","v":{"$error":"#REF!"}},"C&D Debris"]
[null,"Food Waste",2017.0710591900311,{"$f":"C159/(1-C134)","v":5011.3566687951088},{"$f":"G109/D159","v":0.33806833398017461},"Food Waste"]
[null,"Miscellaneous ",1680.2129039169463,{"$f":"C160/(1-C135)","v":2445.7247509708095},{"$f":"G110/D160","v":1.2662463340450376},"Miscellaneous "]
[null,"Tires ",296.49370716510907,{"$f":"Table7141925313743121127190196244271277[[#This Row],[tons-DRY/county-us data ]]","v":296.49370716510907},{"$f":"G111/Table7141925313743121127190196244271277[[#This Row],[tons-WET/county-us data ]]","v":0},"Tires "]
[]
[]
[]
[null,"Link to \"New WasteCalc County Factors\""]
[null,"Newspaper","Glass","Aluminum Cans","Plastic Bottles","Steel Cans","Corrugated Paper","Office Paper","Yard Waste","Other Plastics","Ferrous Metals","White Goods","Non-Ferrous Metal","Other Paper","Textiles","C&D Debris","Food Waste","Misc","Tires"]
[null,{"$f":"E144","v":0.11540290760357444},{"$f":"E145","v":1.104466994409691},{"$f":"E146","v":3.2637154400605422},{"$f":"E147","v":4.4754390958737531},{"$f":"E148","v":2.1368230749048371},{"$f":"E149","v":1.0523045819314203},{"$f":"E150","v":1.5203914094618642},{"$f":"E151","v":0.10721134695778167},{"$f":"E152","v":2.0007577959334077},{"$f":"E153","v":1.8732317475942155},{"$f":"E154","v":0},{"$f":"E155","v":0.11648655812782761},{"$f":"E156","v":1.7132537485125388},{"$f":"E157","v":1.531132316043279},{"$error":"#REF!"},{"$f":"E159","v":0.33806833398017461},{"$f":"E160","v":1.2662463340450376},{"$f":"E161","v":0}]

{"sheet":"76 Hamilton County Factor","index":75,"n_rows":169,"n_cols":19,"rows_kept":169,"cut":false,"hidden":true,"merged":[[89,9,89,10],[116,1,116,2],[118,1,118,2],[140,1,140,2],[142,1,142,2],[2,1,2,2],[3,1,3,2],[19,1,19,2],[67,1,67,2],[89,1,89,2]]}
[null,"Finding County Factors for Hamilton"]
[]
[null,1]
[null,"Information from annual solid waste report 2017"]
[null,"County","Hamilton"]
[null,"Waste comp study","NONE"]
[null,"Year",2017]
[null,"Population",14663]
[null,"Landfilled tons",11854]
[null,"C&D collected",414]
[null,"C&D disposed",{"$f":"C10-C14","v":414}]
[]
[null,"Recycled tons",4052]
[null,"Recycled C&D",0]
[null,"combustor recy metals",0]
[null,"Combustor input",0]
[null,"Process Fuel",0]
[null,"Total Tons MSW collected",{"$f":"C9+(C16-C15-C17)+C13","v":15906}]
[]
[null,2]
[]
[null,"Aucilla Landifll Waste Composition Study Results"]
[null,"FDEP Category","Waste Comp Category","Percentage in waste stream"]
[null,"Newspapers","Newspaper",3.0000000000000001E-3]
[null,"Glass","Green",2E-3]
[null,null,"Clear ",0.02]
[null,null,"Brown",7.0000000000000001E-3]
[null,"Aluminum Cans","Aluminum cans and tin foil",1.2999999999999999E-2]
[null,"Plastic Bottles","#1 PET Bottles",3.7999999999999999E-2]
[null,null,"#2 HDPE Bottles- translucent ",5.0000000000000001E-3]
[null,null,"#2 HDPE Bottles- colored",4.0000000000000001E-3]
[null,null,"#3-7 (Other Plastic Bottles)",2E-3]
[null,"Steel Cans","Steel/Tin Cans",1.0999999999999999E-2]
[null,"Corrugated Boxes","Corrugated Cardboard (OCC)",0.11899999999999999]
[null,"Office Paper","High Grade Paper (Office Type)",2.1999999999999999E-2]
[null,"Yard Trash","Yard Trash",2.1000000000000001E-2]
[null,"Other Plastics","Expanded Polystyrene (Food Service)",4.0000000000000001E-3]
[null,null,"Expanded Polystyrene",1.7999999999999999E-2]
[null,null,"Rigid Plastic (Tubs, Cups, Lids)",8.9999999999999993E-3]
[null,null,"Rigid Plastic (Food Service)",6.0000000000000001E-3]
[null,null,"Grocery Bags",0.01]
[null,null,"Other Flexible Plastic",7.0999999999999994E-2]
[null,null,"Other Plastics",3.9E-2]
[null,"Ferrous Metals","Other Ferrous Metals",1.9E-2]
[null,"White Goods","White Goods",0]
[null,"Nonferrous Metals","Other Non-Ferrous Metals ",4.0000000000000001E-3]
[null,"Other Paper","Polycoated Aseptic Containers",0]
[null,null,"Food Service Container (Polycoated)",8.0000000000000002E-3]
[null,null,"Other Compsite (Metal Coated)",6.0000000000000001E-3]
[null,null,"Boxboards",2.8000000000000001E-2]
[null,null,"Other Paper",0.121]
[null,"Textiles","Clothing, Footwear, Other Textiles",6.3E-2]
[null,"C&D Debris","Wood",4.7E-2]
[null,null,"Asphalt Shingles",5.0000000000000001E-3]
[null,null,"Gypsum Drywall",6.0000000000000001E-3]
[null,null,"Concrete/Bricks/Ceramics",3.0000000000000001E-3]
[null,"Food Waste","Food Waste",9.2999999999999999E-2]
[null,"Miscellaneous","Animal- By-Product",3.0000000000000001E-3]
[null,null,"Other Organics",3.5999999999999997E-2]
[null,null,"Rubber and Leather",1.0999999999999999E-2]
[null,null,"Small Appliances/Electronics",1.4999999999999999E-2]
[null,null,"Hazardous Waste",0.01]
[null,null,"Residuals ",9.5000000000000001E-2]
[null,"Tires","Tires",0]
[null,null,null,"sum"]
[null,null,null,{"$f":"SUM(D24:D64)","v":0.99700000000000011}]
[]
[null,"Recycled tons from Hamilton"]
[null,"Materials","Tons"]
[null,"Newspaper",68]
[null,"Glass",0]
[null,"Aluminum Cans",0]
[null,"Plastic Bottles",0]
[null,"Steel Cans",0]
[null,"Corrugated Paper",0]
[null,"Office Paper",18]
[null,"Yard Trash",0]
[null,"Other Plastics",0]
[null,"Ferrous Metals",3962]
[null,"White Goods",0]
[null,"NonFerous Metals",4]
[null,"Other Paper",0]
[null,"Textiles",0]
[null,"C&D Debris",0]
[null,"Food",0]
[null,"Miscellaneous",0]
[null,"Tires",0]
[null,"Total",{"$f":"SUM(C70:C87)","v":4052}]
[]
[null,3,null,null,null,null,null,null,null,4]
[null,"Calculating waste compositon percentage utalizing waste compsition study"]
[]
[]
[null,"FDEP Category","Landfilled tons\n(Plus combusor ash, minus C&D  disposed)","Collected C&D \n(disposal C&D LANDFILL + recycled)","Combusted\n(minus recycled metals, minus ash)","Recycled Materials\n(Minus recycled C&D)","Total Collected Tons"]
[null,null,{"$f":"C9-C11","v":11440},{"$f":"C11+C14","v":414},{"$f":"C16-C15","v":0},{"$f":"C88","v":4052},null,null,null,"FDEP Category","Percentage"]
[null,"Newspaper",{"$f":"$C$95*D24","v":34.32},null,{"$f":"$E$95*D24","v":0},{"$f":"C70","v":68},{"$f":"SUM(C96:F96)","v":102.32},null,null,"Newspaper",{"$f":"G96/$G$115","v":6.4467025544869862E-3}]
[null,"Glass",{"$f":"$C$95*SUM(D25:D27)","v":331.76},null,{"$f":"$E$95*SUM(D25:D27)","v":0},0,{"$f":"SUM(C97:F97)","v":331.76},null,null,"Glass",2.0902639166112222E-2]
[null,"Aluminum Cans",{"$f":"$C$95*D28","v":148.72},null,{"$f":"$E$95*D28","v":0},0,148.72,null,null,"Aluminum Cans",9.370148591705478E-3]
[null,"Plastic Bottles",{"$f":"$C$95*SUM(D29:D32)","v":560.56000000000006},null,{"$f":"$E$95*SUM(D29:D32)","v":0},0,560.56000000000006,null,null,"Plastic Botles",3.5318252384120653E-2]
[null,"Steel Cans",{"$f":"$C$95*D33","v":125.83999999999999},null,{"$f":"$E$95*D33","v":0},0,125.83999999999999,null,null,"Steel Cans",7.9285872699046359E-3]
[null,"Corrugated Paper",{"$f":"$C$95*D34","v":1361.36},null,{"$f":"$E$95*D34","v":0},0,1361.36,null,null,"Corrugated Paper",8.5772898647150139E-2]
[null,"Office Paper",{"$f":"$C$95*D35","v":251.67999999999998},null,{"$f":"$E$95*D35","v":0},18,269.67999999999995,null,null,"Office Paper",1.699126998528196E-2]
[null,"Yard Trash",{"$f":"$C$95*D36","v":240.24},null,{"$f":"$E$95*D36","v":0},0,240.24,null,null,"Yard Trash",1.5136393878908852E-2]
[null,"Other Plastics",{"$f":"$C$95*SUM(D37:D43)","v":1796.08},null,{"$f":"$E$95*SUM(D37:D43)","v":0},0,1796.08,null,null,"Other Plastics",0.11316256376136616]
[null,"Ferrous Metals",{"$f":"$C$95*D44","v":217.35999999999999},null,{"$f":"$E$95*D44","v":0},3962,4179.3599999999997,null,null,"Ferrous Metals",0.26332184116615254]
[null,"White Goods",{"$f":"$C$95*D45","v":0},null,{"$f":"$E$95*D45","v":0},0,0,null,null,"White Goods",0]
[null,"NonFerous Metals",{"$f":"$C$95*D46","v":45.76},null,{"$f":"$E$95*D46","v":0},4,49.76,null,null,"NonFerous Metals",3.1351438537067281E-3]
[null,"Other Paper",{"$f":"$C$95*SUM(D47:D51)","v":1864.72},null,{"$f":"$E$95*SUM(D47:D51)","v":0},0,1864.72,null,null,"Other Paper",0.1174872477267687]
[null,"Textiles",{"$f":"$C$95*D52","v":720.72},null,{"$f":"$E$95*D52","v":0},0,720.72,null,null,"Textiles",4.5409181636726553E-2]
[null,"C&D Debris",{"$f":"$C$95*SUM(D53:D56)","v":697.84},{"$f":"C10","v":414},{"$f":"$E$95*SUM(D53:D56)","v":0},0,1111.8400000000001,null,null,"C&D Debris",7.0051815560797606E-2]
[null,"Food",{"$f":"$C$95*D57","v":1063.92},null,{"$f":"$E$95*D57","v":0},{"$f":"C85","v":0},1063.92,null,null,"Food",6.7032601463739197E-2]
[null,"Miscellaneous",{"$f":"$C$95*SUM(D58:D63)","v":1944.7999999999997},null,{"$f":"$E$95*SUM(D58:D63)","v":0},{"$f":"C86","v":0},1944.7999999999997,null,null,"Miscellaneous",0.12253271235307163]
[null,"Tires",{"$f":"$C$95*D64","v":0},null,{"$f":"$E$95*D64","v":0},{"$f":"C87","v":0},0,null,null,"Tires",0]
[null,null,"Total","Total","Total","Total","Total",null,null,null,"total"]
[null,null,{"$f":"SUM(C96:C113)","v":11405.679999999998},{"$f":"D110","v":414},{"$f":"SUM(E96:E113)","v":0},{"$f":"SUM(F96:F113)","v":4052},{"$f":"SUM(C115:F115)","v":15871.679999999998},null,null,null,{"$f":"SUM(K96:K113)","v":1.0000000000000002}]
[]
[null,5]
[]
[null,"US EPA Data and Moisture Content"]
[null,"Category","Moisture Content  (MC) ","US EPA DATA (lbs-dry/person)","US EPA DATA             (lbs-WET/person)    [US EPA DATA/(1-MC)"]
[null,"Newspaper",0.27850000000000003,41.931464174454831,58.117067462861854]
[null,"Glass",3.2000000000000001E-2,56.822429906542055,58.700857341469067]
[null,"Aluminum Cans",0.129,8.4112149532710276,9.6569632069701807]
[null,"Plastic Bottles",4.8000000000000001E-2,23.302180685358255,24.477080551846907]
[null,"Steel Cans",5.8000000000000003E-2,10.841121495327103,11.508621544933231]
[null,"Corrugated Paper",0.24049999999999999,195.20249221183801,257.01447295831201]
[null,"Office Paper",0.13400000000000001,28.22429906542056,32.591569359608037]
[null,"Yard Waste",0.50600000000000001,216.3239875389408,437.90280878328099]
[null,"Other Plastics",0.11700000000000001,154.90485396035913,175.43018568557093]
[null,"Non-ferrous Metal",5.3999999999999999E-2,46.762277712979795,49.431583206109721]
[null,"White Goods","x",30.280373831775702,30.280373831775702]
[null,"Ferrous Metal",0.16900000000000001,12.133426323463874,14.600994372399368]
[null,"Other Paper",0.2545,158.56697819314641,212.69883057430772]
[null,"Textiles",0.17,76.349308411214949,91.987118567728857]
[null,"C&D Debris",8.8999999999999996E-2,"-","-"]
[null,"Food Waste",0.59750000000000003,247.53894080996884,615.00357965209651]
[null,"Miscellaneous",0.313,206.19904324930312,300.14416775735532]
[null,"Tires","x",36.386292834890966,36.386292834890966]
[]
[]
[null,6]
[]
[null,"Finding County Factor"]
[null,"Category ","tons-DRY/county-us data ","tons-WET/county-us data ","County Factor","Category     "]
[null,"equation","US DATA * County Population/2000","tons-DRY/(1-MoistureContent)","ton-wet-composition/tons-wet-Usdata"]
[null,"Newspaper ",{"$f":"D121*$C$8/2000","v":307.42052959501558},{"$f":"C146/(1-C121)","v":426.08528010397168},{"$f":"G96/D146","v":0.24013972032789366},"Newspaper "]
[null,"Glass ",416.59364485981308,430.36533559898049,0.77087993050894299,"Glass "]
[null,"Aluminum Cans ",61.666822429906539,70.800025751901885,2.1005642077185964,"Aluminum Cans "]
[null,"Plastic Bottles ",170.83993769470405,179.45371606586559,3.12370238014049,"Plastic Bottles "]
[null,"Steel Cans ",79.481682242990658,84.37545885667798,1.4914289261970664,"Steel Cans "]
[null,"Corrugated Paper",1431.1270716510903,1884.3016084938647,0.72247457300009654,"Corrugated Paper"]
[null,"Office Paper ",206.92644859813083,238.94509075996632,1.1286274982351847,"Office Paper "]
[null,"Yard Waste ",1585.9793146417444,3210.4844425946244,7.4829828424848158E-2,"Yard Waste "]
[null,"Other Plastics ",1135.6849368103731,1286.1664063537635,1.3964600467927191,"Other Plastics "]
[null,"Ferrous Metal ",{"$f":"D132*$C$8/2000","v":88.956215090475396},{"$f":"C155/(1-C132)","v":107.04719024124597},{"$f":"C105/D155","v":2.0305063543484749},"Ferrous Metal "]
[null,"White Goods ",{"$f":"D131*$C$8/2000","v":222.00056074766354},{"$f":"Table714192531374349172178202208214226232238108217247253259265283[[#This Row],[tons-DRY/county-us data ]]","v":222.00056074766354},{"$f":"G106/Table714192531374349172178202208214226232238108217247253259265283[[#This Row],[tons-WET/county-us data ]]","v":0},"White Goods "]
[null,"Non-ferrous Metal ",{"$f":"D130*$C$8/2000","v":342.83763905271138},{"$f":"C157/(1-C130)","v":362.40765227559342},{"$f":"C107/D157","v":0.1262666494834434},"Non-ferrous Metal "]
[null,"Other Paper ",{"$f":"D133*$C$8/2000","v":1162.5338006230529},{"$f":"C158/(1-C133)","v":1559.4014763555369},{"$f":"G108/D158","v":1.1957921217042966},"Other Paper "]
[null,"Textiles ",559.75495461682237,{"$f":"C159/(1-C134)","v":674.40355977930415},{"$f":"G109/D159","v":1.0686776330715881},"Textiles "]
[null,"C&D Debris",{"$error":"#VALUE!"},{"$f":"C160/(1-C135)","v":{"$error":"#VALUE!"}},{"$f":"#REF!/D160","v":{"$error":"#REF!"}},"C&D Debris"]
[null,"Food Waste",1814.8317445482865,{"$f":"C161/(1-C136)","v":4508.8987442193456},{"$f":"G111/D161","v":0.23596005595911942},"Food Waste"]
[null,"Miscellaneous ",1511.7482855822659,{"$f":"C162/(1-C137)","v":2200.5069659130504},{"$f":"G112/D162","v":0.88379633881006558},"Miscellaneous "]
[null,"Tires ",266.76610591900311,{"$f":"Table714192531374349172178202208214226232238108217247253259265283[[#This Row],[tons-DRY/county-us data ]]","v":266.76610591900311},{"$f":"G113/Table714192531374349172178202208214226232238108217247253259265283[[#This Row],[tons-WET/county-us data ]]","v":0},"Tires "]
[]
[]
[]
[null,"Link to \"New WasteCalc County Factors\""]
[null,"Newspaper","Glass","Aluminum Cans","Plastic Bottles","Steel Cans","Corrugated Paper","Office Paper","Yard Waste","Other Plastics","Ferrous Metals","White Goods","Non-Ferrous Metal","Other Paper","Textiles","C&D Debris","Food Waste","Misc","Tires"]
[null,{"$f":"E146","v":0.24013972032789366},{"$f":"E147","v":0.77087993050894299},{"$f":"E148","v":2.1005642077185964},{"$f":"E149","v":3.12370238014049},{"$f":"E150","v":1.4914289261970664},{"$f":"E151","v":0.72247457300009654},{"$f":"E152","v":1.1286274982351847},{"$f":"E153","v":7.4829828424848158E-2},{"$f":"E154","v":1.3964600467927191},{"$f":"E155","v":2.0305063543484749},{"$f":"E156","v":0},{"$f":"E157","v":0.1262666494834434},{"$f":"E158","v":1.1957921217042966},{"$f":"E159","v":1.0686776330715881},{"$error":"#REF!"},{"$f":"E161","v":0.23596005595911942},{"$f":"E162","v":0.88379633881006558},{"$f":"E163","v":0}]

{"sheet":"77 Madison County Factor","index":76,"n_rows":170,"n_cols":19,"rows_kept":170,"cut":false,"hidden":true,"merged":[[91,9,91,10],[117,1,117,2],[119,1,119,2],[141,1,141,2],[143,1,143,2],[2,1,2,2],[3,1,3,2],[19,1,19,2],[67,1,67,2],[91,1,91,2]]}
[null,"Finding County Factors for Madison"]
[]
[null,1]
[null,"Information from annual solid waste report 2017"]
[null,"County","Madison"]
[null,"Waste comp study",2019]
[null,"Year",2017]
[null,"Population",19337]
[null,"Landfilled tons ",12661]
[null,"C&D collected",1843]
[null,"C&D disposed",{"$f":"C10-C14","v":1832}]
[]
[null,"Recycled tons",3919]
[null,"Recycled C&D",11]
[null,"combustor recy metals",0]
[null,"Combustor input",0]
[null,"Process Fuel",0]
[null,"Total Tons MSW collected",{"$f":"C9+(C16-C15-C17)+C13","v":16580}]
[]
[null,2]
[]
[null,"Aucilla Landifll Waste Composition Study Results"]
[null,"FDEP Category","Waste Comp Category","Percentage in waste stream"]
[null,"Newspapers","Newspaper",3.0000000000000001E-3]
[null,"Glass","Green",2E-3]
[null,null,"Clear ",0.02]
[null,null,"Brown",7.0000000000000001E-3]
[null,"Aluminum Cans","Aluminum cans and tin foil",1.2999999999999999E-2]
[null,"Plastic Bottles","#1 PET Bottles",3.7999999999999999E-2]
[null,null,"#2 HDPE Bottles- translucent ",5.0000000000000001E-3]
[null,null,"#2 HDPE Bottles- colored",4.0000000000000001E-3]
[null,null,"#3-7 (Other Plastic Bottles)",2E-3]
[null,"Steel Cans","Steel/Tin Cans",1.0999999999999999E-2]
[null,"Corrugated Boxes","Corrugated Cardboard (OCC)",0.11899999999999999]
[null,"Office Paper","High Grade Paper (Office Type)",2.1999999999999999E-2]
[null,"Yard Trash","Yard Trash",2.1000000000000001E-2]
[null,"Other Plastics","Expanded Polystyrene (Food Service)",4.0000000000000001E-3]
[null,null,"Expanded Polystyrene",1.7999999999999999E-2]
[null,null,"Rigid Plastic (Tubs, Cups, Lids)",8.9999999999999993E-3]
[null,null,"Rigid Plastic (Food Service)",6.0000000000000001E-3]
[null,null,"Grocery Bags",0.01]
[null,null,"Other Flexible Plastic",7.0999999999999994E-2]
[null,null,"Other Plastics",3.9E-2]
[null,"Ferrous Metals","Other Ferrous Metals",1.9E-2]
[null,"White Goods","White Goods",0]
[null,"Nonferrous Metals","Other Non-Ferrous Metals ",4.0000000000000001E-3]
[null,"Other Paper","Polycoated Aseptic Containers",0]
[null,null,"Food Service Container (Polycoated)",8.0000000000000002E-3]
[null,null,"Other Compsite (Metal Coated)",6.0000000000000001E-3]
[null,null,"Boxboards",2.8000000000000001E-2]
[null,null,"Other Paper",0.121]
[null,"Textiles","Clothing, Footwear, Other Textiles",6.3E-2]
[null,"C&D Debris","Wood",4.7E-2]
[null,null,"Asphalt Shingles",5.0000000000000001E-3]
[null,null,"Gypsum Drywall",6.0000000000000001E-3]
[null,null,"Concrete/Bricks/Ceramics",3.0000000000000001E-3]
[null,"Food Waste","Food Waste",9.2999999999999999E-2]
[null,"Miscellaneous","Animal- By-Product",3.0000000000000001E-3]
[null,null,"Other Organics",3.5999999999999997E-2]
[null,null,"Rubber and Leather",1.0999999999999999E-2]
[null,null,"Small Appliances/Electronics",1.4999999999999999E-2]
[null,null,"Hazardous Waste",0.01]
[null,null,"Residuals ",9.5000000000000001E-2]
[null,"Tires","Tires",0]
[null,null,null,"sum"]
[null,null,null,{"$f":"SUM(D24:D64)","v":0.99700000000000011}]
[]
[null,"Recycled tons from Madison"]
[null,"Materials","Tons"]
[null,"Newspaper",14]
[null,"Glass",6]
[null,"Aluminum Cans",45]
[null,"Plastic Bottles",15]
[null,"Steel Cans",0]
[null,"Corrugated Paper",924]
[null,"Office Paper",11]
[null,"Yard Trash",115]
[null,"Other Plastics",17]
[null,"Ferrous Metals",2400]
[null,"White Goods",40]
[null,"NonFerous Metals",105]
[null,"Other Paper",95]
[null,"Textiles",0]
[null,"C&D Debris",11]
[null,"Food",0]
[null,"Miscellaneous",3]
[null,"Tires",118]
[null,"Total",{"$f":"SUM(C70:C87)","v":3919}]
[]
[]
[]
[null,3,null,null,null,null,null,null,null,4]
[]
[null,"Calculating waste compositon percentage utalizing waste compsition study"]
[null,"FDEP Category","Landfilled tons\n(Plus combusor ash, minus C&D  disposed)","Collected C&D \n(disposal C&D LANDFILL + recycled)","Combusted\n(minus recycled metals, minus ash)","Recycled Materials\n(Minus recycled C&D)","Total Collected Tons"]
[null,null,{"$f":"C9-C11","v":10829},{"$f":"C11+C14","v":1843},{"$f":"C16-C15","v":0},{"$f":"C88","v":3919},null,null,null,"FDEP Category","Percentage"]
[null,"Newspaper",{"$f":"$C$96*D24","v":32.487000000000002},null,{"$f":"$E$96*D24","v":0},{"$f":"C70","v":14},{"$f":"SUM(C97:F97)","v":46.487000000000002},null,null,"Newspaper",{"$f":"G97/$G$116","v":2.8093043347359814E-3}]
[null,"Glass",{"$f":"$C$96*SUM(D25:D27)","v":314.041},null,{"$f":"$E$96*SUM(D25:D27)","v":0},6,{"$f":"SUM(C98:F98)","v":320.041},null,null,"Glass",1.9340731141894253E-2]
[null,"Aluminum Cans",{"$f":"$C$96*D28","v":140.77699999999999},null,{"$f":"$E$96*D28","v":0},45,185.77699999999999,null,null,"Aluminum Cans",1.1226883459768244E-2]
[null,"Plastic Bottles",{"$f":"$C$96*SUM(D29:D32)","v":530.62099999999998},null,{"$f":"$E$96*SUM(D29:D32)","v":0},15,545.62099999999998,null,null,"Plastic Botles",3.2972991167917499E-2]
[null,"Steel Cans",{"$f":"$C$96*D33","v":119.119},null,{"$f":"$E$96*D33","v":0},0,119.119,null,null,"Steel Cans",7.1986044065957223E-3]
[null,"Corrugated Paper",{"$f":"$C$96*D34","v":1288.6509999999998},null,{"$f":"$E$96*D34","v":0},924,2212.6509999999998,null,null,"Corrugated Paper",0.1337150180815691]
[null,"Office Paper",{"$f":"$C$96*D35","v":238.238},null,{"$f":"$E$96*D35","v":0},11,249.238,null,null,"Office Paper",1.5061961274784919E-2]
[null,"Yard Trash",{"$f":"$C$96*D36","v":227.40900000000002},null,{"$f":"$E$96*D36","v":0},115,342.40899999999999,null,null,"Yard Trash",2.06924750565236E-2]
[null,"Other Plastics",{"$f":"$C$96*SUM(D37:D43)","v":1700.153},null,{"$f":"$E$96*SUM(D37:D43)","v":0},17,1717.153,null,null,"Other Plastics",0.10377106215296523]
[null,"Ferrous Metals",{"$f":"$C$96*D44","v":205.751},null,{"$f":"$E$96*D44","v":0},2400,2605.7510000000002,null,null,"Ferrous Metals",0.15747085377724135]
[null,"White Goods",{"$f":"$C$96*D45","v":0},null,{"$f":"$E$96*D45","v":0},40,40,null,null,"White Goods",2.4172816785217213E-3]
[null,"NonFerous Metals",{"$f":"$C$96*D46","v":43.316000000000003},null,{"$f":"$E$96*D46","v":0},105,148.316,null,null,"NonFerous Metals",8.9630387357906901E-3]
[null,"Other Paper",{"$f":"$C$96*SUM(D47:D51)","v":1765.127},null,{"$f":"$E$96*SUM(D47:D51)","v":0},95,1860.127,null,null,"Other Paper",0.11241127292058933]
[null,"Textiles",{"$f":"$C$96*D52","v":682.22699999999998},null,{"$f":"$E$96*D52","v":0},0,682.22699999999998,null,null,"Textiles",4.1228370692320958E-2]
[null,"C&D Debris",{"$f":"$C$96*SUM(D53:D56)","v":660.56899999999996},{"$f":"C10","v":1843},{"$f":"$E$96*SUM(D53:D56)","v":0},0,2503.569,null,null,"C&D Debris",0.15129578686537368]
[null,"Food",{"$f":"$C$96*D57","v":1007.097},null,{"$f":"$E$96*D57","v":0},{"$f":"C85","v":0},1007.097,null,null,"Food",6.0860928164854743E-2]
[null,"Miscellaneous",{"$f":"$C$96*SUM(D58:D63)","v":1840.9299999999998},null,{"$f":"$E$96*SUM(D58:D63)","v":0},{"$f":"C86","v":3},1843.9299999999998,null,null,"Miscellaneous",0.11143245513691392]
[null,"Tires",{"$f":"$C$96*D64","v":0},null,{"$f":"$E$96*D64","v":0},{"$f":"C87","v":118},{"$f":"SUM(C114:F114)","v":118},null,null,"Tires",7.1309809516390777E-3]
[null,null,"Total","Total","Total","Total","Total",null,null,null,"total"]
[null,null,{"$f":"SUM(C97:C114)","v":10796.513000000001},{"$f":"D111","v":1843},{"$f":"SUM(E97:E114)","v":0},{"$f":"SUM(F97:F114)","v":3908},{"$f":"SUM(C116:F116)","v":16547.512999999999},null,null,null,1.0010000000000001]
[]
[null,5]
[]
[null,"US EPA Data and Moisture Content"]
[null,"Category","Moisture Content  (MC) ","US EPA DATA (lbs-dry/person)","US EPA DATA             (lbs-WET/person)    [US EPA DATA/(1-MC)"]
[null,"Newspaper",0.27850000000000003,41.931464174454831,58.117067462861854]
[null,"Glass",3.2000000000000001E-2,56.822429906542055,58.700857341469067]
[null,"Aluminum Cans",0.129,8.4112149532710276,9.6569632069701807]
[null,"Plastic Bottles",4.8000000000000001E-2,23.302180685358255,24.477080551846907]
[null,"Steel Cans",5.8000000000000003E-2,10.841121495327103,11.508621544933231]
[null,"Corrugated Paper",0.24049999999999999,195.20249221183801,257.01447295831201]
[null,"Office Paper",0.13400000000000001,28.22429906542056,32.591569359608037]
[null,"Yard Waste",0.50600000000000001,216.3239875389408,437.90280878328099]
[null,"Other Plastics",0.11700000000000001,154.90485396035913,175.43018568557093]
[null,"Non-ferrous Metal",5.3999999999999999E-2,46.762277712979795,49.431583206109721]
[null,"White Goods","x",30.280373831775702,30.280373831775702]
[null,"Ferrous Metal",0.16900000000000001,12.133426323463874,14.600994372399368]
[null,"Other Paper",0.2545,158.56697819314641,212.69883057430772]
[null,"Textiles",0.17,76.349308411214949,91.987118567728857]
[null,"C&D Debris",8.8999999999999996E-2,"-","-"]
[null,"Food Waste",0.59750000000000003,247.53894080996884,615.00357965209651]
[null,"Miscellaneous",0.313,206.19904324930312,300.14416775735532]
[null,"Tires","x",36.386292834890966,36.386292834890966]
[]
[]
[null,6]
[]
[null,"Findig County Factor"]
[null,"Category ","tons-DRY/county-us data ","tons-WET/county-us data ","County Factor","Category  "]
[null,"equation","US DATA * County Population/2000","tons-DRY/(1-MoistureContent)","ton-wet-composition/tons-wet-Usdata"]
[null,"Newspaper ",{"$f":"D122*$C$8/2000","v":405.41436137071656},{"$f":"C147/(1-C122)","v":561.90486676467992},{"$f":"G97/D147","v":8.2731086256044639E-2},"Newspaper "]
[null,"Glass ",549.38766355140183,567.54923920599367,0.56389997182929918,"Glass "]
[null,"Aluminum Cans ",81.323831775700938,93.368348766591211,1.9897213826113433,"Aluminum Cans "]
[null,"Plastic Bottles ",225.29713395638629,236.65665331553183,2.3055383922484918,"Plastic Bottles "]
[null,"Steel Cans ",104.81738317757009,111.27110740718695,1.0705294732449671,"Steel Cans "]
[null,"Corrugated Paper",1887.3152959501558,2484.9444317974398,0.8904227280444732,"Corrugated Paper"]
[null,"Office Paper ",272.88663551401874,315.11158835337039,0.79095155244021409,"Office Paper "]
[null,"Yard Waste ",2091.528473520249,4233.8633067211522,8.0873891099987633E-2,"Yard Waste "]
[null,"Other Plastics ",1497.6975805157324,1696.1467503009426,1.0123846888220789,"Other Plastics "]
[null,"Ferrous Metal ",{"$f":"D133*$C$8/2000","v":117.31203240841046},{"$f":"C156/(1-C133)","v":141.16971408954328},{"$f":"C106/D156","v":1.4574726691696289},"Ferrous Metal "]
[null,"White Goods ",{"$f":"D132*$C$8/2000","v":292.76579439252333},{"$f":"Table714192531374349172178202208214226232238108217247253259265283289[[#This Row],[tons-DRY/county-us data ]]","v":292.76579439252333},{"$f":"G107/Table714192531374349172178202208214226232238108217247253259265283289[[#This Row],[tons-WET/county-us data ]]","v":0.13662798307089907},"White Goods "]
[null,"Non-ferrous Metal ",{"$f":"D131*$C$8/2000","v":452.12108206794517},{"$f":"C158/(1-C131)","v":477.92926222827185},{"$f":"C108/D158","v":9.0632659314572622E-2},"Non-ferrous Metal "]
[null,"Other Paper ",{"$f":"D134*$C$8/2000","v":1533.1048286604359},{"$f":"C159/(1-C134)","v":2056.4786434076941},{"$f":"G109/D159","v":0.90452045585927943},"Other Paper "]
[null,"Textiles ",738.18328837383183,{"$f":"C160/(1-C135)","v":889.37745587208656},{"$f":"G110/D160","v":0.7670837567285046},"Textiles "]
[null,"C&D Debris",{"$error":"#VALUE!"},{"$f":"C161/(1-C136)","v":{"$error":"#VALUE!"}},{"$f":"#REF!/D161","v":{"$error":"#REF!"}},"C&D Debris"]
[null,"Food Waste",2393.3302492211837,{"$f":"C162/(1-C137)","v":5946.1621098662954},{"$f":"G112/D162","v":0.16936924715337864},"Food Waste"]
[null,"Miscellaneous ",1993.6354496558872,{"$f":"C163/(1-C138)","v":2901.94388596199},{"$f":"G113/D163","v":0.63541201086620591},"Miscellaneous "]
[null,"Tires ",351.80087227414333,{"$f":"Table714192531374349172178202208214226232238108217247253259265283289[[#This Row],[tons-DRY/county-us data ]]","v":351.80087227414333},{"$f":"G114/Table714192531374349172178202208214226232238108217247253259265283289[[#This Row],[tons-WET/county-us data ]]","v":0.33541701939854107},"Tires "]
[]
[]
[]
[null,"Link to \"New WasteCalc County Factors\""]
[null,"Newspaper","Glass","Aluminum Cans","Plastic Bottles","Steel Cans","Corrugated Paper","Office Paper","Yard Waste","Other Plastics","Ferrous Metals","White Goods","Non-Ferrous Metal","Other Paper","Textiles","C&D Debris","Food Waste","Misc","Tires"]
[null,{"$f":"E147","v":8.2731086256044639E-2},{"$f":"E148","v":0.56389997182929918},{"$f":"E149","v":1.9897213826113433},{"$f":"E150","v":2.3055383922484918},{"$f":"E151","v":1.0705294732449671},{"$f":"E152","v":0.8904227280444732},{"$f":"E153","v":0.79095155244021409},{"$f":"E154","v":8.0873891099987633E-2},{"$f":"E155","v":1.0123846888220789},{"$f":"E156","v":1.4574726691696289},{"$f":"E157","v":0.13662798307089907},{"$f":"E158","v":9.0632659314572622E-2},{"$f":"E159","v":0.90452045585927943},{"$f":"E160","v":0.7670837567285046},{"$error":"#REF!"},{"$f":"E162","v":0.16936924715337864},{"$f":"E163","v":0.63541201086620591},{"$f":"E164","v":0.33541701939854107}]

{"sheet":"78 Calhoun County Factor","index":77,"n_rows":168,"n_cols":19,"rows_kept":168,"cut":false,"hidden":true,"merged":[[89,9,89,10],[115,1,115,2],[117,1,117,2],[139,1,139,2],[141,1,141,2],[2,1,2,2],[3,1,3,2],[19,1,19,2],[67,1,67,2],[89,1,89,2]]}
[null,"Finding County Factors for Calhoun"]
[]
[null,1]
[null,"Information from annual solid waste report 2017"]
[null,"County","Calhoun"]
[null,"Waste comp study","NONE"]
[null,"Year",2017]
[null,"Population",15001]
[null,"Landfilled tons ",3610]
[null,"C&D collected",229]
[null,"C&D disposed",{"$f":"C10-C14","v":229}]
[]
[null,"Recycled tons",433]
[null,"Recycled C&D",0]
[null,"WTE metals",0]
[null,"WTE input",2261]
[null,"WTE Ash",{"$f":"843","v":843}]
[null,"Total Tons MSW collected",{"$f":"C9+(C16-C15)+C13","v":6304}]
[]
[null,2]
[]
[null,"Aucilla Landifll Waste Composition Study Results"]
[null,"FDEP Category","Waste Comp Category","Percentage in waste stream"]
[null,"Newspapers","Newspaper",3.0000000000000001E-3]
[null,"Glass","Green",2E-3]
[null,null,"Clear ",0.02]
[null,null,"Brown",7.0000000000000001E-3]
[null,"Aluminum Cans","Aluminum cans and tin foil",1.2999999999999999E-2]
[null,"Plastic Bottles","#1 PET Bottles",3.7999999999999999E-2]
[null,null,"#2 HDPE Bottles- translucent ",5.0000000000000001E-3]
[null,null,"#2 HDPE Bottles- colored",4.0000000000000001E-3]
[null,null,"#3-7 (Other Plastic Bottles)",2E-3]
[null,"Steel Cans","Steel/Tin Cans",1.0999999999999999E-2]
[null,"Corrugated Boxes","Corrugated Cardboard (OCC)",0.11899999999999999]
[null,"Office Paper","High Grade Paper (Office Type)",2.1999999999999999E-2]
[null,"Yard Trash","Yard Trash",2.1000000000000001E-2]
[null,"Other Plastics","Expanded Polystyrene (Food Service)",4.0000000000000001E-3]
[null,null,"Expanded Polystyrene",1.7999999999999999E-2]
[null,null,"Rigid Plastic (Tubs, Cups, Lids)",8.9999999999999993E-3]
[null,null,"Rigid Plastic (Food Service)",6.0000000000000001E-3]
[null,null,"Grocery Bags",0.01]
[null,null,"Other Flexible Plastic",7.0999999999999994E-2]
[null,null,"Other Plastics",3.9E-2]
[null,"Ferrous Metals","Other Ferrous Metals",1.9E-2]
[null,"White Goods","White Goods",0]
[null,"Nonferrous Metals","Other Non-Ferrous Metals ",4.0000000000000001E-3]
[null,"Other Paper","Polycoated Aseptic Containers",0]
[null,null,"Food Service Container (Polycoated)",8.0000000000000002E-3]
[null,null,"Other Compsite (Metal Coated)",6.0000000000000001E-3]
[null,null,"Boxboards",2.8000000000000001E-2]
[null,null,"Other Paper",0.121]
[null,"Textiles","Clothing, Footwear, Other Textiles",6.3E-2]
[null,"C&D Debris","Wood",4.7E-2]
[null,null,"Asphalt Shingles",5.0000000000000001E-3]
[null,null,"Gypsum Drywall",6.0000000000000001E-3]
[null,null,"Concrete/Bricks/Ceramics",3.0000000000000001E-3]
[null,"Food Waste","Food Waste",9.2999999999999999E-2]
[null,"Miscellaneous","Animal- By-Product",3.0000000000000001E-3]
[null,null,"Other Organics",3.5999999999999997E-2]
[null,null,"Rubber and Leather",1.0999999999999999E-2]
[null,null,"Small Appliances/Electronics",1.4999999999999999E-2]
[null,null,"Hazardous Waste",0.01]
[null,null,"Residuals ",9.5000000000000001E-2]
[null,"Tires","Tires",0]
[null,null,null,"sum"]
[null,null,null,{"$f":"SUM(D24:D64)","v":0.99700000000000011}]
[]
[null,"Recycled tons from Calhoun"]
[null,"Materials","Tons"]
[null,"Newspaper",0]
[null,"Glass",0]
[null,"Aluminum Cans",2]
[null,"Plastic Bottles",22]
[null,"Steel Cans",0]
[null,"Corrugated Paper",348]
[null,"Office Paper",1]
[null,"Yard Trash",0]
[null,"Other Plastics",0]
[null,"Ferrous Metals",53]
[null,"White Goods",0]
[null,"NonFerous Metals",7]
[null,"Other Paper",0]
[null,"Textiles",0]
[null,"C&D Debris",0]
[null,"Food",0]
[null,"Miscellaneous",0]
[null,"Tires",0]
[null,"Total",{"$f":"SUM(C70:C87)","v":433}]
[]
[null,3,null,null,null,null,null,null,null,4]
[]
[null,"Calculating waste compositon percentage utalizing waste compsition study"]
[null,"FDEP Category","Landfilled tons\n(Plus combusor ash, minus C&D  disposed)","Collected C&D \n(disposal C&D LANDFILL + recycled)","Combusted\n(minus recycled metals, minus ash)","Recycled Materials\n(Minus recycled C&D)","Total Collected Tons"]
[null,null,{"$f":"C9-C11+C17","v":4224},{"$f":"C11+C14","v":229},{"$f":"C16-C15-C17","v":1418},{"$f":"C88","v":433},null,null,null,"FDEP Category","Percentage"]
[null,"Newspaper",{"$f":"$C$94*D24","v":12.672000000000001},null,{"$f":"$E$94*D24","v":4.2540000000000004},{"$f":"C70","v":0},{"$f":"SUM(C95:F95)","v":16.926000000000002},null,null,"Newspaper",{"$f":"G95/$G$114","v":2.6921903575494741E-3}]
[null,"Glass",{"$f":"$C$94*SUM(D25:D27)","v":122.496},null,{"$f":"$E$94*SUM(D25:D27)","v":41.122},0,163.61799999999999,null,null,"Glass",2.6024506789644915E-2]
[null,"Aluminum Cans",{"$f":"$C$94*D28","v":54.911999999999999},null,{"$f":"$E$94*D28","v":18.433999999999997},2,75.346000000000004,null,null,"Aluminum Cans",1.198427122060278E-2]
[null,"Plastic Bottles",{"$f":"$C$94*SUM(D29:D32)","v":206.976},null,{"$f":"$E$94*SUM(D29:D32)","v":69.481999999999999},22,298.45799999999997,null,null,"Plastic Botles",4.7471685556747065E-2]
[null,"Steel Cans",{"$f":"$C$94*D33","v":46.463999999999999},null,{"$f":"$E$94*D33","v":15.597999999999999},0,{"$f":"SUM(C99:F99)","v":62.061999999999998},null,null,"Steel Cans",9.8713646443480702E-3]
[null,"Corrugated Paper",{"$f":"$C$94*D34","v":502.65599999999995},null,{"$f":"$E$94*D34","v":168.74199999999999},348,1019.3979999999999,null,null,"Corrugated Paper",0.16214188030870957]
[null,"Office Paper",{"$f":"$C$94*D35","v":92.927999999999997},null,{"$f":"E94*D35","v":31.195999999999998},1,125.124,null,null,"Office Paper",1.990178579097367E-2]
[null,"Yard Trash",{"$f":"$C$94*D36","v":88.704000000000008},null,{"$f":"$E$94*D36","v":29.778000000000002},0,118.48200000000001,null,null,"Yard Trash",1.884533250284632E-2]
[null,"Other Plastics",{"$f":"$C$94*SUM(D37:D43)","v":663.16800000000001},null,{"$f":"E94*SUM(D37:D43)","v":222.626},0,885.79399999999998,null,null,"Other Plastics",0.14089129537842246]
[null,"Ferrous Metals",{"$f":"$C$94*D44","v":80.256},null,{"$f":"$E$94*D44","v":26.942},53,160.19800000000001,null,null,"Ferrous Metals",2.5480533551855762E-2]
[null,"White Goods",{"$f":"$C$94*D45","v":0},null,{"$f":"$E$94*D45","v":0},0,0,null,null,"White Goods",0]
[null,"NonFerous Metals",{"$f":"$C$94*D46","v":16.896000000000001},null,{"$f":"$E$94*D46","v":5.6719999999999997},7,29.568000000000001,null,null,"NonFerous Metals",4.7029826593420095E-3]
[null,"Other Paper",{"$f":"$C$94*SUM(D47:D51)","v":688.51200000000006},null,{"$f":"$E$94*SUM(D47:D51)","v":231.13400000000001},0,919.64600000000007,null,null,"Other Paper",0.14627567609352143]
[null,"Textiles",{"$f":"$C$94*D52","v":266.11200000000002},null,{"$f":"$E$94*D52","v":89.334000000000003},0,355.44600000000003,null,null,"Textiles",5.6535997508538959E-2]
[null,"C&D Debris",{"$f":"$C$94*SUM(D53:D56)","v":257.66399999999999},{"$f":"C10","v":229},{"$f":"$E$94*SUM(D53:D56)","v":86.498000000000005},0,573.16200000000003,null,null,"C&D Debris",9.1165142958393688E-2]
[null,"Food",{"$f":"$C$94*D57","v":392.83199999999999},null,{"$f":"$E$94*D57","v":131.874},{"$f":"C85","v":0},524.70600000000002,null,null,"Food",8.3457901084033698E-2]
[null,"Miscellaneous",{"$f":"$C$94*SUM(D58:D63)","v":718.07999999999993},null,{"$f":"$E$94*SUM(D58:D63)","v":241.05999999999997},{"$f":"C86","v":0},959.13999999999987,null,null,"Miscellaneous",0.15255745359447018]
[null,"Tires",{"$f":"$C$94*D64","v":0},null,{"$f":"$E$94*D64","v":0},{"$f":"C87","v":0},0,null,null,"Tires",0]
[null,null,"Total","Total","Total","Total","Total",null,null,null,"total"]
[null,null,{"$f":"SUM(C95:C112)","v":4211.3279999999995},{"$f":"D109","v":229},{"$f":"SUM(E95:E112)","v":1413.7460000000001},{"$f":"SUM(F95:F112)","v":433},{"$f":"SUM(C114:F114)","v":6287.0739999999996},null,null,null,{"$f":"SUM(K95:K112)","v":1.0000000000000002}]
[]
[null,5]
[]
[null,"US EPA Data and Moisture Content"]
[null,"Category","Moisture Content  (MC) ","US EPA DATA (lbs-dry/person)","US EPA DATA             (lbs-WET/person)    [US EPA DATA/(1-MC)"]
[null,"Newspaper",0.27850000000000003,41.931464174454831,58.117067462861854]
[null,"Glass",3.2000000000000001E-2,56.822429906542055,58.700857341469067]
[null,"Aluminum Cans",0.129,8.4112149532710276,9.6569632069701807]
[null,"Plastic Bottles",4.8000000000000001E-2,23.302180685358255,24.477080551846907]
[null,"Steel Cans",5.8000000000000003E-2,10.841121495327103,11.508621544933231]
[null,"Corrugated Paper",0.24049999999999999,195.20249221183801,257.01447295831201]
[null,"Office Paper",0.13400000000000001,28.22429906542056,32.591569359608037]
[null,"Yard Waste",0.50600000000000001,216.3239875389408,437.90280878328099]
[null,"Other Plastics",0.11700000000000001,154.90485396035913,175.43018568557093]
[null,"Non-ferrous Metal",5.3999999999999999E-2,46.762277712979795,49.431583206109721]
[null,"White Goods","x",30.280373831775702,30.280373831775702]
[null,"Ferrous Metal",0.16900000000000001,12.133426323463874,14.600994372399368]
[null,"Other Paper",0.2545,158.56697819314641,212.69883057430772]
[null,"Textiles",0.17,76.349308411214949,91.987118567728857]
[null,"C&D Debris",8.8999999999999996E-2,"-","-"]
[null,"Food Waste",0.59750000000000003,247.53894080996884,615.00357965209651]
[null,"Miscellaneous",0.313,206.19904324930312,300.14416775735532]
[null,"Tires","x",36.386292834890966,36.386292834890966]
[]
[]
[null,6]
[]
[null,"Finding County Factor"]
[null,"Category ","tons-DRY/county-us data ","tons-WET/county-us data ","County Factor","Category   "]
[null,"equation","US DATA * County Population/2000","tons-DRY/(1-MoistureContent)","ton-wet-composition/tons-wet-Usdata"]
[null,"Newspaper ",{"$f":"D120*$C$8/2000","v":314.50694704049852},{"$f":"C145/(1-C120)","v":435.90706450519542},{"$f":"G95/D145","v":3.8829377585823152E-2},"Newspaper "]
[null,"Glass ",426.19663551401868,440.2857804896887,0.37161772478326005,"Glass "]
[null,"Aluminum Cans ",63.088317757009342,72.43205253387984,1.0402300827352251,"Aluminum Cans "]
[null,"Plastic Bottles ",174.7780062305296,183.59034267912773,1.625673745386671,"Plastic Bottles "]
[null,"Steel Cans ",81.313831775700933,86.320415897771696,0.71897243953851342,"Steel Cans "]
[null,"Corrugated Paper",1464.1162928348911,1927.7370544238195,0.52880552234064271,"Corrugated Paper"]
[null,"Office Paper ",211.69635514018691,244.45306598174008,0.5118528560789104,"Office Paper "]
[null,"Yard Waste ",1622.5380685358255,3284.4900172789989,3.6073180121325252E-2,"Yard Waste "]
[null,"Other Plastics ",1161.8638571296738,1315.8141077346249,0.67319083660307433,"Other Plastics "]
[null,"Ferrous Metal ",{"$f":"D131*$C$8/2000","v":91.006764139140799},{"$f":"C154/(1-C131)","v":109.51475829018148},{"$f":"C104/D154","v":0.73283273645498548},"Ferrous Metal "]
[null,"White Goods ",{"$f":"D130*$C$8/2000","v":227.11794392523365},{"$f":"Table7141925313743121127190196244271277295[[#This Row],[tons-DRY/county-us data ]]","v":227.11794392523365},{"$f":"G105/Table7141925313743121127190196244271277295[[#This Row],[tons-WET/county-us data ]]","v":0},"White Goods "]
[null,"Non-ferrous Metal ",{"$f":"D129*$C$8/2000","v":350.74046398620493},{"$f":"C156/(1-C129)","v":370.76158983742596},{"$f":"C106/D156","v":4.5571063624494305E-2},"Non-ferrous Metal "]
[null,"Other Paper ",{"$f":"D132*$C$8/2000","v":1189.3316199376945},{"$f":"C157/(1-C132)","v":1595.3475787225948},{"$f":"G107/D157","v":0.57645494453087565},"Other Paper "]
[null,"Textiles ",572.65798773831773,{"$f":"C158/(1-C133)","v":689.94938281725035},{"$f":"G108/D158","v":0.51517692290500738},"Textiles "]
[null,"C&D Debris",{"$error":"#VALUE!"},{"$f":"C159/(1-C134)","v":{"$error":"#VALUE!"}},{"$f":"#REF!/D159","v":{"$error":"#REF!"}},"C&D Debris"]
[null,"Food Waste",1856.6658255451712,{"$f":"C160/(1-C135)","v":4612.8343491805499},{"$f":"G110/D160","v":0.11374915296778688},"Food Waste"]
[null,"Miscellaneous ",1546.5959238913981,{"$f":"C161/(1-C136)","v":2251.2313302640437},{"$f":"G111/D161","v":0.42605128451526292},"Miscellaneous "]
[null,"Tires ",272.91538940809971,{"$f":"Table7141925313743121127190196244271277295[[#This Row],[tons-DRY/county-us data ]]","v":272.91538940809971},{"$f":"G112/Table7141925313743121127190196244271277295[[#This Row],[tons-WET/county-us data ]]","v":0},"Tires "]
[]
[]
[]
[null,"Link to \"New WasteCalc County Factors\""]
[null,"Newspaper","Glass","Aluminum Cans","Plastic Bottles","Steel Cans","Corrugated Paper","Office Paper","Yard Waste","Other Plastics","Ferrous Metals","White Goods","Non-Ferrous Metal","Other Paper","Textiles","C&D Debris","Food Waste","Misc","Tires"]
[null,{"$f":"E145","v":3.8829377585823152E-2},{"$f":"E146","v":0.37161772478326005},{"$f":"E147","v":1.0402300827352251},{"$f":"E148","v":1.625673745386671},{"$f":"E149","v":0.71897243953851342},{"$f":"E150","v":0.52880552234064271},{"$f":"E151","v":0.5118528560789104},{"$f":"E152","v":3.6073180121325252E-2},{"$f":"E153","v":0.67319083660307433},{"$f":"E154","v":0.73283273645498548},{"$f":"E155","v":0},{"$f":"E156","v":4.5571063624494305E-2},{"$f":"E157","v":0.57645494453087565},{"$f":"E158","v":0.51517692290500738},{"$error":"#REF!"},{"$f":"E160","v":0.11374915296778688},{"$f":"E161","v":0.42605128451526292},{"$f":"E162","v":0}]

{"sheet":"79 Jefferson County Factor","index":78,"n_rows":169,"n_cols":19,"rows_kept":169,"cut":false,"hidden":true,"merged":[[90,9,90,10],[116,1,116,2],[118,1,118,2],[140,1,140,2],[142,1,142,2],[2,1,2,2],[3,1,3,2],[19,1,19,2],[67,1,67,2],[90,1,90,2]]}
[null,"Finding County Factors for Jefferson"]
[]
[null,1]
[null,"Information from annual solid waste report 2017"]
[null,"County","Jefferson"]
[null,"Waste comp study",2019]
[null,"Year",2017]
[null,"Population",14611]
[null,"Landfilled tons ",11997]
[null,"C&D collected",1203]
[null,"C&D disposed",{"$f":"C10-C14","v":1158}]
[]
[null,"Recycled tons",673]
[null,"Recycled C&D",45]
[null,"combustor recy metals",0]
[null,"Combustor input",0]
[null,"Process Fuel",0]
[null,"Total Tons MSW collected",{"$f":"C9+(C16-C15-C17)+C13","v":12670}]
[]
[null,2]
[]
[null,"Aucilla Landifll Waste Composition Study Results"]
[null,"FDEP Category","Waste Comp Category","Percentage in waste stream"]
[null,"Newspapers","Newspaper",3.0000000000000001E-3]
[null,"Glass","Green",2E-3]
[null,null,"Clear ",0.02]
[null,null,"Brown",7.0000000000000001E-3]
[null,"Aluminum Cans","Aluminum cans and tin foil",1.2999999999999999E-2]
[null,"Plastic Bottles","#1 PET Bottles",3.7999999999999999E-2]
[null,null,"#2 HDPE Bottles- translucent ",5.0000000000000001E-3]
[null,null,"#2 HDPE Bottles- colored",4.0000000000000001E-3]
[null,null,"#3-7 (Other Plastic Bottles)",2E-3]
[null,"Steel Cans","Steel/Tin Cans",1.0999999999999999E-2]
[null,"Corrugated Boxes","Corrugated Cardboard (OCC)",0.11899999999999999]
[null,"Office Paper","High Grade Paper (Office Type)",2.1999999999999999E-2]
[null,"Yard Trash","Yard Trash",2.1000000000000001E-2]
[null,"Other Plastics","Expanded Polystyrene (Food Service)",4.0000000000000001E-3]
[null,null,"Expanded Polystyrene",1.7999999999999999E-2]
[null,null,"Rigid Plastic (Tubs, Cups, Lids)",8.9999999999999993E-3]
[null,null,"Rigid Plastic (Food Service)",6.0000000000000001E-3]
[null,null,"Grocery Bags",0.01]
[null,null,"Other Flexible Plastic",7.0999999999999994E-2]
[null,null,"Other Plastics",3.9E-2]
[null,"Ferrous Metals","Other Ferrous Metals",1.9E-2]
[null,"White Goods","White Goods",0]
[null,"Nonferrous Metals","Other Non-Ferrous Metals ",4.0000000000000001E-3]
[null,"Other Paper","Polycoated Aseptic Containers",0]
[null,null,"Food Service Container (Polycoated)",8.0000000000000002E-3]
[null,null,"Other Compsite (Metal Coated)",6.0000000000000001E-3]
[null,null,"Boxboards",2.8000000000000001E-2]
[null,null,"Other Paper",0.121]
[null,"Textiles","Clothing, Footwear, Other Textiles",6.3E-2]
[null,"C&D Debris","Wood",4.7E-2]
[null,null,"Asphalt Shingles",5.0000000000000001E-3]
[null,null,"Gypsum Drywall",6.0000000000000001E-3]
[null,null,"Concrete/Bricks/Ceramics",3.0000000000000001E-3]
[null,"Food Waste","Food Waste",9.2999999999999999E-2]
[null,"Miscellaneous","Animal- By-Product",3.0000000000000001E-3]
[null,null,"Other Organics",3.5999999999999997E-2]
[null,null,"Rubber and Leather",1.0999999999999999E-2]
[null,null,"Small Appliances/Electronics",1.4999999999999999E-2]
[null,null,"Hazardous Waste",0.01]
[null,null,"Residuals ",9.5000000000000001E-2]
[null,"Tires","Tires",0]
[null,null,null,"sum"]
[null,null,null,{"$f":"SUM(D24:D64)","v":0.99700000000000011}]
[]
[null,"Recycled tons from Jefferson"]
[null,"Materials","Tons"]
[null,"Newspaper",0]
[null,"Glass",0]
[null,"Aluminum Cans",0]
[null,"Plastic Bottles",11]
[null,"Steel Cans",0]
[null,"Corrugated Paper",263]
[null,"Office Paper",11]
[null,"Yard Trash",0]
[null,"Other Plastics",0]
[null,"Ferrous Metals",88]
[null,"White Goods",182]
[null,"NonFerous Metals",1]
[null,"Other Paper",0]
[null,"Textiles",0]
[null,"C&D Debris",45]
[null,"Food",0]
[null,"Miscellaneous",0]
[null,"Tires",72]
[null,"Total",{"$f":"SUM(C70:C87)","v":673}]
[]
[]
[null,3,null,null,null,null,null,null,null,4]
[]
[null,"Calculating waste compositon percentage utalizing waste compsition study"]
[null,"FDEP Category","Landfilled tons\n(Plus combusor ash, minus C&D  disposed)","Collected C&D \n(disposal C&D LANDFILL + recycled)","Combusted\n(minus recycled metals, minus ash)","Recycled Materials\n(Minus recycled C&D)","Total Collected Tons"]
[null,null,{"$f":"C9-C11","v":10839},{"$f":"C11+C14","v":1203},{"$f":"C16-C15","v":0},{"$f":"C88","v":673},null,null,null,"FDEP Category","Percentage"]
[null,"Newspaper",{"$f":"$C$95*D24","v":32.517000000000003},null,{"$f":"$E$95*D24","v":0},{"$f":"C70","v":0},{"$f":"SUM(C96:F96)","v":32.517000000000003},null,null,"Newspaper",{"$f":"G96/$G$115","v":2.5730598411091835E-3}]
[null,"Glass",{"$f":"$C$95*SUM(D25:D27)","v":314.33099999999996},null,{"$f":"$E$95*SUM(D25:D27)","v":0},0,314.33099999999996,null,null,"Glass",2.4872911797388767E-2]
[null,"Aluminum Cans",{"$f":"$C$95*D28","v":140.90699999999998},null,{"$f":"$E$95*D28","v":0},0,140.90699999999998,null,null,"Aluminum Cans",1.1149925978139793E-2]
[null,"Plastic Bottles",{"$f":"$C$95*SUM(D29:D32)","v":531.11099999999999},null,{"$f":"$E$95*SUM(D29:D32)","v":0},11,542.11099999999999,null,null,"Plastic Botles",4.2897070563814019E-2]
[null,"Steel Cans",{"$f":"$C$95*D33","v":119.229},null,{"$f":"$E$95*D33","v":0},0,119.229,null,null,"Steel Cans",9.434552750733672E-3]
[null,"Corrugated Paper",{"$f":"$C$95*D34","v":1289.8409999999999},null,{"$f":"$E$95*D34","v":0},263,1552.8409999999999,null,null,"Corrugated Paper",0.12287581316627687]
[null,"Office Paper",{"$f":"$C$95*D35","v":238.458},null,{"$f":"$E$95*D35","v":0},11,249.458,null,null,"Office Paper",1.9739531993831369E-2]
[null,"Yard Trash",{"$f":"$C$95*D36","v":227.61900000000003},null,{"$f":"$E$95*D36","v":0},0,227.61900000000003,null,null,"Yard Trash",1.8011418887764283E-2]
[null,"Other Plastics",{"$f":"$C$95*SUM(D37:D43)","v":1701.723},null,{"$f":"$E$95*SUM(D37:D43)","v":0},0,1701.723,null,null,"Other Plastics",0.13465679835138059]
[null,"Ferrous Metals",{"$f":"$C$95*D44","v":205.941},null,{"$f":"$E$95*D44","v":0},88,293.94100000000003,null,null,"Ferrous Metals",2.3259457599270367E-2]
[null,"White Goods",{"$f":"$C$95*D45","v":0},null,{"$f":"$E$95*D45","v":0},182,182,null,null,"White Goods",1.4401601964568422E-2]
[null,"NonFerous Metals",{"$f":"$C$95*D46","v":43.356000000000002},null,{"$f":"$E$95*D46","v":0},1,44.356000000000002,null,null,"NonFerous Metals",3.5098761359362469E-3]
[null,"Other Paper",{"$f":"$C$95*SUM(D47:D51)","v":1766.7570000000001},null,{"$f":"$E$95*SUM(D47:D51)","v":0},0,{"$f":"SUM(C108:F108)","v":1766.7570000000001},null,null,"Other Paper",0.13980291803359896]
[null,"Textiles",{"$f":"$C$95*D52","v":682.85699999999997},null,{"$f":"$E$95*D52","v":0},0,682.85699999999997,null,null,"Textiles",5.4034256663292847E-2]
[null,"C&D Debris",{"$f":"$C$95*SUM(D53:D56)","v":661.17899999999997},{"$f":"C10","v":1203},{"$f":"$E$95*SUM(D53:D56)","v":0},0,1864.1790000000001,null,null,"C&D Debris",0.14751188982806152]
[null,"Food",{"$f":"$C$95*D57","v":1008.027},null,{"$f":"$E$95*D57","v":0},{"$f":"C85","v":0},1008.027,null,null,"Food",7.9764855074384688E-2]
[null,"Miscellaneous",{"$f":"$C$95*SUM(D58:D63)","v":1842.6299999999999},null,{"$f":"$E$95*SUM(D58:D63)","v":0},{"$f":"C86","v":0},1842.6299999999999,null,null,"Miscellaneous",0.14580672432952038]
[null,"Tires",{"$f":"$C$95*D64","v":0},null,{"$f":"$E$95*D64","v":0},{"$f":"C87","v":72},72,null,null,"Tires",5.6973370409281665E-3]
[null,null,"Total","Total","Total","Total","Total",null,null,null,"total"]
[null,null,{"$f":"SUM(C96:C113)","v":10806.482999999998},{"$f":"D110","v":1203},{"$f":"SUM(E96:E113)","v":0},{"$f":"SUM(F96:F113)","v":628},{"$f":"SUM(C115:F115)","v":12637.482999999998},null,null,null,1]
[]
[null,5]
[]
[null,"US EPA Data and Moisture Content"]
[null,"Category","Moisture Content  (MC) ","US EPA DATA (lbs-dry/person)","US EPA DATA             (lbs-WET/person)    [US EPA DATA/(1-MC)"]
[null,"Newspaper",0.27850000000000003,41.931464174454831,58.117067462861854]
[null,"Glass",3.2000000000000001E-2,56.822429906542055,58.700857341469067]
[null,"Aluminum Cans",0.129,8.4112149532710276,9.6569632069701807]
[null,"Plastic Bottles",4.8000000000000001E-2,23.302180685358255,24.477080551846907]
[null,"Steel Cans",5.8000000000000003E-2,10.841121495327103,11.508621544933231]
[null,"Corrugated Paper",0.24049999999999999,195.20249221183801,257.01447295831201]
[null,"Office Paper",0.13400000000000001,28.22429906542056,32.591569359608037]
[null,"Yard Waste",0.50600000000000001,216.3239875389408,437.90280878328099]
[null,"Other Plastics",0.11700000000000001,154.90485396035913,175.43018568557093]
[null,"Non-ferrous Metal",5.3999999999999999E-2,46.762277712979795,49.431583206109721]
[null,"White Goods","x",30.280373831775702,30.280373831775702]
[null,"Ferrous Metal",0.16900000000000001,12.133426323463874,14.600994372399368]
[null,"Other Paper",0.2545,158.56697819314641,212.69883057430772]
[null,"Textiles",0.17,76.349308411214949,91.987118567728857]
[null,"C&D Debris",8.8999999999999996E-2,"-","-"]
[null,"Food Waste",0.59750000000000003,247.53894080996884,615.00357965209651]
[null,"Miscellaneous",0.313,206.19904324930312,300.14416775735532]
[null,"Tires","x",36.386292834890966,36.386292834890966]
[]
[]
[null,6]
[]
[null,"Findig County Factor"]
[null,"Category","tons-DRY/county-us data ","tons-WET/county-us data ","County Factor","Category    "]
[null,"equation","US DATA * County Population/2000","tons-DRY/(1-MoistureContent)","ton-wet-composition/tons-wet-Usdata"]
[null,"Newspaper ",{"$f":"D121*$C$8/2000","v":306.33031152647976},{"$f":"C146/(1-C121)","v":424.57423634993728},{"$f":"G96/D146","v":7.658731316235412E-2},"Newspaper "]
[null,"Glass ",415.11626168224296,428.83911330810224,0.73298118162595582,"Glass "]
[null,"Aluminum Cans ",61.44813084112149,70.548944708520651,1.9972942271804348,"Aluminum Cans "]
[null,"Plastic Bottles ",170.23408099688473,178.81731197151757,3.0316471823843805,"Plastic Bottles "]
[null,"Steel Cans ",79.199813084112151,84.076234696509715,1.4181058467994119,"Steel Cans "]
[null,"Corrugated Paper",1426.0518068535825,1877.6192321969486,0.8270265735311334,"Corrugated Paper"]
[null,"Office Paper ",206.1926168224299,238.09770995661651,1.0477127228374159,"Office Paper "]
[null,"Yard Waste ",1580.354890965732,3199.0989695662593,7.1150971622131812E-2,"Yard Waste "]
[null,"Other Plastics ",1131.6574106074036,1281.6052215259383,1.3278059198087926,"Other Plastics "]
[null,"Ferrous Metal ",{"$f":"D132*$C$8/2000","v":88.640746006065342},{"$f":"C155/(1-C132)","v":106.66756438756359},{"$f":"C105/D155","v":1.930680626134281},"Ferrous Metal "]
[null,"White Goods ",{"$f":"D131*$C$8/2000","v":221.21327102803738},{"$f":"Table714192531374349172178202208214226232238108217247253259265283289301[[#This Row],[tons-DRY/county-us data ]]","v":221.21327102803738},{"$f":"G106/Table714192531374349172178202208214226232238108217247253259265283289301[[#This Row],[tons-WET/county-us data ]]","v":0.82273544961474143},"White Goods "]
[null,"Non-ferrous Metal ",{"$f":"D130*$C$8/2000","v":341.62181983217386},{"$f":"C157/(1-C130)","v":361.12243111223455},{"$f":"C107/D157","v":0.1200590056576276},"Non-ferrous Metal "]
[null,"Other Paper ",{"$f":"D133*$C$8/2000","v":1158.4110591900312},{"$f":"C158/(1-C133)","v":1553.8713067606052},{"$f":"G108/D158","v":1.1370034264183713},"Other Paper "]
[null,"Textiles ",557.76987259813086,{"$f":"C159/(1-C134)","v":672.01189469654321},{"$f":"G109/D159","v":1.0161382639043228},"Textiles "]
[null,"C&D Debris",{"$error":"#VALUE!"},{"$f":"C160/(1-C135)","v":{"$error":"#VALUE!"}},{"$f":"#REF!/D160","v":{"$error":"#REF!"}},"C&D Debris"]
[null,"Food Waste",1808.3957320872273,{"$f":"C161/(1-C136)","v":4492.9086511483911},{"$f":"G111/D161","v":0.22435955819897374},"Food Waste"]
[null,"Miscellaneous ",1506.387110457784,{"$f":"C162/(1-C137)","v":2192.7032175513596},{"$f":"G112/D162","v":0.84034628364239172},"Miscellaneous "]
[null,"Tires ",265.82006230529595,{"$f":"Table714192531374349172178202208214226232238108217247253259265283289301[[#This Row],[tons-DRY/county-us data ]]","v":265.82006230529595},{"$f":"G113/Table714192531374349172178202208214226232238108217247253259265283289301[[#This Row],[tons-WET/county-us data ]]","v":0.27085991695129302},"Tires "]
[]
[]
[]
[null,"Link to \"New WasteCalc County Factors\""]
[null,"Newspaper","Glass","Aluminum Cans","Plastic Bottles","Steel Cans","Corrugated Paper","Office Paper","Yard Waste","Other Plastics","Ferrous Metals","White Goods","Non-Ferrous Metal","Other Paper","Textiles","C&D Debris","Food Waste","Misc","Tires"]
[null,{"$f":"E146","v":7.658731316235412E-2},{"$f":"E147","v":0.73298118162595582},{"$f":"E148","v":1.9972942271804348},{"$f":"E149","v":3.0316471823843805},{"$f":"E150","v":1.4181058467994119},{"$f":"E151","v":0.8270265735311334},{"$f":"E152","v":1.0477127228374159},{"$f":"E153","v":7.1150971622131812E-2},{"$f":"E154","v":1.3278059198087926},{"$f":"E155","v":1.930680626134281},{"$f":"E156","v":0.82273544961474143},{"$f":"E157","v":0.1200590056576276},{"$f":"E158","v":1.1370034264183713},{"$f":"E159","v":1.0161382639043228},{"$error":"#REF!"},{"$f":"E161","v":0.22435955819897374},{"$f":"E162","v":0.84034628364239172},{"$f":"E163","v":0.27085991695129302}]

{"sheet":"80 Dixie County Factor","index":79,"n_rows":169,"n_cols":19,"rows_kept":169,"cut":false,"hidden":true,"merged":[[90,9,90,10],[116,1,116,2],[118,1,118,2],[140,1,140,2],[142,1,142,2],[2,1,2,2],[3,1,3,2],[19,1,19,2],[68,1,68,2],[90,1,90,2]]}
[null,"Finding County Factors for Dixie"]
[]
[null,1]
[null,"Information from annual solid waste report 2017"]
[null,"County","Dixie"]
[null,"Waste comp study",2019]
[null,"Year",2017]
[null,"Population",16726]
[null,"Landfilled tons ",10819]
[null,"C&D collected",3273]
[null,"C&D disposed",{"$f":"C10-C14","v":3273}]
[]
[null,"Recycled tons",259]
[null,"Recycled C&D",0]
[null,"combustor recy metals",0]
[null,"Combustor input",0]
[null,"Process Fuel",0]
[null,"Total Tons MSW collected",{"$f":"C9+(C16-C15-C17)+C13","v":11078}]
[]
[null,2]
[]
[null,"Aucilla Landifll Waste Composition Study Results"]
[null,"FDEP Category","Waste Comp Category","Percentage in waste stream"]
[null,"Newspapers","Newspaper",3.0000000000000001E-3]
[null,"Glass","Green",2E-3]
[null,null,"Clear ",0.02]
[null,null,"Brown",7.0000000000000001E-3]
[null,"Aluminum Cans","Aluminum cans and tin foil",1.2999999999999999E-2]
[null,"Plastic Bottles","#1 PET Bottles",3.7999999999999999E-2]
[null,null,"#2 HDPE Bottles- translucent ",5.0000000000000001E-3]
[null,null,"#2 HDPE Bottles- colored",4.0000000000000001E-3]
[null,null,"#3-7 (Other Plastic Bottles)",2E-3]
[null,"Steel Cans","Steel/Tin Cans",1.0999999999999999E-2]
[null,"Corrugated Boxes","Corrugated Cardboard (OCC)",0.11899999999999999]
[null,"Office Paper","High Grade Paper (Office Type)",2.1999999999999999E-2]
[null,"Yard Trash","Yard Trash",2.1000000000000001E-2]
[null,"Other Plastics","Expanded Polystyrene (Food Service)",4.0000000000000001E-3]
[null,null,"Expanded Polystyrene",1.7999999999999999E-2]
[null,null,"Rigid Plastic (Tubs, Cups, Lids)",8.9999999999999993E-3]
[null,null,"Rigid Plastic (Food Service)",6.0000000000000001E-3]
[null,null,"Grocery Bags",0.01]
[null,null,"Other Flexible Plastic",7.0999999999999994E-2]
[null,null,"Other Plastics",3.9E-2]
[null,"Ferrous Metals","Other Ferrous Metals",1.9E-2]
[null,"White Goods","White Goods",0]
[null,"Nonferrous Metals","Other Non-Ferrous Metals ",4.0000000000000001E-3]
[null,"Other Paper","Polycoated Aseptic Containers",0]
[null,null,"Food Service Container (Polycoated)",8.0000000000000002E-3]
[null,null,"Other Compsite (Metal Coated)",6.0000000000000001E-3]
[null,null,"Boxboards",2.8000000000000001E-2]
[null,null,"Other Paper",0.121]
[null,"Textiles","Clothing, Footwear, Other Textiles",6.3E-2]
[null,"C&D Debris","Wood",4.7E-2]
[null,null,"Asphalt Shingles",5.0000000000000001E-3]
[null,null,"Gypsum Drywall",6.0000000000000001E-3]
[null,null,"Concrete/Bricks/Ceramics",3.0000000000000001E-3]
[null,"Food Waste","Food Waste",9.2999999999999999E-2]
[null,"Miscellaneous","Animal- By-Product",3.0000000000000001E-3]
[null,null,"Other Organics",3.5999999999999997E-2]
[null,null,"Rubber and Leather",1.0999999999999999E-2]
[null,null,"Small Appliances/Electronics",1.4999999999999999E-2]
[null,null,"Hazardous Waste",0.01]
[null,null,"Residuals ",9.5000000000000001E-2]
[null,"Tires","Tires",0]
[null,null,null,"sum"]
[null,null,null,{"$f":"SUM(D24:D64)","v":0.99700000000000011}]
[]
[]
[null,"Recycled tons from Dixie"]
[null,"Materials","Tons"]
[null,"Newspaper",0]
[null,"Glass",0]
[null,"Aluminum Cans",0]
[null,"Plastic Bottles",0]
[null,"Steel Cans",0]
[null,"Corrugated Paper",88]
[null,"Office Paper",2]
[null,"Yard Trash",0]
[null,"Other Plastics",0]
[null,"Ferrous Metals",147]
[null,"White Goods",0]
[null,"NonFerous Metals",22]
[null,"Other Paper",0]
[null,"Textiles",0]
[null,"C&D Debris",0]
[null,"Food",0]
[null,"Miscellaneous",0]
[null,"Tires",0]
[null,"Total",{"$f":"SUM(C71:C88)","v":259}]
[]
[null,3,null,null,null,null,null,null,null,4]
[]
[null,"Calculating waste compositon percentage utalizing waste compsition study"]
[null,"FDEP Category","Landfilled tons\n(Plus combusor ash, minus C&D  disposed)","Collected C&D \n(disposal C&D LANDFILL + recycled)","Combusted\n(minus recycled metals, minus ash)","Recycled Materials\n(Minus recycled C&D)","Total Collected Tons"]
[null,null,{"$f":"C9-C11","v":7546},{"$f":"C11+C14","v":3273},{"$f":"C16-C15","v":0},{"$f":"C89","v":259},null,null,null,"FDEP Category","Percentage"]
[null,"Newspaper",{"$f":"$C$95*D24","v":22.638000000000002},null,{"$f":"$E$95*D24","v":0},{"$f":"C71","v":0},{"$f":"SUM(C96:F96)","v":22.638000000000002},null,null,"Newspaper",{"$f":"Table512172329354147170176200206212224230236106215245251257263281287299305[[#This Row],[Total Collected Tons]]/$G$115","v":2.0476941415396442E-3}]
[null,"Glass",{"$f":"$C$95*SUM(D25:D27)","v":218.83399999999997},null,{"$f":"$E$95*SUM(D25:D27)","v":0},0,218.83399999999997,null,null,"Glass",{"$f":"Table512172329354147170176200206212224230236106215245251257263281287299305[[#This Row],[Total Collected Tons]]/$G$115","v":1.979437670154989E-2}]
[null,"Aluminum Cans",{"$f":"$C$95*D28","v":98.097999999999999},null,{"$f":"$E$95*D28","v":0},0,98.097999999999999,null,null,"Aluminum Cans",{"$f":"Table512172329354147170176200206212224230236106215245251257263281287299305[[#This Row],[Total Collected Tons]]/$G$115","v":8.8733412800051231E-3}]
[null,"Plastic Bottles",{"$f":"$C$95*SUM(D29:D32)","v":369.75400000000002},null,{"$f":"$E$95*SUM(D29:D32)","v":0},0,369.75400000000002,null,null,"Plastic Botles",{"$f":"Table512172329354147170176200206212224230236106215245251257263281287299305[[#This Row],[Total Collected Tons]]/$G$115","v":3.3445670978480856E-2}]
[null,"Steel Cans",{"$f":"$C$95*D33","v":83.006},null,{"$f":"$E$95*D33","v":0},0,83.006,null,null,"Steel Cans",{"$f":"Table512172329354147170176200206212224230236106215245251257263281287299305[[#This Row],[Total Collected Tons]]/$G$115","v":7.5082118523120281E-3}]
[null,"Corrugated Paper",{"$f":"$C$95*D34","v":897.97399999999993},null,{"$f":"$E$95*D34","v":0},88,985.97399999999993,null,null,"Corrugated Paper",{"$f":"Table512172329354147170176200206212224230236106215245251257263281287299305[[#This Row],[Total Collected Tons]]/$G$115","v":8.9185139301634811E-2}]
[null,"Office Paper",{"$f":"$C$95*D35","v":166.012},null,{"$f":"$E$95*D35","v":0},2,168.012,null,null,"Office Paper",{"$f":"Table512172329354147170176200206212224230236106215245251257263281287299305[[#This Row],[Total Collected Tons]]/$G$115","v":1.5197331394485319E-2}]
[null,"Yard Trash",{"$f":"$C$95*D36","v":158.46600000000001},null,{"$f":"$E$95*D36","v":0},0,158.46600000000001,null,null,"Yard Trash",{"$f":"Table512172329354147170176200206212224230236106215245251257263281287299305[[#This Row],[Total Collected Tons]]/$G$115","v":1.4333858990777508E-2}]
[null,"Other Plastics",{"$f":"$C$95*SUM(D37:D43)","v":1184.722},null,{"$f":"$E$95*SUM(D37:D43)","v":0},0,1184.722,null,null,"Other Plastics",{"$f":"Table512172329354147170176200206212224230236106215245251257263281287299305[[#This Row],[Total Collected Tons]]/$G$115","v":0.10716266007390804}]
[null,"Ferrous Metals",{"$f":"$C$95*D44","v":143.374},null,{"$f":"$E$95*D44","v":0},147,290.37400000000002,null,null,"Ferrous Metals",{"$f":"Table512172329354147170176200206212224230236106215245251257263281287299305[[#This Row],[Total Collected Tons]]/$G$115","v":2.6265444767887298E-2}]
[null,"White Goods",{"$f":"$C$95*D45","v":0},null,{"$f":"$E$95*D45","v":0},0,0,null,null,"White Goods",{"$f":"Table512172329354147170176200206212224230236106215245251257263281287299305[[#This Row],[Total Collected Tons]]/$G$115","v":0}]
[null,"NonFerous Metals",{"$f":"$C$95*D46","v":30.184000000000001},null,{"$f":"$E$95*D46","v":0},22,52.183999999999997,null,null,"NonFerous Metals",{"$f":"Table512172329354147170176200206212224230236106215245251257263281287299305[[#This Row],[Total Collected Tons]]/$G$115","v":4.7202434438600926E-3}]
[null,"Other Paper",{"$f":"$C$95*SUM(D47:D51)","v":1229.998},null,{"$f":"$E$95*SUM(D47:D51)","v":0},0,1229.998,null,null,"Other Paper",{"$f":"Table512172329354147170176200206212224230236106215245251257263281287299305[[#This Row],[Total Collected Tons]]/$G$115","v":0.11125804835698733}]
[null,"Textiles",{"$f":"$C$95*D52","v":475.39800000000002},null,{"$f":"$E$95*D52","v":0},0,475.39800000000002,null,null,"Textiles",{"$f":"Table512172329354147170176200206212224230236106215245251257263281287299305[[#This Row],[Total Collected Tons]]/$G$115","v":4.3001576972332527E-2}]
[null,"C&D Debris",{"$f":"$C$95*SUM(D53:D56)","v":460.30599999999998},{"$f":"C10","v":3273},{"$f":"$E$95*SUM(D53:D56)","v":0},0,3733.306,null,null,"C&D Debris",{"$f":"Table512172329354147170176200206212224230236106215245251257263281287299305[[#This Row],[Total Collected Tons]]/$G$115","v":0.33769188200259748}]
[null,"Food",{"$f":"$C$95*D57","v":701.77800000000002},null,{"$f":"$E$95*D57","v":0},{"$f":"C86","v":0},701.77800000000002,null,null,"Food",{"$f":"Table512172329354147170176200206212224230236106215245251257263281287299305[[#This Row],[Total Collected Tons]]/$G$115","v":6.3478518387728972E-2}]
[null,"Miscellaneous",{"$f":"$C$95*SUM(D58:D63)","v":1282.82},null,{"$f":"$E$95*SUM(D58:D63)","v":0},{"$f":"C87","v":0},1282.82,null,null,"Miscellaneous",{"$f":"Table512172329354147170176200206212224230236106215245251257263281287299305[[#This Row],[Total Collected Tons]]/$G$115","v":0.11603600135391315}]
[null,"Tires",{"$f":"$C$95*D64","v":0},null,{"$f":"$E$95*D64","v":0},{"$f":"C88","v":0},0,null,null,"Tires",{"$f":"Table512172329354147170176200206212224230236106215245251257263281287299305[[#This Row],[Total Collected Tons]]/$G$115","v":0}]
[null,null,"Total","Total","Total","Total","Total",null,null,null,"total"]
[null,null,{"$f":"SUM(C96:C113)","v":7523.3619999999992},{"$f":"D110","v":3273},{"$f":"SUM(E96:E113)","v":0},{"$f":"SUM(F96:F113)","v":259},{"$f":"SUM(C115:F115)","v":11055.361999999999},null,null,null,{"$f":"SUM(K96:K113)","v":1}]
[]
[null,5]
[]
[null,"US EPA Data and Moisture Content"]
[null,"Category","Moisture Content  (MC) ","US EPA DATA (lbs-dry/person)","US EPA DATA             (lbs-WET/person)    [US EPA DATA/(1-MC)"]
[null,"Newspaper",0.27850000000000003,41.931464174454831,58.117067462861854]
[null,"Glass",3.2000000000000001E-2,56.822429906542055,58.700857341469067]
[null,"Aluminum Cans",0.129,8.4112149532710276,9.6569632069701807]
[null,"Plastic Bottles",4.8000000000000001E-2,23.302180685358255,24.477080551846907]
[null,"Steel Cans",5.8000000000000003E-2,10.841121495327103,11.508621544933231]
[null,"Corrugated Paper",0.24049999999999999,195.20249221183801,257.01447295831201]
[null,"Office Paper",0.13400000000000001,28.22429906542056,32.591569359608037]
[null,"Yard Waste",0.50600000000000001,216.3239875389408,437.90280878328099]
[null,"Other Plastics",0.11700000000000001,154.90485396035913,175.43018568557093]
[null,"Non-ferrous Metal",5.3999999999999999E-2,46.762277712979795,49.431583206109721]
[null,"White Goods","x",30.280373831775702,30.280373831775702]
[null,"Ferrous Metal",0.16900000000000001,12.133426323463874,14.600994372399368]
[null,"Other Paper",0.2545,158.56697819314641,212.69883057430772]
[null,"Textiles",0.17,76.349308411214949,91.987118567728857]
[null,"C&D Debris",8.8999999999999996E-2,"-","-"]
[null,"Food Waste",0.59750000000000003,247.53894080996884,615.00357965209651]
[null,"Miscellaneous",0.313,206.19904324930312,300.14416775735532]
[null,"Tires","x",36.386292834890966,36.386292834890966]
[]
[]
[null,6]
[]
[null,"Findig County Factor"]
[null,"Category ","tons-DRY/county-us data ","tons-WET/county-us data ","County Factor","Category     "]
[null,"equation","US DATA * County Population/2000","tons-DRY/(1-MoistureContent)","ton-wet-composition/tons-wet-Usdata"]
[null,"Newspaper ",{"$f":"D121*$C$8/2000","v":350.67283489096576},{"$f":"C146/(1-C121)","v":486.03303519191371},{"$f":"G96/D146","v":4.6577080899575525E-2},"Newspaper "]
[null,"Glass ",475.2059813084112,490.91526994670579,0.4457673521211854,"Glass "]
[null,"Aluminum Cans ",70.342990654205593,80.761183299891613,1.2146676904885276,"Aluminum Cans "]
[null,"Plastic Bottles ",194.87613707165107,204.70182465509566,1.8063053449719002,"Plastic Bottles "]
[null,"Steel Cans ",90.664299065420565,96.246601980276608,0.86243044733163732,"Steel Cans "]
[null,"Corrugated Paper",1632.4784423676012,2149.4120373503633,0.45871800421078684,"Corrugated Paper"]
[null,"Office Paper ",236.03981308411213,272.56329455440198,0.61641462132556457,"Office Paper "]
[null,"Yard Waste ",1809.1175077881619,3662.1811898545789,4.3270933846474298E-2,"Yard Waste "]
[null,"Other Plastics ",1295.4692936704835,1467.1226428884297,0.80751394966378043,"Other Plastics "]
[null,"Ferrous Metal ",{"$f":"D132*$C$8/2000","v":101.47184434312838},{"$f":"C155/(1-C132)","v":122.10811593637591},{"$f":"C105/D155","v":1.1741561885591996},"Ferrous Metal "]
[null,"White Goods ",{"$f":"D131*$C$8/2000","v":253.23476635514018},{"$f":"Table714192531374349172178202208214226232238108217247253259265283289301307[[#This Row],[tons-DRY/county-us data ]]","v":253.23476635514018},{"$f":"G106/Table714192531374349172178202208214226232238108217247253259265283289301307[[#This Row],[tons-WET/county-us data ]]","v":0},"White Goods "]
[null,"Non-ferrous Metal ",{"$f":"D130*$C$8/2000","v":391.07292851365003},{"$f":"C157/(1-C130)","v":413.3963303526956},{"$f":"C107/D157","v":7.3014678128003815E-2},"Non-ferrous Metal "]
[null,"Other Paper ",{"$f":"D133*$C$8/2000","v":1326.0956386292835},{"$f":"C158/(1-C133)","v":1778.8003200929354},{"$f":"G108/D158","v":0.69147615171091126},"Other Paper "]
[null,"Textiles ",638.50926624299063,{"$f":"C159/(1-C134)","v":769.28827258191643},{"$f":"G109/D159","v":0.61797120396031779},"Textiles "]
[null,"C&D Debris",{"$error":"#VALUE!"},{"$f":"C160/(1-C135)","v":{"$error":"#VALUE!"}},{"$f":"#REF!/D160","v":{"$error":"#REF!"}},"C&D Debris"]
[null,"Food Waste",2070.1681619937694,{"$f":"C161/(1-C136)","v":5143.2749366304834},{"$f":"G111/D161","v":0.13644574879750765},"Food Waste"]
[null,"Miscellaneous ",1724.442598693922,{"$f":"C162/(1-C137)","v":2510.1056749547624},{"$f":"G112/D162","v":0.51106214881694934},"Miscellaneous "]
[null,"Tires ",304.29856697819321,{"$f":"Table714192531374349172178202208214226232238108217247253259265283289301307[[#This Row],[tons-DRY/county-us data ]]","v":304.29856697819321},{"$f":"G113/Table714192531374349172178202208214226232238108217247253259265283289301307[[#This Row],[tons-WET/county-us data ]]","v":0},"Tires "]
[]
[]
[]
[null,"Link to \"New WasteCalc County Factors\""]
[null,"Newspaper","Glass","Aluminum Cans","Plastic Bottles","Steel Cans","Corrugated Paper","Office Paper","Yard Waste","Other Plastics","Ferrous Metals","White Goods","Non-Ferrous Metal","Other Paper","Textiles","C&D Debris","Food Waste","Misc","Tires"]
[null,{"$f":"E146","v":4.6577080899575525E-2},{"$f":"E147","v":0.4457673521211854},{"$f":"E148","v":1.2146676904885276},{"$f":"E149","v":1.8063053449719002},{"$f":"E150","v":0.86243044733163732},{"$f":"E151","v":0.45871800421078684},{"$f":"E152","v":0.61641462132556457},{"$f":"E153","v":4.3270933846474298E-2},{"$f":"E154","v":0.80751394966378043},{"$f":"E155","v":1.1741561885591996},{"$f":"E156","v":0},{"$f":"E157","v":7.3014678128003815E-2},{"$f":"E158","v":0.69147615171091126},{"$f":"E159","v":0.61797120396031779},{"$error":"#REF!"},{"$f":"E161","v":0.13644574879750765},{"$f":"E162","v":0.51106214881694934},{"$f":"E163","v":0}]

{"sheet":"81 Franklin County Factor","index":80,"n_rows":168,"n_cols":19,"rows_kept":168,"cut":false,"hidden":true,"merged":[[89,9,89,10],[115,1,115,2],[117,1,117,2],[139,1,139,2],[141,1,141,2],[2,1,2,2],[3,1,3,2],[19,1,19,2],[67,1,67,2],[89,1,89,2]]}
[null,"Finding County Factors for Franklin"]
[]
[null,1]
[null,"Information from annual solid waste report 2017"]
[null,"County","Franklin"]
[null,"Waste comp study","NONE"]
[null,"Year",2017]
[null,"Population",11562]
[null,"Landfilled tons minus ash",9626]
[null,"C&D collected",5622]
[null,"C&D disposed",{"$f":"C10-C14","v":5582}]
[]
[null,"Recycled tons",8143]
[null,"Recycled C&D",40]
[null,"combustor recy metals",0]
[null,"Combustor input",0]
[null,"Process Fuel",0]
[null,"Total Tons MSW collected",{"$f":"C9+(C16-C15-C17)+C13","v":17769}]
[]
[null,2]
[]
[null,"Aucilla Landifll Waste Composition Study Results"]
[null,"FDEP Category","Waste Comp Category","Percentage in waste stream"]
[null,"Newspapers","Newspaper",3.0000000000000001E-3]
[null,"Glass","Green",2E-3]
[null,null,"Clear ",0.02]
[null,null,"Brown",7.0000000000000001E-3]
[null,"Aluminum Cans","Aluminum cans and tin foil",1.2999999999999999E-2]
[null,"Plastic Bottles","#1 PET Bottles",3.7999999999999999E-2]
[null,null,"#2 HDPE Bottles- translucent ",5.0000000000000001E-3]
[null,null,"#2 HDPE Bottles- colored",4.0000000000000001E-3]
[null,null,"#3-7 (Other Plastic Bottles)",2E-3]
[null,"Steel Cans","Steel/Tin Cans",1.0999999999999999E-2]
[null,"Corrugated Boxes","Corrugated Cardboard (OCC)",0.11899999999999999]
[null,"Office Paper","High Grade Paper (Office Type)",2.1999999999999999E-2]
[null,"Yard Trash","Yard Trash",2.1000000000000001E-2]
[null,"Other Plastics","Expanded Polystyrene (Food Service)",4.0000000000000001E-3]
[null,null,"Expanded Polystyrene",1.7999999999999999E-2]
[null,null,"Rigid Plastic (Tubs, Cups, Lids)",8.9999999999999993E-3]
[null,null,"Rigid Plastic (Food Service)",6.0000000000000001E-3]
[null,null,"Grocery Bags",0.01]
[null,null,"Other Flexible Plastic",7.0999999999999994E-2]
[null,null,"Other Plastics",3.9E-2]
[null,"Ferrous Metals","Other Ferrous Metals",1.9E-2]
[null,"White Goods","White Goods",0]
[null,"Nonferrous Metals","Other Non-Ferrous Metals ",4.0000000000000001E-3]
[null,"Other Paper","Polycoated Aseptic Containers",0]
[null,null,"Food Service Container (Polycoated)",8.0000000000000002E-3]
[null,null,"Other Compsite (Metal Coated)",6.0000000000000001E-3]
[null,null,"Boxboards",2.8000000000000001E-2]
[null,null,"Other Paper",0.121]
[null,"Textiles","Clothing, Footwear, Other Textiles",6.3E-2]
[null,"C&D Debris","Wood",4.7E-2]
[null,null,"Asphalt Shingles",5.0000000000000001E-3]
[null,null,"Gypsum Drywall",6.0000000000000001E-3]
[null,null,"Concrete/Bricks/Ceramics",3.0000000000000001E-3]
[null,"Food Waste","Food Waste",9.2999999999999999E-2]
[null,"Miscellaneous","Animal- By-Product",3.0000000000000001E-3]
[null,null,"Other Organics",3.5999999999999997E-2]
[null,null,"Rubber and Leather",1.0999999999999999E-2]
[null,null,"Small Appliances/Electronics",1.4999999999999999E-2]
[null,null,"Hazardous Waste",0.01]
[null,null,"Residuals ",9.5000000000000001E-2]
[null,"Tires","Tires",0]
[null,null,null,"sum"]
[null,null,null,{"$f":"SUM(D24:D64)","v":0.99700000000000011}]
[]
[null,"Recycled tons from Franklin"]
[null,"Materials","Tons"]
[null,"Newspaper",5]
[null,"Glass",433]
[null,"Aluminum Cans",17]
[null,"Plastic Bottles",0]
[null,"Steel Cans",16]
[null,"Corrugated Paper",433]
[null,"Office Paper",0]
[null,"Yard Trash",4566]
[null,"Other Plastics",879]
[null,"Ferrous Metals",738]
[null,"White Goods",39]
[null,"NonFerous Metals",480]
[null,"Other Paper",301]
[null,"Textiles",92]
[null,"C&D Debris",40]
[null,"Food",0]
[null,"Miscellaneous",6]
[null,"Tires",98]
[null,"Total",{"$f":"SUM(C70:C87)","v":8143}]
[]
[null,3,null,null,null,null,null,null,null,4]
[]
[null,"Calculating waste compositon percentage utalizing waste compsition study"]
[null,"FDEP Category","Landfilled tons\n(Plus combusor ash, minus C&D  disposed)","Collected C&D \n(disposal C&D LANDFILL + recycled)","Combusted\n(minus recycled metals, minus ash)","Recycled Materials\n(Minus recycled C&D)","Total Collected Tons"]
[null,null,{"$f":"C9-C11","v":4044},{"$f":"C11+C14","v":5622},{"$f":"C16-C15","v":0},{"$f":"C88","v":8143},null,null,null,"FDEP Category","Percentage"]
[null,"Newspaper",{"$f":"$C$94*D24","v":12.132},null,{"$f":"$E$94*D24","v":0},{"$f":"C70","v":5},{"$f":"SUM(C95:F95)","v":17.131999999999998},null,null,"Newspaper",{"$f":"G95/$G$114","v":9.6480978514904741E-4}]
[null,"Glass",{"$f":"$C$94*SUM(D25:D27)","v":117.276},null,{"$f":"$E$94*SUM(D25:D27)","v":0},433,550.27599999999995,null,null,"Glass",{"$f":"G96/$G$114","v":3.0989474044634441E-2}]
[null,"Aluminum Cans",{"$f":"$C$94*D28","v":52.571999999999996},null,{"$f":"$E$94*D28","v":0},17,69.572000000000003,null,null,"Aluminum Cans",3.9180332928081679E-3]
[null,"Plastic Bottles",{"$f":"$C$94*SUM(D29:D32)","v":198.15600000000001},null,{"$f":"$E$94*SUM(D29:D32)","v":0},0,198.15600000000001,null,null,"Plastic Botles",1.1159400407774613E-2]
[null,"Steel Cans",{"$f":"$C$94*D33","v":44.483999999999995},null,{"$f":"$E$94*D33","v":0},16,60.483999999999995,null,null,"Steel Cans",3.4062313241276553E-3]
[null,"Corrugated Paper",{"$f":"$C$94*D34","v":481.23599999999999},null,{"$f":"$E$94*D34","v":0},433,914.23599999999999,null,null,"Corrugated Paper",5.1486331936465367E-2]
[null,"Office Paper",{"$f":"$C$94*D35","v":88.967999999999989},null,{"$f":"$E$94*D35","v":0},0,88.967999999999989,null,null,"Office Paper",5.0103430402253357E-3]
[null,"Yard Trash",{"$f":"$C$94*D36","v":84.924000000000007},null,{"$f":"$E$94*D36","v":0},4566,4650.924,null,null,"Yard Trash",0.26192254174553753]
[null,"Other Plastics",{"$f":"$C$94*SUM(D37:D43)","v":634.90800000000002},null,{"$f":"$E$94*SUM(D37:D43)","v":0},879,1513.9079999999999,null,null,"Other Plastics",8.525760286104507E-2]
[null,"Ferrous Metals",{"$f":"$C$94*D44","v":76.835999999999999},null,{"$f":"$E$94*D44","v":0},738,814.83600000000001,null,null,"Ferrous Metals",4.588849790402226E-2]
[null,"White Goods",{"$f":"$C$94*D45","v":0},null,{"$f":"$E$94*D45","v":0},39,39,null,null,"White Goods",2.1963332722865314E-3]
[null,"NonFerous Metals",{"$f":"$C$94*D46","v":16.176000000000002},null,{"$f":"$E$94*D46","v":0},480,496.17599999999999,null,null,"NonFerous Metals",2.7942765582308769E-2]
[null,"Other Paper",{"$f":"$C$94*SUM(D47:D51)","v":659.17200000000003},null,{"$f":"$E$94*SUM(D47:D51)","v":0},301,960.17200000000003,null,null,"Other Paper",5.4073274633792398E-2]
[null,"Textiles",{"$f":"$C$94*D52","v":254.77199999999999},null,{"$f":"$E$94*D52","v":0},92,346.77199999999999,null,null,"Textiles",1.9528894397367821E-2]
[null,"C&D Debris",{"$f":"$C$94*SUM(D53:D56)","v":246.684},{"$f":"C10","v":5622},{"$f":"$E$94*SUM(D53:D56)","v":0},0,5868.6840000000002,null,null,"C&D Debris",0.33050220342911824]
[null,"Food",{"$f":"$C$94*D57","v":376.09199999999998},null,{"$f":"$E$94*D57","v":0},{"$f":"C85","v":0},376.09199999999998,null,null,"Food",2.1180086488225284E-2]
[null,"Miscellaneous",{"$f":"$C$94*SUM(D58:D63)","v":687.4799999999999},null,{"$f":"$E$94*SUM(D58:D63)","v":0},{"$f":"C86","v":6},693.4799999999999,null,null,"Miscellaneous",3.905418455551958E-2]
[null,"Tires",{"$f":"$C$94*D64","v":0},null,{"$f":"$E$94*D64","v":0},{"$f":"C87","v":98},98,null,null,"Tires",5.5189912995917967E-3]
[null,null,"Total","Total","Total","Total","Total",null,null,null,"total"]
[null,null,{"$f":"SUM(C95:C112)","v":4031.8680000000004},{"$f":"D109","v":5622},{"$f":"SUM(E95:E112)","v":0},{"$f":"SUM(F95:F112)","v":8103},{"$f":"SUM(C114:F114)","v":17756.868000000002},null,null,null,{"$f":"SUM(K95:K112)","v":0.99999999999999989}]
[]
[null,5]
[]
[null,"US EPA Data and Moisture Content"]
[null,"Category","Moisture Content  (MC) ","US EPA DATA (lbs-dry/person)","US EPA DATA             (lbs-WET/person)    [US EPA DATA/(1-MC)"]
[null,"Newspaper",0.27850000000000003,41.931464174454831,58.117067462861854]
[null,"Glass",3.2000000000000001E-2,56.822429906542055,58.700857341469067]
[null,"Aluminum Cans",0.129,8.4112149532710276,9.6569632069701807]
[null,"Plastic Bottles",4.8000000000000001E-2,23.302180685358255,24.477080551846907]
[null,"Steel Cans",5.8000000000000003E-2,10.841121495327103,11.508621544933231]
[null,"Corrugated Paper",0.24049999999999999,195.20249221183801,257.01447295831201]
[null,"Office Paper",0.13400000000000001,28.22429906542056,32.591569359608037]
[null,"Yard Waste",0.50600000000000001,216.3239875389408,437.90280878328099]
[null,"Other Plastics",0.11700000000000001,154.90485396035913,175.43018568557093]
[null,"Non-ferrous Metal",5.3999999999999999E-2,46.762277712979795,49.431583206109721]
[null,"White Goods","x",30.280373831775702,30.280373831775702]
[null,"Ferrous Metal",0.16900000000000001,12.133426323463874,14.600994372399368]
[null,"Other Paper",0.2545,158.56697819314641,212.69883057430772]
[null,"Textiles",0.17,76.349308411214949,91.987118567728857]
[null,"C&D Debris",8.8999999999999996E-2,"-","-"]
[null,"Food Waste",0.59750000000000003,247.53894080996884,615.00357965209651]
[null,"Miscellaneous",0.313,206.19904324930312,300.14416775735532]
[null,"Tires","x",36.386292834890966,36.386292834890966]
[]
[]
[null,6]
[]
[null,"Findig County Factor"]
[null,"Material","tons-DRY/county-us data ","tons-WET/county-us data ","County Factor","Column1"]
[null,"equation","US DATA * County Population/2000","tons-DRY/(1-MoistureContent)","ton-wet-composition/tons-wet-Usdata"]
[null,"Newspaper ",{"$f":"D120*$C$8/2000","v":242.40579439252338},{"$f":"C145/(1-C120)","v":335.97476700280441},{"$f":"G95/D145","v":5.0991924640153098E-2},"Newspaper "]
[null,"Glass ",328.49046728971962,339.34965629103266,1.6215605049208386,"Glass "]
[null,"Aluminum Cans ",48.625233644859811,55.826904299494615,1.2462091687328223,"Aluminum Cans "]
[null,"Plastic Bottles ",134.70990654205607,141.50200267022697,1.4003759399915083,"Plastic Bottles "]
[null,"Steel Cans ",62.672523364485983,66.531341151259014,0.90910537730615726,"Steel Cans "]
[null,"Corrugated Paper",1128.4656074766356,1485.8006681720019,0.61531537815553372,"Corrugated Paper"]
[null,"Office Paper ",163.16467289719625,188.41186246789405,0.47219956766342353,"Office Paper "]
[null,"Yard Waste ",1250.5689719626168,2531.5161375761477,1.8372089085132686,"Yard Waste "]
[null,"Other Plastics ",895.50496074483613,1014.1619034482856,1.4927675698056799,"Other Plastics "]
[null,"Ferrous Metal ",{"$f":"D131*$C$8/2000","v":70.14333757594467},{"$f":"C154/(1-C131)","v":84.408348466840764},{"$f":"C104/D154","v":0.9102891052321026},"Ferrous Metal "]
[null,"White Goods ",{"$f":"D130*$C$8/2000","v":175.05084112149532},{"$f":"Table714192531374349172178202208214226232238108217247253259265283289301307313[[#This Row],[tons-DRY/county-us data ]]","v":175.05084112149532},{"$f":"G105/Table714192531374349172178202208214226232238108217247253259265283289301307313[[#This Row],[tons-WET/county-us data ]]","v":0.22279241704946601},"White Goods "]
[null,"Non-ferrous Metal ",{"$f":"D129*$C$8/2000","v":270.3327274587362},{"$f":"C156/(1-C129)","v":285.76398251452031},{"$f":"C106/D156","v":5.660615399345529E-2},"Non-ferrous Metal "]
[null,"Other Paper ",{"$f":"D132*$C$8/2000","v":916.67570093457937},{"$f":"C157/(1-C132)","v":1229.6119395500727},{"$f":"G107/D157","v":0.78087400513639815},"Other Paper "]
[null,"Textiles ",441.37535192523359,{"$f":"C158/(1-C133)","v":531.77753244004055},{"$f":"G108/D158","v":0.65209975759759942},"Textiles "]
[null,"C&D Debris",{"$error":"#VALUE!"},{"$f":"C159/(1-C134)","v":{"$error":"#VALUE!"}},{"$f":"#REF!/D159","v":{"$error":"#REF!"}},"C&D Debris"]
[null,"Food Waste",1431.0226168224299,{"$f":"C160/(1-C135)","v":3555.3356939687701},{"$f":"G110/D160","v":0.10578241616902676},"Food Waste"]
[null,"Miscellaneous ",1192.0366690242213,{"$f":"C161/(1-C136)","v":1735.1334338052711},{"$f":"G111/D161","v":0.399669550761378},"Miscellaneous "]
[null,"Tires ",210.34915887850468,{"$f":"Table714192531374349172178202208214226232238108217247253259265283289301307313[[#This Row],[tons-DRY/county-us data ]]","v":210.34915887850468},{"$f":"G112/Table714192531374349172178202208214226232238108217247253259265283289301307313[[#This Row],[tons-WET/county-us data ]]","v":0.46589204597962619},"Tires "]
[]
[]
[]
[null,"Link to \"New WasteCalc County Factors\""]
[null,"Newspaper","Glass","Aluminum Cans","Plastic Bottles","Steel Cans","Corrugated Paper","Office Paper","Yard Waste","Other Plastics","Ferrous Metals","White Goods","Non-Ferrous Metal","Other Paper","Textiles","C&D Debris","Food Waste","Misc","Tires"]
[null,{"$f":"E145","v":5.0991924640153098E-2},{"$f":"E146","v":1.6215605049208386},{"$f":"E147","v":1.2462091687328223},{"$f":"E148","v":1.4003759399915083},{"$f":"E149","v":0.90910537730615726},{"$f":"E150","v":0.61531537815553372},{"$f":"E151","v":0.47219956766342353},{"$f":"E152","v":1.8372089085132686},{"$f":"E153","v":1.4927675698056799},{"$f":"E154","v":0.9102891052321026},{"$f":"E155","v":0.22279241704946601},{"$f":"E156","v":5.660615399345529E-2},{"$f":"E157","v":0.78087400513639815},{"$f":"E158","v":0.65209975759759942},{"$error":"#REF!"},{"$f":"E160","v":0.10578241616902676},{"$f":"E161","v":0.399669550761378},{"$f":"E162","v":0.46589204597962619}]

{"sheet":"82 Taylor County Factor","index":81,"n_rows":168,"n_cols":19,"rows_kept":168,"cut":false,"hidden":true,"merged":[[89,9,89,10],[115,1,115,2],[117,1,117,2],[139,1,139,2],[141,1,141,2],[2,1,2,2],[3,1,3,2],[19,1,19,2],[67,1,67,2],[89,1,89,2]]}
[null,"Finding County Factors for Taylor"]
[]
[null,1]
[null,"Information from annual solid waste report 2017"]
[null,"County","Taylor"]
[null,"Waste comp study","NONE"]
[null,"Year",2017]
[null,"Population",22478]
[null,"Landfilled tons minus ash",17215]
[null,"C&D collected",1095]
[null,"C&D disposed",{"$f":"C10-C14","v":1095}]
[]
[null,"Recycled tons",3839]
[null,"Recycled C&D",0]
[null,"combustor recy metals",0]
[null,"Combustor input",0]
[null,"Process Fuel",0]
[null,"Total Tons MSW collected",{"$f":"C9+(C16-C15-C17)+C13","v":21054}]
[]
[null,2]
[]
[null,"Aucilla Landifll Waste Composition Study Results"]
[null,"FDEP Category","Waste Comp Category","Percentage in waste stream"]
[null,"Newspapers","Newspaper",3.0000000000000001E-3]
[null,"Glass","Green",2E-3]
[null,null,"Clear ",0.02]
[null,null,"Brown",7.0000000000000001E-3]
[null,"Aluminum Cans","Aluminum cans and tin foil",1.2999999999999999E-2]
[null,"Plastic Bottles","#1 PET Bottles",3.7999999999999999E-2]
[null,null,"#2 HDPE Bottles- translucent ",5.0000000000000001E-3]
[null,null,"#2 HDPE Bottles- colored",4.0000000000000001E-3]
[null,null,"#3-7 (Other Plastic Bottles)",2E-3]
[null,"Steel Cans","Steel/Tin Cans",1.0999999999999999E-2]
[null,"Corrugated Boxes","Corrugated Cardboard (OCC)",0.11899999999999999]
[null,"Office Paper","High Grade Paper (Office Type)",2.1999999999999999E-2]
[null,"Yard Trash","Yard Trash",2.1000000000000001E-2]
[null,"Other Plastics","Expanded Polystyrene (Food Service)",4.0000000000000001E-3]
[null,null,"Expanded Polystyrene",1.7999999999999999E-2]
[null,null,"Rigid Plastic (Tubs, Cups, Lids)",8.9999999999999993E-3]
[null,null,"Rigid Plastic (Food Service)",6.0000000000000001E-3]
[null,null,"Grocery Bags",0.01]
[null,null,"Other Flexible Plastic",7.0000000000000007E-2]
[null,null,"Other Plastics",3.9E-2]
[null,"Ferrous Metals","Other Ferrous Metals",1.9E-2]
[null,"White Goods","White Goods",0]
[null,"Nonferrous Metals","Other Non-Ferrous Metals ",4.0000000000000001E-3]
[null,"Other Paper","Polycoated Aseptic Containers",0]
[null,null,"Food Service Container (Polycoated)",8.0000000000000002E-3]
[null,null,"Other Compsite (Metal Coated)",6.0000000000000001E-3]
[null,null,"Boxboards",2.8000000000000001E-2]
[null,null,"Other Paper",0.121]
[null,"Textiles","Clothing, Footwear, Other Textiles",6.3E-2]
[null,"C&D Debris","Wood",4.7E-2]
[null,null,"Asphalt Shingles",5.0000000000000001E-3]
[null,null,"Gypsum Drywall",6.0000000000000001E-3]
[null,null,"Concrete/Bricks/Ceramics",3.0000000000000001E-3]
[null,"Food Waste","Food Waste",9.2999999999999999E-2]
[null,"Miscellaneous","Animal- By-Product",3.0000000000000001E-3]
[null,null,"Other Organics",3.5999999999999997E-2]
[null,null,"Rubber and Leather",1.0999999999999999E-2]
[null,null,"Small Appliances/Electronics",1.4999999999999999E-2]
[null,null,"Hazardous Waste",0.01]
[null,null,"Residuals ",9.5000000000000001E-2]
[null,"Tires","Tires",0]
[null,null,null,"sum"]
[null,null,null,0.997]
[]
[null,"Recycled tons from Taylor"]
[null,"Materials","Tons"]
[null,"Newspaper",24]
[null,"Glass",0]
[null,"Aluminum Cans",54]
[null,"Plastic Bottles",10]
[null,"Steel Cans",0]
[null,"Corrugated Paper",532]
[null,"Office Paper",20]
[null,"Yard Trash",0]
[null,"Other Plastics",21]
[null,"Ferrous Metals",2683]
[null,"White Goods",0]
[null,"NonFerous Metals",305]
[null,"Other Paper",1]
[null,"Textiles",0]
[null,"C&D Debris",0]
[null,"Food",0]
[null,"Miscellaneous",157]
[null,"Tires",32]
[null,"Total",{"$f":"SUM(C70:C87)","v":3839}]
[]
[null,3,null,null,null,null,null,null,null,4]
[]
[null,"Calculating waste compositon percentage utalizing waste compsition study"]
[null,"FDEP Category","Landfilled tons\n(Plus combusor ash, minus C&D  disposed)","Collected C&D \n(disposal C&D LANDFILL + recycled)","Combusted\n(minus recycled metals, minus ash)","Recycled Materials\n(Minus recycled C&D)","Total Collected Tons"]
[null,null,{"$f":"C9-C11","v":16120},{"$f":"C11+C14","v":1095},{"$f":"C16-C15","v":0},{"$f":"C88","v":3839},null,null,null,"FDEP Category","Percentage"]
[null,"Newspaper",{"$f":"$C$94*D24","v":48.36},null,{"$f":"$E$94*D24","v":0},{"$f":"C70","v":24},{"$f":"SUM(C95:F95)","v":72.36},null,null,"Newspaper",{"$f":"G95/$G$114","v":3.4474347198030259E-3}]
[null,"Glass",{"$f":"$C$94*SUM(D25:D27)","v":467.47999999999996},null,{"$f":"$E$94*SUM(D25:D27)","v":0},0,467.47999999999996,null,null,"Glass",2.2272067203061338E-2]
[null,"Aluminum Cans",{"$f":"$C$94*D28","v":209.56},null,{"$f":"$E$94*D28","v":0},54,263.56,null,null,"Aluminum Cans",1.25567426029752E-2]
[null,"Plastic Bottles",{"$f":"$C$94*SUM(D29:D32)","v":789.88},null,{"$f":"$E$94*SUM(D29:D32)","v":0},10,799.88,null,null,"Plastic Botles",3.8108541786567779E-2]
[null,"Steel Cans",{"$f":"$C$94*D33","v":177.32},null,{"$f":"$E$94*D33","v":0},0,177.32,null,null,"Steel Cans",8.4480254908163698E-3]
[null,"Corrugated Paper",{"$f":"$C$94*D34","v":1918.28},null,{"$f":"$E$94*D34","v":0},532,2450.2799999999997,null,null,"Corrugated Paper",0.11673825794968157]
[null,"Office Paper",{"$f":"$C$94*D35","v":354.64},null,{"$f":"$E$94*D35","v":0},20,374.64,null,null,"Office Paper",1.7848907454767905E-2]
[null,"Yard Trash",{"$f":"$C$94*D36","v":338.52000000000004},null,{"$f":"$E$94*D36","v":0},0,338.52000000000004,null,null,"Yard Trash",1.6128048664285799E-2]
[null,"Other Plastics",{"$f":"$C$94*SUM(D37:D43)","v":2514.7199999999998},null,{"$f":"$E$94*SUM(D37:D43)","v":0},21,2535.7199999999998,null,null,"Other Plastics",0.12080886080291499]
[null,"Ferrous Metals",{"$f":"$C$94*D44","v":306.27999999999997},null,{"$f":"$E$94*D44","v":0},2683,2989.2799999999997,null,null,"Ferrous Metals",0.14241773990067425]
[null,"White Goods",{"$f":"$C$94*D45","v":0},null,{"$f":"$E$94*D45","v":0},0,0,null,null,"White Goods",0]
[null,"NonFerous Metals",{"$f":"$C$94*D46","v":64.48},null,{"$f":"$E$94*D46","v":0},305,369.48,null,null,"NonFerous Metals",1.7603070484699033E-2]
[null,"Other Paper",{"$f":"$C$94*SUM(D47:D51)","v":2627.56},null,{"$f":"$E$94*SUM(D47:D51)","v":0},1,2628.56,null,null,"Other Paper",0.12523202055120844]
[null,"Textiles",{"$f":"$C$94*D52","v":1015.5600000000001},null,{"$f":"$E$94*D52","v":0},0,1015.5600000000001,null,null,"Textiles",4.8384145992857397E-2]
[null,"C&D Debris",{"$f":"$C$94*SUM(D53:D56)","v":983.31999999999994},{"$f":"C10","v":1095},{"$f":"$E$94*SUM(D53:D56)","v":0},0,2078.3199999999997,null,null,"C&D Debris",9.9017033262313772E-2]
[null,"Food",{"$f":"$C$94*D57","v":1499.16},null,{"$f":"$E$94*D57","v":0},{"$f":"C85","v":0},1499.16,null,null,"Food",7.1424215513265679E-2]
[null,"Miscellaneous",{"$f":"$C$94*SUM(D58:D63)","v":2740.3999999999996},null,{"$f":"$E$94*SUM(D58:D63)","v":0},{"$f":"C86","v":157},2897.3999999999996,null,null,"Miscellaneous",0.13804031726309129]
[null,"Tires",{"$f":"$C$94*D64","v":0},null,{"$f":"$E$94*D64","v":0},{"$f":"C87","v":32},32,null,null,"Tires",1.5245703570162636E-3]
[null,null,"Total","Total","Total","Total","Total",null,null,null,"total"]
[null,null,{"$f":"SUM(C95:C112)","v":16055.519999999999},{"$f":"D109","v":1095},{"$f":"SUM(E95:E112)","v":0},{"$f":"SUM(F95:F112)","v":3839},{"$f":"SUM(C114:F114)","v":20989.519999999997},null,null,null,{"$f":"SUM(K95:K112)","v":1.0000000000000002}]
[]
[null,5]
[]
[null,"US EPA Data and Moisture Content"]
[null,"Category","Moisture Content  (MC) ","US EPA DATA (lbs-dry/person)","US EPA DATA             (lbs-WET/person)    [US EPA DATA/(1-MC)"]
[null,"Newspaper",0.27850000000000003,41.931464174454831,58.117067462861854]
[null,"Glass",3.2000000000000001E-2,56.822429906542055,58.700857341469067]
[null,"Aluminum Cans",0.129,8.4112149532710276,9.6569632069701807]
[null,"Plastic Bottles",4.8000000000000001E-2,23.302180685358255,24.477080551846907]
[null,"Steel Cans",5.8000000000000003E-2,10.841121495327103,11.508621544933231]
[null,"Corrugated Paper",0.24049999999999999,195.20249221183801,257.01447295831201]
[null,"Office Paper",0.13400000000000001,28.22429906542056,32.591569359608037]
[null,"Yard Waste",0.50600000000000001,216.3239875389408,437.90280878328099]
[null,"Other Plastics",0.11700000000000001,154.90485396035913,175.43018568557093]
[null,"Non-ferrous Metal",5.3999999999999999E-2,46.762277712979795,49.431583206109721]
[null,"White Goods","x",30.280373831775702,30.280373831775702]
[null,"Ferrous Metal",0.16900000000000001,12.133426323463874,14.600994372399368]
[null,"Other Paper",0.2545,158.56697819314641,212.69883057430772]
[null,"Textiles",0.17,76.349308411214949,91.987118567728857]
[null,"C&D Debris",8.8999999999999996E-2,"-","-"]
[null,"Food Waste",0.59750000000000003,247.53894080996884,615.00357965209651]
[null,"Miscellaneous",0.313,206.19904324930312,300.14416775735532]
[null,"Tires","x",36.386292834890966,36.386292834890966]
[]
[]
[null,6]
[]
[null,"Finding County Factor"]
[null,"Category ","tons-DRY/county-us data ","tons-WET/county-us data ","County Factor","Category     "]
[null,"equation","US DATA * County Population/2000","tons-DRY/(1-MoistureContent)","ton-wet-composition/tons-wet-Usdata"]
[null,"Newspaper ",{"$f":"D120*$C$8/2000","v":471.26772585669784},{"$f":"C145/(1-C120)","v":653.17772121510438},{"$f":"G95/D145","v":0.11078148817658527},"Newspaper "]
[null,"Glass ",638.62728971962622,659.73893566077095,0.70858331186985146,"Glass "]
[null,"Aluminum Cans ",94.53364485981308,108.53460948313787,2.4283498255083984,"Aluminum Cans "]
[null,"Plastic Bottles ",261.89320872274141,275.09790832220739,2.9076193449756933,"Plastic Bottles "]
[null,"Steel Cans ",121.84336448598131,129.34539754350459,1.3709030500320618,"Steel Cans "]
[null,"Corrugated Paper",2193.8808099688472,2888.5856615784687,0.84826288262507099,"Corrugated Paper"]
[null,"Office Paper ",317.21289719626168,366.29664803263472,1.0227775820832026,"Office Paper "]
[null,"Yard Waste ",2431.2652959501556,4921.5896679152947,6.8782654150725167E-2,"Yard Waste "]
[null,"Other Plastics ",1740.9756536604762,1971.6598569201315,1.2860839008818534,"Other Plastics "]
[null,"Ferrous Metal ",{"$f":"D131*$C$8/2000","v":136.36757844941047},{"$f":"C154/(1-C131)","v":164.10057575139649},{"$f":"C104/D154","v":1.8664163644617411},"Ferrous Metal "]
[null,"White Goods ",{"$f":"D130*$C$8/2000","v":340.32112149532708},{"$f":"Table714192531374349172178202208214226232238108217247253259265283289301307313319[[#This Row],[tons-DRY/county-us data ]]","v":340.32112149532708},{"$f":"G105/Table714192531374349172178202208214226232238108217247253259265283289301307313319[[#This Row],[tons-WET/county-us data ]]","v":0},"White Goods "]
[null,"Non-ferrous Metal ",{"$f":"D129*$C$8/2000","v":525.56123921617996},{"$f":"C156/(1-C129)","v":555.56156365346726},{"$f":"C106/D156","v":0.11606274483059729},"Non-ferrous Metal "]
[null,"Other Paper ",{"$f":"D132*$C$8/2000","v":1782.1342679127724},{"$f":"C157/(1-C132)","v":2390.5221568246443},{"$f":"G107/D157","v":1.0995756690628393},"Other Paper "]
[null,"Textiles ",858.08987723364487,{"$f":"C158/(1-C133)","v":1033.8432255827047},{"$f":"G108/D158","v":0.98231528230752818},"Textiles "]
[null,"C&D Debris",{"$error":"#VALUE!"},{"$f":"C159/(1-C134)","v":{"$error":"#VALUE!"}},{"$f":"#REF!/D159","v":{"$error":"#REF!"}},"C&D Debris"]
[null,"Food Waste",2782.0901557632396,{"$f":"C160/(1-C135)","v":6912.025231709913},{"$f":"G110/D160","v":0.2168915693655728},"Food Waste"]
[null,"Miscellaneous ",2317.4710470789178,{"$f":"C161/(1-C136)","v":3373.3203014249166},{"$f":"G111/D161","v":0.85891636165593743},"Miscellaneous "]
[null,"Tires ",408.94554517133957,{"$f":"Table714192531374349172178202208214226232238108217247253259265283289301307313319[[#This Row],[tons-DRY/county-us data ]]","v":408.94554517133957},{"$f":"G112/Table714192531374349172178202208214226232238108217247253259265283289301307313319[[#This Row],[tons-WET/county-us data ]]","v":7.8250027119362978E-2},"Tires "]
[]
[]
[]
[null,"Link to \"New WasteCalc County Factors\""]
[null,"Newspaper","Glass","Aluminum Cans","Plastic Bottles","Steel Cans","Corrugated Paper","Office Paper","Yard Waste","Other Plastics","Ferrous Metals","White Goods","Non-Ferrous Metal","Other Paper","Textiles","C&D Debris","Food Waste","Misc","Tires"]
[null,{"$f":"E145","v":0.11078148817658527},{"$f":"E146","v":0.70858331186985146},{"$f":"E147","v":2.4283498255083984},{"$f":"E148","v":2.9076193449756933},{"$f":"E149","v":1.3709030500320618},{"$f":"E150","v":0.84826288262507099},{"$f":"E151","v":1.0227775820832026},{"$f":"E152","v":6.8782654150725167E-2},{"$f":"E153","v":1.2860839008818534},{"$f":"E154","v":1.8664163644617411},{"$f":"E155","v":0},{"$f":"E156","v":0.11606274483059729},{"$f":"E157","v":1.0995756690628393},{"$f":"E158","v":0.98231528230752818},{"$error":"#REF!"},{"$f":"E160","v":0.2168915693655728},{"$f":"E161","v":0.85891636165593743},{"$f":"E162","v":7.8250027119362978E-2}]

{"sheet":"83 Glades County Factor","index":82,"n_rows":168,"n_cols":19,"rows_kept":168,"cut":false,"hidden":true,"merged":[[89,9,89,10],[115,1,115,2],[117,1,117,2],[139,1,139,2],[141,1,141,2],[2,1,2,2],[3,1,3,2],[19,1,19,2],[67,1,67,2],[89,1,89,2]]}
[null,"Finding County Factors for Glades"]
[]
[null,1]
[null,"Information from annual solid waste report 2017"]
[null,"County","Glades"]
[null,"Waste comp study","NONE"]
[null,"Year",2017]
[null,"Population",13670]
[null,"Landfilled tons",12833]
[null,"C&D collected",711]
[null,"C&D disposed",{"$f":"C10-C14","v":709}]
[]
[null,"Recycled tons",77]
[null,"Recycled C&D",2]
[null,"combustor recy metals",0]
[null,"Combustor input",0]
[null,"Process Fuel",0]
[null,"Total Tons MSW collected",{"$f":"C9+(C16-C15-C17)+C13","v":12910}]
[]
[null,2]
[]
[null,"Aucilla Landifll Waste Composition Study Results"]
[null,"FDEP Category","Waste Comp Category","Percentage in waste stream"]
[null,"Newspapers","Newspaper",3.0000000000000001E-3]
[null,"Glass","Green",2E-3]
[null,null,"Clear ",0.02]
[null,null,"Brown",7.0000000000000001E-3]
[null,"Aluminum Cans","Aluminum cans and tin foil",1.2999999999999999E-2]
[null,"Plastic Bottles","#1 PET Bottles",3.7999999999999999E-2]
[null,null,"#2 HDPE Bottles- translucent ",5.0000000000000001E-3]
[null,null,"#2 HDPE Bottles- colored",4.0000000000000001E-3]
[null,null,"#3-7 (Other Plastic Bottles)",2E-3]
[null,"Steel Cans","Steel/Tin Cans",1.0999999999999999E-2]
[null,"Corrugated Boxes","Corrugated Cardboard (OCC)",0.11899999999999999]
[null,"Office Paper","High Grade Paper (Office Type)",2.1999999999999999E-2]
[null,"Yard Trash","Yard Trash",2.1000000000000001E-2]
[null,"Other Plastics","Expanded Polystyrene (Food Service)",4.0000000000000001E-3]
[null,null,"Expanded Polystyrene",1.7999999999999999E-2]
[null,null,"Rigid Plastic (Tubs, Cups, Lids)",8.9999999999999993E-3]
[null,null,"Rigid Plastic (Food Service)",6.0000000000000001E-3]
[null,null,"Grocery Bags",0.01]
[null,null,"Other Flexible Plastic",7.0999999999999994E-2]
[null,null,"Other Plastics",3.9E-2]
[null,"Ferrous Metals","Other Ferrous Metals",1.9E-2]
[null,"White Goods","White Goods",0]
[null,"Nonferrous Metals","Other Non-Ferrous Metals ",4.0000000000000001E-3]
[null,"Other Paper","Polycoated Aseptic Containers",0]
[null,null,"Food Service Container (Polycoated)",8.0000000000000002E-3]
[null,null,"Other Compsite (Metal Coated)",6.0000000000000001E-3]
[null,null,"Boxboards",2.8000000000000001E-2]
[null,null,"Other Paper",0.121]
[null,"Textiles","Clothing, Footwear, Other Textiles",6.3E-2]
[null,"C&D Debris","Wood",4.7E-2]
[null,null,"Asphalt Shingles",5.0000000000000001E-3]
[null,null,"Gypsum Drywall",6.0000000000000001E-3]
[null,null,"Concrete/Bricks/Ceramics",3.0000000000000001E-3]
[null,"Food Waste","Food Waste",9.2999999999999999E-2]
[null,"Miscellaneous","Animal- By-Product",3.0000000000000001E-3]
[null,null,"Other Organics",3.5999999999999997E-2]
[null,null,"Rubber and Leather",1.0999999999999999E-2]
[null,null,"Small Appliances/Electronics",1.4999999999999999E-2]
[null,null,"Hazardous Waste",0.01]
[null,null,"Residuals ",9.5000000000000001E-2]
[null,"Tires","Tires",0]
[null,null,null,"sum"]
[null,null,null,{"$f":"SUM(D24:D64)","v":0.99700000000000011}]
[]
[null,"Recycled tons from Glades County "]
[null,"Materials","Tons"]
[null,"Newspaper",0]
[null,"Glass",0]
[null,"Aluminum Cans",0]
[null,"Plastic Bottles",0]
[null,"Steel Cans",0]
[null,"Corrugated Paper",0]
[null,"Office Paper",38]
[null,"Yard Trash",0]
[null,"Other Plastics",0]
[null,"Ferrous Metals",7]
[null,"White Goods",0]
[null,"NonFerous Metals",0]
[null,"Other Paper",0]
[null,"Textiles",19]
[null,"C&D Debris",2]
[null,"Food",0]
[null,"Miscellaneous",11]
[null,"Tires",0]
[null,"Total",{"$f":"SUM(C70:C87)","v":77}]
[]
[null,3,null,null,null,null,null,null,null,4]
[]
[null,"Calculating waste compositon percentage utalizing waste compsition study"]
[null,"FDEP Category","Landfilled tons\n(Plus combusor ash, minus C&D  disposed)","Collected C&D \n(disposal C&D LANDFILL + recycled)","Combusted\n(minus recycled metals, minus ash)","Recycled Materials\n(Minus recycled C&D)","Total Collected Tons"]
[null,null,{"$f":"C9-C11","v":12124},{"$f":"C11+C14","v":711},{"$f":"C16-C15","v":0},{"$f":"C88","v":77},null,null,null,"FDEP Category","Percentage"]
[null,"Newspaper",{"$f":"$C$94*D24","v":36.372},null,{"$f":"$E$94*D24","v":0},{"$f":"C70","v":0},{"$f":"SUM(C95:F95)","v":36.372},null,null,"Newspaper",{"$f":"G95/$G$114","v":2.7859548413663284E-3}]
[null,"Glass",{"$f":"$C$94*SUM(D25:D27)","v":351.596},null,{"$f":"$E$94*SUM(D25:D27)","v":0},0,351.596,null,null,"Glass",2.6930896799874506E-2]
[null,"Aluminum Cans",{"$f":"$C$94*D28","v":157.61199999999999},null,{"$f":"$E$94*D28","v":0},0,157.61199999999999,null,null,"Aluminum Cans",1.2072470979254089E-2]
[null,"Plastic Bottles",{"$f":"$C$94*SUM(D29:D32)","v":594.07600000000002},null,{"$f":"$E$94*SUM(D29:D32)","v":0},0,594.07600000000002,null,null,"Plastic Botles",4.5503929075650026E-2]
[null,"Steel Cans",{"$f":"$C$94*D33","v":133.364},null,{"$f":"$E$94*D33","v":0},0,133.364,null,null,"Steel Cans",1.0215167751676538E-2]
[null,"Corrugated Paper",{"$f":"$C$94*D34","v":1442.7559999999999},null,{"$f":"$E$94*D34","v":0},0,1442.7559999999999,null,null,"Corrugated Paper",0.11050954204086434]
[null,"Office Paper",{"$f":"$C$94*D35","v":266.72800000000001},null,{"$f":"$E$94*D35","v":0},38,304.72800000000001,null,null,"Office Paper",2.3340988862308329E-2]
[null,"Yard Trash",{"$f":"$C$94*D36","v":254.60400000000001},null,{"$f":"$E$94*D36","v":0},0,254.60400000000001,null,null,"Yard Trash",1.95016838895643E-2]
[null,"Other Plastics",{"$f":"$C$94*SUM(D37:D43)","v":1903.4680000000001},null,{"$f":"$E$94*SUM(D37:D43)","v":0},0,1903.4680000000001,null,null,"Other Plastics",0.14579830336483784]
[null,"Ferrous Metals",{"$f":"$C$94*D44","v":230.35599999999999},null,{"$f":"$E$94*D44","v":0},7,237.35599999999999,null,null,"Ferrous Metals",1.8180553649162712E-2]
[null,"White Goods",{"$f":"$C$94*D45","v":0},null,{"$f":"$E$94*D45","v":0},0,0,null,null,"White Goods",0]
[null,"NonFerous Metals",{"$f":"$C$94*D44","v":230.35599999999999},null,{"$f":"$E$94*D46","v":0},0,230.35599999999999,null,null,"NonFerous Metals",1.7644380661986744E-2]
[null,"Other Paper",{"$f":"$C$94*SUM(D47:D51)","v":1976.212},null,{"$f":"$E$94*SUM(D47:D51)","v":0},0,1976.212,null,null,"Other Paper",0.15137021304757051]
[null,"Textiles",{"$f":"$C$94*D52","v":763.81200000000001},null,{"$f":"$E$94*D52","v":0},19,782.81200000000001,null,null,"Textiles",5.9960378348170522E-2]
[null,"C&D Debris",{"$f":"$C$94*SUM(D53:D56)","v":739.56399999999996},{"$f":"C10","v":711},{"$f":"$E$94*SUM(D53:D56)","v":0},0,1450.5639999999999,null,null,"C&D Debris",0.11110760470998862]
[null,"Food",{"$f":"$C$94*D57","v":1127.5319999999999},null,{"$f":"$E$94*D57","v":0},{"$f":"C85","v":0},1127.5319999999999,null,null,"Food",8.6364600082356163E-2]
[null,"Miscellaneous",{"$f":"$C$94*SUM(D58:D63)","v":2061.08},null,{"$f":"$E$94*SUM(D58:D63)","v":0},{"$f":"C86","v":11},2072.08,null,null,"Miscellaneous",0.15871333189536846]
[null,"Tires",{"$f":"$C$94*D64","v":0},null,{"$f":"$E$94*D64","v":0},{"$f":"C87","v":0},0,null,null,"Tires",0]
[null,null,"Total","Total","Total","Total","Total",null,null,null,"total"]
[null,null,{"$f":"SUM(C95:C112)","v":12269.487999999999},{"$f":"D109","v":711},{"$f":"SUM(E95:E112)","v":0},{"$f":"SUM(F95:F112)","v":75},{"$f":"SUM(C114:F114)","v":13055.487999999999},null,null,null,{"$f":"SUM(K95:K112)","v":1}]
[]
[null,5]
[]
[null,"US EPA Data and Moisture Content"]
[null,"Category","Moisture Content  (MC) ","US EPA DATA (lbs-dry/person)","US EPA DATA             (lbs-WET/person)    [US EPA DATA/(1-MC)"]
[null,"Newspaper",0.27850000000000003,41.931464174454831,58.117067462861854]
[null,"Glass",3.2000000000000001E-2,56.822429906542055,58.700857341469067]
[null,"Aluminum Cans",0.129,8.4112149532710276,9.6569632069701807]
[null,"Plastic Bottles",4.8000000000000001E-2,23.302180685358255,24.477080551846907]
[null,"Steel Cans",5.8000000000000003E-2,10.841121495327103,11.508621544933231]
[null,"Corrugated Paper",0.24049999999999999,195.20249221183801,257.01447295831201]
[null,"Office Paper",0.13400000000000001,28.22429906542056,32.591569359608037]
[null,"Yard Waste",0.50600000000000001,216.3239875389408,437.90280878328099]
[null,"Other Plastics",0.11700000000000001,154.90485396035913,175.43018568557093]
[null,"Non-ferrous Metal",5.3999999999999999E-2,46.762277712979795,49.431583206109721]
[null,"White Goods","x",30.280373831775702,30.280373831775702]
[null,"Ferrous Metal",0.16900000000000001,12.133426323463874,14.600994372399368]
[null,"Other Paper",0.2545,158.56697819314641,212.69883057430772]
[null,"Textiles",0.17,76.349308411214949,91.987118567728857]
[null,"C&D Debris",8.8999999999999996E-2,"-","-"]
[null,"Food Waste",0.59750000000000003,247.53894080996884,615.00357965209651]
[null,"Miscellaneous",0.313,206.19904324930312,300.14416775735532]
[null,"Tires","x",36.386292834890966,36.386292834890966]
[]
[]
[null,6]
[]
[null,"Finding County Factor"]
[null,"Category     ","tons-DRY/county-us data ","tons-WET/county-us data ","County Factor","Category     2"]
[null,"equation","US DATA * County Population/2000","tons-DRY/(1-MoistureContent)","ton-wet-composition/tons-wet-Usdata"]
[null,"Newspaper ",{"$f":"D120*$C$8/2000","v":286.60155763239879},{"$f":"C145/(1-C120)","v":397.23015610866082},{"$f":"G95/D145","v":9.1564045278703807E-2},"Newspaper "]
[null,"Glass ",388.38130841121495,401.22035992894109,0.87631644630962924,"Glass "]
[null,"Aluminum Cans ",57.490654205607477,66.005343519641187,2.3878672785499471,"Aluminum Cans "]
[null,"Plastic Bottles ",159.27040498442369,167.30084557187362,3.5509443958236351,"Plastic Bottles "]
[null,"Steel Cans ",74.099065420560763,78.661428259618646,1.6954179824937565,"Steel Cans "]
[null,"Corrugated Paper",1334.2090342679128,1756.6939226700629,0.82129048286744377,"Corrugated Paper"]
[null,"Office Paper ",192.91308411214951,222.76337657292092,1.3679447882684084,"Office Paper "]
[null,"Yard Waste ",1478.5744548286605,2993.0656980337258,8.5064621256813841E-2,"Yard Waste "]
[null,"Other Plastics ",1058.7746768190545,1199.0653191608772,1.5874598068869792,"Other Plastics "]
[null,"Ferrous Metal ",{"$f":"D131*$C$8/2000","v":82.93196892087559},{"$f":"C154/(1-C131)","v":99.79779653534969},{"$f":"C104/D154","v":2.3082273156041566},"Ferrous Metal "]
[null,"White Goods ",{"$f":"D130*$C$8/2000","v":206.96635514018692},{"$f":"Table714192531374349172178202208214226232238108217247253259265283289301307313319325[[#This Row],[tons-DRY/county-us data ]]","v":206.96635514018692},{"$f":"G105/Table714192531374349172178202208214226232238108217247253259265283289301307313319325[[#This Row],[tons-WET/county-us data ]]","v":0},"White Goods "]
[null,"Non-ferrous Metal ",{"$f":"D129*$C$8/2000","v":319.62016816821688},{"$f":"C156/(1-C129)","v":337.86487121375995},{"$f":"C106/D156","v":0.68179920325087195},"Non-ferrous Metal "]
[null,"Other Paper ",{"$f":"D132*$C$8/2000","v":1083.8052959501556},{"$f":"C157/(1-C132)","v":1453.796506975393},{"$f":"G107/D157","v":1.3593456790672076},"Other Paper "]
[null,"Textiles ",521.84752299065417,{"$f":"C158/(1-C133)","v":628.73195541042674},{"$f":"G108/D158","v":1.2450647581432253},"Textiles "]
[null,"C&D Debris",{"$error":"#VALUE!"},{"$f":"C159/(1-C134)","v":{"$error":"#VALUE!"}},{"$f":"#REF!/D159","v":{"$error":"#REF!"}},"C&D Debris"]
[null,"Food Waste",1691.9286604361369,{"$f":"C160/(1-C135)","v":4203.5494669220798},{"$f":"G110/D160","v":0.26823331303047582},"Food Waste"]
[null,"Miscellaneous ",1409.3704606089868,{"$f":"C161/(1-C136)","v":2051.4853866215235},{"$f":"G111/D161","v":1.0100388789083175},"Miscellaneous "]
[null,"Tires ",248.70031152647977,{"$f":"Table714192531374349172178202208214226232238108217247253259265283289301307313319325[[#This Row],[tons-DRY/county-us data ]]","v":248.70031152647977},{"$f":"G112/Table714192531374349172178202208214226232238108217247253259265283289301307313319325[[#This Row],[tons-WET/county-us data ]]","v":0},"Tires "]
[]
[]
[]
[null,"Link to \"New WasteCalc County Factors\""]
[null,"Newspaper","Glass","Aluminum Cans","Plastic Bottles","Steel Cans","Corrugated Paper","Office Paper","Yard Waste","Other Plastics","Ferrous Metals","White Goods","Non-Ferrous Metal","Other Paper","Textiles","C&D Debris","Food Waste","Misc","Tires"]
[null,{"$f":"E145","v":9.1564045278703807E-2},{"$f":"E146","v":0.87631644630962924},{"$f":"E147","v":2.3878672785499471},{"$f":"E148","v":3.5509443958236351},{"$f":"E149","v":1.6954179824937565},{"$f":"E150","v":0.82129048286744377},{"$f":"E151","v":1.3679447882684084},{"$f":"E152","v":8.5064621256813841E-2},{"$f":"E153","v":1.5874598068869792},{"$f":"E154","v":2.3082273156041566},{"$f":"E155","v":0},{"$f":"E156","v":0.68179920325087195},{"$f":"E157","v":1.3593456790672076},{"$f":"E158","v":1.2450647581432253},{"$error":"#REF!"},{"$f":"E160","v":0.26823331303047582},{"$f":"E161","v":1.0100388789083175},{"$f":"E162","v":0}]

{"sheet":"84 Lafayette County Factor","index":83,"n_rows":168,"n_cols":19,"rows_kept":168,"cut":false,"hidden":true,"merged":[[89,9,89,10],[115,1,115,2],[117,1,117,2],[139,1,139,2],[141,1,141,2],[2,1,2,2],[3,1,3,2],[19,1,19,2],[67,1,67,2],[89,1,89,2]]}
[null,"Finding County Factors for Lafayette"]
[]
[null,1]
[null,"Information from annual solid waste report 2017"]
[null,"County","Lafayette"]
[null,"Waste comp study","NONE"]
[null,"Year",2017]
[null,"Population",8479]
[null,"Landfilled tons ",3366]
[null,"C&D collected",279]
[null,"C&D disposed",{"$f":"C10-C14","v":71}]
[]
[null,"Recycled tons",455]
[null,"Recycled C&D",208]
[null,"combustor recy metals",0]
[null,"Combustor input",0]
[null,"Process Fuel",0]
[null,"Total Tons MSW collected",{"$f":"C9+(C16-C15-C17)+C13","v":3821}]
[]
[null,2]
[]
[null,"Aucilla Landifll Waste Composition Study Results"]
[null,"FDEP Category","Waste Comp Category","Percentage in waste stream"]
[null,"Newspapers","Newspaper",3.0000000000000001E-3]
[null,"Glass","Green",2E-3]
[null,null,"Clear ",0.02]
[null,null,"Brown",7.0000000000000001E-3]
[null,"Aluminum Cans","Aluminum cans and tin foil",1.2999999999999999E-2]
[null,"Plastic Bottles","#1 PET Bottles",3.7999999999999999E-2]
[null,null,"#2 HDPE Bottles- translucent ",5.0000000000000001E-3]
[null,null,"#2 HDPE Bottles- colored",4.0000000000000001E-3]
[null,null,"#3-7 (Other Plastic Bottles)",2E-3]
[null,"Steel Cans","Steel/Tin Cans",1.0999999999999999E-2]
[null,"Corrugated Boxes","Corrugated Cardboard (OCC)",0.11899999999999999]
[null,"Office Paper","High Grade Paper (Office Type)",2.1999999999999999E-2]
[null,"Yard Trash","Yard Trash",2.1000000000000001E-2]
[null,"Other Plastics","Expanded Polystyrene (Food Service)",4.0000000000000001E-3]
[null,null,"Expanded Polystyrene",1.7999999999999999E-2]
[null,null,"Rigid Plastic (Tubs, Cups, Lids)",8.9999999999999993E-3]
[null,null,"Rigid Plastic (Food Service)",6.0000000000000001E-3]
[null,null,"Grocery Bags",0.01]
[null,null,"Other Flexible Plastic",7.0999999999999994E-2]
[null,null,"Other Plastics",3.9E-2]
[null,"Ferrous Metals","Other Ferrous Metals",1.9E-2]
[null,"White Goods","White Goods",0]
[null,"Nonferrous Metals","Other Non-Ferrous Metals ",4.0000000000000001E-3]
[null,"Other Paper","Polycoated Aseptic Containers",0]
[null,null,"Food Service Container (Polycoated)",8.0000000000000002E-3]
[null,null,"Other Compsite (Metal Coated)",6.0000000000000001E-3]
[null,null,"Boxboards",2.8000000000000001E-2]
[null,null,"Other Paper",0.121]
[null,"Textiles","Clothing, Footwear, Other Textiles",6.3E-2]
[null,"C&D Debris","Wood",4.7E-2]
[null,null,"Asphalt Shingles",5.0000000000000001E-3]
[null,null,"Gypsum Drywall",6.0000000000000001E-3]
[null,null,"Concrete/Bricks/Ceramics",3.0000000000000001E-3]
[null,"Food Waste","Food Waste",9.2999999999999999E-2]
[null,"Miscellaneous","Animal- By-Product",3.0000000000000001E-3]
[null,null,"Other Organics",3.5999999999999997E-2]
[null,null,"Rubber and Leather",1.0999999999999999E-2]
[null,null,"Small Appliances/Electronics",1.4999999999999999E-2]
[null,null,"Hazardous Waste",0.01]
[null,null,"Residuals ",9.5000000000000001E-2]
[null,"Tires","Tires",0]
[null,null,null,"sum"]
[null,null,null,{"$f":"SUM(D24:D64)","v":0.99700000000000011}]
[]
[null,"Recycled tons from Lafayette"]
[null,"Materials","Tons"]
[null,"Newspaper",11]
[null,"Glass",0]
[null,"Aluminum Cans",33]
[null,"Plastic Bottles",3]
[null,"Steel Cans",0]
[null,"Corrugated Paper",51]
[null,"Office Paper",0]
[null,"Yard Trash",26]
[null,"Other Plastics",0]
[null,"Ferrous Metals",4]
[null,"White Goods",0]
[null,"NonFerous Metals",22]
[null,"Other Paper",0]
[null,"Textiles",0]
[null,"C&D Debris",208]
[null,"Food",0]
[null,"Miscellaneous",67]
[null,"Tires",30]
[null,"Total",{"$f":"SUM(C70:C87)","v":455}]
[]
[null,3,null,null,null,null,null,null,null,4]
[]
[null,"Calculating waste compositon percentage utalizing waste compsition study"]
[null,"FDEP Category","Landfilled tons\n(Plus combusor ash, minus C&D  disposed)","Collected C&D \n(disposal C&D LANDFILL + recycled)","Combusted\n(minus recycled metals, minus ash)","Recycled Materials\n(Minus recycled C&D)","Total Collected Tons"]
[null,null,{"$f":"C9-C11","v":3295},{"$f":"C11+C14","v":279},{"$f":"C16-C15","v":0},{"$f":"C88","v":455},null,null,null,"FDEP Category","Percentage"]
[null,"Newspaper",{"$f":"$C$94*D24","v":9.8849999999999998},null,{"$f":"$E$94*D24","v":0},{"$f":"C70","v":11},{"$f":"SUM(C95:F95)","v":20.884999999999998},null,null,"Newspaper",{"$f":"G95/$G$114","v":5.4800235626581723E-3}]
[null,"Glass",{"$f":"$C$94*SUM(D25:D27)","v":95.554999999999993},null,{"$f":"$E$94*SUM(D25:D27)","v":0},0,95.554999999999993,null,null,"Glass",2.5072714940378341E-2]
[null,"Aluminum Cans",{"$f":"$C$94*D28","v":42.835000000000001},null,{"$f":"$E$94*D28","v":0},33,75.835000000000008,null,null,"Aluminum Cans",1.9898376196992223E-2]
[null,"Plastic Bottles",{"$f":"$C$94*SUM(D29:D32)","v":161.45500000000001},null,{"$f":"$E$94*SUM(D29:D32)","v":0},3,164.45500000000001,null,null,"Plastic Botles",4.3151413693892735E-2]
[null,"Steel Cans",{"$f":"$C$94*D33","v":36.244999999999997},null,{"$f":"$E$94*D33","v":0},0,36.244999999999997,null,null,"Steel Cans",9.5103401497986812E-3]
[null,"Corrugated Paper",{"$f":"$C$94*D34","v":392.10499999999996},null,{"$f":"$E$94*D34","v":0},51,443.10499999999996,null,null,"Corrugated Paper",0.11626649943651661]
[null,"Office Paper",{"$f":"$C$94*D35","v":72.489999999999995},null,{"$f":"$E$94*D34","v":0},0,72.489999999999995,null,null,"Office Paper",1.9020680299597362E-2]
[null,"Yard Trash",{"$f":"$C$94*D36","v":69.195000000000007},null,{"$f":"$E$94*D36","v":0},26,95.195000000000007,null,null,"Yard Trash",2.4978254395367237E-2]
[null,"Other Plastics",{"$f":"$C$94*SUM(D37:D43)","v":517.31500000000005},null,{"$f":"$E$94*SUM(D37:D43)","v":0},0,517.31500000000005,null,null,"Other Plastics",0.13573849122894482]
[null,"Ferrous Metals",{"$f":"$C$94*D44","v":62.604999999999997},null,{"$f":"$E$94*D44","v":0},4,66.60499999999999,null,null,"Ferrous Metals",1.747651277906859E-2]
[null,"White Goods",{"$f":"$C$94*D45","v":0},null,{"$f":"$E$94*D45","v":0},0,0,null,null,"White Goods",0]
[null,"NonFerous Metals",{"$f":"$C$94*D46","v":13.18},null,{"$f":"$E$94*D46","v":0},22,35.18,null,null,"NonFerous Metals",9.230894370807494E-3]
[null,"Other Paper",{"$f":"$C$94*SUM(D47:D51)","v":537.08500000000004},null,{"$f":"$E$94*SUM(D47:D51)","v":0},0,537.08500000000004,null,null,"Other Paper",0.14092594949247139]
[null,"Textiles",{"$f":"$C$94*D52","v":207.58500000000001},null,{"$f":"$E$94*D52","v":0},0,207.58500000000001,null,null,"Textiles",5.4468311767028814E-2]
[null,"C&D Debris",{"$f":"$C$94*SUM(D53:D56)","v":200.995},{"$f":"C10","v":279},{"$f":"$E$94*SUM(D53:D56)","v":0},0,479.995,null,null,"C&D Debris",0.12594608139612687]
[null,"Food",{"$f":"$C$94*D57","v":306.435},null,{"$f":"$E$94*D57","v":0},{"$f":"C85","v":0},306.435,null,null,"Food",8.0405603084661575E-2]
[null,"Miscellaneous",{"$f":"$C$94*SUM(D58:D63)","v":560.15},null,{"$f":"$E$94*SUM(D58:D63)","v":0},{"$f":"C86","v":67},627.15,null,null,"Miscellaneous",0.16455814112143036]
[null,"Tires",{"$f":"$C$94*D64","v":0},null,{"$f":"$E$94*D64","v":0},{"$f":"C87","v":30},30,null,null,"Tires",7.871712084258806E-3]
[null,null,"Total","Total","Total","Total","Total",null,null,null,"total"]
[null,null,{"$f":"SUM(C95:C112)","v":3285.1149999999998},{"$f":"D109","v":279},{"$f":"SUM(E95:E112)","v":0},{"$f":"SUM(F95:F112)","v":247},{"$f":"SUM(C114:F114)","v":3811.1149999999998},null,null,null,{"$f":"SUM(K95:K112)","v":1}]
[]
[null,5]
[]
[null,"US EPA Data and Moisture Content"]
[null,"Category","Moisture Content  (MC) ","US EPA DATA (lbs-dry/person)","US EPA DATA             (lbs-WET/person)    [US EPA DATA/(1-MC)"]
[null,"Newspaper",0.27850000000000003,41.931464174454831,58.117067462861854]
[null,"Glass",3.2000000000000001E-2,56.822429906542055,58.700857341469067]
[null,"Aluminum Cans",0.129,8.4112149532710276,9.6569632069701807]
[null,"Plastic Bottles",4.8000000000000001E-2,23.302180685358255,24.477080551846907]
[null,"Steel Cans",5.8000000000000003E-2,10.841121495327103,11.508621544933231]
[null,"Corrugated Paper",0.24049999999999999,195.20249221183801,257.01447295831201]
[null,"Office Paper",0.13400000000000001,28.22429906542056,32.591569359608037]
[null,"Yard Waste",0.50600000000000001,216.3239875389408,437.90280878328099]
[null,"Other Plastics",0.11700000000000001,154.90485396035913,175.43018568557093]
[null,"Non-ferrous Metal",5.3999999999999999E-2,46.762277712979795,49.431583206109721]
[null,"White Goods","x",30.280373831775702,30.280373831775702]
[null,"Ferrous Metal",0.16900000000000001,12.133426323463874,14.600994372399368]
[null,"Other Paper",0.2545,158.56697819314641,212.69883057430772]
[null,"Textiles",0.17,76.349308411214949,91.987118567728857]
[null,"C&D Debris",8.8999999999999996E-2,"-","-"]
[null,"Food Waste",0.59750000000000003,247.53894080996884,615.00357965209651]
[null,"Miscellaneous",0.313,206.19904324930312,300.14416775735532]
[null,"Tires","x",36.386292834890966,36.386292834890966]
[]
[]
[null,6]
[]
[null,"Finding County Factor"]
[null,"Material","tons-DRY/county-us data ","tons-WET/county-us data ","County Factor","Column1"]
[null,"equation","US DATA * County Population/2000","tons-DRY/(1-MoistureContent)","ton-wet-composition/tons-wet-Usdata"]
[null,"Newspaper ",{"$f":"D120*$C$8/2000","v":177.76844236760127},{"$f":"C145/(1-C120)","v":246.38730750880285},{"$f":"G95/D145","v":8.4764918335956993E-2},"Newspaper "]
[null,"Glass ",240.89869158878503,248.8622846991581,0.38396738226330063,"Glass "]
[null,"Aluminum Cans ",35.659345794392522,40.940695515950082,1.8523134266357408,"Aluminum Cans "]
[null,"Plastic Bottles ",98.789595015576324,103.77058299955496,1.584794025882126,"Plastic Bottles "]
[null,"Steel Cans ",45.960934579439247,48.790801039744423,0.74286544241147501,"Steel Cans "]
[null,"Corrugated Paper",827.56096573208731,1089.612858106764,0.40666278550521934,"Corrugated Paper"]
[null,"Office Paper ",119.65691588785047,138.17195830005829,0.52463611930995846,"Office Paper "]
[null,"Yard Waste ",917.10554517133949,1856.4889578367197,5.1276900731435711E-2,"Yard Waste "]
[null,"Other Plastics ",656.71912836494255,743.73627221397794,0.69556241819434217,"Other Plastics "]
[null,"Ferrous Metal ",{"$f":"D131*$C$8/2000","v":51.439660898325101},{"$f":"C154/(1-C131)","v":61.90091564178713},{"$f":"C104/D154","v":1.0113743771140207},"Ferrous Metal "]
[null,"White Goods ",{"$f":"D130*$C$8/2000","v":128.37364485981308},{"$f":"Table714192531374349172178202208214226232238108217247253259265283289301307313319325331[[#This Row],[tons-DRY/county-us data ]]","v":128.37364485981308},{"$f":"G105/Table714192531374349172178202208214226232238108217247253259265283289301307313319325331[[#This Row],[tons-WET/county-us data ]]","v":0},"White Goods "]
[null,"Non-ferrous Metal ",{"$f":"D129*$C$8/2000","v":198.24867636417784},{"$f":"C156/(1-C129)","v":209.56519700230217},{"$f":"C106/D156","v":6.2892122301467887E-2},"Non-ferrous Metal "]
[null,"Other Paper ",{"$f":"D132*$C$8/2000","v":672.24470404984413},{"$f":"C157/(1-C132)","v":901.73669221977741},{"$f":"G107/D157","v":0.59561178405402848},"Other Paper "]
[null,"Textiles ",323.68289300934578,{"$f":"C158/(1-C133)","v":389.9793891678865},{"$f":"G108/D158","v":0.53229736177322562},"Textiles "]
[null,"C&D Debris",{"$error":"#VALUE!"},{"$f":"C159/(1-C134)","v":{"$error":"#VALUE!"}},{"$f":"#REF!/D159","v":{"$error":"#REF!"}},"C&D Debris"]
[null,"Food Waste",1049.4413395638628,{"$f":"C160/(1-C135)","v":2607.3076759350629},{"$f":"G110/D160","v":0.11752928234298345},"Food Waste"]
[null,"Miscellaneous ",874.18084385542056,{"$f":"C161/(1-C136)","v":1272.4611992073078},{"$f":"G111/D161","v":0.49286375128034493},"Miscellaneous "]
[null,"Tires ",154.25968847352024,{"$f":"Table714192531374349172178202208214226232238108217247253259265283289301307313319325331[[#This Row],[tons-DRY/county-us data ]]","v":154.25968847352024},{"$f":"G112/Table714192531374349172178202208214226232238108217247253259265283289301307313319325331[[#This Row],[tons-WET/county-us data ]]","v":0.19447724999878832},"Tires "]
[]
[]
[]
[null,"Link to \"New WasteCalc County Factors\""]
[null,"Newspaper","Glass","Aluminum Cans","Plastic Bottles","Steel Cans","Corrugated Paper","Office Paper","Yard Waste","Other Plastics","Ferrous Metals","White Goods","Non-Ferrous Metal","Other Paper","Textiles","C&D Debris","Food Waste","Misc","Tires"]
[null,{"$f":"E145","v":8.4764918335956993E-2},{"$f":"E146","v":0.38396738226330063},{"$f":"E147","v":1.8523134266357408},{"$f":"E148","v":1.584794025882126},{"$f":"E149","v":0.74286544241147501},{"$f":"E150","v":0.40666278550521934},{"$f":"E151","v":0.52463611930995846},{"$f":"E152","v":5.1276900731435711E-2},{"$f":"E153","v":0.69556241819434217},{"$f":"E154","v":1.0113743771140207},{"$f":"E155","v":0},{"$f":"E156","v":6.2892122301467887E-2},{"$f":"E157","v":0.59561178405402848},{"$f":"E158","v":0.53229736177322562},{"$error":"#REF!"},{"$f":"E160","v":0.11752928234298345},{"$f":"E161","v":0.49286375128034493},{"$f":"E162","v":0.19447724999878832}]

{"sheet":"85 Liberty County Factor","index":84,"n_rows":168,"n_cols":19,"rows_kept":168,"cut":false,"hidden":true,"merged":[[89,9,89,10],[115,1,115,2],[117,1,117,2],[139,1,139,2],[141,1,141,2],[2,1,2,2],[3,1,3,2],[19,1,19,2],[67,1,67,2],[89,1,89,2]]}
[null,"Finding County Factors for Liberty"]
[]
[null,1]
[null,"Information from annual solid waste report 2017"]
[null,"County","Liberty"]
[null,"Waste comp study","NONE"]
[null,"Year",2017]
[null,"Population",8719]
[null,"Landfilled tons ",2625]
[null,"C&D collected",21]
[null,"C&D disposed",{"$f":"C10-C14","v":21}]
[]
[null,"Recycled tons",25]
[null,"Recycled C&D",0]
[null,"combustor recy metals",0]
[null,"Combustor input",0]
[null,"Process Fuel",0]
[null,"Total Tons MSW collected",{"$f":"C9+(C16-C15-C17)+C13","v":2650}]
[]
[null,2]
[]
[null,"Aucilla Landifll Waste Composition Study Results"]
[null,"FDEP Category","Waste Comp Category","Percentage in waste stream"]
[null,"Newspapers","Newspaper",3.0000000000000001E-3]
[null,"Glass","Green",2E-3]
[null,null,"Clear ",0.02]
[null,null,"Brown",7.0000000000000001E-3]
[null,"Aluminum Cans","Aluminum cans and tin foil",1.2999999999999999E-2]
[null,"Plastic Bottles","#1 PET Bottles",3.7999999999999999E-2]
[null,null,"#2 HDPE Bottles- translucent ",5.0000000000000001E-3]
[null,null,"#2 HDPE Bottles- colored",4.0000000000000001E-3]
[null,null,"#3-7 (Other Plastic Bottles)",2E-3]
[null,"Steel Cans","Steel/Tin Cans",1.0999999999999999E-2]
[null,"Corrugated Boxes","Corrugated Cardboard (OCC)",0.11899999999999999]
[null,"Office Paper","High Grade Paper (Office Type)",2.1999999999999999E-2]
[null,"Yard Trash","Yard Trash",2.1000000000000001E-2]
[null,"Other Plastics","Expanded Polystyrene (Food Service)",4.0000000000000001E-3]
[null,null,"Expanded Polystyrene",1.7999999999999999E-2]
[null,null,"Rigid Plastic (Tubs, Cups, Lids)",8.9999999999999993E-3]
[null,null,"Rigid Plastic (Food Service)",6.0000000000000001E-3]
[null,null,"Grocery Bags",0.01]
[null,null,"Other Flexible Plastic",7.0999999999999994E-2]
[null,null,"Other Plastics",3.9E-2]
[null,"Ferrous Metals","Other Ferrous Metals",1.9E-2]
[null,"White Goods","White Goods",0]
[null,"Nonferrous Metals","Other Non-Ferrous Metals ",4.0000000000000001E-3]
[null,"Other Paper","Polycoated Aseptic Containers",0]
[null,null,"Food Service Container (Polycoated)",8.0000000000000002E-3]
[null,null,"Other Compsite (Metal Coated)",6.0000000000000001E-3]
[null,null,"Boxboards",2.8000000000000001E-2]
[null,null,"Other Paper",0.121]
[null,"Textiles","Clothing, Footwear, Other Textiles",6.3E-2]
[null,"C&D Debris","Wood",4.7E-2]
[null,null,"Asphalt Shingles",5.0000000000000001E-3]
[null,null,"Gypsum Drywall",6.0000000000000001E-3]
[null,null,"Concrete/Bricks/Ceramics",3.0000000000000001E-3]
[null,"Food Waste","Food Waste",9.2999999999999999E-2]
[null,"Miscellaneous","Animal- By-Product",3.0000000000000001E-3]
[null,null,"Other Organics",3.5999999999999997E-2]
[null,null,"Rubber and Leather",1.0999999999999999E-2]
[null,null,"Small Appliances/Electronics",1.4999999999999999E-2]
[null,null,"Hazardous Waste",0.01]
[null,null,"Residuals ",9.5000000000000001E-2]
[null,"Tires","Tires",0]
[null,null,null,"sum"]
[null,null,null,{"$f":"SUM(D24:D64)","v":0.99700000000000011}]
[]
[null,"Recycled tons from Liberty"]
[null,"Materials","Tons"]
[null,"Newspaper",0]
[null,"Glass",0]
[null,"Aluminum Cans",0]
[null,"Plastic Bottles",0]
[null,"Steel Cans",0]
[null,"Corrugated Paper",19]
[null,"Office Paper",2]
[null,"Yard Trash",0]
[null,"Other Plastics",0]
[null,"Ferrous Metals",1]
[null,"White Goods",0]
[null,"NonFerous Metals",3]
[null,"Other Paper",0]
[null,"Textiles",0]
[null,"C&D Debris",0]
[null,"Food",0]
[null,"Miscellaneous",0]
[null,"Tires",0]
[null,"Total",{"$f":"SUM(C70:C87)","v":25}]
[]
[null,3,null,null,null,null,null,null,null,4]
[]
[null,"Calculating waste compositon percentage utalizing waste compsition study"]
[null,"FDEP Category","Landfilled tons\n(Plus combusor ash, minus C&D  disposed)","Collected C&D \n(disposal C&D LANDFILL + recycled)","Combusted\n(minus recycled metals, minus ash)","Recycled Materials\n(Minus recycled C&D)","Total Collected Tons"]
[null,null,{"$f":"C9-C11","v":2604},{"$f":"C11+C14","v":21},{"$f":"C16-C15","v":0},{"$f":"C88","v":25},null,null,null,"FDEP Category","Percentage"]
[null,"Newspaper",{"$f":"$C$94*D24","v":7.8120000000000003},null,{"$f":"$E$94*D24","v":0},{"$f":"C70","v":0},{"$f":"SUM(C95:F95)","v":7.8120000000000003},null,null,"Newspaper",{"$f":"G95/$G$114","v":2.956640481298076E-3}]
[null,"Glass",{"$f":"$C$94*SUM(D25:D27)","v":75.515999999999991},null,{"$f":"$E$94*SUM(D25:D27)","v":0},0,{"$f":"SUM(C96:F96)","v":75.515999999999991},null,null,"Glass",{"$f":"G96/$G$114","v":2.8580857985881399E-2}]
[null,"Aluminum Cans",{"$f":"$C$94*D28","v":33.851999999999997},null,{"$f":"$E$94*D28","v":0},0,33.851999999999997,null,null,"Aluminum Cans",1.2812108752291662E-2]
[null,"Plastic Bottles",{"$f":"$C$94*SUM(D29:D32)","v":127.596},null,{"$f":"$E$94*SUM(D29:D32)","v":0},0,127.596,null,null,"Plastic Botles",4.8291794527868574E-2]
[null,"Steel Cans",{"$f":"$C$94*D33","v":28.643999999999998},null,{"$f":"$E$94*D33","v":0},0,28.643999999999998,null,null,"Steel Cans",1.0841015098092944E-2]
[null,"Corrugated Paper",{"$f":"$C$94*D34","v":309.87599999999998},null,{"$f":"$E$94*D34","v":0},19,328.87599999999998,null,null,"Corrugated Paper",0.12447108229997261]
[null,"Office Paper",{"$f":"$C$94*D35","v":57.287999999999997},null,{"$f":"$E$94*D35","v":0},2,59.287999999999997,null,null,"Office Paper",2.2438978604096303E-2]
[null,"Yard Trash",{"$f":"$C$94*D36","v":54.684000000000005},null,{"$f":"$E$94*D36","v":0},0,54.684000000000005,null,null,"Yard Trash",2.0696483369086534E-2]
[null,"Other Plastics",{"$f":"$C$94*SUM(D37:D43)","v":408.82799999999997},null,{"$f":"$E$94*SUM(D37:D43)","v":0},0,408.82799999999997,null,null,"Other Plastics",0.15473085185459931]
[null,"Ferrous Metals",{"$f":"$C$94*D44","v":49.475999999999999},null,{"$f":"$E$94*D44","v":0},1,50.475999999999999,null,null,"Ferrous Metals",1.9103863918843021E-2]
[null,"White Goods",{"$f":"$C$94*D45","v":0},null,{"$f":"$E$94*D45","v":0},0,0,null,null,"White Goods",0]
[null,"NonFerous Metals",{"$f":"$C$94*D46","v":10.416},null,{"$f":"$E$94*D46","v":0},3,13.416,null,null,"NonFerous Metals",5.0776099202630553E-3]
[null,"Other Paper",{"$f":"$C$94*SUM(D47:D51)","v":424.452},null,{"$f":"$E$94*SUM(D47:D51)","v":0},0,424.452,null,null,"Other Paper",0.16064413281719547]
[null,"Textiles",{"$f":"$C$94*D52","v":164.05199999999999},null,{"$f":"$E$94*D52","v":0},0,164.05199999999999,null,null,"Textiles",6.2089450107259594E-2]
[null,"C&D Debris",{"$f":"$C$94*SUM(D53:D56)","v":158.84399999999999},{"$f":"C10","v":21},{"$f":"$E$94*SUM(D53:D56)","v":0},0,179.84399999999999,null,null,"C&D Debris",6.8066314736120223E-2]
[null,"Food",{"$f":"$C$94*D57","v":242.172},null,{"$f":"$E$94*D57","v":0},{"$f":"C85","v":0},242.172,null,null,"Food",9.1655854920240351E-2]
[null,"Miscellaneous",{"$f":"$C$94*SUM(D58:D63)","v":442.67999999999995},null,{"$f":"$E$94*SUM(D58:D63)","v":0},{"$f":"C86","v":0},442.67999999999995,null,null,"Miscellaneous",0.16754296060689097]
[null,"Tires",{"$f":"$C$94*D64","v":0},null,{"$f":"$E$94*D64","v":0},{"$f":"C87","v":0},0,null,null,"Tires",0]
[null,null,"Total","Total","Total","Total","Total",null,null,null,"total"]
[null,null,{"$f":"SUM(C95:C112)","v":2596.1879999999996},{"$f":"D109","v":21},{"$f":"SUM(E95:E112)","v":0},{"$f":"SUM(F95:F112)","v":25},{"$f":"SUM(C114:F114)","v":2642.1879999999996},null,null,null,{"$f":"SUM(K95:K112)","v":1}]
[]
[null,5]
[]
[null,"US EPA Data and Moisture Content"]
[null,"Category","Moisture Content  (MC) ","US EPA DATA (lbs-dry/person)","US EPA DATA             (lbs-WET/person)    [US EPA DATA/(1-MC)"]
[null,"Newspaper",0.27850000000000003,41.931464174454831,58.117067462861854]
[null,"Glass",3.2000000000000001E-2,56.822429906542055,58.700857341469067]
[null,"Aluminum Cans",0.129,8.4112149532710276,9.6569632069701807]
[null,"Plastic Bottles",4.8000000000000001E-2,23.302180685358255,24.477080551846907]
[null,"Steel Cans",5.8000000000000003E-2,10.841121495327103,11.508621544933231]
[null,"Corrugated Paper",0.24049999999999999,195.20249221183801,257.01447295831201]
[null,"Office Paper",0.13400000000000001,28.22429906542056,32.591569359608037]
[null,"Yard Waste",0.50600000000000001,216.3239875389408,437.90280878328099]
[null,"Other Plastics",0.11700000000000001,154.90485396035913,175.43018568557093]
[null,"Non-ferrous Metal",5.3999999999999999E-2,46.762277712979795,49.431583206109721]
[null,"White Goods","x",30.280373831775702,30.280373831775702]
[null,"Ferrous Metal",0.16900000000000001,12.133426323463874,14.600994372399368]
[null,"Other Paper",0.2545,158.56697819314641,212.69883057430772]
[null,"Textiles",0.17,76.349308411214949,91.987118567728857]
[null,"C&D Debris",8.8999999999999996E-2,"-","-"]
[null,"Food Waste",0.59750000000000003,247.53894080996884,615.00357965209651]
[null,"Miscellaneous",0.313,206.19904324930312,300.14416775735532]
[null,"Tires","x",36.386292834890966,36.386292834890966]
[]
[]
[null,6]
[]
[null,"Finding County Factor"]
[null,"Category ","tons-DRY/county-us data ","tons-WET/county-us data ","County Factor","Category    "]
[null,"equation","US DATA * County Population/2000","tons-DRY/(1-MoistureContent)","ton-wet-composition/tons-wet-Usdata"]
[null,"Newspaper ",{"$f":"D120*$C$8/2000","v":182.80021806853586},{"$f":"C145/(1-C120)","v":253.3613556043463},{"$f":"G95/D145","v":3.0833431489052189E-2},"Newspaper "]
[null,"Glass ",247.7173831775701,255.90638758013441,0.29509228243219582,"Glass "]
[null,"Aluminum Cans ",36.668691588785052,42.099531100786514,0.80409446649080529,"Aluminum Cans "]
[null,"Plastic Bottles ",101.58585669781931,106.70783266577659,1.1957510223232439,"Plastic Bottles "]
[null,"Steel Cans ",47.261869158878511,50.171835625136424,0.57091791924888557,"Steel Cans "]
[null,"Corrugated Paper",850.98526479750774,1120.4545948617613,0.29352014932883186,"Corrugated Paper"]
[null,"Office Paper ",123.04383177570094,142.08294662321126,0.4172773820437819,"Office Paper "]
[null,"Yard Waste ",943.06442367601244,1909.0372948907134,2.8644804450051617E-2,"Yard Waste "]
[null,"Other Plastics ",675.30771084018568,764.78789449624651,0.53456390058225023,"Other Plastics "]
[null,"Ferrous Metal ",{"$f":"D131*$C$8/2000","v":52.895672057140757},{"$f":"C154/(1-C131)","v":63.65303496647504},{"$f":"C104/D154","v":0.77727637065629562},"Ferrous Metal "]
[null,"White Goods ",{"$f":"D130*$C$8/2000","v":132.00728971962616},{"$f":"Table714192531374349172178202208214226232238108217247253259265283289301307313319325331337[[#This Row],[tons-DRY/county-us data ]]","v":132.00728971962616},{"$f":"G105/Table714192531374349172178202208214226232238108217247253259265283289301307313319325331337[[#This Row],[tons-WET/county-us data ]]","v":0},"White Goods "]
[null,"Non-ferrous Metal ",{"$f":"D129*$C$8/2000","v":203.86014968973541},{"$f":"C156/(1-C129)","v":215.49698698703531},{"$f":"C106/D156","v":4.833478252123611E-2},"Non-ferrous Metal "]
[null,"Other Paper ",{"$f":"D132*$C$8/2000","v":691.27274143302168},{"$f":"C157/(1-C132)","v":927.26055188869429},{"$f":"G107/D157","v":0.45774836332188756},"Other Paper "]
[null,"Textiles ",332.84481001869159,{"$f":"C158/(1-C133)","v":401.01784339601397},{"$f":"G108/D158","v":0.40908902858468327},"Textiles "]
[null,"C&D Debris",{"$error":"#VALUE!"},{"$f":"C159/(1-C134)","v":{"$error":"#VALUE!"}},{"$f":"#REF!/D159","v":{"$error":"#REF!"}},"C&D Debris"]
[null,"Food Waste",1079.1460124610589,{"$f":"C160/(1-C135)","v":2681.1081054933143},{"$f":"G110/D160","v":9.0325339550395053E-2},"Food Waste"]
[null,"Miscellaneous ",898.9247290453369,{"$f":"C161/(1-C136)","v":1308.4784993381904},{"$f":"G111/D161","v":0.33831660223985421},"Miscellaneous "]
[null,"Tires ",158.62604361370717,{"$f":"Table714192531374349172178202208214226232238108217247253259265283289301307313319325331337[[#This Row],[tons-DRY/county-us data ]]","v":158.62604361370717},{"$f":"G112/Table714192531374349172178202208214226232238108217247253259265283289301307313319325331337[[#This Row],[tons-WET/county-us data ]]","v":0},"Tires "]
[]
[]
[]
[null,"Link to \"New WasteCalc County Factors\""]
[null,"Newspaper","Glass","Aluminum Cans","Plastic Bottles","Steel Cans","Corrugated Paper","Office Paper","Yard Waste","Other Plastics","Ferrous Metals","White Goods","Non-Ferrous Metal","Other Paper","Textiles","C&D Debris","Food Waste","Misc","Tires"]
[null,{"$f":"E145","v":3.0833431489052189E-2},{"$f":"E146","v":0.29509228243219582},{"$f":"E147","v":0.80409446649080529},{"$f":"E148","v":1.1957510223232439},{"$f":"E149","v":0.57091791924888557},{"$f":"E150","v":0.29352014932883186},{"$f":"E151","v":0.4172773820437819},{"$f":"E152","v":2.8644804450051617E-2},{"$f":"E153","v":0.53456390058225023},{"$f":"E154","v":0.77727637065629562},{"$f":"E155","v":0},{"$f":"E156","v":4.833478252123611E-2},{"$f":"E157","v":0.45774836332188756},{"$f":"E158","v":0.40908902858468327},{"$error":"#REF!"},{"$f":"E160","v":9.0325339550395053E-2},{"$f":"E161","v":0.33831660223985421},{"$f":"E162","v":0}]